{"text_format":"1","workbook":"xlsx","n_sheets":7,"sheets":["MME","English","EVS","Intro Micro","IRM","Generic Calculus","Politics of Globalisation"],"not_rendered":{"charts":0,"images":0,"macros":1,"external_links":6,"defined_names":7,"comments":0,"pivot_tables":0},"unopened":[],"bounds":{"document_bytes":16777216,"sheet_cells":100000,"rows_first":2000,"rows_last":500,"rows_between":2000,"halvings":0,"cell_chars":16384,"cell_head_chars":4096},"cells_cut":0,"cells_raw":0,"read":"whole","date_system":"1900"}

{"sheet":"MME","index":0,"n_rows":148,"n_cols":43,"rows_kept":148,"cut":false,"hidden":false,"merged":[]}
["Sr. No.","Roll No.","July  Th ClassesAttended","July  Th Classes Held","July Final Calculated Benefits ","July  Tut ClassesAttended","July  Tut Classes Held","July Tut Final Calculated Benefits ","Aug  Th ClassesAttended","Aug  Th Classes Held","Aug Final Calculated Benefits ","Aug  Tut ClassesAttended","Aug  Tut Classes Held","Aug Tut Final Calculated Benefits ","Sep  Th ClassesAttended","Sep  Th Classes Held","Sep Final Calculated Benefits ","Sep  Tut ClassesAttended","Sep  Tut Classes Held","Sep Tut Final Calculated Benefits ","Oct  Th ClassesAttended","Oct  Th Classes Held","Oct Final Calculated Benefits ","Oct  Tut ClassesAttended","Oct  Tut Classes Held","Oct Tut Final Calculated Benefits ","nOV  Th ClassesAttended","Nov  Th Classes Held","Nov Final Calculated Benefits ","Nov  Tut ClassesAttended","Nov  Tut Classes Held","Nov Tut Final Calculated Benefits ","Total Classes Held in Semester","Total Benefits initially given in the semester","Final Benefits given to the student","Total Classes Attended by the student","Total classes attended + attendance benefits","Attendance Percentage","Attendance Marks","Tut Group","Assignment (class test) marks out of 10","Assignment (class test) marks out of 10","Final Marks Out of 25"]
[1,"15BA001",{"$f":"VLOOKUP(B2,[1]A!B$1:C$48,2,0)","v":3},{"$f":"VLOOKUP(B2,[1]A!B$1:D$48,3,0)","v":3},{"$f":"VLOOKUP(B2,[1]A!B$1:F$48,5,0)","v":0},{"$f":"VLOOKUP(B2,[1]A!B$1:G$48,6,0)","v":0},{"$f":"VLOOKUP(B2,[1]A!B$1:H$48,7,0)","v":0},{"$f":"VLOOKUP(B2,[1]A!B$1:J$48,9,0)","v":0},{"$f":"VLOOKUP(B2,[2]A!B$1:C$48,2,0)","v":11},{"$f":"VLOOKUP(B2,[2]A!B$1:D$48,3,0)","v":16},{"$f":"VLOOKUP(B2,[2]A!B$1:F$48,5,0)","v":0},{"$f":"VLOOKUP(B2,[2]A!B$1:G$48,6,0)","v":2},{"$f":"VLOOKUP(B2,[2]A!B$1:H$48,7,0)","v":2},{"$f":"VLOOKUP(B2,[2]A!B$1:J$48,9,0)","v":0},{"$f":"IFERROR(VLOOKUP(B2,[3]A!B$1:C$48,2,0),IFERROR(VLOOKUP(B2,[3]B!B$1:C$51,2,0),VLOOKUP(B2,[3]C!B$1:C$52,2,0)))","v":3},{"$f":"IFERROR(VLOOKUP(B2,[3]A!B$1:D$48,3,0),IFERROR(VLOOKUP(B2,[3]B!B$1:D$51,3,0),VLOOKUP(B2,[3]C!B$1:D$52,3,0)))","v":16},{"$f":"IFERROR(VLOOKUP(B2,[3]A!B$1:F$48,5,0),IFERROR(VLOOKUP(B2,[3]B!B$1:F$51,5,0),VLOOKUP(B2,[3]C!B$1:F$52,5,0)))","v":0},{"$f":"IFERROR(VLOOKUP(B2,[3]A!B$1:G$48,6,0),IFERROR(VLOOKUP(B2,[3]B!B$1:G$51,6,0),VLOOKUP(B2,[3]C!B$1:G$52,6,0)))","v":2},{"$f":"IFERROR(VLOOKUP(B2,[3]A!B$1:H$48,7,0),IFERROR(VLOOKUP(B2,[3]B!B$1:H$51,7,0),VLOOKUP(B2,[3]C!B$1:H$52,7,0)))","v":2},0,3,12,{"$f":"IFERROR(VLOOKUP(B2,[4]A!B$1:F$48,5,0),IFERROR(VLOOKUP(B2,[4]B!B$1:F$51,5,0),VLOOKUP(B2,[4]C!B$1:F$52,5,0)))","v":0},2,2,{"$f":"IFERROR(VLOOKUP(B2,[4]A!B$1:J$48,9,0),IFERROR(VLOOKUP(B2,[4]B!B$1:J$51,9,0),VLOOKUP(B2,[4]C!B$1:J$52,9,0)))","v":0},2,4,null,1,1,null,{"$f":"SUM(D2,G2,J2,M2,P2,S2,V2,Y2,AB2,AE2)","v":58},{"$f":"SUM(E2,H2,K2,N2,Q2,T2,W2,Z2,AC2,AF2)","v":0},{"$f":"FLOOR(IF(AH2<(1/3*(AG2)),AH2,(1/3*(AG2))),1)","v":0},{"$f":"SUM(C2,F2,I2,L2,O2,R2,U2,X2,AA2,AD2)","v":29},{"$f":"IF(SUM(AJ2,AI2)>AG2,AG2,SUM(AJ2,AI2))","v":29},{"$f":"(AK2/AG2)*100","v":50},{"$f":"IF(AL2>=85,5,(IF(AND(AL2>=80,AL2<85),4,(IF(AND(AL2>=75,AL2<80),3,(IF(AND(AL2>=70,AL2<75),2,(IF(AND(AL2>67,AL2<70),1,0)))))))))","v":0},"A-1",7,5,{"$f":"SUM(AM2,AO2,AP2)","v":12}]
[2,"15BA002",{"$f":"VLOOKUP(B3,[1]A!B$1:C$48,2,0)","v":3},{"$f":"VLOOKUP(B3,[1]A!B$1:D$48,3,0)","v":3},{"$f":"VLOOKUP(B3,[1]A!B$1:F$48,5,0)","v":0},{"$f":"VLOOKUP(B3,[1]A!B$1:G$48,6,0)","v":0},{"$f":"VLOOKUP(B3,[1]A!B$1:H$48,7,0)","v":0},{"$f":"VLOOKUP(B3,[1]A!B$1:J$48,9,0)","v":0},{"$f":"VLOOKUP(B3,[2]A!B$1:C$48,2,0)","v":15},{"$f":"VLOOKUP(B3,[2]A!B$1:D$48,3,0)","v":16},{"$f":"VLOOKUP(B3,[2]A!B$1:F$48,5,0)","v":0},{"$f":"VLOOKUP(B3,[2]A!B$1:G$48,6,0)","v":0},{"$f":"VLOOKUP(B3,[2]A!B$1:H$48,7,0)","v":0},{"$f":"VLOOKUP(B3,[2]A!B$1:J$48,9,0)","v":0},{"$f":"IFERROR(VLOOKUP(B3,[3]A!B$1:C$48,2,0),IFERROR(VLOOKUP(B3,[3]B!B$1:C$51,2,0),VLOOKUP(B3,[3]C!B$1:C$52,2,0)))","v":13},{"$f":"IFERROR(VLOOKUP(B3,[3]A!B$1:D$48,3,0),IFERROR(VLOOKUP(B3,[3]B!B$1:D$51,3,0),VLOOKUP(B3,[3]C!B$1:D$52,3,0)))","v":16},{"$f":"IFERROR(VLOOKUP(B3,[3]A!B$1:F$48,5,0),IFERROR(VLOOKUP(B3,[3]B!B$1:F$51,5,0),VLOOKUP(B3,[3]C!B$1:F$52,5,0)))","v":0},{"$f":"IFERROR(VLOOKUP(B3,[3]A!B$1:G$48,6,0),IFERROR(VLOOKUP(B3,[3]B!B$1:G$51,6,0),VLOOKUP(B3,[3]C!B$1:G$52,6,0)))","v":0},{"$f":"IFERROR(VLOOKUP(B3,[3]A!B$1:H$48,7,0),IFERROR(VLOOKUP(B3,[3]B!B$1:H$51,7,0),VLOOKUP(B3,[3]C!B$1:H$52,7,0)))","v":0},0,10,12,{"$f":"IFERROR(VLOOKUP(B3,[4]A!B$1:F$48,5,0),IFERROR(VLOOKUP(B3,[4]B!B$1:F$51,5,0),VLOOKUP(B3,[4]C!B$1:F$52,5,0)))","v":0},1,3,{"$f":"IFERROR(VLOOKUP(B3,[4]A!B$1:J$48,9,0),IFERROR(VLOOKUP(B3,[4]B!B$1:J$51,9,0),VLOOKUP(B3,[4]C!B$1:J$52,9,0)))","v":0},3,4,null,0,1,null,{"$f":"SUM(D3,G3,J3,M3,P3,S3,V3,Y3,AB3,AE3)","v":55},{"$f":"SUM(E3,H3,K3,N3,Q3,T3,W3,Z3,AC3,AF3)","v":0},{"$f":"FLOOR(IF(AH3<(1/3*(AG3)),AH3,(1/3*(AG3))),1)","v":0},{"$f":"SUM(C3,F3,I3,L3,O3,R3,U3,X3,AA3,AD3)","v":45},{"$f":"IF(SUM(AJ3,AI3)>AG3,AG3,SUM(AJ3,AI3))","v":45},{"$f":"(AK3/AG3)*100","v":81.818181818181827},{"$f":"IF(AL3>=85,5,(IF(AND(AL3>=80,AL3<85),4,(IF(AND(AL3>=75,AL3<80),3,(IF(AND(AL3>=70,AL3<75),2,(IF(AND(AL3>67,AL3<70),1,0)))))))))","v":4},"A-3",7,9,{"$f":"SUM(AM3,AO3,AP3)","v":20}]
[3,"15BA003",{"$f":"VLOOKUP(B4,[1]A!B$1:C$48,2,0)","v":3},{"$f":"VLOOKUP(B4,[1]A!B$1:D$48,3,0)","v":3},{"$f":"VLOOKUP(B4,[1]A!B$1:F$48,5,0)","v":0},{"$f":"VLOOKUP(B4,[1]A!B$1:G$48,6,0)","v":0},{"$f":"VLOOKUP(B4,[1]A!B$1:H$48,7,0)","v":0},{"$f":"VLOOKUP(B4,[1]A!B$1:J$48,9,0)","v":0},{"$f":"VLOOKUP(B4,[2]A!B$1:C$48,2,0)","v":10},{"$f":"VLOOKUP(B4,[2]A!B$1:D$48,3,0)","v":16},{"$f":"VLOOKUP(B4,[2]A!B$1:F$48,5,0)","v":0},{"$f":"VLOOKUP(B4,[2]A!B$1:G$48,6,0)","v":2},{"$f":"VLOOKUP(B4,[2]A!B$1:H$48,7,0)","v":2},{"$f":"VLOOKUP(B4,[2]A!B$1:J$48,9,0)","v":0},{"$f":"IFERROR(VLOOKUP(B4,[3]A!B$1:C$48,2,0),IFERROR(VLOOKUP(B4,[3]B!B$1:C$51,2,0),VLOOKUP(B4,[3]C!B$1:C$52,2,0)))","v":5},{"$f":"IFERROR(VLOOKUP(B4,[3]A!B$1:D$48,3,0),IFERROR(VLOOKUP(B4,[3]B!B$1:D$51,3,0),VLOOKUP(B4,[3]C!B$1:D$52,3,0)))","v":16},{"$f":"IFERROR(VLOOKUP(B4,[3]A!B$1:F$48,5,0),IFERROR(VLOOKUP(B4,[3]B!B$1:F$51,5,0),VLOOKUP(B4,[3]C!B$1:F$52,5,0)))","v":0},{"$f":"IFERROR(VLOOKUP(B4,[3]A!B$1:G$48,6,0),IFERROR(VLOOKUP(B4,[3]B!B$1:G$51,6,0),VLOOKUP(B4,[3]C!B$1:G$52,6,0)))","v":2},{"$f":"IFERROR(VLOOKUP(B4,[3]A!B$1:H$48,7,0),IFERROR(VLOOKUP(B4,[3]B!B$1:H$51,7,0),VLOOKUP(B4,[3]C!B$1:H$52,7,0)))","v":2},0,6,12,{"$f":"IFERROR(VLOOKUP(B4,[4]A!B$1:F$48,5,0),IFERROR(VLOOKUP(B4,[4]B!B$1:F$51,5,0),VLOOKUP(B4,[4]C!B$1:F$52,5,0)))","v":0},2,2,{"$f":"IFERROR(VLOOKUP(B4,[4]A!B$1:J$48,9,0),IFERROR(VLOOKUP(B4,[4]B!B$1:J$51,9,0),VLOOKUP(B4,[4]C!B$1:J$52,9,0)))","v":0},0,4,null,1,1,null,58,0,0,31,31,53.448275862068961,0,"A-1",6,10,16]
[4,"15BA006",{"$f":"VLOOKUP(B5,[1]A!B$1:C$48,2,0)","v":3},{"$f":"VLOOKUP(B5,[1]A!B$1:D$48,3,0)","v":3},{"$f":"VLOOKUP(B5,[1]A!B$1:F$48,5,0)","v":0},{"$f":"VLOOKUP(B5,[1]A!B$1:G$48,6,0)","v":0},{"$f":"VLOOKUP(B5,[1]A!B$1:H$48,7,0)","v":0},{"$f":"VLOOKUP(B5,[1]A!B$1:J$48,9,0)","v":0},{"$f":"VLOOKUP(B5,[2]A!B$1:C$48,2,0)","v":11},{"$f":"VLOOKUP(B5,[2]A!B$1:D$48,3,0)","v":16},{"$f":"VLOOKUP(B5,[2]A!B$1:F$48,5,0)","v":0},{"$f":"VLOOKUP(B5,[2]A!B$1:G$48,6,0)","v":2},{"$f":"VLOOKUP(B5,[2]A!B$1:H$48,7,0)","v":2},{"$f":"VLOOKUP(B5,[2]A!B$1:J$48,9,0)","v":0},{"$f":"IFERROR(VLOOKUP(B5,[3]A!B$1:C$48,2,0),IFERROR(VLOOKUP(B5,[3]B!B$1:C$51,2,0),VLOOKUP(B5,[3]C!B$1:C$52,2,0)))","v":16},{"$f":"IFERROR(VLOOKUP(B5,[3]A!B$1:D$48,3,0),IFERROR(VLOOKUP(B5,[3]B!B$1:D$51,3,0),VLOOKUP(B5,[3]C!B$1:D$52,3,0)))","v":16},{"$f":"IFERROR(VLOOKUP(B5,[3]A!B$1:F$48,5,0),IFERROR(VLOOKUP(B5,[3]B!B$1:F$51,5,0),VLOOKUP(B5,[3]C!B$1:F$52,5,0)))","v":0},{"$f":"IFERROR(VLOOKUP(B5,[3]A!B$1:G$48,6,0),IFERROR(VLOOKUP(B5,[3]B!B$1:G$51,6,0),VLOOKUP(B5,[3]C!B$1:G$52,6,0)))","v":2},{"$f":"IFERROR(VLOOKUP(B5,[3]A!B$1:H$48,7,0),IFERROR(VLOOKUP(B5,[3]B!B$1:H$51,7,0),VLOOKUP(B5,[3]C!B$1:H$52,7,0)))","v":2},0,10,12,{"$f":"IFERROR(VLOOKUP(B5,[4]A!B$1:F$48,5,0),IFERROR(VLOOKUP(B5,[4]B!B$1:F$51,5,0),VLOOKUP(B5,[4]C!B$1:F$52,5,0)))","v":0},2,2,{"$f":"IFERROR(VLOOKUP(B5,[4]A!B$1:J$48,9,0),IFERROR(VLOOKUP(B5,[4]B!B$1:J$51,9,0),VLOOKUP(B5,[4]C!B$1:J$52,9,0)))","v":0},3,4,null,1,1,null,58,0,0,50,50,86.206896551724128,5,"A-1",10,10,25]
[5,"15BA007",{"$f":"VLOOKUP(B6,[1]A!B$1:C$48,2,0)","v":2},{"$f":"VLOOKUP(B6,[1]A!B$1:D$48,3,0)","v":3},{"$f":"VLOOKUP(B6,[1]A!B$1:F$48,5,0)","v":0},{"$f":"VLOOKUP(B6,[1]A!B$1:G$48,6,0)","v":0},{"$f":"VLOOKUP(B6,[1]A!B$1:H$48,7,0)","v":0},{"$f":"VLOOKUP(B6,[1]A!B$1:J$48,9,0)","v":0},{"$f":"VLOOKUP(B6,[2]A!B$1:C$48,2,0)","v":14},{"$f":"VLOOKUP(B6,[2]A!B$1:D$48,3,0)","v":16},{"$f":"VLOOKUP(B6,[2]A!B$1:F$48,5,0)","v":0},{"$f":"VLOOKUP(B6,[2]A!B$1:G$48,6,0)","v":0},{"$f":"VLOOKUP(B6,[2]A!B$1:H$48,7,0)","v":0},{"$f":"VLOOKUP(B6,[2]A!B$1:J$48,9,0)","v":0},{"$f":"IFERROR(VLOOKUP(B6,[3]A!B$1:C$48,2,0),IFERROR(VLOOKUP(B6,[3]B!B$1:C$51,2,0),VLOOKUP(B6,[3]C!B$1:C$52,2,0)))","v":10},{"$f":"IFERROR(VLOOKUP(B6,[3]A!B$1:D$48,3,0),IFERROR(VLOOKUP(B6,[3]B!B$1:D$51,3,0),VLOOKUP(B6,[3]C!B$1:D$52,3,0)))","v":16},{"$f":"IFERROR(VLOOKUP(B6,[3]A!B$1:F$48,5,0),IFERROR(VLOOKUP(B6,[3]B!B$1:F$51,5,0),VLOOKUP(B6,[3]C!B$1:F$52,5,0)))","v":0},{"$f":"IFERROR(VLOOKUP(B6,[3]A!B$1:G$48,6,0),IFERROR(VLOOKUP(B6,[3]B!B$1:G$51,6,0),VLOOKUP(B6,[3]C!B$1:G$52,6,0)))","v":0},{"$f":"IFERROR(VLOOKUP(B6,[3]A!B$1:H$48,7,0),IFERROR(VLOOKUP(B6,[3]B!B$1:H$51,7,0),VLOOKUP(B6,[3]C!B$1:H$52,7,0)))","v":0},0,8,12,{"$f":"IFERROR(VLOOKUP(B6,[4]A!B$1:F$48,5,0),IFERROR(VLOOKUP(B6,[4]B!B$1:F$51,5,0),VLOOKUP(B6,[4]C!B$1:F$52,5,0)))","v":0},{"$f":"IFERROR(VLOOKUP(B6,[4]A!B$1:G$48,6,0),IFERROR(VLOOKUP(B6,[4]B!B$1:G$51,6,0),VLOOKUP(B6,[4]C!B$1:G$52,6,0)))","v":0},3,{"$f":"IFERROR(VLOOKUP(B6,[4]A!B$1:J$48,9,0),IFERROR(VLOOKUP(B6,[4]B!B$1:J$51,9,0),VLOOKUP(B6,[4]C!B$1:J$52,9,0)))","v":0},3,4,null,0,1,null,55,0,0,37,37,67.272727272727266,1,"A-3",7,4,12]
[6,"15BA011",{"$f":"VLOOKUP(B7,[1]A!B$1:C$48,2,0)","v":3},{"$f":"VLOOKUP(B7,[1]A!B$1:D$48,3,0)","v":3},{"$f":"VLOOKUP(B7,[1]A!B$1:F$48,5,0)","v":0},{"$f":"VLOOKUP(B7,[1]A!B$1:G$48,6,0)","v":0},{"$f":"VLOOKUP(B7,[1]A!B$1:H$48,7,0)","v":0},{"$f":"VLOOKUP(B7,[1]A!B$1:J$48,9,0)","v":0},{"$f":"VLOOKUP(B7,[2]A!B$1:C$48,2,0)","v":15},{"$f":"VLOOKUP(B7,[2]A!B$1:D$48,3,0)","v":16},{"$f":"VLOOKUP(B7,[2]A!B$1:F$48,5,0)","v":0},{"$f":"VLOOKUP(B7,[2]A!B$1:G$48,6,0)","v":2},{"$f":"VLOOKUP(B7,[2]A!B$1:H$48,7,0)","v":2},{"$f":"VLOOKUP(B7,[2]A!B$1:J$48,9,0)","v":0},{"$f":"IFERROR(VLOOKUP(B7,[3]A!B$1:C$48,2,0),IFERROR(VLOOKUP(B7,[3]B!B$1:C$51,2,0),VLOOKUP(B7,[3]C!B$1:C$52,2,0)))","v":14},{"$f":"IFERROR(VLOOKUP(B7,[3]A!B$1:D$48,3,0),IFERROR(VLOOKUP(B7,[3]B!B$1:D$51,3,0),VLOOKUP(B7,[3]C!B$1:D$52,3,0)))","v":16},{"$f":"IFERROR(VLOOKUP(B7,[3]A!B$1:F$48,5,0),IFERROR(VLOOKUP(B7,[3]B!B$1:F$51,5,0),VLOOKUP(B7,[3]C!B$1:F$52,5,0)))","v":0},{"$f":"IFERROR(VLOOKUP(B7,[3]A!B$1:G$48,6,0),IFERROR(VLOOKUP(B7,[3]B!B$1:G$51,6,0),VLOOKUP(B7,[3]C!B$1:G$52,6,0)))","v":2},{"$f":"IFERROR(VLOOKUP(B7,[3]A!B$1:H$48,7,0),IFERROR(VLOOKUP(B7,[3]B!B$1:H$51,7,0),VLOOKUP(B7,[3]C!B$1:H$52,7,0)))","v":2},0,8,12,{"$f":"IFERROR(VLOOKUP(B7,[4]A!B$1:F$48,5,0),IFERROR(VLOOKUP(B7,[4]B!B$1:F$51,5,0),VLOOKUP(B7,[4]C!B$1:F$52,5,0)))","v":0},2,2,{"$f":"IFERROR(VLOOKUP(B7,[4]A!B$1:J$48,9,0),IFERROR(VLOOKUP(B7,[4]B!B$1:J$51,9,0),VLOOKUP(B7,[4]C!B$1:J$52,9,0)))","v":0},4,4,null,1,1,null,58,0,0,51,51,87.931034482758619,5,"A-1",9,4,18]
[7,"15BA015",{"$f":"VLOOKUP(B8,[1]A!B$1:C$48,2,0)","v":3},{"$f":"VLOOKUP(B8,[1]A!B$1:D$48,3,0)","v":3},{"$f":"VLOOKUP(B8,[1]A!B$1:F$48,5,0)","v":0},{"$f":"VLOOKUP(B8,[1]A!B$1:G$48,6,0)","v":0},{"$f":"VLOOKUP(B8,[1]A!B$1:H$48,7,0)","v":0},{"$f":"VLOOKUP(B8,[1]A!B$1:J$48,9,0)","v":0},{"$f":"VLOOKUP(B8,[2]A!B$1:C$48,2,0)","v":12},{"$f":"VLOOKUP(B8,[2]A!B$1:D$48,3,0)","v":16},{"$f":"VLOOKUP(B8,[2]A!B$1:F$48,5,0)","v":0},{"$f":"VLOOKUP(B8,[2]A!B$1:G$48,6,0)","v":2},{"$f":"VLOOKUP(B8,[2]A!B$1:H$48,7,0)","v":2},{"$f":"VLOOKUP(B8,[2]A!B$1:J$48,9,0)","v":0},{"$f":"IFERROR(VLOOKUP(B8,[3]A!B$1:C$48,2,0),IFERROR(VLOOKUP(B8,[3]B!B$1:C$51,2,0),VLOOKUP(B8,[3]C!B$1:C$52,2,0)))","v":9},{"$f":"IFERROR(VLOOKUP(B8,[3]A!B$1:D$48,3,0),IFERROR(VLOOKUP(B8,[3]B!B$1:D$51,3,0),VLOOKUP(B8,[3]C!B$1:D$52,3,0)))","v":16},{"$f":"IFERROR(VLOOKUP(B8,[3]A!B$1:F$48,5,0),IFERROR(VLOOKUP(B8,[3]B!B$1:F$51,5,0),VLOOKUP(B8,[3]C!B$1:F$52,5,0)))","v":0},{"$f":"IFERROR(VLOOKUP(B8,[3]A!B$1:G$48,6,0),IFERROR(VLOOKUP(B8,[3]B!B$1:G$51,6,0),VLOOKUP(B8,[3]C!B$1:G$52,6,0)))","v":2},{"$f":"IFERROR(VLOOKUP(B8,[3]A!B$1:H$48,7,0),IFERROR(VLOOKUP(B8,[3]B!B$1:H$51,7,0),VLOOKUP(B8,[3]C!B$1:H$52,7,0)))","v":2},0,7,12,2,2,2,{"$f":"IFERROR(VLOOKUP(B8,[4]A!B$1:J$48,9,0),IFERROR(VLOOKUP(B8,[4]B!B$1:J$51,9,0),VLOOKUP(B8,[4]C!B$1:J$52,9,0)))","v":0},3,4,null,1,1,null,58,2,2,41,43,74.137931034482762,2,"A-1",5,6,13]
[8,"15BA019",{"$f":"VLOOKUP(B9,[1]A!B$1:C$48,2,0)","v":3},{"$f":"VLOOKUP(B9,[1]A!B$1:D$48,3,0)","v":3},{"$f":"VLOOKUP(B9,[1]A!B$1:F$48,5,0)","v":0},{"$f":"VLOOKUP(B9,[1]A!B$1:G$48,6,0)","v":0},{"$f":"VLOOKUP(B9,[1]A!B$1:H$48,7,0)","v":0},{"$f":"VLOOKUP(B9,[1]A!B$1:J$48,9,0)","v":0},{"$f":"VLOOKUP(B9,[2]A!B$1:C$48,2,0)","v":12},{"$f":"VLOOKUP(B9,[2]A!B$1:D$48,3,0)","v":16},{"$f":"VLOOKUP(B9,[2]A!B$1:F$48,5,0)","v":0},{"$f":"VLOOKUP(B9,[2]A!B$1:G$48,6,0)","v":2},{"$f":"VLOOKUP(B9,[2]A!B$1:H$48,7,0)","v":2},{"$f":"VLOOKUP(B9,[2]A!B$1:J$48,9,0)","v":0},{"$f":"IFERROR(VLOOKUP(B9,[3]A!B$1:C$48,2,0),IFERROR(VLOOKUP(B9,[3]B!B$1:C$51,2,0),VLOOKUP(B9,[3]C!B$1:C$52,2,0)))","v":15},{"$f":"IFERROR(VLOOKUP(B9,[3]A!B$1:D$48,3,0),IFERROR(VLOOKUP(B9,[3]B!B$1:D$51,3,0),VLOOKUP(B9,[3]C!B$1:D$52,3,0)))","v":16},{"$f":"IFERROR(VLOOKUP(B9,[3]A!B$1:F$48,5,0),IFERROR(VLOOKUP(B9,[3]B!B$1:F$51,5,0),VLOOKUP(B9,[3]C!B$1:F$52,5,0)))","v":0},{"$f":"IFERROR(VLOOKUP(B9,[3]A!B$1:G$48,6,0),IFERROR(VLOOKUP(B9,[3]B!B$1:G$51,6,0),VLOOKUP(B9,[3]C!B$1:G$52,6,0)))","v":2},{"$f":"IFERROR(VLOOKUP(B9,[3]A!B$1:H$48,7,0),IFERROR(VLOOKUP(B9,[3]B!B$1:H$51,7,0),VLOOKUP(B9,[3]C!B$1:H$52,7,0)))","v":2},0,9,12,1,2,2,{"$f":"IFERROR(VLOOKUP(B9,[4]A!B$1:J$48,9,0),IFERROR(VLOOKUP(B9,[4]B!B$1:J$51,9,0),VLOOKUP(B9,[4]C!B$1:J$52,9,0)))","v":0},3,4,1,1,1,null,58,2,2,49,51,87.931034482758619,5,"A-1",9,6,20]
[9,"15BA023",{"$f":"VLOOKUP(B10,[1]A!B$1:C$48,2,0)","v":3},{"$f":"VLOOKUP(B10,[1]A!B$1:D$48,3,0)","v":3},{"$f":"VLOOKUP(B10,[1]A!B$1:F$48,5,0)","v":0},{"$f":"VLOOKUP(B10,[1]A!B$1:G$48,6,0)","v":0},{"$f":"VLOOKUP(B10,[1]A!B$1:H$48,7,0)","v":0},{"$f":"VLOOKUP(B10,[1]A!B$1:J$48,9,0)","v":0},{"$f":"VLOOKUP(B10,[2]A!B$1:C$48,2,0)","v":15},{"$f":"VLOOKUP(B10,[2]A!B$1:D$48,3,0)","v":16},{"$f":"VLOOKUP(B10,[2]A!B$1:F$48,5,0)","v":0},{"$f":"VLOOKUP(B10,[2]A!B$1:G$48,6,0)","v":2},{"$f":"VLOOKUP(B10,[2]A!B$1:H$48,7,0)","v":2},{"$f":"VLOOKUP(B10,[2]A!B$1:J$48,9,0)","v":0},{"$f":"IFERROR(VLOOKUP(B10,[3]A!B$1:C$48,2,0),IFERROR(VLOOKUP(B10,[3]B!B$1:C$51,2,0),VLOOKUP(B10,[3]C!B$1:C$52,2,0)))","v":13},{"$f":"IFERROR(VLOOKUP(B10,[3]A!B$1:D$48,3,0),IFERROR(VLOOKUP(B10,[3]B!B$1:D$51,3,0),VLOOKUP(B10,[3]C!B$1:D$52,3,0)))","v":16},{"$f":"IFERROR(VLOOKUP(B10,[3]A!B$1:F$48,5,0),IFERROR(VLOOKUP(B10,[3]B!B$1:F$51,5,0),VLOOKUP(B10,[3]C!B$1:F$52,5,0)))","v":0},{"$f":"IFERROR(VLOOKUP(B10,[3]A!B$1:G$48,6,0),IFERROR(VLOOKUP(B10,[3]B!B$1:G$51,6,0),VLOOKUP(B10,[3]C!B$1:G$52,6,0)))","v":2},{"$f":"IFERROR(VLOOKUP(B10,[3]A!B$1:H$48,7,0),IFERROR(VLOOKUP(B10,[3]B!B$1:H$51,7,0),VLOOKUP(B10,[3]C!B$1:H$52,7,0)))","v":2},0,8,12,{"$f":"IFERROR(VLOOKUP(B10,[4]A!B$1:F$48,5,0),IFERROR(VLOOKUP(B10,[4]B!B$1:F$51,5,0),VLOOKUP(B10,[4]C!B$1:F$52,5,0)))","v":0},2,2,{"$f":"IFERROR(VLOOKUP(B10,[4]A!B$1:J$48,9,0),IFERROR(VLOOKUP(B10,[4]B!B$1:J$51,9,0),VLOOKUP(B10,[4]C!B$1:J$52,9,0)))","v":0},4,4,null,1,1,null,58,0,0,50,50,86.206896551724128,5,"A-1",5,7,17]
[10,"15BA026",{"$f":"VLOOKUP(B11,[1]A!B$1:C$48,2,0)","v":3},{"$f":"VLOOKUP(B11,[1]A!B$1:D$48,3,0)","v":3},{"$f":"VLOOKUP(B11,[1]A!B$1:F$48,5,0)","v":0},{"$f":"VLOOKUP(B11,[1]A!B$1:G$48,6,0)","v":0},{"$f":"VLOOKUP(B11,[1]A!B$1:H$48,7,0)","v":0},{"$f":"VLOOKUP(B11,[1]A!B$1:J$48,9,0)","v":0},{"$f":"VLOOKUP(B11,[2]A!B$1:C$48,2,0)","v":15},{"$f":"VLOOKUP(B11,[2]A!B$1:D$48,3,0)","v":16},{"$f":"VLOOKUP(B11,[2]A!B$1:F$48,5,0)","v":0},{"$f":"VLOOKUP(B11,[2]A!B$1:G$48,6,0)","v":0},{"$f":"VLOOKUP(B11,[2]A!B$1:H$48,7,0)","v":0},{"$f":"VLOOKUP(B11,[2]A!B$1:J$48,9,0)","v":0},{"$f":"IFERROR(VLOOKUP(B11,[3]A!B$1:C$48,2,0),IFERROR(VLOOKUP(B11,[3]B!B$1:C$51,2,0),VLOOKUP(B11,[3]C!B$1:C$52,2,0)))","v":13},{"$f":"IFERROR(VLOOKUP(B11,[3]A!B$1:D$48,3,0),IFERROR(VLOOKUP(B11,[3]B!B$1:D$51,3,0),VLOOKUP(B11,[3]C!B$1:D$52,3,0)))","v":16},{"$f":"IFERROR(VLOOKUP(B11,[3]A!B$1:F$48,5,0),IFERROR(VLOOKUP(B11,[3]B!B$1:F$51,5,0),VLOOKUP(B11,[3]C!B$1:F$52,5,0)))","v":0},{"$f":"IFERROR(VLOOKUP(B11,[3]A!B$1:G$48,6,0),IFERROR(VLOOKUP(B11,[3]B!B$1:G$51,6,0),VLOOKUP(B11,[3]C!B$1:G$52,6,0)))","v":0},{"$f":"IFERROR(VLOOKUP(B11,[3]A!B$1:H$48,7,0),IFERROR(VLOOKUP(B11,[3]B!B$1:H$51,7,0),VLOOKUP(B11,[3]C!B$1:H$52,7,0)))","v":0},0,10,12,{"$f":"IFERROR(VLOOKUP(B11,[4]A!B$1:F$48,5,0),IFERROR(VLOOKUP(B11,[4]B!B$1:F$51,5,0),VLOOKUP(B11,[4]C!B$1:F$52,5,0)))","v":0},3,3,{"$f":"IFERROR(VLOOKUP(B11,[4]A!B$1:J$48,9,0),IFERROR(VLOOKUP(B11,[4]B!B$1:J$51,9,0),VLOOKUP(B11,[4]C!B$1:J$52,9,0)))","v":0},4,4,null,1,1,null,55,0,0,49,49,89.090909090909093,5,"A-3",6,9,20]
[11,"15BA033",{"$f":"VLOOKUP(B12,[1]A!B$1:C$48,2,0)","v":3},{"$f":"VLOOKUP(B12,[1]A!B$1:D$48,3,0)","v":3},{"$f":"VLOOKUP(B12,[1]A!B$1:F$48,5,0)","v":0},{"$f":"VLOOKUP(B12,[1]A!B$1:G$48,6,0)","v":0},{"$f":"VLOOKUP(B12,[1]A!B$1:H$48,7,0)","v":0},{"$f":"VLOOKUP(B12,[1]A!B$1:J$48,9,0)","v":0},{"$f":"VLOOKUP(B12,[2]A!B$1:C$48,2,0)","v":15},{"$f":"VLOOKUP(B12,[2]A!B$1:D$48,3,0)","v":16},2,{"$f":"VLOOKUP(B12,[2]A!B$1:G$48,6,0)","v":2},{"$f":"VLOOKUP(B12,[2]A!B$1:H$48,7,0)","v":2},{"$f":"VLOOKUP(B12,[2]A!B$1:J$48,9,0)","v":0},{"$f":"IFERROR(VLOOKUP(B12,[3]A!B$1:C$48,2,0),IFERROR(VLOOKUP(B12,[3]B!B$1:C$51,2,0),VLOOKUP(B12,[3]C!B$1:C$52,2,0)))","v":9},{"$f":"IFERROR(VLOOKUP(B12,[3]A!B$1:D$48,3,0),IFERROR(VLOOKUP(B12,[3]B!B$1:D$51,3,0),VLOOKUP(B12,[3]C!B$1:D$52,3,0)))","v":16},{"$f":"IFERROR(VLOOKUP(B12,[3]A!B$1:F$48,5,0),IFERROR(VLOOKUP(B12,[3]B!B$1:F$51,5,0),VLOOKUP(B12,[3]C!B$1:F$52,5,0)))","v":0},{"$f":"IFERROR(VLOOKUP(B12,[3]A!B$1:G$48,6,0),IFERROR(VLOOKUP(B12,[3]B!B$1:G$51,6,0),VLOOKUP(B12,[3]C!B$1:G$52,6,0)))","v":2},{"$f":"IFERROR(VLOOKUP(B12,[3]A!B$1:H$48,7,0),IFERROR(VLOOKUP(B12,[3]B!B$1:H$51,7,0),VLOOKUP(B12,[3]C!B$1:H$52,7,0)))","v":2},0,8,12,{"$f":"IFERROR(VLOOKUP(B12,[4]A!B$1:F$48,5,0),IFERROR(VLOOKUP(B12,[4]B!B$1:F$51,5,0),VLOOKUP(B12,[4]C!B$1:F$52,5,0)))","v":0},2,2,{"$f":"IFERROR(VLOOKUP(B12,[4]A!B$1:J$48,9,0),IFERROR(VLOOKUP(B12,[4]B!B$1:J$51,9,0),VLOOKUP(B12,[4]C!B$1:J$52,9,0)))","v":0},4,4,null,1,1,null,58,2,2,46,48,82.758620689655174,4,"A-1",6,5,15]
[12,"15BA035",{"$f":"VLOOKUP(B13,[1]A!B$1:C$48,2,0)","v":3},{"$f":"VLOOKUP(B13,[1]A!B$1:D$48,3,0)","v":3},{"$f":"VLOOKUP(B13,[1]A!B$1:F$48,5,0)","v":0},{"$f":"VLOOKUP(B13,[1]A!B$1:G$48,6,0)","v":0},{"$f":"VLOOKUP(B13,[1]A!B$1:H$48,7,0)","v":0},{"$f":"VLOOKUP(B13,[1]A!B$1:J$48,9,0)","v":0},{"$f":"VLOOKUP(B13,[2]A!B$1:C$48,2,0)","v":15},{"$f":"VLOOKUP(B13,[2]A!B$1:D$48,3,0)","v":16},{"$f":"VLOOKUP(B13,[2]A!B$1:F$48,5,0)","v":0},{"$f":"VLOOKUP(B13,[2]A!B$1:G$48,6,0)","v":0},{"$f":"VLOOKUP(B13,[2]A!B$1:H$48,7,0)","v":0},{"$f":"VLOOKUP(B13,[2]A!B$1:J$48,9,0)","v":0},{"$f":"IFERROR(VLOOKUP(B13,[3]A!B$1:C$48,2,0),IFERROR(VLOOKUP(B13,[3]B!B$1:C$51,2,0),VLOOKUP(B13,[3]C!B$1:C$52,2,0)))","v":13},{"$f":"IFERROR(VLOOKUP(B13,[3]A!B$1:D$48,3,0),IFERROR(VLOOKUP(B13,[3]B!B$1:D$51,3,0),VLOOKUP(B13,[3]C!B$1:D$52,3,0)))","v":16},{"$f":"IFERROR(VLOOKUP(B13,[3]A!B$1:F$48,5,0),IFERROR(VLOOKUP(B13,[3]B!B$1:F$51,5,0),VLOOKUP(B13,[3]C!B$1:F$52,5,0)))","v":0},{"$f":"IFERROR(VLOOKUP(B13,[3]A!B$1:G$48,6,0),IFERROR(VLOOKUP(B13,[3]B!B$1:G$51,6,0),VLOOKUP(B13,[3]C!B$1:G$52,6,0)))","v":0},{"$f":"IFERROR(VLOOKUP(B13,[3]A!B$1:H$48,7,0),IFERROR(VLOOKUP(B13,[3]B!B$1:H$51,7,0),VLOOKUP(B13,[3]C!B$1:H$52,7,0)))","v":0},0,9,12,{"$f":"IFERROR(VLOOKUP(B13,[4]A!B$1:F$48,5,0),IFERROR(VLOOKUP(B13,[4]B!B$1:F$51,5,0),VLOOKUP(B13,[4]C!B$1:F$52,5,0)))","v":0},3,3,{"$f":"IFERROR(VLOOKUP(B13,[4]A!B$1:J$48,9,0),IFERROR(VLOOKUP(B13,[4]B!B$1:J$51,9,0),VLOOKUP(B13,[4]C!B$1:J$52,9,0)))","v":0},4,4,null,1,1,null,55,0,0,48,48,87.272727272727266,5,"A-3",9,8,22]
[13,"15BA038",{"$f":"VLOOKUP(B14,[1]A!B$1:C$48,2,0)","v":3},{"$f":"VLOOKUP(B14,[1]A!B$1:D$48,3,0)","v":3},{"$f":"VLOOKUP(B14,[1]A!B$1:F$48,5,0)","v":0},{"$f":"VLOOKUP(B14,[1]A!B$1:G$48,6,0)","v":0},{"$f":"VLOOKUP(B14,[1]A!B$1:H$48,7,0)","v":0},{"$f":"VLOOKUP(B14,[1]A!B$1:J$48,9,0)","v":0},{"$f":"VLOOKUP(B14,[2]A!B$1:C$48,2,0)","v":10},{"$f":"VLOOKUP(B14,[2]A!B$1:D$48,3,0)","v":16},{"$f":"VLOOKUP(B14,[2]A!B$1:F$48,5,0)","v":0},{"$f":"VLOOKUP(B14,[2]A!B$1:G$48,6,0)","v":2},{"$f":"VLOOKUP(B14,[2]A!B$1:H$48,7,0)","v":2},{"$f":"VLOOKUP(B14,[2]A!B$1:J$48,9,0)","v":0},{"$f":"IFERROR(VLOOKUP(B14,[3]A!B$1:C$48,2,0),IFERROR(VLOOKUP(B14,[3]B!B$1:C$51,2,0),VLOOKUP(B14,[3]C!B$1:C$52,2,0)))","v":6},{"$f":"IFERROR(VLOOKUP(B14,[3]A!B$1:D$48,3,0),IFERROR(VLOOKUP(B14,[3]B!B$1:D$51,3,0),VLOOKUP(B14,[3]C!B$1:D$52,3,0)))","v":16},{"$f":"IFERROR(VLOOKUP(B14,[3]A!B$1:F$48,5,0),IFERROR(VLOOKUP(B14,[3]B!B$1:F$51,5,0),VLOOKUP(B14,[3]C!B$1:F$52,5,0)))","v":0},{"$f":"IFERROR(VLOOKUP(B14,[3]A!B$1:G$48,6,0),IFERROR(VLOOKUP(B14,[3]B!B$1:G$51,6,0),VLOOKUP(B14,[3]C!B$1:G$52,6,0)))","v":2},{"$f":"IFERROR(VLOOKUP(B14,[3]A!B$1:H$48,7,0),IFERROR(VLOOKUP(B14,[3]B!B$1:H$51,7,0),VLOOKUP(B14,[3]C!B$1:H$52,7,0)))","v":2},0,7,12,{"$f":"IFERROR(VLOOKUP(B14,[4]A!B$1:F$48,5,0),IFERROR(VLOOKUP(B14,[4]B!B$1:F$51,5,0),VLOOKUP(B14,[4]C!B$1:F$52,5,0)))","v":0},2,2,{"$f":"IFERROR(VLOOKUP(B14,[4]A!B$1:J$48,9,0),IFERROR(VLOOKUP(B14,[4]B!B$1:J$51,9,0),VLOOKUP(B14,[4]C!B$1:J$52,9,0)))","v":0},2,4,null,1,1,null,58,0,0,35,35,60.344827586206897,0,"A-1",6,8,14]
[14,"15BA042",{"$f":"VLOOKUP(B15,[1]A!B$1:C$48,2,0)","v":3},{"$f":"VLOOKUP(B15,[1]A!B$1:D$48,3,0)","v":3},{"$f":"VLOOKUP(B15,[1]A!B$1:F$48,5,0)","v":0},{"$f":"VLOOKUP(B15,[1]A!B$1:G$48,6,0)","v":0},{"$f":"VLOOKUP(B15,[1]A!B$1:H$48,7,0)","v":0},{"$f":"VLOOKUP(B15,[1]A!B$1:J$48,9,0)","v":0},{"$f":"VLOOKUP(B15,[2]A!B$1:C$48,2,0)","v":9},{"$f":"VLOOKUP(B15,[2]A!B$1:D$48,3,0)","v":16},{"$f":"VLOOKUP(B15,[2]A!B$1:F$48,5,0)","v":0},{"$f":"VLOOKUP(B15,[2]A!B$1:G$48,6,0)","v":2},{"$f":"VLOOKUP(B15,[2]A!B$1:H$48,7,0)","v":2},{"$f":"VLOOKUP(B15,[2]A!B$1:J$48,9,0)","v":0},{"$f":"IFERROR(VLOOKUP(B15,[3]A!B$1:C$48,2,0),IFERROR(VLOOKUP(B15,[3]B!B$1:C$51,2,0),VLOOKUP(B15,[3]C!B$1:C$52,2,0)))","v":13},{"$f":"IFERROR(VLOOKUP(B15,[3]A!B$1:D$48,3,0),IFERROR(VLOOKUP(B15,[3]B!B$1:D$51,3,0),VLOOKUP(B15,[3]C!B$1:D$52,3,0)))","v":16},{"$f":"IFERROR(VLOOKUP(B15,[3]A!B$1:F$48,5,0),IFERROR(VLOOKUP(B15,[3]B!B$1:F$51,5,0),VLOOKUP(B15,[3]C!B$1:F$52,5,0)))","v":0},{"$f":"IFERROR(VLOOKUP(B15,[3]A!B$1:G$48,6,0),IFERROR(VLOOKUP(B15,[3]B!B$1:G$51,6,0),VLOOKUP(B15,[3]C!B$1:G$52,6,0)))","v":2},{"$f":"IFERROR(VLOOKUP(B15,[3]A!B$1:H$48,7,0),IFERROR(VLOOKUP(B15,[3]B!B$1:H$51,7,0),VLOOKUP(B15,[3]C!B$1:H$52,7,0)))","v":2},0,3,12,5,2,2,{"$f":"IFERROR(VLOOKUP(B15,[4]A!B$1:J$48,9,0),IFERROR(VLOOKUP(B15,[4]B!B$1:J$51,9,0),VLOOKUP(B15,[4]C!B$1:J$52,9,0)))","v":0},3,4,null,1,1,null,58,5,5,38,43,74.137931034482762,2,"A-2",7,4,13]
[15,"15BA043",{"$f":"VLOOKUP(B16,[1]A!B$1:C$48,2,0)","v":3},{"$f":"VLOOKUP(B16,[1]A!B$1:D$48,3,0)","v":3},{"$f":"VLOOKUP(B16,[1]A!B$1:F$48,5,0)","v":0},{"$f":"VLOOKUP(B16,[1]A!B$1:G$48,6,0)","v":0},{"$f":"VLOOKUP(B16,[1]A!B$1:H$48,7,0)","v":0},{"$f":"VLOOKUP(B16,[1]A!B$1:J$48,9,0)","v":0},{"$f":"VLOOKUP(B16,[2]A!B$1:C$48,2,0)","v":14},{"$f":"VLOOKUP(B16,[2]A!B$1:D$48,3,0)","v":16},{"$f":"VLOOKUP(B16,[2]A!B$1:F$48,5,0)","v":0},{"$f":"VLOOKUP(B16,[2]A!B$1:G$48,6,0)","v":2},{"$f":"VLOOKUP(B16,[2]A!B$1:H$48,7,0)","v":2},{"$f":"VLOOKUP(B16,[2]A!B$1:J$48,9,0)","v":0},{"$f":"IFERROR(VLOOKUP(B16,[3]A!B$1:C$48,2,0),IFERROR(VLOOKUP(B16,[3]B!B$1:C$51,2,0),VLOOKUP(B16,[3]C!B$1:C$52,2,0)))","v":12},{"$f":"IFERROR(VLOOKUP(B16,[3]A!B$1:D$48,3,0),IFERROR(VLOOKUP(B16,[3]B!B$1:D$51,3,0),VLOOKUP(B16,[3]C!B$1:D$52,3,0)))","v":16},{"$f":"IFERROR(VLOOKUP(B16,[3]A!B$1:F$48,5,0),IFERROR(VLOOKUP(B16,[3]B!B$1:F$51,5,0),VLOOKUP(B16,[3]C!B$1:F$52,5,0)))","v":0},{"$f":"IFERROR(VLOOKUP(B16,[3]A!B$1:G$48,6,0),IFERROR(VLOOKUP(B16,[3]B!B$1:G$51,6,0),VLOOKUP(B16,[3]C!B$1:G$52,6,0)))","v":2},{"$f":"IFERROR(VLOOKUP(B16,[3]A!B$1:H$48,7,0),IFERROR(VLOOKUP(B16,[3]B!B$1:H$51,7,0),VLOOKUP(B16,[3]C!B$1:H$52,7,0)))","v":2},0,5,12,2,2,2,{"$f":"IFERROR(VLOOKUP(B16,[4]A!B$1:J$48,9,0),IFERROR(VLOOKUP(B16,[4]B!B$1:J$51,9,0),VLOOKUP(B16,[4]C!B$1:J$52,9,0)))","v":0},3,4,null,1,1,null,58,2,2,44,46,79.310344827586206,3,"A-2",9,7,19]
[16,"15BA048",{"$f":"VLOOKUP(B17,[1]A!B$1:C$48,2,0)","v":3},{"$f":"VLOOKUP(B17,[1]A!B$1:D$48,3,0)","v":3},{"$f":"VLOOKUP(B17,[1]A!B$1:F$48,5,0)","v":0},{"$f":"VLOOKUP(B17,[1]A!B$1:G$48,6,0)","v":0},{"$f":"VLOOKUP(B17,[1]A!B$1:H$48,7,0)","v":0},{"$f":"VLOOKUP(B17,[1]A!B$1:J$48,9,0)","v":0},{"$f":"VLOOKUP(B17,[2]A!B$1:C$48,2,0)","v":16},{"$f":"VLOOKUP(B17,[2]A!B$1:D$48,3,0)","v":16},{"$f":"VLOOKUP(B17,[2]A!B$1:F$48,5,0)","v":0},{"$f":"VLOOKUP(B17,[2]A!B$1:G$48,6,0)","v":0},{"$f":"VLOOKUP(B17,[2]A!B$1:H$48,7,0)","v":0},{"$f":"VLOOKUP(B17,[2]A!B$1:J$48,9,0)","v":0},{"$f":"IFERROR(VLOOKUP(B17,[3]A!B$1:C$48,2,0),IFERROR(VLOOKUP(B17,[3]B!B$1:C$51,2,0),VLOOKUP(B17,[3]C!B$1:C$52,2,0)))","v":15},{"$f":"IFERROR(VLOOKUP(B17,[3]A!B$1:D$48,3,0),IFERROR(VLOOKUP(B17,[3]B!B$1:D$51,3,0),VLOOKUP(B17,[3]C!B$1:D$52,3,0)))","v":16},{"$f":"IFERROR(VLOOKUP(B17,[3]A!B$1:F$48,5,0),IFERROR(VLOOKUP(B17,[3]B!B$1:F$51,5,0),VLOOKUP(B17,[3]C!B$1:F$52,5,0)))","v":0},{"$f":"IFERROR(VLOOKUP(B17,[3]A!B$1:G$48,6,0),IFERROR(VLOOKUP(B17,[3]B!B$1:G$51,6,0),VLOOKUP(B17,[3]C!B$1:G$52,6,0)))","v":0},{"$f":"IFERROR(VLOOKUP(B17,[3]A!B$1:H$48,7,0),IFERROR(VLOOKUP(B17,[3]B!B$1:H$51,7,0),VLOOKUP(B17,[3]C!B$1:H$52,7,0)))","v":0},0,6,12,{"$f":"IFERROR(VLOOKUP(B17,[4]A!B$1:F$48,5,0),IFERROR(VLOOKUP(B17,[4]B!B$1:F$51,5,0),VLOOKUP(B17,[4]C!B$1:F$52,5,0)))","v":0},3,3,{"$f":"IFERROR(VLOOKUP(B17,[4]A!B$1:J$48,9,0),IFERROR(VLOOKUP(B17,[4]B!B$1:J$51,9,0),VLOOKUP(B17,[4]C!B$1:J$52,9,0)))","v":0},3,4,null,1,1,null,55,0,0,47,47,85.454545454545453,5,"A-3",7,7,19]
[17,"15BA053",{"$f":"VLOOKUP(B18,[1]A!B$1:C$48,2,0)","v":3},{"$f":"VLOOKUP(B18,[1]A!B$1:D$48,3,0)","v":3},{"$f":"VLOOKUP(B18,[1]A!B$1:F$48,5,0)","v":0},{"$f":"VLOOKUP(B18,[1]A!B$1:G$48,6,0)","v":0},{"$f":"VLOOKUP(B18,[1]A!B$1:H$48,7,0)","v":0},{"$f":"VLOOKUP(B18,[1]A!B$1:J$48,9,0)","v":0},{"$f":"VLOOKUP(B18,[2]A!B$1:C$48,2,0)","v":13},{"$f":"VLOOKUP(B18,[2]A!B$1:D$48,3,0)","v":16},3,{"$f":"VLOOKUP(B18,[2]A!B$1:G$48,6,0)","v":2},{"$f":"VLOOKUP(B18,[2]A!B$1:H$48,7,0)","v":2},{"$f":"VLOOKUP(B18,[2]A!B$1:J$48,9,0)","v":0},{"$f":"IFERROR(VLOOKUP(B18,[3]A!B$1:C$48,2,0),IFERROR(VLOOKUP(B18,[3]B!B$1:C$51,2,0),VLOOKUP(B18,[3]C!B$1:C$52,2,0)))","v":10},{"$f":"IFERROR(VLOOKUP(B18,[3]A!B$1:D$48,3,0),IFERROR(VLOOKUP(B18,[3]B!B$1:D$51,3,0),VLOOKUP(B18,[3]C!B$1:D$52,3,0)))","v":16},{"$f":"IFERROR(VLOOKUP(B18,[3]A!B$1:F$48,5,0),IFERROR(VLOOKUP(B18,[3]B!B$1:F$51,5,0),VLOOKUP(B18,[3]C!B$1:F$52,5,0)))","v":0},{"$f":"IFERROR(VLOOKUP(B18,[3]A!B$1:G$48,6,0),IFERROR(VLOOKUP(B18,[3]B!B$1:G$51,6,0),VLOOKUP(B18,[3]C!B$1:G$52,6,0)))","v":2},{"$f":"IFERROR(VLOOKUP(B18,[3]A!B$1:H$48,7,0),IFERROR(VLOOKUP(B18,[3]B!B$1:H$51,7,0),VLOOKUP(B18,[3]C!B$1:H$52,7,0)))","v":2},0,10,12,{"$f":"IFERROR(VLOOKUP(B18,[4]A!B$1:F$48,5,0),IFERROR(VLOOKUP(B18,[4]B!B$1:F$51,5,0),VLOOKUP(B18,[4]C!B$1:F$52,5,0)))","v":0},2,2,{"$f":"IFERROR(VLOOKUP(B18,[4]A!B$1:J$48,9,0),IFERROR(VLOOKUP(B18,[4]B!B$1:J$51,9,0),VLOOKUP(B18,[4]C!B$1:J$52,9,0)))","v":0},3,4,1,1,1,null,58,4,4,46,50,86.206896551724128,5,"A-2",8,7,20]
[18,"15BA060",{"$f":"VLOOKUP(B19,[1]A!B$1:C$48,2,0)","v":3},{"$f":"VLOOKUP(B19,[1]A!B$1:D$48,3,0)","v":3},{"$f":"VLOOKUP(B19,[1]A!B$1:F$48,5,0)","v":0},{"$f":"VLOOKUP(B19,[1]A!B$1:G$48,6,0)","v":0},{"$f":"VLOOKUP(B19,[1]A!B$1:H$48,7,0)","v":0},{"$f":"VLOOKUP(B19,[1]A!B$1:J$48,9,0)","v":0},{"$f":"VLOOKUP(B19,[2]A!B$1:C$48,2,0)","v":13},{"$f":"VLOOKUP(B19,[2]A!B$1:D$48,3,0)","v":16},{"$f":"VLOOKUP(B19,[2]A!B$1:F$48,5,0)","v":0},{"$f":"VLOOKUP(B19,[2]A!B$1:G$48,6,0)","v":2},{"$f":"VLOOKUP(B19,[2]A!B$1:H$48,7,0)","v":2},{"$f":"VLOOKUP(B19,[2]A!B$1:J$48,9,0)","v":0},{"$f":"IFERROR(VLOOKUP(B19,[3]A!B$1:C$48,2,0),IFERROR(VLOOKUP(B19,[3]B!B$1:C$51,2,0),VLOOKUP(B19,[3]C!B$1:C$52,2,0)))","v":14},{"$f":"IFERROR(VLOOKUP(B19,[3]A!B$1:D$48,3,0),IFERROR(VLOOKUP(B19,[3]B!B$1:D$51,3,0),VLOOKUP(B19,[3]C!B$1:D$52,3,0)))","v":16},{"$f":"IFERROR(VLOOKUP(B19,[3]A!B$1:F$48,5,0),IFERROR(VLOOKUP(B19,[3]B!B$1:F$51,5,0),VLOOKUP(B19,[3]C!B$1:F$52,5,0)))","v":0},{"$f":"IFERROR(VLOOKUP(B19,[3]A!B$1:G$48,6,0),IFERROR(VLOOKUP(B19,[3]B!B$1:G$51,6,0),VLOOKUP(B19,[3]C!B$1:G$52,6,0)))","v":2},{"$f":"IFERROR(VLOOKUP(B19,[3]A!B$1:H$48,7,0),IFERROR(VLOOKUP(B19,[3]B!B$1:H$51,7,0),VLOOKUP(B19,[3]C!B$1:H$52,7,0)))","v":2},0,9,12,{"$f":"IFERROR(VLOOKUP(B19,[4]A!B$1:F$48,5,0),IFERROR(VLOOKUP(B19,[4]B!B$1:F$51,5,0),VLOOKUP(B19,[4]C!B$1:F$52,5,0)))","v":0},2,2,{"$f":"IFERROR(VLOOKUP(B19,[4]A!B$1:J$48,9,0),IFERROR(VLOOKUP(B19,[4]B!B$1:J$51,9,0),VLOOKUP(B19,[4]C!B$1:J$52,9,0)))","v":0},3,4,null,1,1,null,58,0,0,49,49,84.482758620689651,4,"A-2",8,8,20]
[19,"15BA062",{"$f":"VLOOKUP(B20,[1]A!B$1:C$48,2,0)","v":3},{"$f":"VLOOKUP(B20,[1]A!B$1:D$48,3,0)","v":3},{"$f":"VLOOKUP(B20,[1]A!B$1:F$48,5,0)","v":0},{"$f":"VLOOKUP(B20,[1]A!B$1:G$48,6,0)","v":0},{"$f":"VLOOKUP(B20,[1]A!B$1:H$48,7,0)","v":0},{"$f":"VLOOKUP(B20,[1]A!B$1:J$48,9,0)","v":0},{"$f":"VLOOKUP(B20,[2]A!B$1:C$48,2,0)","v":9},{"$f":"VLOOKUP(B20,[2]A!B$1:D$48,3,0)","v":16},{"$f":"VLOOKUP(B20,[2]A!B$1:F$48,5,0)","v":0},{"$f":"VLOOKUP(B20,[2]A!B$1:G$48,6,0)","v":2},{"$f":"VLOOKUP(B20,[2]A!B$1:H$48,7,0)","v":2},{"$f":"VLOOKUP(B20,[2]A!B$1:J$48,9,0)","v":0},{"$f":"IFERROR(VLOOKUP(B20,[3]A!B$1:C$48,2,0),IFERROR(VLOOKUP(B20,[3]B!B$1:C$51,2,0),VLOOKUP(B20,[3]C!B$1:C$52,2,0)))","v":7},{"$f":"IFERROR(VLOOKUP(B20,[3]A!B$1:D$48,3,0),IFERROR(VLOOKUP(B20,[3]B!B$1:D$51,3,0),VLOOKUP(B20,[3]C!B$1:D$52,3,0)))","v":16},{"$f":"IFERROR(VLOOKUP(B20,[3]A!B$1:F$48,5,0),IFERROR(VLOOKUP(B20,[3]B!B$1:F$51,5,0),VLOOKUP(B20,[3]C!B$1:F$52,5,0)))","v":0},{"$f":"IFERROR(VLOOKUP(B20,[3]A!B$1:G$48,6,0),IFERROR(VLOOKUP(B20,[3]B!B$1:G$51,6,0),VLOOKUP(B20,[3]C!B$1:G$52,6,0)))","v":2},{"$f":"IFERROR(VLOOKUP(B20,[3]A!B$1:H$48,7,0),IFERROR(VLOOKUP(B20,[3]B!B$1:H$51,7,0),VLOOKUP(B20,[3]C!B$1:H$52,7,0)))","v":2},0,5,12,{"$f":"IFERROR(VLOOKUP(B20,[4]A!B$1:F$48,5,0),IFERROR(VLOOKUP(B20,[4]B!B$1:F$51,5,0),VLOOKUP(B20,[4]C!B$1:F$52,5,0)))","v":0},2,2,{"$f":"IFERROR(VLOOKUP(B20,[4]A!B$1:J$48,9,0),IFERROR(VLOOKUP(B20,[4]B!B$1:J$51,9,0),VLOOKUP(B20,[4]C!B$1:J$52,9,0)))","v":0},3,4,null,1,1,null,58,0,0,34,34,58.620689655172406,0,"A-2",8,5,13]
[20,"15BA064",{"$f":"VLOOKUP(B21,[1]A!B$1:C$48,2,0)","v":3},{"$f":"VLOOKUP(B21,[1]A!B$1:D$48,3,0)","v":3},{"$f":"VLOOKUP(B21,[1]A!B$1:F$48,5,0)","v":0},{"$f":"VLOOKUP(B21,[1]A!B$1:G$48,6,0)","v":0},{"$f":"VLOOKUP(B21,[1]A!B$1:H$48,7,0)","v":0},{"$f":"VLOOKUP(B21,[1]A!B$1:J$48,9,0)","v":0},{"$f":"VLOOKUP(B21,[2]A!B$1:C$48,2,0)","v":13},{"$f":"VLOOKUP(B21,[2]A!B$1:D$48,3,0)","v":16},{"$f":"VLOOKUP(B21,[2]A!B$1:F$48,5,0)","v":0},{"$f":"VLOOKUP(B21,[2]A!B$1:G$48,6,0)","v":2},{"$f":"VLOOKUP(B21,[2]A!B$1:H$48,7,0)","v":2},{"$f":"VLOOKUP(B21,[2]A!B$1:J$48,9,0)","v":0},{"$f":"IFERROR(VLOOKUP(B21,[3]A!B$1:C$48,2,0),IFERROR(VLOOKUP(B21,[3]B!B$1:C$51,2,0),VLOOKUP(B21,[3]C!B$1:C$52,2,0)))","v":11},{"$f":"IFERROR(VLOOKUP(B21,[3]A!B$1:D$48,3,0),IFERROR(VLOOKUP(B21,[3]B!B$1:D$51,3,0),VLOOKUP(B21,[3]C!B$1:D$52,3,0)))","v":16},{"$f":"IFERROR(VLOOKUP(B21,[3]A!B$1:F$48,5,0),IFERROR(VLOOKUP(B21,[3]B!B$1:F$51,5,0),VLOOKUP(B21,[3]C!B$1:F$52,5,0)))","v":0},{"$f":"IFERROR(VLOOKUP(B21,[3]A!B$1:G$48,6,0),IFERROR(VLOOKUP(B21,[3]B!B$1:G$51,6,0),VLOOKUP(B21,[3]C!B$1:G$52,6,0)))","v":2},{"$f":"IFERROR(VLOOKUP(B21,[3]A!B$1:H$48,7,0),IFERROR(VLOOKUP(B21,[3]B!B$1:H$51,7,0),VLOOKUP(B21,[3]C!B$1:H$52,7,0)))","v":2},0,11,12,{"$f":"IFERROR(VLOOKUP(B21,[4]A!B$1:F$48,5,0),IFERROR(VLOOKUP(B21,[4]B!B$1:F$51,5,0),VLOOKUP(B21,[4]C!B$1:F$52,5,0)))","v":0},2,2,{"$f":"IFERROR(VLOOKUP(B21,[4]A!B$1:J$48,9,0),IFERROR(VLOOKUP(B21,[4]B!B$1:J$51,9,0),VLOOKUP(B21,[4]C!B$1:J$52,9,0)))","v":0},4,4,null,1,1,null,58,0,0,49,49,84.482758620689651,4,"A-2",9,10,23]
[21,"15BA065",{"$f":"VLOOKUP(B22,[1]A!B$1:C$48,2,0)","v":3},{"$f":"VLOOKUP(B22,[1]A!B$1:D$48,3,0)","v":3},{"$f":"VLOOKUP(B22,[1]A!B$1:F$48,5,0)","v":0},{"$f":"VLOOKUP(B22,[1]A!B$1:G$48,6,0)","v":0},{"$f":"VLOOKUP(B22,[1]A!B$1:H$48,7,0)","v":0},{"$f":"VLOOKUP(B22,[1]A!B$1:J$48,9,0)","v":0},{"$f":"VLOOKUP(B22,[2]A!B$1:C$48,2,0)","v":16},{"$f":"VLOOKUP(B22,[2]A!B$1:D$48,3,0)","v":16},{"$f":"VLOOKUP(B22,[2]A!B$1:F$48,5,0)","v":0},{"$f":"VLOOKUP(B22,[2]A!B$1:G$48,6,0)","v":2},{"$f":"VLOOKUP(B22,[2]A!B$1:H$48,7,0)","v":2},{"$f":"VLOOKUP(B22,[2]A!B$1:J$48,9,0)","v":0},{"$f":"IFERROR(VLOOKUP(B22,[3]A!B$1:C$48,2,0),IFERROR(VLOOKUP(B22,[3]B!B$1:C$51,2,0),VLOOKUP(B22,[3]C!B$1:C$52,2,0)))","v":16},{"$f":"IFERROR(VLOOKUP(B22,[3]A!B$1:D$48,3,0),IFERROR(VLOOKUP(B22,[3]B!B$1:D$51,3,0),VLOOKUP(B22,[3]C!B$1:D$52,3,0)))","v":16},{"$f":"IFERROR(VLOOKUP(B22,[3]A!B$1:F$48,5,0),IFERROR(VLOOKUP(B22,[3]B!B$1:F$51,5,0),VLOOKUP(B22,[3]C!B$1:F$52,5,0)))","v":0},{"$f":"IFERROR(VLOOKUP(B22,[3]A!B$1:G$48,6,0),IFERROR(VLOOKUP(B22,[3]B!B$1:G$51,6,0),VLOOKUP(B22,[3]C!B$1:G$52,6,0)))","v":2},{"$f":"IFERROR(VLOOKUP(B22,[3]A!B$1:H$48,7,0),IFERROR(VLOOKUP(B22,[3]B!B$1:H$51,7,0),VLOOKUP(B22,[3]C!B$1:H$52,7,0)))","v":2},0,6,12,{"$f":"IFERROR(VLOOKUP(B22,[4]A!B$1:F$48,5,0),IFERROR(VLOOKUP(B22,[4]B!B$1:F$51,5,0),VLOOKUP(B22,[4]C!B$1:F$52,5,0)))","v":0},2,2,{"$f":"IFERROR(VLOOKUP(B22,[4]A!B$1:J$48,9,0),IFERROR(VLOOKUP(B22,[4]B!B$1:J$51,9,0),VLOOKUP(B22,[4]C!B$1:J$52,9,0)))","v":0},4,4,null,1,1,null,58,0,0,52,52,89.65517241379311,5,"A-2",7,8,20]
[22,"15BA068",{"$f":"VLOOKUP(B23,[1]A!B$1:C$48,2,0)","v":2},{"$f":"VLOOKUP(B23,[1]A!B$1:D$48,3,0)","v":3},{"$f":"VLOOKUP(B23,[1]A!B$1:F$48,5,0)","v":0},{"$f":"VLOOKUP(B23,[1]A!B$1:G$48,6,0)","v":0},{"$f":"VLOOKUP(B23,[1]A!B$1:H$48,7,0)","v":0},{"$f":"VLOOKUP(B23,[1]A!B$1:J$48,9,0)","v":0},{"$f":"VLOOKUP(B23,[2]A!B$1:C$48,2,0)","v":14},{"$f":"VLOOKUP(B23,[2]A!B$1:D$48,3,0)","v":16},{"$f":"VLOOKUP(B23,[2]A!B$1:F$48,5,0)","v":0},{"$f":"VLOOKUP(B23,[2]A!B$1:G$48,6,0)","v":2},{"$f":"VLOOKUP(B23,[2]A!B$1:H$48,7,0)","v":2},{"$f":"VLOOKUP(B23,[2]A!B$1:J$48,9,0)","v":0},{"$f":"IFERROR(VLOOKUP(B23,[3]A!B$1:C$48,2,0),IFERROR(VLOOKUP(B23,[3]B!B$1:C$51,2,0),VLOOKUP(B23,[3]C!B$1:C$52,2,0)))","v":16},{"$f":"IFERROR(VLOOKUP(B23,[3]A!B$1:D$48,3,0),IFERROR(VLOOKUP(B23,[3]B!B$1:D$51,3,0),VLOOKUP(B23,[3]C!B$1:D$52,3,0)))","v":16},{"$f":"IFERROR(VLOOKUP(B23,[3]A!B$1:F$48,5,0),IFERROR(VLOOKUP(B23,[3]B!B$1:F$51,5,0),VLOOKUP(B23,[3]C!B$1:F$52,5,0)))","v":0},{"$f":"IFERROR(VLOOKUP(B23,[3]A!B$1:G$48,6,0),IFERROR(VLOOKUP(B23,[3]B!B$1:G$51,6,0),VLOOKUP(B23,[3]C!B$1:G$52,6,0)))","v":2},{"$f":"IFERROR(VLOOKUP(B23,[3]A!B$1:H$48,7,0),IFERROR(VLOOKUP(B23,[3]B!B$1:H$51,7,0),VLOOKUP(B23,[3]C!B$1:H$52,7,0)))","v":2},0,8,12,{"$f":"IFERROR(VLOOKUP(B23,[4]A!B$1:F$48,5,0),IFERROR(VLOOKUP(B23,[4]B!B$1:F$51,5,0),VLOOKUP(B23,[4]C!B$1:F$52,5,0)))","v":0},2,2,{"$f":"IFERROR(VLOOKUP(B23,[4]A!B$1:J$48,9,0),IFERROR(VLOOKUP(B23,[4]B!B$1:J$51,9,0),VLOOKUP(B23,[4]C!B$1:J$52,9,0)))","v":0},3,4,null,1,1,null,58,0,0,50,50,86.206896551724128,5,"A-2",7,3,15]
[23,"15BA071",{"$f":"VLOOKUP(B24,[1]A!B$1:C$48,2,0)","v":3},{"$f":"VLOOKUP(B24,[1]A!B$1:D$48,3,0)","v":3},{"$f":"VLOOKUP(B24,[1]A!B$1:F$48,5,0)","v":0},{"$f":"VLOOKUP(B24,[1]A!B$1:G$48,6,0)","v":0},{"$f":"VLOOKUP(B24,[1]A!B$1:H$48,7,0)","v":0},{"$f":"VLOOKUP(B24,[1]A!B$1:J$48,9,0)","v":0},{"$f":"VLOOKUP(B24,[2]A!B$1:C$48,2,0)","v":16},{"$f":"VLOOKUP(B24,[2]A!B$1:D$48,3,0)","v":16},{"$f":"VLOOKUP(B24,[2]A!B$1:F$48,5,0)","v":0},{"$f":"VLOOKUP(B24,[2]A!B$1:G$48,6,0)","v":2},{"$f":"VLOOKUP(B24,[2]A!B$1:H$48,7,0)","v":2},{"$f":"VLOOKUP(B24,[2]A!B$1:J$48,9,0)","v":0},{"$f":"IFERROR(VLOOKUP(B24,[3]A!B$1:C$48,2,0),IFERROR(VLOOKUP(B24,[3]B!B$1:C$51,2,0),VLOOKUP(B24,[3]C!B$1:C$52,2,0)))","v":14},{"$f":"IFERROR(VLOOKUP(B24,[3]A!B$1:D$48,3,0),IFERROR(VLOOKUP(B24,[3]B!B$1:D$51,3,0),VLOOKUP(B24,[3]C!B$1:D$52,3,0)))","v":16},{"$f":"IFERROR(VLOOKUP(B24,[3]A!B$1:F$48,5,0),IFERROR(VLOOKUP(B24,[3]B!B$1:F$51,5,0),VLOOKUP(B24,[3]C!B$1:F$52,5,0)))","v":0},{"$f":"IFERROR(VLOOKUP(B24,[3]A!B$1:G$48,6,0),IFERROR(VLOOKUP(B24,[3]B!B$1:G$51,6,0),VLOOKUP(B24,[3]C!B$1:G$52,6,0)))","v":2},{"$f":"IFERROR(VLOOKUP(B24,[3]A!B$1:H$48,7,0),IFERROR(VLOOKUP(B24,[3]B!B$1:H$51,7,0),VLOOKUP(B24,[3]C!B$1:H$52,7,0)))","v":2},0,3,12,{"$f":"IFERROR(VLOOKUP(B24,[4]A!B$1:F$48,5,0),IFERROR(VLOOKUP(B24,[4]B!B$1:F$51,5,0),VLOOKUP(B24,[4]C!B$1:F$52,5,0)))","v":0},2,2,{"$f":"IFERROR(VLOOKUP(B24,[4]A!B$1:J$48,9,0),IFERROR(VLOOKUP(B24,[4]B!B$1:J$51,9,0),VLOOKUP(B24,[4]C!B$1:J$52,9,0)))","v":0},3,4,null,1,1,null,58,0,0,46,46,79.310344827586206,3,"A-2",7,5,15]
[24,"15BA078",{"$f":"VLOOKUP(B25,[1]A!B$1:C$48,2,0)","v":3},{"$f":"VLOOKUP(B25,[1]A!B$1:D$48,3,0)","v":3},{"$f":"VLOOKUP(B25,[1]A!B$1:F$48,5,0)","v":0},{"$f":"VLOOKUP(B25,[1]A!B$1:G$48,6,0)","v":0},{"$f":"VLOOKUP(B25,[1]A!B$1:H$48,7,0)","v":0},{"$f":"VLOOKUP(B25,[1]A!B$1:J$48,9,0)","v":0},{"$f":"VLOOKUP(B25,[2]A!B$1:C$48,2,0)","v":14},{"$f":"VLOOKUP(B25,[2]A!B$1:D$48,3,0)","v":16},{"$f":"VLOOKUP(B25,[2]A!B$1:F$48,5,0)","v":0},{"$f":"VLOOKUP(B25,[2]A!B$1:G$48,6,0)","v":2},{"$f":"VLOOKUP(B25,[2]A!B$1:H$48,7,0)","v":2},{"$f":"VLOOKUP(B25,[2]A!B$1:J$48,9,0)","v":0},{"$f":"IFERROR(VLOOKUP(B25,[3]A!B$1:C$48,2,0),IFERROR(VLOOKUP(B25,[3]B!B$1:C$51,2,0),VLOOKUP(B25,[3]C!B$1:C$52,2,0)))","v":10},{"$f":"IFERROR(VLOOKUP(B25,[3]A!B$1:D$48,3,0),IFERROR(VLOOKUP(B25,[3]B!B$1:D$51,3,0),VLOOKUP(B25,[3]C!B$1:D$52,3,0)))","v":16},{"$f":"IFERROR(VLOOKUP(B25,[3]A!B$1:F$48,5,0),IFERROR(VLOOKUP(B25,[3]B!B$1:F$51,5,0),VLOOKUP(B25,[3]C!B$1:F$52,5,0)))","v":0},{"$f":"IFERROR(VLOOKUP(B25,[3]A!B$1:G$48,6,0),IFERROR(VLOOKUP(B25,[3]B!B$1:G$51,6,0),VLOOKUP(B25,[3]C!B$1:G$52,6,0)))","v":2},{"$f":"IFERROR(VLOOKUP(B25,[3]A!B$1:H$48,7,0),IFERROR(VLOOKUP(B25,[3]B!B$1:H$51,7,0),VLOOKUP(B25,[3]C!B$1:H$52,7,0)))","v":2},0,7,12,{"$f":"IFERROR(VLOOKUP(B25,[4]A!B$1:F$48,5,0),IFERROR(VLOOKUP(B25,[4]B!B$1:F$51,5,0),VLOOKUP(B25,[4]C!B$1:F$52,5,0)))","v":0},2,2,{"$f":"IFERROR(VLOOKUP(B25,[4]A!B$1:J$48,9,0),IFERROR(VLOOKUP(B25,[4]B!B$1:J$51,9,0),VLOOKUP(B25,[4]C!B$1:J$52,9,0)))","v":0},2,4,null,1,1,null,58,0,0,43,43,74.137931034482762,2,"A-2",6,7,15]
[25,"15BA080",{"$f":"VLOOKUP(B26,[1]A!B$1:C$48,2,0)","v":2},{"$f":"VLOOKUP(B26,[1]A!B$1:D$48,3,0)","v":3},{"$f":"VLOOKUP(B26,[1]A!B$1:F$48,5,0)","v":0},{"$f":"VLOOKUP(B26,[1]A!B$1:G$48,6,0)","v":0},{"$f":"VLOOKUP(B26,[1]A!B$1:H$48,7,0)","v":0},{"$f":"VLOOKUP(B26,[1]A!B$1:J$48,9,0)","v":0},{"$f":"VLOOKUP(B26,[2]A!B$1:C$48,2,0)","v":16},{"$f":"VLOOKUP(B26,[2]A!B$1:D$48,3,0)","v":16},{"$f":"VLOOKUP(B26,[2]A!B$1:F$48,5,0)","v":0},{"$f":"VLOOKUP(B26,[2]A!B$1:G$48,6,0)","v":0},{"$f":"VLOOKUP(B26,[2]A!B$1:H$48,7,0)","v":0},{"$f":"VLOOKUP(B26,[2]A!B$1:J$48,9,0)","v":0},{"$f":"IFERROR(VLOOKUP(B26,[3]A!B$1:C$48,2,0),IFERROR(VLOOKUP(B26,[3]B!B$1:C$51,2,0),VLOOKUP(B26,[3]C!B$1:C$52,2,0)))","v":15},{"$f":"IFERROR(VLOOKUP(B26,[3]A!B$1:D$48,3,0),IFERROR(VLOOKUP(B26,[3]B!B$1:D$51,3,0),VLOOKUP(B26,[3]C!B$1:D$52,3,0)))","v":16},{"$f":"IFERROR(VLOOKUP(B26,[3]A!B$1:F$48,5,0),IFERROR(VLOOKUP(B26,[3]B!B$1:F$51,5,0),VLOOKUP(B26,[3]C!B$1:F$52,5,0)))","v":0},{"$f":"IFERROR(VLOOKUP(B26,[3]A!B$1:G$48,6,0),IFERROR(VLOOKUP(B26,[3]B!B$1:G$51,6,0),VLOOKUP(B26,[3]C!B$1:G$52,6,0)))","v":0},{"$f":"IFERROR(VLOOKUP(B26,[3]A!B$1:H$48,7,0),IFERROR(VLOOKUP(B26,[3]B!B$1:H$51,7,0),VLOOKUP(B26,[3]C!B$1:H$52,7,0)))","v":0},0,6,12,{"$f":"IFERROR(VLOOKUP(B26,[4]A!B$1:F$48,5,0),IFERROR(VLOOKUP(B26,[4]B!B$1:F$51,5,0),VLOOKUP(B26,[4]C!B$1:F$52,5,0)))","v":0},0,1,{"$f":"IFERROR(VLOOKUP(B26,[4]A!B$1:J$48,9,0),IFERROR(VLOOKUP(B26,[4]B!B$1:J$51,9,0),VLOOKUP(B26,[4]C!B$1:J$52,9,0)))","v":0},4,4,null,1,1,null,53,0,0,44,44,83.018867924528308,4,"A-4",10,8,22]
[26,"15BA083",{"$f":"VLOOKUP(B27,[1]A!B$1:C$48,2,0)","v":3},{"$f":"VLOOKUP(B27,[1]A!B$1:D$48,3,0)","v":3},{"$f":"VLOOKUP(B27,[1]A!B$1:F$48,5,0)","v":0},{"$f":"VLOOKUP(B27,[1]A!B$1:G$48,6,0)","v":0},{"$f":"VLOOKUP(B27,[1]A!B$1:H$48,7,0)","v":0},{"$f":"VLOOKUP(B27,[1]A!B$1:J$48,9,0)","v":0},{"$f":"VLOOKUP(B27,[2]A!B$1:C$48,2,0)","v":11},{"$f":"VLOOKUP(B27,[2]A!B$1:D$48,3,0)","v":16},{"$f":"VLOOKUP(B27,[2]A!B$1:F$48,5,0)","v":0},{"$f":"VLOOKUP(B27,[2]A!B$1:G$48,6,0)","v":0},{"$f":"VLOOKUP(B27,[2]A!B$1:H$48,7,0)","v":0},{"$f":"VLOOKUP(B27,[2]A!B$1:J$48,9,0)","v":0},{"$f":"IFERROR(VLOOKUP(B27,[3]A!B$1:C$48,2,0),IFERROR(VLOOKUP(B27,[3]B!B$1:C$51,2,0),VLOOKUP(B27,[3]C!B$1:C$52,2,0)))","v":14},{"$f":"IFERROR(VLOOKUP(B27,[3]A!B$1:D$48,3,0),IFERROR(VLOOKUP(B27,[3]B!B$1:D$51,3,0),VLOOKUP(B27,[3]C!B$1:D$52,3,0)))","v":16},{"$f":"IFERROR(VLOOKUP(B27,[3]A!B$1:F$48,5,0),IFERROR(VLOOKUP(B27,[3]B!B$1:F$51,5,0),VLOOKUP(B27,[3]C!B$1:F$52,5,0)))","v":0},{"$f":"IFERROR(VLOOKUP(B27,[3]A!B$1:G$48,6,0),IFERROR(VLOOKUP(B27,[3]B!B$1:G$51,6,0),VLOOKUP(B27,[3]C!B$1:G$52,6,0)))","v":0},{"$f":"IFERROR(VLOOKUP(B27,[3]A!B$1:H$48,7,0),IFERROR(VLOOKUP(B27,[3]B!B$1:H$51,7,0),VLOOKUP(B27,[3]C!B$1:H$52,7,0)))","v":0},0,10,12,{"$f":"IFERROR(VLOOKUP(B27,[4]A!B$1:F$48,5,0),IFERROR(VLOOKUP(B27,[4]B!B$1:F$51,5,0),VLOOKUP(B27,[4]C!B$1:F$52,5,0)))","v":0},1,1,{"$f":"IFERROR(VLOOKUP(B27,[4]A!B$1:J$48,9,0),IFERROR(VLOOKUP(B27,[4]B!B$1:J$51,9,0),VLOOKUP(B27,[4]C!B$1:J$52,9,0)))","v":0},4,4,null,1,1,null,53,0,0,44,44,83.018867924528308,4,"A-4",8,6,18]
[27,"15BA084",{"$f":"VLOOKUP(B28,[1]A!B$1:C$48,2,0)","v":3},{"$f":"VLOOKUP(B28,[1]A!B$1:D$48,3,0)","v":3},{"$f":"VLOOKUP(B28,[1]A!B$1:F$48,5,0)","v":0},{"$f":"VLOOKUP(B28,[1]A!B$1:G$48,6,0)","v":0},{"$f":"VLOOKUP(B28,[1]A!B$1:H$48,7,0)","v":0},{"$f":"VLOOKUP(B28,[1]A!B$1:J$48,9,0)","v":0},{"$f":"VLOOKUP(B28,[2]A!B$1:C$48,2,0)","v":14},{"$f":"VLOOKUP(B28,[2]A!B$1:D$48,3,0)","v":16},{"$f":"VLOOKUP(B28,[2]A!B$1:F$48,5,0)","v":0},{"$f":"VLOOKUP(B28,[2]A!B$1:G$48,6,0)","v":0},{"$f":"VLOOKUP(B28,[2]A!B$1:H$48,7,0)","v":0},{"$f":"VLOOKUP(B28,[2]A!B$1:J$48,9,0)","v":0},{"$f":"IFERROR(VLOOKUP(B28,[3]A!B$1:C$48,2,0),IFERROR(VLOOKUP(B28,[3]B!B$1:C$51,2,0),VLOOKUP(B28,[3]C!B$1:C$52,2,0)))","v":15},{"$f":"IFERROR(VLOOKUP(B28,[3]A!B$1:D$48,3,0),IFERROR(VLOOKUP(B28,[3]B!B$1:D$51,3,0),VLOOKUP(B28,[3]C!B$1:D$52,3,0)))","v":16},{"$f":"IFERROR(VLOOKUP(B28,[3]A!B$1:F$48,5,0),IFERROR(VLOOKUP(B28,[3]B!B$1:F$51,5,0),VLOOKUP(B28,[3]C!B$1:F$52,5,0)))","v":0},{"$f":"IFERROR(VLOOKUP(B28,[3]A!B$1:G$48,6,0),IFERROR(VLOOKUP(B28,[3]B!B$1:G$51,6,0),VLOOKUP(B28,[3]C!B$1:G$52,6,0)))","v":0},{"$f":"IFERROR(VLOOKUP(B28,[3]A!B$1:H$48,7,0),IFERROR(VLOOKUP(B28,[3]B!B$1:H$51,7,0),VLOOKUP(B28,[3]C!B$1:H$52,7,0)))","v":0},0,11,12,{"$f":"IFERROR(VLOOKUP(B28,[4]A!B$1:F$48,5,0),IFERROR(VLOOKUP(B28,[4]B!B$1:F$51,5,0),VLOOKUP(B28,[4]C!B$1:F$52,5,0)))","v":0},1,1,{"$f":"IFERROR(VLOOKUP(B28,[4]A!B$1:J$48,9,0),IFERROR(VLOOKUP(B28,[4]B!B$1:J$51,9,0),VLOOKUP(B28,[4]C!B$1:J$52,9,0)))","v":0},4,4,null,1,1,null,53,0,0,49,49,92.452830188679243,5,"A-4",8,8,21]
[28,"15BA091",{"$f":"VLOOKUP(B29,[1]A!B$1:C$48,2,0)","v":3},{"$f":"VLOOKUP(B29,[1]A!B$1:D$48,3,0)","v":3},{"$f":"VLOOKUP(B29,[1]A!B$1:F$48,5,0)","v":0},{"$f":"VLOOKUP(B29,[1]A!B$1:G$48,6,0)","v":0},{"$f":"VLOOKUP(B29,[1]A!B$1:H$48,7,0)","v":0},{"$f":"VLOOKUP(B29,[1]A!B$1:J$48,9,0)","v":0},{"$f":"VLOOKUP(B29,[2]A!B$1:C$48,2,0)","v":12},{"$f":"VLOOKUP(B29,[2]A!B$1:D$48,3,0)","v":16},{"$f":"VLOOKUP(B29,[2]A!B$1:F$48,5,0)","v":0},{"$f":"VLOOKUP(B29,[2]A!B$1:G$48,6,0)","v":0},{"$f":"VLOOKUP(B29,[2]A!B$1:H$48,7,0)","v":0},{"$f":"VLOOKUP(B29,[2]A!B$1:J$48,9,0)","v":0},{"$f":"IFERROR(VLOOKUP(B29,[3]A!B$1:C$48,2,0),IFERROR(VLOOKUP(B29,[3]B!B$1:C$51,2,0),VLOOKUP(B29,[3]C!B$1:C$52,2,0)))","v":15},{"$f":"IFERROR(VLOOKUP(B29,[3]A!B$1:D$48,3,0),IFERROR(VLOOKUP(B29,[3]B!B$1:D$51,3,0),VLOOKUP(B29,[3]C!B$1:D$52,3,0)))","v":16},{"$f":"IFERROR(VLOOKUP(B29,[3]A!B$1:F$48,5,0),IFERROR(VLOOKUP(B29,[3]B!B$1:F$51,5,0),VLOOKUP(B29,[3]C!B$1:F$52,5,0)))","v":0},{"$f":"IFERROR(VLOOKUP(B29,[3]A!B$1:G$48,6,0),IFERROR(VLOOKUP(B29,[3]B!B$1:G$51,6,0),VLOOKUP(B29,[3]C!B$1:G$52,6,0)))","v":0},{"$f":"IFERROR(VLOOKUP(B29,[3]A!B$1:H$48,7,0),IFERROR(VLOOKUP(B29,[3]B!B$1:H$51,7,0),VLOOKUP(B29,[3]C!B$1:H$52,7,0)))","v":0},0,6,12,{"$f":"IFERROR(VLOOKUP(B29,[4]A!B$1:F$48,5,0),IFERROR(VLOOKUP(B29,[4]B!B$1:F$51,5,0),VLOOKUP(B29,[4]C!B$1:F$52,5,0)))","v":0},0,1,{"$f":"IFERROR(VLOOKUP(B29,[4]A!B$1:J$48,9,0),IFERROR(VLOOKUP(B29,[4]B!B$1:J$51,9,0),VLOOKUP(B29,[4]C!B$1:J$52,9,0)))","v":0},3,4,null,1,1,null,53,0,0,40,40,75.471698113207552,3,"A-4",9,6,18]
[29,"15BA095",{"$f":"VLOOKUP(B30,[1]A!B$1:C$48,2,0)","v":3},{"$f":"VLOOKUP(B30,[1]A!B$1:D$48,3,0)","v":3},{"$f":"VLOOKUP(B30,[1]A!B$1:F$48,5,0)","v":0},{"$f":"VLOOKUP(B30,[1]A!B$1:G$48,6,0)","v":0},{"$f":"VLOOKUP(B30,[1]A!B$1:H$48,7,0)","v":0},{"$f":"VLOOKUP(B30,[1]A!B$1:J$48,9,0)","v":0},{"$f":"VLOOKUP(B30,[2]A!B$1:C$48,2,0)","v":15},{"$f":"VLOOKUP(B30,[2]A!B$1:D$48,3,0)","v":16},{"$f":"VLOOKUP(B30,[2]A!B$1:F$48,5,0)","v":0},{"$f":"VLOOKUP(B30,[2]A!B$1:G$48,6,0)","v":0},{"$f":"VLOOKUP(B30,[2]A!B$1:H$48,7,0)","v":0},{"$f":"VLOOKUP(B30,[2]A!B$1:J$48,9,0)","v":0},{"$f":"IFERROR(VLOOKUP(B30,[3]A!B$1:C$48,2,0),IFERROR(VLOOKUP(B30,[3]B!B$1:C$51,2,0),VLOOKUP(B30,[3]C!B$1:C$52,2,0)))","v":8},{"$f":"IFERROR(VLOOKUP(B30,[3]A!B$1:D$48,3,0),IFERROR(VLOOKUP(B30,[3]B!B$1:D$51,3,0),VLOOKUP(B30,[3]C!B$1:D$52,3,0)))","v":16},{"$f":"IFERROR(VLOOKUP(B30,[3]A!B$1:F$48,5,0),IFERROR(VLOOKUP(B30,[3]B!B$1:F$51,5,0),VLOOKUP(B30,[3]C!B$1:F$52,5,0)))","v":0},{"$f":"IFERROR(VLOOKUP(B30,[3]A!B$1:G$48,6,0),IFERROR(VLOOKUP(B30,[3]B!B$1:G$51,6,0),VLOOKUP(B30,[3]C!B$1:G$52,6,0)))","v":0},{"$f":"IFERROR(VLOOKUP(B30,[3]A!B$1:H$48,7,0),IFERROR(VLOOKUP(B30,[3]B!B$1:H$51,7,0),VLOOKUP(B30,[3]C!B$1:H$52,7,0)))","v":0},0,3,12,{"$f":"IFERROR(VLOOKUP(B30,[4]A!B$1:F$48,5,0),IFERROR(VLOOKUP(B30,[4]B!B$1:F$51,5,0),VLOOKUP(B30,[4]C!B$1:F$52,5,0)))","v":0},{"$f":"IFERROR(VLOOKUP(B30,[4]A!B$1:G$48,6,0),IFERROR(VLOOKUP(B30,[4]B!B$1:G$51,6,0),VLOOKUP(B30,[4]C!B$1:G$52,6,0)))","v":0},1,{"$f":"IFERROR(VLOOKUP(B30,[4]A!B$1:J$48,9,0),IFERROR(VLOOKUP(B30,[4]B!B$1:J$51,9,0),VLOOKUP(B30,[4]C!B$1:J$52,9,0)))","v":0},2,4,null,0,1,null,53,0,0,31,31,58.490566037735846,0,"A-4",7,4,11]
[30,"15BA096",{"$f":"VLOOKUP(B31,[1]A!B$1:C$48,2,0)","v":3},{"$f":"VLOOKUP(B31,[1]A!B$1:D$48,3,0)","v":3},{"$f":"VLOOKUP(B31,[1]A!B$1:F$48,5,0)","v":0},{"$f":"VLOOKUP(B31,[1]A!B$1:G$48,6,0)","v":0},{"$f":"VLOOKUP(B31,[1]A!B$1:H$48,7,0)","v":0},{"$f":"VLOOKUP(B31,[1]A!B$1:J$48,9,0)","v":0},{"$f":"VLOOKUP(B31,[2]A!B$1:C$48,2,0)","v":16},{"$f":"VLOOKUP(B31,[2]A!B$1:D$48,3,0)","v":16},{"$f":"VLOOKUP(B31,[2]A!B$1:F$48,5,0)","v":0},{"$f":"VLOOKUP(B31,[2]A!B$1:G$48,6,0)","v":0},{"$f":"VLOOKUP(B31,[2]A!B$1:H$48,7,0)","v":0},{"$f":"VLOOKUP(B31,[2]A!B$1:J$48,9,0)","v":0},{"$f":"IFERROR(VLOOKUP(B31,[3]A!B$1:C$48,2,0),IFERROR(VLOOKUP(B31,[3]B!B$1:C$51,2,0),VLOOKUP(B31,[3]C!B$1:C$52,2,0)))","v":14},{"$f":"IFERROR(VLOOKUP(B31,[3]A!B$1:D$48,3,0),IFERROR(VLOOKUP(B31,[3]B!B$1:D$51,3,0),VLOOKUP(B31,[3]C!B$1:D$52,3,0)))","v":16},{"$f":"IFERROR(VLOOKUP(B31,[3]A!B$1:F$48,5,0),IFERROR(VLOOKUP(B31,[3]B!B$1:F$51,5,0),VLOOKUP(B31,[3]C!B$1:F$52,5,0)))","v":0},{"$f":"IFERROR(VLOOKUP(B31,[3]A!B$1:G$48,6,0),IFERROR(VLOOKUP(B31,[3]B!B$1:G$51,6,0),VLOOKUP(B31,[3]C!B$1:G$52,6,0)))","v":0},{"$f":"IFERROR(VLOOKUP(B31,[3]A!B$1:H$48,7,0),IFERROR(VLOOKUP(B31,[3]B!B$1:H$51,7,0),VLOOKUP(B31,[3]C!B$1:H$52,7,0)))","v":0},0,9,12,{"$f":"IFERROR(VLOOKUP(B31,[4]A!B$1:F$48,5,0),IFERROR(VLOOKUP(B31,[4]B!B$1:F$51,5,0),VLOOKUP(B31,[4]C!B$1:F$52,5,0)))","v":0},{"$f":"IFERROR(VLOOKUP(B31,[4]A!B$1:G$48,6,0),IFERROR(VLOOKUP(B31,[4]B!B$1:G$51,6,0),VLOOKUP(B31,[4]C!B$1:G$52,6,0)))","v":0},1,{"$f":"IFERROR(VLOOKUP(B31,[4]A!B$1:J$48,9,0),IFERROR(VLOOKUP(B31,[4]B!B$1:J$51,9,0),VLOOKUP(B31,[4]C!B$1:J$52,9,0)))","v":0},4,4,null,0,1,null,53,0,0,46,46,86.79245283018868,5,"A-4",4,3,12]
[31,"15BA100",{"$f":"VLOOKUP(B32,[1]A!B$1:C$48,2,0)","v":3},{"$f":"VLOOKUP(B32,[1]A!B$1:D$48,3,0)","v":3},{"$f":"VLOOKUP(B32,[1]A!B$1:F$48,5,0)","v":0},{"$f":"VLOOKUP(B32,[1]A!B$1:G$48,6,0)","v":0},{"$f":"VLOOKUP(B32,[1]A!B$1:H$48,7,0)","v":0},{"$f":"VLOOKUP(B32,[1]A!B$1:J$48,9,0)","v":0},{"$f":"VLOOKUP(B32,[2]A!B$1:C$48,2,0)","v":6},{"$f":"VLOOKUP(B32,[2]A!B$1:D$48,3,0)","v":16},{"$f":"VLOOKUP(B32,[2]A!B$1:F$48,5,0)","v":0},{"$f":"VLOOKUP(B32,[2]A!B$1:G$48,6,0)","v":0},{"$f":"VLOOKUP(B32,[2]A!B$1:H$48,7,0)","v":0},{"$f":"VLOOKUP(B32,[2]A!B$1:J$48,9,0)","v":0},{"$f":"IFERROR(VLOOKUP(B32,[3]A!B$1:C$48,2,0),IFERROR(VLOOKUP(B32,[3]B!B$1:C$51,2,0),VLOOKUP(B32,[3]C!B$1:C$52,2,0)))","v":10},{"$f":"IFERROR(VLOOKUP(B32,[3]A!B$1:D$48,3,0),IFERROR(VLOOKUP(B32,[3]B!B$1:D$51,3,0),VLOOKUP(B32,[3]C!B$1:D$52,3,0)))","v":16},{"$f":"IFERROR(VLOOKUP(B32,[3]A!B$1:F$48,5,0),IFERROR(VLOOKUP(B32,[3]B!B$1:F$51,5,0),VLOOKUP(B32,[3]C!B$1:F$52,5,0)))","v":0},{"$f":"IFERROR(VLOOKUP(B32,[3]A!B$1:G$48,6,0),IFERROR(VLOOKUP(B32,[3]B!B$1:G$51,6,0),VLOOKUP(B32,[3]C!B$1:G$52,6,0)))","v":0},{"$f":"IFERROR(VLOOKUP(B32,[3]A!B$1:H$48,7,0),IFERROR(VLOOKUP(B32,[3]B!B$1:H$51,7,0),VLOOKUP(B32,[3]C!B$1:H$52,7,0)))","v":0},0,9,12,{"$f":"IFERROR(VLOOKUP(B32,[4]A!B$1:F$48,5,0),IFERROR(VLOOKUP(B32,[4]B!B$1:F$51,5,0),VLOOKUP(B32,[4]C!B$1:F$52,5,0)))","v":0},{"$f":"IFERROR(VLOOKUP(B32,[4]A!B$1:G$48,6,0),IFERROR(VLOOKUP(B32,[4]B!B$1:G$51,6,0),VLOOKUP(B32,[4]C!B$1:G$52,6,0)))","v":0},1,{"$f":"IFERROR(VLOOKUP(B32,[4]A!B$1:J$48,9,0),IFERROR(VLOOKUP(B32,[4]B!B$1:J$51,9,0),VLOOKUP(B32,[4]C!B$1:J$52,9,0)))","v":0},2,4,null,0,1,null,53,0,0,30,30,56.60377358490566,0,"A-4",5,6,11]
[32,"15BA105",{"$f":"VLOOKUP(B33,[1]A!B$1:C$48,2,0)","v":3},{"$f":"VLOOKUP(B33,[1]A!B$1:D$48,3,0)","v":3},{"$f":"VLOOKUP(B33,[1]A!B$1:F$48,5,0)","v":0},{"$f":"VLOOKUP(B33,[1]A!B$1:G$48,6,0)","v":0},{"$f":"VLOOKUP(B33,[1]A!B$1:H$48,7,0)","v":0},{"$f":"VLOOKUP(B33,[1]A!B$1:J$48,9,0)","v":0},{"$f":"VLOOKUP(B33,[2]A!B$1:C$48,2,0)","v":10},{"$f":"VLOOKUP(B33,[2]A!B$1:D$48,3,0)","v":16},{"$f":"VLOOKUP(B33,[2]A!B$1:F$48,5,0)","v":0},{"$f":"VLOOKUP(B33,[2]A!B$1:G$48,6,0)","v":0},{"$f":"VLOOKUP(B33,[2]A!B$1:H$48,7,0)","v":0},{"$f":"VLOOKUP(B33,[2]A!B$1:J$48,9,0)","v":0},{"$f":"IFERROR(VLOOKUP(B33,[3]A!B$1:C$48,2,0),IFERROR(VLOOKUP(B33,[3]B!B$1:C$51,2,0),VLOOKUP(B33,[3]C!B$1:C$52,2,0)))","v":9},{"$f":"IFERROR(VLOOKUP(B33,[3]A!B$1:D$48,3,0),IFERROR(VLOOKUP(B33,[3]B!B$1:D$51,3,0),VLOOKUP(B33,[3]C!B$1:D$52,3,0)))","v":16},{"$f":"IFERROR(VLOOKUP(B33,[3]A!B$1:F$48,5,0),IFERROR(VLOOKUP(B33,[3]B!B$1:F$51,5,0),VLOOKUP(B33,[3]C!B$1:F$52,5,0)))","v":0},{"$f":"IFERROR(VLOOKUP(B33,[3]A!B$1:G$48,6,0),IFERROR(VLOOKUP(B33,[3]B!B$1:G$51,6,0),VLOOKUP(B33,[3]C!B$1:G$52,6,0)))","v":0},{"$f":"IFERROR(VLOOKUP(B33,[3]A!B$1:H$48,7,0),IFERROR(VLOOKUP(B33,[3]B!B$1:H$51,7,0),VLOOKUP(B33,[3]C!B$1:H$52,7,0)))","v":0},0,3,12,{"$f":"IFERROR(VLOOKUP(B33,[4]A!B$1:F$48,5,0),IFERROR(VLOOKUP(B33,[4]B!B$1:F$51,5,0),VLOOKUP(B33,[4]C!B$1:F$52,5,0)))","v":0},{"$f":"IFERROR(VLOOKUP(B33,[4]A!B$1:G$48,6,0),IFERROR(VLOOKUP(B33,[4]B!B$1:G$51,6,0),VLOOKUP(B33,[4]C!B$1:G$52,6,0)))","v":0},1,{"$f":"IFERROR(VLOOKUP(B33,[4]A!B$1:J$48,9,0),IFERROR(VLOOKUP(B33,[4]B!B$1:J$51,9,0),VLOOKUP(B33,[4]C!B$1:J$52,9,0)))","v":0},4,4,null,0,1,null,53,0,0,29,29,54.716981132075468,0,"A-4",7,6,13]
[33,"15BA106",{"$f":"VLOOKUP(B34,[1]A!B$1:C$48,2,0)","v":2},{"$f":"VLOOKUP(B34,[1]A!B$1:D$48,3,0)","v":3},{"$f":"VLOOKUP(B34,[1]A!B$1:F$48,5,0)","v":0},{"$f":"VLOOKUP(B34,[1]A!B$1:G$48,6,0)","v":0},{"$f":"VLOOKUP(B34,[1]A!B$1:H$48,7,0)","v":0},{"$f":"VLOOKUP(B34,[1]A!B$1:J$48,9,0)","v":0},{"$f":"VLOOKUP(B34,[2]A!B$1:C$48,2,0)","v":6},{"$f":"VLOOKUP(B34,[2]A!B$1:D$48,3,0)","v":16},{"$f":"VLOOKUP(B34,[2]A!B$1:F$48,5,0)","v":0},{"$f":"VLOOKUP(B34,[2]A!B$1:G$48,6,0)","v":0},{"$f":"VLOOKUP(B34,[2]A!B$1:H$48,7,0)","v":0},{"$f":"VLOOKUP(B34,[2]A!B$1:J$48,9,0)","v":0},{"$f":"IFERROR(VLOOKUP(B34,[3]A!B$1:C$48,2,0),IFERROR(VLOOKUP(B34,[3]B!B$1:C$51,2,0),VLOOKUP(B34,[3]C!B$1:C$52,2,0)))","v":5},{"$f":"IFERROR(VLOOKUP(B34,[3]A!B$1:D$48,3,0),IFERROR(VLOOKUP(B34,[3]B!B$1:D$51,3,0),VLOOKUP(B34,[3]C!B$1:D$52,3,0)))","v":16},{"$f":"IFERROR(VLOOKUP(B34,[3]A!B$1:F$48,5,0),IFERROR(VLOOKUP(B34,[3]B!B$1:F$51,5,0),VLOOKUP(B34,[3]C!B$1:F$52,5,0)))","v":0},{"$f":"IFERROR(VLOOKUP(B34,[3]A!B$1:G$48,6,0),IFERROR(VLOOKUP(B34,[3]B!B$1:G$51,6,0),VLOOKUP(B34,[3]C!B$1:G$52,6,0)))","v":0},{"$f":"IFERROR(VLOOKUP(B34,[3]A!B$1:H$48,7,0),IFERROR(VLOOKUP(B34,[3]B!B$1:H$51,7,0),VLOOKUP(B34,[3]C!B$1:H$52,7,0)))","v":0},0,5,12,{"$f":"IFERROR(VLOOKUP(B34,[4]A!B$1:F$48,5,0),IFERROR(VLOOKUP(B34,[4]B!B$1:F$51,5,0),VLOOKUP(B34,[4]C!B$1:F$52,5,0)))","v":0},{"$f":"IFERROR(VLOOKUP(B34,[4]A!B$1:G$48,6,0),IFERROR(VLOOKUP(B34,[4]B!B$1:G$51,6,0),VLOOKUP(B34,[4]C!B$1:G$52,6,0)))","v":0},1,{"$f":"IFERROR(VLOOKUP(B34,[4]A!B$1:J$48,9,0),IFERROR(VLOOKUP(B34,[4]B!B$1:J$51,9,0),VLOOKUP(B34,[4]C!B$1:J$52,9,0)))","v":0},2,4,null,1,1,null,53,0,0,21,21,39.622641509433961,0,"A-4",3,3,6]
[34,"15BA110",{"$f":"VLOOKUP(B35,[1]A!B$1:C$48,2,0)","v":3},{"$f":"VLOOKUP(B35,[1]A!B$1:D$48,3,0)","v":3},{"$f":"VLOOKUP(B35,[1]A!B$1:F$48,5,0)","v":0},{"$f":"VLOOKUP(B35,[1]A!B$1:G$48,6,0)","v":0},{"$f":"VLOOKUP(B35,[1]A!B$1:H$48,7,0)","v":0},{"$f":"VLOOKUP(B35,[1]A!B$1:J$48,9,0)","v":0},{"$f":"VLOOKUP(B35,[2]A!B$1:C$48,2,0)","v":9},{"$f":"VLOOKUP(B35,[2]A!B$1:D$48,3,0)","v":16},{"$f":"VLOOKUP(B35,[2]A!B$1:F$48,5,0)","v":0},{"$f":"VLOOKUP(B35,[2]A!B$1:G$48,6,0)","v":0},{"$f":"VLOOKUP(B35,[2]A!B$1:H$48,7,0)","v":0},{"$f":"VLOOKUP(B35,[2]A!B$1:J$48,9,0)","v":0},{"$f":"IFERROR(VLOOKUP(B35,[3]A!B$1:C$48,2,0),IFERROR(VLOOKUP(B35,[3]B!B$1:C$51,2,0),VLOOKUP(B35,[3]C!B$1:C$52,2,0)))","v":14},{"$f":"IFERROR(VLOOKUP(B35,[3]A!B$1:D$48,3,0),IFERROR(VLOOKUP(B35,[3]B!B$1:D$51,3,0),VLOOKUP(B35,[3]C!B$1:D$52,3,0)))","v":16},{"$f":"IFERROR(VLOOKUP(B35,[3]A!B$1:F$48,5,0),IFERROR(VLOOKUP(B35,[3]B!B$1:F$51,5,0),VLOOKUP(B35,[3]C!B$1:F$52,5,0)))","v":0},{"$f":"IFERROR(VLOOKUP(B35,[3]A!B$1:G$48,6,0),IFERROR(VLOOKUP(B35,[3]B!B$1:G$51,6,0),VLOOKUP(B35,[3]C!B$1:G$52,6,0)))","v":0},{"$f":"IFERROR(VLOOKUP(B35,[3]A!B$1:H$48,7,0),IFERROR(VLOOKUP(B35,[3]B!B$1:H$51,7,0),VLOOKUP(B35,[3]C!B$1:H$52,7,0)))","v":0},0,7,12,{"$f":"IFERROR(VLOOKUP(B35,[4]A!B$1:F$48,5,0),IFERROR(VLOOKUP(B35,[4]B!B$1:F$51,5,0),VLOOKUP(B35,[4]C!B$1:F$52,5,0)))","v":0},{"$f":"IFERROR(VLOOKUP(B35,[4]A!B$1:G$48,6,0),IFERROR(VLOOKUP(B35,[4]B!B$1:G$51,6,0),VLOOKUP(B35,[4]C!B$1:G$52,6,0)))","v":0},3,{"$f":"IFERROR(VLOOKUP(B35,[4]A!B$1:J$48,9,0),IFERROR(VLOOKUP(B35,[4]B!B$1:J$51,9,0),VLOOKUP(B35,[4]C!B$1:J$52,9,0)))","v":0},0,4,null,0,1,null,55,0,0,33,33,60,0,"A-3",0,6,6]
[35,"15BA112",{"$f":"VLOOKUP(B36,[1]A!B$1:C$48,2,0)","v":3},{"$f":"VLOOKUP(B36,[1]A!B$1:D$48,3,0)","v":3},{"$f":"VLOOKUP(B36,[1]A!B$1:F$48,5,0)","v":0},{"$f":"VLOOKUP(B36,[1]A!B$1:G$48,6,0)","v":0},{"$f":"VLOOKUP(B36,[1]A!B$1:H$48,7,0)","v":0},{"$f":"VLOOKUP(B36,[1]A!B$1:J$48,9,0)","v":0},{"$f":"VLOOKUP(B36,[2]A!B$1:C$48,2,0)","v":13},{"$f":"VLOOKUP(B36,[2]A!B$1:D$48,3,0)","v":16},{"$f":"VLOOKUP(B36,[2]A!B$1:F$48,5,0)","v":0},{"$f":"VLOOKUP(B36,[2]A!B$1:G$48,6,0)","v":0},{"$f":"VLOOKUP(B36,[2]A!B$1:H$48,7,0)","v":0},{"$f":"VLOOKUP(B36,[2]A!B$1:J$48,9,0)","v":0},{"$f":"IFERROR(VLOOKUP(B36,[3]A!B$1:C$48,2,0),IFERROR(VLOOKUP(B36,[3]B!B$1:C$51,2,0),VLOOKUP(B36,[3]C!B$1:C$52,2,0)))","v":12},{"$f":"IFERROR(VLOOKUP(B36,[3]A!B$1:D$48,3,0),IFERROR(VLOOKUP(B36,[3]B!B$1:D$51,3,0),VLOOKUP(B36,[3]C!B$1:D$52,3,0)))","v":16},{"$f":"IFERROR(VLOOKUP(B36,[3]A!B$1:F$48,5,0),IFERROR(VLOOKUP(B36,[3]B!B$1:F$51,5,0),VLOOKUP(B36,[3]C!B$1:F$52,5,0)))","v":0},{"$f":"IFERROR(VLOOKUP(B36,[3]A!B$1:G$48,6,0),IFERROR(VLOOKUP(B36,[3]B!B$1:G$51,6,0),VLOOKUP(B36,[3]C!B$1:G$52,6,0)))","v":0},{"$f":"IFERROR(VLOOKUP(B36,[3]A!B$1:H$48,7,0),IFERROR(VLOOKUP(B36,[3]B!B$1:H$51,7,0),VLOOKUP(B36,[3]C!B$1:H$52,7,0)))","v":0},0,9,12,{"$f":"IFERROR(VLOOKUP(B36,[4]A!B$1:F$48,5,0),IFERROR(VLOOKUP(B36,[4]B!B$1:F$51,5,0),VLOOKUP(B36,[4]C!B$1:F$52,5,0)))","v":0},2,3,{"$f":"IFERROR(VLOOKUP(B36,[4]A!B$1:J$48,9,0),IFERROR(VLOOKUP(B36,[4]B!B$1:J$51,9,0),VLOOKUP(B36,[4]C!B$1:J$52,9,0)))","v":0},4,4,null,1,1,null,55,0,0,44,44,80,4,"A-3",6,7,17]
[36,"15BA115",{"$f":"VLOOKUP(B37,[1]A!B$1:C$48,2,0)","v":3},{"$f":"VLOOKUP(B37,[1]A!B$1:D$48,3,0)","v":3},{"$f":"VLOOKUP(B37,[1]A!B$1:F$48,5,0)","v":0},{"$f":"VLOOKUP(B37,[1]A!B$1:G$48,6,0)","v":0},{"$f":"VLOOKUP(B37,[1]A!B$1:H$48,7,0)","v":0},{"$f":"VLOOKUP(B37,[1]A!B$1:J$48,9,0)","v":0},{"$f":"VLOOKUP(B37,[2]A!B$1:C$48,2,0)","v":6},{"$f":"VLOOKUP(B37,[2]A!B$1:D$48,3,0)","v":16},{"$f":"VLOOKUP(B37,[2]A!B$1:F$48,5,0)","v":0},{"$f":"VLOOKUP(B37,[2]A!B$1:G$48,6,0)","v":0},{"$f":"VLOOKUP(B37,[2]A!B$1:H$48,7,0)","v":0},{"$f":"VLOOKUP(B37,[2]A!B$1:J$48,9,0)","v":0},{"$f":"IFERROR(VLOOKUP(B37,[3]A!B$1:C$48,2,0),IFERROR(VLOOKUP(B37,[3]B!B$1:C$51,2,0),VLOOKUP(B37,[3]C!B$1:C$52,2,0)))","v":3},{"$f":"IFERROR(VLOOKUP(B37,[3]A!B$1:D$48,3,0),IFERROR(VLOOKUP(B37,[3]B!B$1:D$51,3,0),VLOOKUP(B37,[3]C!B$1:D$52,3,0)))","v":16},{"$f":"IFERROR(VLOOKUP(B37,[3]A!B$1:F$48,5,0),IFERROR(VLOOKUP(B37,[3]B!B$1:F$51,5,0),VLOOKUP(B37,[3]C!B$1:F$52,5,0)))","v":0},{"$f":"IFERROR(VLOOKUP(B37,[3]A!B$1:G$48,6,0),IFERROR(VLOOKUP(B37,[3]B!B$1:G$51,6,0),VLOOKUP(B37,[3]C!B$1:G$52,6,0)))","v":0},{"$f":"IFERROR(VLOOKUP(B37,[3]A!B$1:H$48,7,0),IFERROR(VLOOKUP(B37,[3]B!B$1:H$51,7,0),VLOOKUP(B37,[3]C!B$1:H$52,7,0)))","v":0},0,3,12,{"$f":"IFERROR(VLOOKUP(B37,[4]A!B$1:F$48,5,0),IFERROR(VLOOKUP(B37,[4]B!B$1:F$51,5,0),VLOOKUP(B37,[4]C!B$1:F$52,5,0)))","v":0},{"$f":"IFERROR(VLOOKUP(B37,[4]A!B$1:G$48,6,0),IFERROR(VLOOKUP(B37,[4]B!B$1:G$51,6,0),VLOOKUP(B37,[4]C!B$1:G$52,6,0)))","v":0},1,{"$f":"IFERROR(VLOOKUP(B37,[4]A!B$1:J$48,9,0),IFERROR(VLOOKUP(B37,[4]B!B$1:J$51,9,0),VLOOKUP(B37,[4]C!B$1:J$52,9,0)))","v":0},1,4,null,0,1,null,53,0,0,16,16,30.188679245283019,0,"A-4",7,6,13]
[37,"15BA116",{"$f":"VLOOKUP(B38,[1]A!B$1:C$48,2,0)","v":3},{"$f":"VLOOKUP(B38,[1]A!B$1:D$48,3,0)","v":3},{"$f":"VLOOKUP(B38,[1]A!B$1:F$48,5,0)","v":0},{"$f":"VLOOKUP(B38,[1]A!B$1:G$48,6,0)","v":0},{"$f":"VLOOKUP(B38,[1]A!B$1:H$48,7,0)","v":0},{"$f":"VLOOKUP(B38,[1]A!B$1:J$48,9,0)","v":0},{"$f":"VLOOKUP(B38,[2]A!B$1:C$48,2,0)","v":15},{"$f":"VLOOKUP(B38,[2]A!B$1:D$48,3,0)","v":16},{"$f":"VLOOKUP(B38,[2]A!B$1:F$48,5,0)","v":0},{"$f":"VLOOKUP(B38,[2]A!B$1:G$48,6,0)","v":3},{"$f":"VLOOKUP(B38,[2]A!B$1:H$48,7,0)","v":3},{"$f":"VLOOKUP(B38,[2]A!B$1:J$48,9,0)","v":0},{"$f":"IFERROR(VLOOKUP(B38,[3]A!B$1:C$48,2,0),IFERROR(VLOOKUP(B38,[3]B!B$1:C$51,2,0),VLOOKUP(B38,[3]C!B$1:C$52,2,0)))","v":15},{"$f":"IFERROR(VLOOKUP(B38,[3]A!B$1:D$48,3,0),IFERROR(VLOOKUP(B38,[3]B!B$1:D$51,3,0),VLOOKUP(B38,[3]C!B$1:D$52,3,0)))","v":16},{"$f":"IFERROR(VLOOKUP(B38,[3]A!B$1:F$48,5,0),IFERROR(VLOOKUP(B38,[3]B!B$1:F$51,5,0),VLOOKUP(B38,[3]C!B$1:F$52,5,0)))","v":0},{"$f":"IFERROR(VLOOKUP(B38,[3]A!B$1:G$48,6,0),IFERROR(VLOOKUP(B38,[3]B!B$1:G$51,6,0),VLOOKUP(B38,[3]C!B$1:G$52,6,0)))","v":3},{"$f":"IFERROR(VLOOKUP(B38,[3]A!B$1:H$48,7,0),IFERROR(VLOOKUP(B38,[3]B!B$1:H$51,7,0),VLOOKUP(B38,[3]C!B$1:H$52,7,0)))","v":3},0,10,12,{"$f":"IFERROR(VLOOKUP(B38,[4]A!B$1:F$48,5,0),IFERROR(VLOOKUP(B38,[4]B!B$1:F$51,5,0),VLOOKUP(B38,[4]C!B$1:F$52,5,0)))","v":0},3,3,{"$f":"IFERROR(VLOOKUP(B38,[4]A!B$1:J$48,9,0),IFERROR(VLOOKUP(B38,[4]B!B$1:J$51,9,0),VLOOKUP(B38,[4]C!B$1:J$52,9,0)))","v":0},4,4,null,1,1,null,61,0,0,57,57,93.442622950819683,5,"A-5",7,7,19]
[38,"15BA119",{"$f":"VLOOKUP(B39,[1]A!B$1:C$48,2,0)","v":3},{"$f":"VLOOKUP(B39,[1]A!B$1:D$48,3,0)","v":3},{"$f":"VLOOKUP(B39,[1]A!B$1:F$48,5,0)","v":0},{"$f":"VLOOKUP(B39,[1]A!B$1:G$48,6,0)","v":0},{"$f":"VLOOKUP(B39,[1]A!B$1:H$48,7,0)","v":0},{"$f":"VLOOKUP(B39,[1]A!B$1:J$48,9,0)","v":0},{"$f":"VLOOKUP(B39,[2]A!B$1:C$48,2,0)","v":12},{"$f":"VLOOKUP(B39,[2]A!B$1:D$48,3,0)","v":16},{"$f":"VLOOKUP(B39,[2]A!B$1:F$48,5,0)","v":0},{"$f":"VLOOKUP(B39,[2]A!B$1:G$48,6,0)","v":0},{"$f":"VLOOKUP(B39,[2]A!B$1:H$48,7,0)","v":0},{"$f":"VLOOKUP(B39,[2]A!B$1:J$48,9,0)","v":0},{"$f":"IFERROR(VLOOKUP(B39,[3]A!B$1:C$48,2,0),IFERROR(VLOOKUP(B39,[3]B!B$1:C$51,2,0),VLOOKUP(B39,[3]C!B$1:C$52,2,0)))","v":9},{"$f":"IFERROR(VLOOKUP(B39,[3]A!B$1:D$48,3,0),IFERROR(VLOOKUP(B39,[3]B!B$1:D$51,3,0),VLOOKUP(B39,[3]C!B$1:D$52,3,0)))","v":16},{"$f":"IFERROR(VLOOKUP(B39,[3]A!B$1:F$48,5,0),IFERROR(VLOOKUP(B39,[3]B!B$1:F$51,5,0),VLOOKUP(B39,[3]C!B$1:F$52,5,0)))","v":5},{"$f":"IFERROR(VLOOKUP(B39,[3]A!B$1:G$48,6,0),IFERROR(VLOOKUP(B39,[3]B!B$1:G$51,6,0),VLOOKUP(B39,[3]C!B$1:G$52,6,0)))","v":0},{"$f":"IFERROR(VLOOKUP(B39,[3]A!B$1:H$48,7,0),IFERROR(VLOOKUP(B39,[3]B!B$1:H$51,7,0),VLOOKUP(B39,[3]C!B$1:H$52,7,0)))","v":0},0,4,12,5,{"$f":"IFERROR(VLOOKUP(B39,[4]A!B$1:G$48,6,0),IFERROR(VLOOKUP(B39,[4]B!B$1:G$51,6,0),VLOOKUP(B39,[4]C!B$1:G$52,6,0)))","v":0},0,{"$f":"IFERROR(VLOOKUP(B39,[4]A!B$1:J$48,9,0),IFERROR(VLOOKUP(B39,[4]B!B$1:J$51,9,0),VLOOKUP(B39,[4]C!B$1:J$52,9,0)))","v":0},1,4,null,1,1,null,52,10,10,30,40,76.923076923076934,3,null,6,5,14]
[39,"15BA123",{"$f":"VLOOKUP(B40,[1]A!B$1:C$48,2,0)","v":3},{"$f":"VLOOKUP(B40,[1]A!B$1:D$48,3,0)","v":3},{"$f":"VLOOKUP(B40,[1]A!B$1:F$48,5,0)","v":0},{"$f":"VLOOKUP(B40,[1]A!B$1:G$48,6,0)","v":0},{"$f":"VLOOKUP(B40,[1]A!B$1:H$48,7,0)","v":0},{"$f":"VLOOKUP(B40,[1]A!B$1:J$48,9,0)","v":0},{"$f":"VLOOKUP(B40,[2]A!B$1:C$48,2,0)","v":14},{"$f":"VLOOKUP(B40,[2]A!B$1:D$48,3,0)","v":16},{"$f":"VLOOKUP(B40,[2]A!B$1:F$48,5,0)","v":0},{"$f":"VLOOKUP(B40,[2]A!B$1:G$48,6,0)","v":3},{"$f":"VLOOKUP(B40,[2]A!B$1:H$48,7,0)","v":3},{"$f":"VLOOKUP(B40,[2]A!B$1:J$48,9,0)","v":0},{"$f":"IFERROR(VLOOKUP(B40,[3]A!B$1:C$48,2,0),IFERROR(VLOOKUP(B40,[3]B!B$1:C$51,2,0),VLOOKUP(B40,[3]C!B$1:C$52,2,0)))","v":11},{"$f":"IFERROR(VLOOKUP(B40,[3]A!B$1:D$48,3,0),IFERROR(VLOOKUP(B40,[3]B!B$1:D$51,3,0),VLOOKUP(B40,[3]C!B$1:D$52,3,0)))","v":16},{"$f":"IFERROR(VLOOKUP(B40,[3]A!B$1:F$48,5,0),IFERROR(VLOOKUP(B40,[3]B!B$1:F$51,5,0),VLOOKUP(B40,[3]C!B$1:F$52,5,0)))","v":0},{"$f":"IFERROR(VLOOKUP(B40,[3]A!B$1:G$48,6,0),IFERROR(VLOOKUP(B40,[3]B!B$1:G$51,6,0),VLOOKUP(B40,[3]C!B$1:G$52,6,0)))","v":3},{"$f":"IFERROR(VLOOKUP(B40,[3]A!B$1:H$48,7,0),IFERROR(VLOOKUP(B40,[3]B!B$1:H$51,7,0),VLOOKUP(B40,[3]C!B$1:H$52,7,0)))","v":3},0,7,12,3,3,3,{"$f":"IFERROR(VLOOKUP(B40,[4]A!B$1:J$48,9,0),IFERROR(VLOOKUP(B40,[4]B!B$1:J$51,9,0),VLOOKUP(B40,[4]C!B$1:J$52,9,0)))","v":0},3,4,null,1,1,null,61,3,3,48,51,83.606557377049185,4,"A-5",6,0,10]
[40,"15BA126",{"$f":"VLOOKUP(B41,[1]A!B$1:C$48,2,0)","v":2},{"$f":"VLOOKUP(B41,[1]A!B$1:D$48,3,0)","v":3},{"$f":"VLOOKUP(B41,[1]A!B$1:F$48,5,0)","v":0},{"$f":"VLOOKUP(B41,[1]A!B$1:G$48,6,0)","v":0},{"$f":"VLOOKUP(B41,[1]A!B$1:H$48,7,0)","v":0},{"$f":"VLOOKUP(B41,[1]A!B$1:J$48,9,0)","v":0},{"$f":"VLOOKUP(B41,[2]A!B$1:C$48,2,0)","v":14},{"$f":"VLOOKUP(B41,[2]A!B$1:D$48,3,0)","v":16},{"$f":"VLOOKUP(B41,[2]A!B$1:F$48,5,0)","v":0},{"$f":"VLOOKUP(B41,[2]A!B$1:G$48,6,0)","v":0},{"$f":"VLOOKUP(B41,[2]A!B$1:H$48,7,0)","v":0},{"$f":"VLOOKUP(B41,[2]A!B$1:J$48,9,0)","v":0},{"$f":"IFERROR(VLOOKUP(B41,[3]A!B$1:C$48,2,0),IFERROR(VLOOKUP(B41,[3]B!B$1:C$51,2,0),VLOOKUP(B41,[3]C!B$1:C$52,2,0)))","v":8},{"$f":"IFERROR(VLOOKUP(B41,[3]A!B$1:D$48,3,0),IFERROR(VLOOKUP(B41,[3]B!B$1:D$51,3,0),VLOOKUP(B41,[3]C!B$1:D$52,3,0)))","v":16},{"$f":"IFERROR(VLOOKUP(B41,[3]A!B$1:F$48,5,0),IFERROR(VLOOKUP(B41,[3]B!B$1:F$51,5,0),VLOOKUP(B41,[3]C!B$1:F$52,5,0)))","v":0},{"$f":"IFERROR(VLOOKUP(B41,[3]A!B$1:G$48,6,0),IFERROR(VLOOKUP(B41,[3]B!B$1:G$51,6,0),VLOOKUP(B41,[3]C!B$1:G$52,6,0)))","v":0},{"$f":"IFERROR(VLOOKUP(B41,[3]A!B$1:H$48,7,0),IFERROR(VLOOKUP(B41,[3]B!B$1:H$51,7,0),VLOOKUP(B41,[3]C!B$1:H$52,7,0)))","v":0},0,0,12,{"$f":"IFERROR(VLOOKUP(B41,[4]A!B$1:F$48,5,0),IFERROR(VLOOKUP(B41,[4]B!B$1:F$51,5,0),VLOOKUP(B41,[4]C!B$1:F$52,5,0)))","v":0},1,3,{"$f":"IFERROR(VLOOKUP(B41,[4]A!B$1:J$48,9,0),IFERROR(VLOOKUP(B41,[4]B!B$1:J$51,9,0),VLOOKUP(B41,[4]C!B$1:J$52,9,0)))","v":0},1,4,null,1,1,null,55,0,0,27,27,49.090909090909093,0,"A-3",2,4,6]
[41,"15BA128",{"$f":"VLOOKUP(B42,[1]A!B$1:C$48,2,0)","v":3},{"$f":"VLOOKUP(B42,[1]A!B$1:D$48,3,0)","v":3},{"$f":"VLOOKUP(B42,[1]A!B$1:F$48,5,0)","v":0},{"$f":"VLOOKUP(B42,[1]A!B$1:G$48,6,0)","v":0},{"$f":"VLOOKUP(B42,[1]A!B$1:H$48,7,0)","v":0},{"$f":"VLOOKUP(B42,[1]A!B$1:J$48,9,0)","v":0},{"$f":"VLOOKUP(B42,[2]A!B$1:C$48,2,0)","v":10},{"$f":"VLOOKUP(B42,[2]A!B$1:D$48,3,0)","v":16},{"$f":"VLOOKUP(B42,[2]A!B$1:F$48,5,0)","v":0},{"$f":"VLOOKUP(B42,[2]A!B$1:G$48,6,0)","v":3},{"$f":"VLOOKUP(B42,[2]A!B$1:H$48,7,0)","v":3},{"$f":"VLOOKUP(B42,[2]A!B$1:J$48,9,0)","v":0},{"$f":"IFERROR(VLOOKUP(B42,[3]A!B$1:C$48,2,0),IFERROR(VLOOKUP(B42,[3]B!B$1:C$51,2,0),VLOOKUP(B42,[3]C!B$1:C$52,2,0)))","v":1},{"$f":"IFERROR(VLOOKUP(B42,[3]A!B$1:D$48,3,0),IFERROR(VLOOKUP(B42,[3]B!B$1:D$51,3,0),VLOOKUP(B42,[3]C!B$1:D$52,3,0)))","v":16},{"$f":"IFERROR(VLOOKUP(B42,[3]A!B$1:F$48,5,0),IFERROR(VLOOKUP(B42,[3]B!B$1:F$51,5,0),VLOOKUP(B42,[3]C!B$1:F$52,5,0)))","v":0},{"$f":"IFERROR(VLOOKUP(B42,[3]A!B$1:G$48,6,0),IFERROR(VLOOKUP(B42,[3]B!B$1:G$51,6,0),VLOOKUP(B42,[3]C!B$1:G$52,6,0)))","v":2},{"$f":"IFERROR(VLOOKUP(B42,[3]A!B$1:H$48,7,0),IFERROR(VLOOKUP(B42,[3]B!B$1:H$51,7,0),VLOOKUP(B42,[3]C!B$1:H$52,7,0)))","v":3},0,3,12,{"$f":"IFERROR(VLOOKUP(B42,[4]A!B$1:F$48,5,0),IFERROR(VLOOKUP(B42,[4]B!B$1:F$51,5,0),VLOOKUP(B42,[4]C!B$1:F$52,5,0)))","v":0},3,3,{"$f":"IFERROR(VLOOKUP(B42,[4]A!B$1:J$48,9,0),IFERROR(VLOOKUP(B42,[4]B!B$1:J$51,9,0),VLOOKUP(B42,[4]C!B$1:J$52,9,0)))","v":0},0,4,null,1,1,null,61,0,0,26,26,42.622950819672127,0,"A-5",7,6,13]
[42,"15BA133",{"$f":"VLOOKUP(B43,[1]A!B$1:C$48,2,0)","v":3},{"$f":"VLOOKUP(B43,[1]A!B$1:D$48,3,0)","v":3},{"$f":"VLOOKUP(B43,[1]A!B$1:F$48,5,0)","v":0},{"$f":"VLOOKUP(B43,[1]A!B$1:G$48,6,0)","v":0},{"$f":"VLOOKUP(B43,[1]A!B$1:H$48,7,0)","v":0},{"$f":"VLOOKUP(B43,[1]A!B$1:J$48,9,0)","v":0},{"$f":"VLOOKUP(B43,[2]A!B$1:C$48,2,0)","v":16},{"$f":"VLOOKUP(B43,[2]A!B$1:D$48,3,0)","v":16},{"$f":"VLOOKUP(B43,[2]A!B$1:F$48,5,0)","v":0},{"$f":"VLOOKUP(B43,[2]A!B$1:G$48,6,0)","v":3},{"$f":"VLOOKUP(B43,[2]A!B$1:H$48,7,0)","v":3},{"$f":"VLOOKUP(B43,[2]A!B$1:J$48,9,0)","v":0},{"$f":"IFERROR(VLOOKUP(B43,[3]A!B$1:C$48,2,0),IFERROR(VLOOKUP(B43,[3]B!B$1:C$51,2,0),VLOOKUP(B43,[3]C!B$1:C$52,2,0)))","v":12},{"$f":"IFERROR(VLOOKUP(B43,[3]A!B$1:D$48,3,0),IFERROR(VLOOKUP(B43,[3]B!B$1:D$51,3,0),VLOOKUP(B43,[3]C!B$1:D$52,3,0)))","v":16},{"$f":"IFERROR(VLOOKUP(B43,[3]A!B$1:F$48,5,0),IFERROR(VLOOKUP(B43,[3]B!B$1:F$51,5,0),VLOOKUP(B43,[3]C!B$1:F$52,5,0)))","v":0},{"$f":"IFERROR(VLOOKUP(B43,[3]A!B$1:G$48,6,0),IFERROR(VLOOKUP(B43,[3]B!B$1:G$51,6,0),VLOOKUP(B43,[3]C!B$1:G$52,6,0)))","v":3},{"$f":"IFERROR(VLOOKUP(B43,[3]A!B$1:H$48,7,0),IFERROR(VLOOKUP(B43,[3]B!B$1:H$51,7,0),VLOOKUP(B43,[3]C!B$1:H$52,7,0)))","v":3},0,6,12,{"$f":"IFERROR(VLOOKUP(B43,[4]A!B$1:F$48,5,0),IFERROR(VLOOKUP(B43,[4]B!B$1:F$51,5,0),VLOOKUP(B43,[4]C!B$1:F$52,5,0)))","v":0},3,3,{"$f":"IFERROR(VLOOKUP(B43,[4]A!B$1:J$48,9,0),IFERROR(VLOOKUP(B43,[4]B!B$1:J$51,9,0),VLOOKUP(B43,[4]C!B$1:J$52,9,0)))","v":0},3,4,null,1,1,null,61,0,0,50,50,81.967213114754102,4,"A-5",7,3,14]
[43,"15BA138",{"$f":"VLOOKUP(B44,[1]A!B$1:C$48,2,0)","v":3},{"$f":"VLOOKUP(B44,[1]A!B$1:D$48,3,0)","v":3},{"$f":"VLOOKUP(B44,[1]A!B$1:F$48,5,0)","v":0},{"$f":"VLOOKUP(B44,[1]A!B$1:G$48,6,0)","v":0},{"$f":"VLOOKUP(B44,[1]A!B$1:H$48,7,0)","v":0},{"$f":"VLOOKUP(B44,[1]A!B$1:J$48,9,0)","v":0},{"$f":"VLOOKUP(B44,[2]A!B$1:C$48,2,0)","v":16},{"$f":"VLOOKUP(B44,[2]A!B$1:D$48,3,0)","v":16},{"$f":"VLOOKUP(B44,[2]A!B$1:F$48,5,0)","v":0},{"$f":"VLOOKUP(B44,[2]A!B$1:G$48,6,0)","v":3},{"$f":"VLOOKUP(B44,[2]A!B$1:H$48,7,0)","v":3},{"$f":"VLOOKUP(B44,[2]A!B$1:J$48,9,0)","v":0},{"$f":"IFERROR(VLOOKUP(B44,[3]A!B$1:C$48,2,0),IFERROR(VLOOKUP(B44,[3]B!B$1:C$51,2,0),VLOOKUP(B44,[3]C!B$1:C$52,2,0)))","v":15},{"$f":"IFERROR(VLOOKUP(B44,[3]A!B$1:D$48,3,0),IFERROR(VLOOKUP(B44,[3]B!B$1:D$51,3,0),VLOOKUP(B44,[3]C!B$1:D$52,3,0)))","v":16},{"$f":"IFERROR(VLOOKUP(B44,[3]A!B$1:F$48,5,0),IFERROR(VLOOKUP(B44,[3]B!B$1:F$51,5,0),VLOOKUP(B44,[3]C!B$1:F$52,5,0)))","v":0},{"$f":"IFERROR(VLOOKUP(B44,[3]A!B$1:G$48,6,0),IFERROR(VLOOKUP(B44,[3]B!B$1:G$51,6,0),VLOOKUP(B44,[3]C!B$1:G$52,6,0)))","v":2},{"$f":"IFERROR(VLOOKUP(B44,[3]A!B$1:H$48,7,0),IFERROR(VLOOKUP(B44,[3]B!B$1:H$51,7,0),VLOOKUP(B44,[3]C!B$1:H$52,7,0)))","v":3},0,6,12,2,3,3,{"$f":"IFERROR(VLOOKUP(B44,[4]A!B$1:J$48,9,0),IFERROR(VLOOKUP(B44,[4]B!B$1:J$51,9,0),VLOOKUP(B44,[4]C!B$1:J$52,9,0)))","v":0},2,4,1,1,1,null,61,3,3,51,54,88.52459016393442,5,"A-5",3,6,14]
[44,"15BA139",{"$f":"VLOOKUP(B45,[1]A!B$1:C$48,2,0)","v":3},{"$f":"VLOOKUP(B45,[1]A!B$1:D$48,3,0)","v":3},{"$f":"VLOOKUP(B45,[1]A!B$1:F$48,5,0)","v":0},{"$f":"VLOOKUP(B45,[1]A!B$1:G$48,6,0)","v":0},{"$f":"VLOOKUP(B45,[1]A!B$1:H$48,7,0)","v":0},{"$f":"VLOOKUP(B45,[1]A!B$1:J$48,9,0)","v":0},{"$f":"VLOOKUP(B45,[2]A!B$1:C$48,2,0)","v":15},{"$f":"VLOOKUP(B45,[2]A!B$1:D$48,3,0)","v":16},{"$f":"VLOOKUP(B45,[2]A!B$1:F$48,5,0)","v":0},{"$f":"VLOOKUP(B45,[2]A!B$1:G$48,6,0)","v":3},{"$f":"VLOOKUP(B45,[2]A!B$1:H$48,7,0)","v":3},{"$f":"VLOOKUP(B45,[2]A!B$1:J$48,9,0)","v":0},{"$f":"IFERROR(VLOOKUP(B45,[3]A!B$1:C$48,2,0),IFERROR(VLOOKUP(B45,[3]B!B$1:C$51,2,0),VLOOKUP(B45,[3]C!B$1:C$52,2,0)))","v":13},{"$f":"IFERROR(VLOOKUP(B45,[3]A!B$1:D$48,3,0),IFERROR(VLOOKUP(B45,[3]B!B$1:D$51,3,0),VLOOKUP(B45,[3]C!B$1:D$52,3,0)))","v":16},{"$f":"IFERROR(VLOOKUP(B45,[3]A!B$1:F$48,5,0),IFERROR(VLOOKUP(B45,[3]B!B$1:F$51,5,0),VLOOKUP(B45,[3]C!B$1:F$52,5,0)))","v":0},{"$f":"IFERROR(VLOOKUP(B45,[3]A!B$1:G$48,6,0),IFERROR(VLOOKUP(B45,[3]B!B$1:G$51,6,0),VLOOKUP(B45,[3]C!B$1:G$52,6,0)))","v":2},{"$f":"IFERROR(VLOOKUP(B45,[3]A!B$1:H$48,7,0),IFERROR(VLOOKUP(B45,[3]B!B$1:H$51,7,0),VLOOKUP(B45,[3]C!B$1:H$52,7,0)))","v":3},0,4,12,5,3,3,{"$f":"IFERROR(VLOOKUP(B45,[4]A!B$1:J$48,9,0),IFERROR(VLOOKUP(B45,[4]B!B$1:J$51,9,0),VLOOKUP(B45,[4]C!B$1:J$52,9,0)))","v":0},2,4,null,1,1,null,61,5,5,46,51,83.606557377049185,4,"A-5",5,5,14]
[45,"15BA143",{"$f":"VLOOKUP(B46,[1]A!B$1:C$48,2,0)","v":3},{"$f":"VLOOKUP(B46,[1]A!B$1:D$48,3,0)","v":3},{"$f":"VLOOKUP(B46,[1]A!B$1:F$48,5,0)","v":0},{"$f":"VLOOKUP(B46,[1]A!B$1:G$48,6,0)","v":0},{"$f":"VLOOKUP(B46,[1]A!B$1:H$48,7,0)","v":0},{"$f":"VLOOKUP(B46,[1]A!B$1:J$48,9,0)","v":0},{"$f":"VLOOKUP(B46,[2]A!B$1:C$48,2,0)","v":10},{"$f":"VLOOKUP(B46,[2]A!B$1:D$48,3,0)","v":16},{"$f":"VLOOKUP(B46,[2]A!B$1:F$48,5,0)","v":0},{"$f":"VLOOKUP(B46,[2]A!B$1:G$48,6,0)","v":3},{"$f":"VLOOKUP(B46,[2]A!B$1:H$48,7,0)","v":3},{"$f":"VLOOKUP(B46,[2]A!B$1:J$48,9,0)","v":0},{"$f":"IFERROR(VLOOKUP(B46,[3]A!B$1:C$48,2,0),IFERROR(VLOOKUP(B46,[3]B!B$1:C$51,2,0),VLOOKUP(B46,[3]C!B$1:C$52,2,0)))","v":6},{"$f":"IFERROR(VLOOKUP(B46,[3]A!B$1:D$48,3,0),IFERROR(VLOOKUP(B46,[3]B!B$1:D$51,3,0),VLOOKUP(B46,[3]C!B$1:D$52,3,0)))","v":16},{"$f":"IFERROR(VLOOKUP(B46,[3]A!B$1:F$48,5,0),IFERROR(VLOOKUP(B46,[3]B!B$1:F$51,5,0),VLOOKUP(B46,[3]C!B$1:F$52,5,0)))","v":0},{"$f":"IFERROR(VLOOKUP(B46,[3]A!B$1:G$48,6,0),IFERROR(VLOOKUP(B46,[3]B!B$1:G$51,6,0),VLOOKUP(B46,[3]C!B$1:G$52,6,0)))","v":2},{"$f":"IFERROR(VLOOKUP(B46,[3]A!B$1:H$48,7,0),IFERROR(VLOOKUP(B46,[3]B!B$1:H$51,7,0),VLOOKUP(B46,[3]C!B$1:H$52,7,0)))","v":3},0,1,12,{"$f":"IFERROR(VLOOKUP(B46,[4]A!B$1:F$48,5,0),IFERROR(VLOOKUP(B46,[4]B!B$1:F$51,5,0),VLOOKUP(B46,[4]C!B$1:F$52,5,0)))","v":0},3,3,{"$f":"IFERROR(VLOOKUP(B46,[4]A!B$1:J$48,9,0),IFERROR(VLOOKUP(B46,[4]B!B$1:J$51,9,0),VLOOKUP(B46,[4]C!B$1:J$52,9,0)))","v":0},2,4,null,1,1,null,61,0,0,31,31,50.819672131147541,0,"A-5",3,6,9]
[46,"15BA151",{"$f":"VLOOKUP(B47,[1]A!B$1:C$48,2,0)","v":2},{"$f":"VLOOKUP(B47,[1]A!B$1:D$48,3,0)","v":3},{"$f":"VLOOKUP(B47,[1]A!B$1:F$48,5,0)","v":0},{"$f":"VLOOKUP(B47,[1]A!B$1:G$48,6,0)","v":0},{"$f":"VLOOKUP(B47,[1]A!B$1:H$48,7,0)","v":0},{"$f":"VLOOKUP(B47,[1]A!B$1:J$48,9,0)","v":0},{"$f":"VLOOKUP(B47,[2]A!B$1:C$48,2,0)","v":9},{"$f":"VLOOKUP(B47,[2]A!B$1:D$48,3,0)","v":16},{"$f":"VLOOKUP(B47,[2]A!B$1:F$48,5,0)","v":0},{"$f":"VLOOKUP(B47,[2]A!B$1:G$48,6,0)","v":3},{"$f":"VLOOKUP(B47,[2]A!B$1:H$48,7,0)","v":3},{"$f":"VLOOKUP(B47,[2]A!B$1:J$48,9,0)","v":0},{"$f":"IFERROR(VLOOKUP(B47,[3]A!B$1:C$48,2,0),IFERROR(VLOOKUP(B47,[3]B!B$1:C$51,2,0),VLOOKUP(B47,[3]C!B$1:C$52,2,0)))","v":10},{"$f":"IFERROR(VLOOKUP(B47,[3]A!B$1:D$48,3,0),IFERROR(VLOOKUP(B47,[3]B!B$1:D$51,3,0),VLOOKUP(B47,[3]C!B$1:D$52,3,0)))","v":16},{"$f":"IFERROR(VLOOKUP(B47,[3]A!B$1:F$48,5,0),IFERROR(VLOOKUP(B47,[3]B!B$1:F$51,5,0),VLOOKUP(B47,[3]C!B$1:F$52,5,0)))","v":0},{"$f":"IFERROR(VLOOKUP(B47,[3]A!B$1:G$48,6,0),IFERROR(VLOOKUP(B47,[3]B!B$1:G$51,6,0),VLOOKUP(B47,[3]C!B$1:G$52,6,0)))","v":3},{"$f":"IFERROR(VLOOKUP(B47,[3]A!B$1:H$48,7,0),IFERROR(VLOOKUP(B47,[3]B!B$1:H$51,7,0),VLOOKUP(B47,[3]C!B$1:H$52,7,0)))","v":3},0,9,12,{"$f":"IFERROR(VLOOKUP(B47,[4]A!B$1:F$48,5,0),IFERROR(VLOOKUP(B47,[4]B!B$1:F$51,5,0),VLOOKUP(B47,[4]C!B$1:F$52,5,0)))","v":0},3,3,{"$f":"IFERROR(VLOOKUP(B47,[4]A!B$1:J$48,9,0),IFERROR(VLOOKUP(B47,[4]B!B$1:J$51,9,0),VLOOKUP(B47,[4]C!B$1:J$52,9,0)))","v":0},3,4,null,1,1,null,61,0,0,43,43,70.491803278688522,2,"A-5",6,5,13]
[47,"15BA153",{"$f":"VLOOKUP(B48,[1]A!B$1:C$48,2,0)","v":3},{"$f":"VLOOKUP(B48,[1]A!B$1:D$48,3,0)","v":3},{"$f":"VLOOKUP(B48,[1]A!B$1:F$48,5,0)","v":0},{"$f":"VLOOKUP(B48,[1]A!B$1:G$48,6,0)","v":0},{"$f":"VLOOKUP(B48,[1]A!B$1:H$48,7,0)","v":0},{"$f":"VLOOKUP(B48,[1]A!B$1:J$48,9,0)","v":0},{"$f":"VLOOKUP(B48,[2]A!B$1:C$48,2,0)","v":7},{"$f":"VLOOKUP(B48,[2]A!B$1:D$48,3,0)","v":16},{"$f":"VLOOKUP(B48,[2]A!B$1:F$48,5,0)","v":0},{"$f":"VLOOKUP(B48,[2]A!B$1:G$48,6,0)","v":3},{"$f":"VLOOKUP(B48,[2]A!B$1:H$48,7,0)","v":3},{"$f":"VLOOKUP(B48,[2]A!B$1:J$48,9,0)","v":0},{"$f":"IFERROR(VLOOKUP(B48,[3]A!B$1:C$48,2,0),IFERROR(VLOOKUP(B48,[3]B!B$1:C$51,2,0),VLOOKUP(B48,[3]C!B$1:C$52,2,0)))","v":11},{"$f":"IFERROR(VLOOKUP(B48,[3]A!B$1:D$48,3,0),IFERROR(VLOOKUP(B48,[3]B!B$1:D$51,3,0),VLOOKUP(B48,[3]C!B$1:D$52,3,0)))","v":16},{"$f":"IFERROR(VLOOKUP(B48,[3]A!B$1:F$48,5,0),IFERROR(VLOOKUP(B48,[3]B!B$1:F$51,5,0),VLOOKUP(B48,[3]C!B$1:F$52,5,0)))","v":0},{"$f":"IFERROR(VLOOKUP(B48,[3]A!B$1:G$48,6,0),IFERROR(VLOOKUP(B48,[3]B!B$1:G$51,6,0),VLOOKUP(B48,[3]C!B$1:G$52,6,0)))","v":2},{"$f":"IFERROR(VLOOKUP(B48,[3]A!B$1:H$48,7,0),IFERROR(VLOOKUP(B48,[3]B!B$1:H$51,7,0),VLOOKUP(B48,[3]C!B$1:H$52,7,0)))","v":3},0,3,12,3,3,3,{"$f":"IFERROR(VLOOKUP(B48,[4]A!B$1:J$48,9,0),IFERROR(VLOOKUP(B48,[4]B!B$1:J$51,9,0),VLOOKUP(B48,[4]C!B$1:J$52,9,0)))","v":0},3,4,null,1,1,null,61,3,3,36,39,63.934426229508205,0,"A-5",0,0,0]
[48,"15BA004",{"$f":"VLOOKUP(B49,[1]B!B$1:C$48,2,0)","v":3},{"$f":"VLOOKUP(B49,[1]B!B$1:D$48,3,0)","v":3},{"$f":"VLOOKUP(B49,[1]B!B$1:F$48,5,0)","v":0},{"$f":"VLOOKUP(B49,[1]B!B$1:G$48,6,0)","v":0},{"$f":"VLOOKUP(B49,[1]B!B$1:H$48,7,0)","v":0},{"$f":"VLOOKUP(B49,[1]B!B$1:J$48,9,0)","v":0},{"$f":"VLOOKUP(B49,[2]B!B$1:C$48,2,0)","v":13},{"$f":"VLOOKUP(B49,[2]B!B$1:D$48,3,0)","v":16},3,{"$f":"VLOOKUP(B49,[2]B!B$1:G$48,6,0)","v":0},{"$f":"VLOOKUP(B49,[2]B!B$1:H$48,7,0)","v":0},{"$f":"VLOOKUP(B49,[2]B!B$1:J$48,9,0)","v":0},{"$f":"IFERROR(VLOOKUP(B49,[3]A!B$1:C$48,2,0),IFERROR(VLOOKUP(B49,[3]B!B$1:C$51,2,0),VLOOKUP(B49,[3]C!B$1:C$52,2,0)))","v":11},{"$f":"IFERROR(VLOOKUP(B49,[3]A!B$1:D$48,3,0),IFERROR(VLOOKUP(B49,[3]B!B$1:D$51,3,0),VLOOKUP(B49,[3]C!B$1:D$52,3,0)))","v":16},{"$f":"IFERROR(VLOOKUP(B49,[3]A!B$1:F$48,5,0),IFERROR(VLOOKUP(B49,[3]B!B$1:F$51,5,0),VLOOKUP(B49,[3]C!B$1:F$52,5,0)))","v":0},{"$f":"IFERROR(VLOOKUP(B49,[3]A!B$1:G$48,6,0),IFERROR(VLOOKUP(B49,[3]B!B$1:G$51,6,0),VLOOKUP(B49,[3]C!B$1:G$52,6,0)))","v":0},{"$f":"IFERROR(VLOOKUP(B49,[3]A!B$1:H$48,7,0),IFERROR(VLOOKUP(B49,[3]B!B$1:H$51,7,0),VLOOKUP(B49,[3]C!B$1:H$52,7,0)))","v":0},0,7,12,{"$f":"IFERROR(VLOOKUP(B49,[4]A!B$1:F$48,5,0),IFERROR(VLOOKUP(B49,[4]B!B$1:F$51,5,0),VLOOKUP(B49,[4]C!B$1:F$52,5,0)))","v":0},3,3,{"$f":"IFERROR(VLOOKUP(B49,[4]A!B$1:J$48,9,0),IFERROR(VLOOKUP(B49,[4]B!B$1:J$51,9,0),VLOOKUP(B49,[4]C!B$1:J$52,9,0)))","v":0},4,4,null,1,1,null,55,3,3,42,45,81.818181818181827,4,"B-8",6,8,18]
[49,"15BA008",{"$f":"VLOOKUP(B50,[1]B!B$1:C$48,2,0)","v":3},{"$f":"VLOOKUP(B50,[1]B!B$1:D$48,3,0)","v":3},{"$f":"VLOOKUP(B50,[1]B!B$1:F$48,5,0)","v":0},{"$f":"VLOOKUP(B50,[1]B!B$1:G$48,6,0)","v":0},{"$f":"VLOOKUP(B50,[1]B!B$1:H$48,7,0)","v":0},{"$f":"VLOOKUP(B50,[1]B!B$1:J$48,9,0)","v":0},{"$f":"VLOOKUP(B50,[2]B!B$1:C$48,2,0)","v":6},{"$f":"VLOOKUP(B50,[2]B!B$1:D$48,3,0)","v":16},{"$f":"VLOOKUP(B50,[2]B!B$1:F$48,5,0)","v":0},{"$f":"VLOOKUP(B50,[2]B!B$1:G$48,6,0)","v":0},{"$f":"VLOOKUP(B50,[2]B!B$1:H$48,7,0)","v":0},{"$f":"VLOOKUP(B50,[2]B!B$1:J$48,9,0)","v":0},{"$f":"IFERROR(VLOOKUP(B50,[3]A!B$1:C$48,2,0),IFERROR(VLOOKUP(B50,[3]B!B$1:C$51,2,0),VLOOKUP(B50,[3]C!B$1:C$52,2,0)))","v":5},{"$f":"IFERROR(VLOOKUP(B50,[3]A!B$1:D$48,3,0),IFERROR(VLOOKUP(B50,[3]B!B$1:D$51,3,0),VLOOKUP(B50,[3]C!B$1:D$52,3,0)))","v":16},{"$f":"IFERROR(VLOOKUP(B50,[3]A!B$1:F$48,5,0),IFERROR(VLOOKUP(B50,[3]B!B$1:F$51,5,0),VLOOKUP(B50,[3]C!B$1:F$52,5,0)))","v":0},{"$f":"IFERROR(VLOOKUP(B50,[3]A!B$1:G$48,6,0),IFERROR(VLOOKUP(B50,[3]B!B$1:G$51,6,0),VLOOKUP(B50,[3]C!B$1:G$52,6,0)))","v":0},{"$f":"IFERROR(VLOOKUP(B50,[3]A!B$1:H$48,7,0),IFERROR(VLOOKUP(B50,[3]B!B$1:H$51,7,0),VLOOKUP(B50,[3]C!B$1:H$52,7,0)))","v":0},0,7,12,{"$f":"IFERROR(VLOOKUP(B50,[4]A!B$1:F$48,5,0),IFERROR(VLOOKUP(B50,[4]B!B$1:F$51,5,0),VLOOKUP(B50,[4]C!B$1:F$52,5,0)))","v":0},2,3,{"$f":"IFERROR(VLOOKUP(B50,[4]A!B$1:J$48,9,0),IFERROR(VLOOKUP(B50,[4]B!B$1:J$51,9,0),VLOOKUP(B50,[4]C!B$1:J$52,9,0)))","v":0},1,4,null,1,1,null,55,0,0,25,25,45.454545454545453,0,"B-8",4,7,11]
[50,"15BA009",{"$f":"VLOOKUP(B51,[1]B!B$1:C$48,2,0)","v":3},{"$f":"VLOOKUP(B51,[1]B!B$1:D$48,3,0)","v":3},{"$f":"VLOOKUP(B51,[1]B!B$1:F$48,5,0)","v":0},{"$f":"VLOOKUP(B51,[1]B!B$1:G$48,6,0)","v":0},{"$f":"VLOOKUP(B51,[1]B!B$1:H$48,7,0)","v":0},{"$f":"VLOOKUP(B51,[1]B!B$1:J$48,9,0)","v":0},{"$f":"VLOOKUP(B51,[2]B!B$1:C$48,2,0)","v":15},{"$f":"VLOOKUP(B51,[2]B!B$1:D$48,3,0)","v":16},{"$f":"VLOOKUP(B51,[2]B!B$1:F$48,5,0)","v":0},{"$f":"VLOOKUP(B51,[2]B!B$1:G$48,6,0)","v":0},{"$f":"VLOOKUP(B51,[2]B!B$1:H$48,7,0)","v":0},{"$f":"VLOOKUP(B51,[2]B!B$1:J$48,9,0)","v":0},{"$f":"IFERROR(VLOOKUP(B51,[3]A!B$1:C$48,2,0),IFERROR(VLOOKUP(B51,[3]B!B$1:C$51,2,0),VLOOKUP(B51,[3]C!B$1:C$52,2,0)))","v":12},{"$f":"IFERROR(VLOOKUP(B51,[3]A!B$1:D$48,3,0),IFERROR(VLOOKUP(B51,[3]B!B$1:D$51,3,0),VLOOKUP(B51,[3]C!B$1:D$52,3,0)))","v":16},{"$f":"IFERROR(VLOOKUP(B51,[3]A!B$1:F$48,5,0),IFERROR(VLOOKUP(B51,[3]B!B$1:F$51,5,0),VLOOKUP(B51,[3]C!B$1:F$52,5,0)))","v":0},{"$f":"IFERROR(VLOOKUP(B51,[3]A!B$1:G$48,6,0),IFERROR(VLOOKUP(B51,[3]B!B$1:G$51,6,0),VLOOKUP(B51,[3]C!B$1:G$52,6,0)))","v":0},{"$f":"IFERROR(VLOOKUP(B51,[3]A!B$1:H$48,7,0),IFERROR(VLOOKUP(B51,[3]B!B$1:H$51,7,0),VLOOKUP(B51,[3]C!B$1:H$52,7,0)))","v":0},0,5,12,{"$f":"IFERROR(VLOOKUP(B51,[4]A!B$1:F$48,5,0),IFERROR(VLOOKUP(B51,[4]B!B$1:F$51,5,0),VLOOKUP(B51,[4]C!B$1:F$52,5,0)))","v":0},1,1,{"$f":"IFERROR(VLOOKUP(B51,[4]A!B$1:J$48,9,0),IFERROR(VLOOKUP(B51,[4]B!B$1:J$51,9,0),VLOOKUP(B51,[4]C!B$1:J$52,9,0)))","v":0},3,4,null,1,1,null,53,0,0,40,40,75.471698113207552,3,"B-6",5,6,14]
[51,"15BA012",{"$f":"VLOOKUP(B52,[1]B!B$1:C$48,2,0)","v":2},{"$f":"VLOOKUP(B52,[1]B!B$1:D$48,3,0)","v":3},{"$f":"VLOOKUP(B52,[1]B!B$1:F$48,5,0)","v":0},{"$f":"VLOOKUP(B52,[1]B!B$1:G$48,6,0)","v":0},{"$f":"VLOOKUP(B52,[1]B!B$1:H$48,7,0)","v":0},{"$f":"VLOOKUP(B52,[1]B!B$1:J$48,9,0)","v":0},{"$f":"VLOOKUP(B52,[2]B!B$1:C$48,2,0)","v":8},{"$f":"VLOOKUP(B52,[2]B!B$1:D$48,3,0)","v":16},{"$f":"VLOOKUP(B52,[2]B!B$1:F$48,5,0)","v":0},{"$f":"VLOOKUP(B52,[2]B!B$1:G$48,6,0)","v":3},{"$f":"VLOOKUP(B52,[2]B!B$1:H$48,7,0)","v":3},{"$f":"VLOOKUP(B52,[2]B!B$1:J$48,9,0)","v":0},{"$f":"IFERROR(VLOOKUP(B52,[3]A!B$1:C$48,2,0),IFERROR(VLOOKUP(B52,[3]B!B$1:C$51,2,0),VLOOKUP(B52,[3]C!B$1:C$52,2,0)))","v":5},{"$f":"IFERROR(VLOOKUP(B52,[3]A!B$1:D$48,3,0),IFERROR(VLOOKUP(B52,[3]B!B$1:D$51,3,0),VLOOKUP(B52,[3]C!B$1:D$52,3,0)))","v":16},{"$f":"IFERROR(VLOOKUP(B52,[3]A!B$1:F$48,5,0),IFERROR(VLOOKUP(B52,[3]B!B$1:F$51,5,0),VLOOKUP(B52,[3]C!B$1:F$52,5,0)))","v":0},{"$f":"IFERROR(VLOOKUP(B52,[3]A!B$1:G$48,6,0),IFERROR(VLOOKUP(B52,[3]B!B$1:G$51,6,0),VLOOKUP(B52,[3]C!B$1:G$52,6,0)))","v":2},{"$f":"IFERROR(VLOOKUP(B52,[3]A!B$1:H$48,7,0),IFERROR(VLOOKUP(B52,[3]B!B$1:H$51,7,0),VLOOKUP(B52,[3]C!B$1:H$52,7,0)))","v":2},0,4,12,{"$f":"IFERROR(VLOOKUP(B52,[4]A!B$1:F$48,5,0),IFERROR(VLOOKUP(B52,[4]B!B$1:F$51,5,0),VLOOKUP(B52,[4]C!B$1:F$52,5,0)))","v":0},2,2,{"$f":"IFERROR(VLOOKUP(B52,[4]A!B$1:J$48,9,0),IFERROR(VLOOKUP(B52,[4]B!B$1:J$51,9,0),VLOOKUP(B52,[4]C!B$1:J$52,9,0)))","v":0},1,4,null,1,1,null,59,0,0,28,28,47.457627118644069,0,"B-10",0,3,3]
[52,"15BA014",{"$f":"VLOOKUP(B53,[1]B!B$1:C$48,2,0)","v":3},{"$f":"VLOOKUP(B53,[1]B!B$1:D$48,3,0)","v":3},{"$f":"VLOOKUP(B53,[1]B!B$1:F$48,5,0)","v":0},{"$f":"VLOOKUP(B53,[1]B!B$1:G$48,6,0)","v":0},{"$f":"VLOOKUP(B53,[1]B!B$1:H$48,7,0)","v":0},{"$f":"VLOOKUP(B53,[1]B!B$1:J$48,9,0)","v":0},{"$f":"VLOOKUP(B53,[2]B!B$1:C$48,2,0)","v":12},{"$f":"VLOOKUP(B53,[2]B!B$1:D$48,3,0)","v":16},{"$f":"VLOOKUP(B53,[2]B!B$1:F$48,5,0)","v":0},{"$f":"VLOOKUP(B53,[2]B!B$1:G$48,6,0)","v":0},{"$f":"VLOOKUP(B53,[2]B!B$1:H$48,7,0)","v":0},{"$f":"VLOOKUP(B53,[2]B!B$1:J$48,9,0)","v":0},{"$f":"IFERROR(VLOOKUP(B53,[3]A!B$1:C$48,2,0),IFERROR(VLOOKUP(B53,[3]B!B$1:C$51,2,0),VLOOKUP(B53,[3]C!B$1:C$52,2,0)))","v":8},{"$f":"IFERROR(VLOOKUP(B53,[3]A!B$1:D$48,3,0),IFERROR(VLOOKUP(B53,[3]B!B$1:D$51,3,0),VLOOKUP(B53,[3]C!B$1:D$52,3,0)))","v":16},{"$f":"IFERROR(VLOOKUP(B53,[3]A!B$1:F$48,5,0),IFERROR(VLOOKUP(B53,[3]B!B$1:F$51,5,0),VLOOKUP(B53,[3]C!B$1:F$52,5,0)))","v":6},{"$f":"IFERROR(VLOOKUP(B53,[3]A!B$1:G$48,6,0),IFERROR(VLOOKUP(B53,[3]B!B$1:G$51,6,0),VLOOKUP(B53,[3]C!B$1:G$52,6,0)))","v":0},{"$f":"IFERROR(VLOOKUP(B53,[3]A!B$1:H$48,7,0),IFERROR(VLOOKUP(B53,[3]B!B$1:H$51,7,0),VLOOKUP(B53,[3]C!B$1:H$52,7,0)))","v":0},0,6,12,4,1,1,{"$f":"IFERROR(VLOOKUP(B53,[4]A!B$1:J$48,9,0),IFERROR(VLOOKUP(B53,[4]B!B$1:J$51,9,0),VLOOKUP(B53,[4]C!B$1:J$52,9,0)))","v":0},2,4,null,1,1,null,53,10,10,33,43,81.132075471698116,4,"B-6",5,9,18]
[53,"15BA016",{"$f":"VLOOKUP(B54,[1]B!B$1:C$48,2,0)","v":3},{"$f":"VLOOKUP(B54,[1]B!B$1:D$48,3,0)","v":3},{"$f":"VLOOKUP(B54,[1]B!B$1:F$48,5,0)","v":0},{"$f":"VLOOKUP(B54,[1]B!B$1:G$48,6,0)","v":0},{"$f":"VLOOKUP(B54,[1]B!B$1:H$48,7,0)","v":0},{"$f":"VLOOKUP(B54,[1]B!B$1:J$48,9,0)","v":0},{"$f":"VLOOKUP(B54,[2]B!B$1:C$48,2,0)","v":9},{"$f":"VLOOKUP(B54,[2]B!B$1:D$48,3,0)","v":16},{"$f":"VLOOKUP(B54,[2]B!B$1:F$48,5,0)","v":0},{"$f":"VLOOKUP(B54,[2]B!B$1:G$48,6,0)","v":0},{"$f":"VLOOKUP(B54,[2]B!B$1:H$48,7,0)","v":0},{"$f":"VLOOKUP(B54,[2]B!B$1:J$48,9,0)","v":0},{"$f":"IFERROR(VLOOKUP(B54,[3]A!B$1:C$48,2,0),IFERROR(VLOOKUP(B54,[3]B!B$1:C$51,2,0),VLOOKUP(B54,[3]C!B$1:C$52,2,0)))","v":3},{"$f":"IFERROR(VLOOKUP(B54,[3]A!B$1:D$48,3,0),IFERROR(VLOOKUP(B54,[3]B!B$1:D$51,3,0),VLOOKUP(B54,[3]C!B$1:D$52,3,0)))","v":16},{"$f":"IFERROR(VLOOKUP(B54,[3]A!B$1:F$48,5,0),IFERROR(VLOOKUP(B54,[3]B!B$1:F$51,5,0),VLOOKUP(B54,[3]C!B$1:F$52,5,0)))","v":0},{"$f":"IFERROR(VLOOKUP(B54,[3]A!B$1:G$48,6,0),IFERROR(VLOOKUP(B54,[3]B!B$1:G$51,6,0),VLOOKUP(B54,[3]C!B$1:G$52,6,0)))","v":0},{"$f":"IFERROR(VLOOKUP(B54,[3]A!B$1:H$48,7,0),IFERROR(VLOOKUP(B54,[3]B!B$1:H$51,7,0),VLOOKUP(B54,[3]C!B$1:H$52,7,0)))","v":0},0,4,12,4,2,3,{"$f":"IFERROR(VLOOKUP(B54,[4]A!B$1:J$48,9,0),IFERROR(VLOOKUP(B54,[4]B!B$1:J$51,9,0),VLOOKUP(B54,[4]C!B$1:J$52,9,0)))","v":0},2,4,null,1,1,null,55,4,4,24,28,50.909090909090907,0,"B-8",1,2,3]
[54,"15BA017",{"$f":"VLOOKUP(B55,[1]B!B$1:C$48,2,0)","v":3},{"$f":"VLOOKUP(B55,[1]B!B$1:D$48,3,0)","v":3},{"$f":"VLOOKUP(B55,[1]B!B$1:F$48,5,0)","v":0},{"$f":"VLOOKUP(B55,[1]B!B$1:G$48,6,0)","v":0},{"$f":"VLOOKUP(B55,[1]B!B$1:H$48,7,0)","v":0},{"$f":"VLOOKUP(B55,[1]B!B$1:J$48,9,0)","v":0},{"$f":"VLOOKUP(B55,[2]B!B$1:C$48,2,0)","v":9},{"$f":"VLOOKUP(B55,[2]B!B$1:D$48,3,0)","v":16},2,{"$f":"VLOOKUP(B55,[2]B!B$1:G$48,6,0)","v":0},{"$f":"VLOOKUP(B55,[2]B!B$1:H$48,7,0)","v":0},{"$f":"VLOOKUP(B55,[2]B!B$1:J$48,9,0)","v":0},{"$f":"IFERROR(VLOOKUP(B55,[3]A!B$1:C$48,2,0),IFERROR(VLOOKUP(B55,[3]B!B$1:C$51,2,0),VLOOKUP(B55,[3]C!B$1:C$52,2,0)))","v":6},{"$f":"IFERROR(VLOOKUP(B55,[3]A!B$1:D$48,3,0),IFERROR(VLOOKUP(B55,[3]B!B$1:D$51,3,0),VLOOKUP(B55,[3]C!B$1:D$52,3,0)))","v":16},{"$f":"IFERROR(VLOOKUP(B55,[3]A!B$1:F$48,5,0),IFERROR(VLOOKUP(B55,[3]B!B$1:F$51,5,0),VLOOKUP(B55,[3]C!B$1:F$52,5,0)))","v":2},{"$f":"IFERROR(VLOOKUP(B55,[3]A!B$1:G$48,6,0),IFERROR(VLOOKUP(B55,[3]B!B$1:G$51,6,0),VLOOKUP(B55,[3]C!B$1:G$52,6,0)))","v":0},{"$f":"IFERROR(VLOOKUP(B55,[3]A!B$1:H$48,7,0),IFERROR(VLOOKUP(B55,[3]B!B$1:H$51,7,0),VLOOKUP(B55,[3]C!B$1:H$52,7,0)))","v":0},0,6,12,0,1,1,{"$f":"IFERROR(VLOOKUP(B55,[4]A!B$1:J$48,9,0),IFERROR(VLOOKUP(B55,[4]B!B$1:J$51,9,0),VLOOKUP(B55,[4]C!B$1:J$52,9,0)))","v":0},4,4,null,1,1,null,53,4,4,30,34,64.15094339622641,0,"B-6",8,4,12]
[55,"15BA021",{"$f":"VLOOKUP(B56,[1]B!B$1:C$48,2,0)","v":2},{"$f":"VLOOKUP(B56,[1]B!B$1:D$48,3,0)","v":3},{"$f":"VLOOKUP(B56,[1]B!B$1:F$48,5,0)","v":0},{"$f":"VLOOKUP(B56,[1]B!B$1:G$48,6,0)","v":0},{"$f":"VLOOKUP(B56,[1]B!B$1:H$48,7,0)","v":0},{"$f":"VLOOKUP(B56,[1]B!B$1:J$48,9,0)","v":0},{"$f":"VLOOKUP(B56,[2]B!B$1:C$48,2,0)","v":12},{"$f":"VLOOKUP(B56,[2]B!B$1:D$48,3,0)","v":16},{"$f":"VLOOKUP(B56,[2]B!B$1:F$48,5,0)","v":0},{"$f":"VLOOKUP(B56,[2]B!B$1:G$48,6,0)","v":0},{"$f":"VLOOKUP(B56,[2]B!B$1:H$48,7,0)","v":0},{"$f":"VLOOKUP(B56,[2]B!B$1:J$48,9,0)","v":0},{"$f":"IFERROR(VLOOKUP(B56,[3]A!B$1:C$48,2,0),IFERROR(VLOOKUP(B56,[3]B!B$1:C$51,2,0),VLOOKUP(B56,[3]C!B$1:C$52,2,0)))","v":7},{"$f":"IFERROR(VLOOKUP(B56,[3]A!B$1:D$48,3,0),IFERROR(VLOOKUP(B56,[3]B!B$1:D$51,3,0),VLOOKUP(B56,[3]C!B$1:D$52,3,0)))","v":16},{"$f":"IFERROR(VLOOKUP(B56,[3]A!B$1:F$48,5,0),IFERROR(VLOOKUP(B56,[3]B!B$1:F$51,5,0),VLOOKUP(B56,[3]C!B$1:F$52,5,0)))","v":0},{"$f":"IFERROR(VLOOKUP(B56,[3]A!B$1:G$48,6,0),IFERROR(VLOOKUP(B56,[3]B!B$1:G$51,6,0),VLOOKUP(B56,[3]C!B$1:G$52,6,0)))","v":0},{"$f":"IFERROR(VLOOKUP(B56,[3]A!B$1:H$48,7,0),IFERROR(VLOOKUP(B56,[3]B!B$1:H$51,7,0),VLOOKUP(B56,[3]C!B$1:H$52,7,0)))","v":0},0,6,12,2,1,1,{"$f":"IFERROR(VLOOKUP(B56,[4]A!B$1:J$48,9,0),IFERROR(VLOOKUP(B56,[4]B!B$1:J$51,9,0),VLOOKUP(B56,[4]C!B$1:J$52,9,0)))","v":0},4,4,null,1,1,null,53,2,2,33,35,66.037735849056602,0,"B-6",5,3,8]
[56,"15BA024",{"$f":"VLOOKUP(B57,[1]B!B$1:C$48,2,0)","v":2},{"$f":"VLOOKUP(B57,[1]B!B$1:D$48,3,0)","v":3},{"$f":"VLOOKUP(B57,[1]B!B$1:F$48,5,0)","v":0},{"$f":"VLOOKUP(B57,[1]B!B$1:G$48,6,0)","v":0},{"$f":"VLOOKUP(B57,[1]B!B$1:H$48,7,0)","v":0},{"$f":"VLOOKUP(B57,[1]B!B$1:J$48,9,0)","v":0},{"$f":"VLOOKUP(B57,[2]B!B$1:C$48,2,0)","v":13},{"$f":"VLOOKUP(B57,[2]B!B$1:D$48,3,0)","v":16},{"$f":"VLOOKUP(B57,[2]B!B$1:F$48,5,0)","v":0},{"$f":"VLOOKUP(B57,[2]B!B$1:G$48,6,0)","v":0},{"$f":"VLOOKUP(B57,[2]B!B$1:H$48,7,0)","v":0},{"$f":"VLOOKUP(B57,[2]B!B$1:J$48,9,0)","v":0},{"$f":"IFERROR(VLOOKUP(B57,[3]A!B$1:C$48,2,0),IFERROR(VLOOKUP(B57,[3]B!B$1:C$51,2,0),VLOOKUP(B57,[3]C!B$1:C$52,2,0)))","v":8},{"$f":"IFERROR(VLOOKUP(B57,[3]A!B$1:D$48,3,0),IFERROR(VLOOKUP(B57,[3]B!B$1:D$51,3,0),VLOOKUP(B57,[3]C!B$1:D$52,3,0)))","v":16},{"$f":"IFERROR(VLOOKUP(B57,[3]A!B$1:F$48,5,0),IFERROR(VLOOKUP(B57,[3]B!B$1:F$51,5,0),VLOOKUP(B57,[3]C!B$1:F$52,5,0)))","v":2},{"$f":"IFERROR(VLOOKUP(B57,[3]A!B$1:G$48,6,0),IFERROR(VLOOKUP(B57,[3]B!B$1:G$51,6,0),VLOOKUP(B57,[3]C!B$1:G$52,6,0)))","v":0},{"$f":"IFERROR(VLOOKUP(B57,[3]A!B$1:H$48,7,0),IFERROR(VLOOKUP(B57,[3]B!B$1:H$51,7,0),VLOOKUP(B57,[3]C!B$1:H$52,7,0)))","v":0},0,9,12,{"$f":"IFERROR(VLOOKUP(B57,[4]A!B$1:F$48,5,0),IFERROR(VLOOKUP(B57,[4]B!B$1:F$51,5,0),VLOOKUP(B57,[4]C!B$1:F$52,5,0)))","v":0},{"$f":"IFERROR(VLOOKUP(B57,[4]A!B$1:G$48,6,0),IFERROR(VLOOKUP(B57,[4]B!B$1:G$51,6,0),VLOOKUP(B57,[4]C!B$1:G$52,6,0)))","v":0},1,{"$f":"IFERROR(VLOOKUP(B57,[4]A!B$1:J$48,9,0),IFERROR(VLOOKUP(B57,[4]B!B$1:J$51,9,0),VLOOKUP(B57,[4]C!B$1:J$52,9,0)))","v":0},1,4,null,0,1,null,53,2,2,33,35,66.037735849056602,0,"B-6",5,9,14]
[57,"15BA030",{"$f":"VLOOKUP(B58,[1]B!B$1:C$48,2,0)","v":0},{"$f":"VLOOKUP(B58,[1]B!B$1:D$48,3,0)","v":3},{"$f":"VLOOKUP(B58,[1]B!B$1:F$48,5,0)","v":0},{"$f":"VLOOKUP(B58,[1]B!B$1:G$48,6,0)","v":0},{"$f":"VLOOKUP(B58,[1]B!B$1:H$48,7,0)","v":0},{"$f":"VLOOKUP(B58,[1]B!B$1:J$48,9,0)","v":0},{"$f":"VLOOKUP(B58,[2]B!B$1:C$48,2,0)","v":0},{"$f":"VLOOKUP(B58,[2]B!B$1:D$48,3,0)","v":16},{"$f":"VLOOKUP(B58,[2]B!B$1:F$48,5,0)","v":0},{"$f":"VLOOKUP(B58,[2]B!B$1:G$48,6,0)","v":0},{"$f":"VLOOKUP(B58,[2]B!B$1:H$48,7,0)","v":0},{"$f":"VLOOKUP(B58,[2]B!B$1:J$48,9,0)","v":0},{"$f":"IFERROR(VLOOKUP(B58,[3]A!B$1:C$48,2,0),IFERROR(VLOOKUP(B58,[3]B!B$1:C$51,2,0),VLOOKUP(B58,[3]C!B$1:C$52,2,0)))","v":0},{"$f":"IFERROR(VLOOKUP(B58,[3]A!B$1:D$48,3,0),IFERROR(VLOOKUP(B58,[3]B!B$1:D$51,3,0),VLOOKUP(B58,[3]C!B$1:D$52,3,0)))","v":0},{"$f":"IFERROR(VLOOKUP(B58,[3]A!B$1:F$48,5,0),IFERROR(VLOOKUP(B58,[3]B!B$1:F$51,5,0),VLOOKUP(B58,[3]C!B$1:F$52,5,0)))","v":0},{"$f":"IFERROR(VLOOKUP(B58,[3]A!B$1:G$48,6,0),IFERROR(VLOOKUP(B58,[3]B!B$1:G$51,6,0),VLOOKUP(B58,[3]C!B$1:G$52,6,0)))","v":0},{"$f":"IFERROR(VLOOKUP(B58,[3]A!B$1:H$48,7,0),IFERROR(VLOOKUP(B58,[3]B!B$1:H$51,7,0),VLOOKUP(B58,[3]C!B$1:H$52,7,0)))","v":0},0,0,12,{"$f":"IFERROR(VLOOKUP(B58,[4]A!B$1:F$48,5,0),IFERROR(VLOOKUP(B58,[4]B!B$1:F$51,5,0),VLOOKUP(B58,[4]C!B$1:F$52,5,0)))","v":0},{"$f":"IFERROR(VLOOKUP(B58,[4]A!B$1:G$48,6,0),IFERROR(VLOOKUP(B58,[4]B!B$1:G$51,6,0),VLOOKUP(B58,[4]C!B$1:G$52,6,0)))","v":0},3,{"$f":"IFERROR(VLOOKUP(B58,[4]A!B$1:J$48,9,0),IFERROR(VLOOKUP(B58,[4]B!B$1:J$51,9,0),VLOOKUP(B58,[4]C!B$1:J$52,9,0)))","v":0},1,4,null,0,1,null,39,0,0,1,1,2.5641025641025639,0,"B-8",0,0,0]
[58,"15BA036",{"$f":"VLOOKUP(B59,[1]B!B$1:C$48,2,0)","v":3},{"$f":"VLOOKUP(B59,[1]B!B$1:D$48,3,0)","v":3},{"$f":"VLOOKUP(B59,[1]B!B$1:F$48,5,0)","v":0},{"$f":"VLOOKUP(B59,[1]B!B$1:G$48,6,0)","v":0},{"$f":"VLOOKUP(B59,[1]B!B$1:H$48,7,0)","v":0},{"$f":"VLOOKUP(B59,[1]B!B$1:J$48,9,0)","v":0},{"$f":"VLOOKUP(B59,[2]B!B$1:C$48,2,0)","v":13},{"$f":"VLOOKUP(B59,[2]B!B$1:D$48,3,0)","v":16},{"$f":"VLOOKUP(B59,[2]B!B$1:F$48,5,0)","v":0},{"$f":"VLOOKUP(B59,[2]B!B$1:G$48,6,0)","v":0},{"$f":"VLOOKUP(B59,[2]B!B$1:H$48,7,0)","v":0},{"$f":"VLOOKUP(B59,[2]B!B$1:J$48,9,0)","v":0},{"$f":"IFERROR(VLOOKUP(B59,[3]A!B$1:C$48,2,0),IFERROR(VLOOKUP(B59,[3]B!B$1:C$51,2,0),VLOOKUP(B59,[3]C!B$1:C$52,2,0)))","v":10},{"$f":"IFERROR(VLOOKUP(B59,[3]A!B$1:D$48,3,0),IFERROR(VLOOKUP(B59,[3]B!B$1:D$51,3,0),VLOOKUP(B59,[3]C!B$1:D$52,3,0)))","v":16},{"$f":"IFERROR(VLOOKUP(B59,[3]A!B$1:F$48,5,0),IFERROR(VLOOKUP(B59,[3]B!B$1:F$51,5,0),VLOOKUP(B59,[3]C!B$1:F$52,5,0)))","v":0},{"$f":"IFERROR(VLOOKUP(B59,[3]A!B$1:G$48,6,0),IFERROR(VLOOKUP(B59,[3]B!B$1:G$51,6,0),VLOOKUP(B59,[3]C!B$1:G$52,6,0)))","v":0},{"$f":"IFERROR(VLOOKUP(B59,[3]A!B$1:H$48,7,0),IFERROR(VLOOKUP(B59,[3]B!B$1:H$51,7,0),VLOOKUP(B59,[3]C!B$1:H$52,7,0)))","v":0},0,8,12,{"$f":"IFERROR(VLOOKUP(B59,[4]A!B$1:F$48,5,0),IFERROR(VLOOKUP(B59,[4]B!B$1:F$51,5,0),VLOOKUP(B59,[4]C!B$1:F$52,5,0)))","v":0},2,3,{"$f":"IFERROR(VLOOKUP(B59,[4]A!B$1:J$48,9,0),IFERROR(VLOOKUP(B59,[4]B!B$1:J$51,9,0),VLOOKUP(B59,[4]C!B$1:J$52,9,0)))","v":0},3,4,null,1,1,null,55,0,0,40,40,72.727272727272734,2,"B-8",5,8,15]
[59,"15BA039",{"$f":"VLOOKUP(B60,[1]B!B$1:C$48,2,0)","v":3},{"$f":"VLOOKUP(B60,[1]B!B$1:D$48,3,0)","v":3},{"$f":"VLOOKUP(B60,[1]B!B$1:F$48,5,0)","v":0},{"$f":"VLOOKUP(B60,[1]B!B$1:G$48,6,0)","v":0},{"$f":"VLOOKUP(B60,[1]B!B$1:H$48,7,0)","v":0},{"$f":"VLOOKUP(B60,[1]B!B$1:J$48,9,0)","v":0},{"$f":"VLOOKUP(B60,[2]B!B$1:C$48,2,0)","v":12},{"$f":"VLOOKUP(B60,[2]B!B$1:D$48,3,0)","v":16},{"$f":"VLOOKUP(B60,[2]B!B$1:F$48,5,0)","v":0},{"$f":"VLOOKUP(B60,[2]B!B$1:G$48,6,0)","v":0},{"$f":"VLOOKUP(B60,[2]B!B$1:H$48,7,0)","v":0},{"$f":"VLOOKUP(B60,[2]B!B$1:J$48,9,0)","v":0},{"$f":"IFERROR(VLOOKUP(B60,[3]A!B$1:C$48,2,0),IFERROR(VLOOKUP(B60,[3]B!B$1:C$51,2,0),VLOOKUP(B60,[3]C!B$1:C$52,2,0)))","v":4},{"$f":"IFERROR(VLOOKUP(B60,[3]A!B$1:D$48,3,0),IFERROR(VLOOKUP(B60,[3]B!B$1:D$51,3,0),VLOOKUP(B60,[3]C!B$1:D$52,3,0)))","v":16},{"$f":"IFERROR(VLOOKUP(B60,[3]A!B$1:F$48,5,0),IFERROR(VLOOKUP(B60,[3]B!B$1:F$51,5,0),VLOOKUP(B60,[3]C!B$1:F$52,5,0)))","v":0},{"$f":"IFERROR(VLOOKUP(B60,[3]A!B$1:G$48,6,0),IFERROR(VLOOKUP(B60,[3]B!B$1:G$51,6,0),VLOOKUP(B60,[3]C!B$1:G$52,6,0)))","v":0},{"$f":"IFERROR(VLOOKUP(B60,[3]A!B$1:H$48,7,0),IFERROR(VLOOKUP(B60,[3]B!B$1:H$51,7,0),VLOOKUP(B60,[3]C!B$1:H$52,7,0)))","v":0},0,6,12,{"$f":"IFERROR(VLOOKUP(B60,[4]A!B$1:F$48,5,0),IFERROR(VLOOKUP(B60,[4]B!B$1:F$51,5,0),VLOOKUP(B60,[4]C!B$1:F$52,5,0)))","v":0},{"$f":"IFERROR(VLOOKUP(B60,[4]A!B$1:G$48,6,0),IFERROR(VLOOKUP(B60,[4]B!B$1:G$51,6,0),VLOOKUP(B60,[4]C!B$1:G$52,6,0)))","v":0},1,{"$f":"IFERROR(VLOOKUP(B60,[4]A!B$1:J$48,9,0),IFERROR(VLOOKUP(B60,[4]B!B$1:J$51,9,0),VLOOKUP(B60,[4]C!B$1:J$52,9,0)))","v":0},3,4,null,1,1,null,53,0,0,29,29,54.716981132075468,0,"B-6",3,6,9]
[60,"15BA040",{"$f":"VLOOKUP(B61,[1]B!B$1:C$48,2,0)","v":0},{"$f":"VLOOKUP(B61,[1]B!B$1:D$48,3,0)","v":3},{"$f":"VLOOKUP(B61,[1]B!B$1:F$48,5,0)","v":0},{"$f":"VLOOKUP(B61,[1]B!B$1:G$48,6,0)","v":0},{"$f":"VLOOKUP(B61,[1]B!B$1:H$48,7,0)","v":0},{"$f":"VLOOKUP(B61,[1]B!B$1:J$48,9,0)","v":0},{"$f":"VLOOKUP(B61,[2]B!B$1:C$48,2,0)","v":3},{"$f":"VLOOKUP(B61,[2]B!B$1:D$48,3,0)","v":16},{"$f":"VLOOKUP(B61,[2]B!B$1:F$48,5,0)","v":0},{"$f":"VLOOKUP(B61,[2]B!B$1:G$48,6,0)","v":0},{"$f":"VLOOKUP(B61,[2]B!B$1:H$48,7,0)","v":0},{"$f":"VLOOKUP(B61,[2]B!B$1:J$48,9,0)","v":0},{"$f":"IFERROR(VLOOKUP(B61,[3]A!B$1:C$48,2,0),IFERROR(VLOOKUP(B61,[3]B!B$1:C$51,2,0),VLOOKUP(B61,[3]C!B$1:C$52,2,0)))","v":4},{"$f":"IFERROR(VLOOKUP(B61,[3]A!B$1:D$48,3,0),IFERROR(VLOOKUP(B61,[3]B!B$1:D$51,3,0),VLOOKUP(B61,[3]C!B$1:D$52,3,0)))","v":16},{"$f":"IFERROR(VLOOKUP(B61,[3]A!B$1:F$48,5,0),IFERROR(VLOOKUP(B61,[3]B!B$1:F$51,5,0),VLOOKUP(B61,[3]C!B$1:F$52,5,0)))","v":0},{"$f":"IFERROR(VLOOKUP(B61,[3]A!B$1:G$48,6,0),IFERROR(VLOOKUP(B61,[3]B!B$1:G$51,6,0),VLOOKUP(B61,[3]C!B$1:G$52,6,0)))","v":0},{"$f":"IFERROR(VLOOKUP(B61,[3]A!B$1:H$48,7,0),IFERROR(VLOOKUP(B61,[3]B!B$1:H$51,7,0),VLOOKUP(B61,[3]C!B$1:H$52,7,0)))","v":0},0,4,12,{"$f":"IFERROR(VLOOKUP(B61,[4]A!B$1:F$48,5,0),IFERROR(VLOOKUP(B61,[4]B!B$1:F$51,5,0),VLOOKUP(B61,[4]C!B$1:F$52,5,0)))","v":0},1,3,{"$f":"IFERROR(VLOOKUP(B61,[4]A!B$1:J$48,9,0),IFERROR(VLOOKUP(B61,[4]B!B$1:J$51,9,0),VLOOKUP(B61,[4]C!B$1:J$52,9,0)))","v":0},0,4,null,0,1,null,55,0,0,12,12,21.818181818181817,0,"B-8",4,2,6]
[61,"15BA050",{"$f":"VLOOKUP(B62,[1]B!B$1:C$48,2,0)","v":2},{"$f":"VLOOKUP(B62,[1]B!B$1:D$48,3,0)","v":3},{"$f":"VLOOKUP(B62,[1]B!B$1:F$48,5,0)","v":0},{"$f":"VLOOKUP(B62,[1]B!B$1:G$48,6,0)","v":0},{"$f":"VLOOKUP(B62,[1]B!B$1:H$48,7,0)","v":0},{"$f":"VLOOKUP(B62,[1]B!B$1:J$48,9,0)","v":0},{"$f":"VLOOKUP(B62,[2]B!B$1:C$48,2,0)","v":0},{"$f":"VLOOKUP(B62,[2]B!B$1:D$48,3,0)","v":16},{"$f":"VLOOKUP(B62,[2]B!B$1:F$48,5,0)","v":0},{"$f":"VLOOKUP(B62,[2]B!B$1:G$48,6,0)","v":3},{"$f":"VLOOKUP(B62,[2]B!B$1:H$48,7,0)","v":3},{"$f":"VLOOKUP(B62,[2]B!B$1:J$48,9,0)","v":0},{"$f":"IFERROR(VLOOKUP(B62,[3]A!B$1:C$48,2,0),IFERROR(VLOOKUP(B62,[3]B!B$1:C$51,2,0),VLOOKUP(B62,[3]C!B$1:C$52,2,0)))","v":0},{"$f":"IFERROR(VLOOKUP(B62,[3]A!B$1:D$48,3,0),IFERROR(VLOOKUP(B62,[3]B!B$1:D$51,3,0),VLOOKUP(B62,[3]C!B$1:D$52,3,0)))","v":16},{"$f":"IFERROR(VLOOKUP(B62,[3]A!B$1:F$48,5,0),IFERROR(VLOOKUP(B62,[3]B!B$1:F$51,5,0),VLOOKUP(B62,[3]C!B$1:F$52,5,0)))","v":0},{"$f":"IFERROR(VLOOKUP(B62,[3]A!B$1:G$48,6,0),IFERROR(VLOOKUP(B62,[3]B!B$1:G$51,6,0),VLOOKUP(B62,[3]C!B$1:G$52,6,0)))","v":2},{"$f":"IFERROR(VLOOKUP(B62,[3]A!B$1:H$48,7,0),IFERROR(VLOOKUP(B62,[3]B!B$1:H$51,7,0),VLOOKUP(B62,[3]C!B$1:H$52,7,0)))","v":2},0,0,12,{"$f":"IFERROR(VLOOKUP(B62,[4]A!B$1:F$48,5,0),IFERROR(VLOOKUP(B62,[4]B!B$1:F$51,5,0),VLOOKUP(B62,[4]C!B$1:F$52,5,0)))","v":0},2,2,{"$f":"IFERROR(VLOOKUP(B62,[4]A!B$1:J$48,9,0),IFERROR(VLOOKUP(B62,[4]B!B$1:J$51,9,0),VLOOKUP(B62,[4]C!B$1:J$52,9,0)))","v":0},0,4,null,1,1,null,59,0,0,10,10,16.949152542372879,0,"B-10",0,0,0]
[62,"15BA051",{"$f":"VLOOKUP(B63,[1]B!B$1:C$48,2,0)","v":3},{"$f":"VLOOKUP(B63,[1]B!B$1:D$48,3,0)","v":3},{"$f":"VLOOKUP(B63,[1]B!B$1:F$48,5,0)","v":0},{"$f":"VLOOKUP(B63,[1]B!B$1:G$48,6,0)","v":0},{"$f":"VLOOKUP(B63,[1]B!B$1:H$48,7,0)","v":0},{"$f":"VLOOKUP(B63,[1]B!B$1:J$48,9,0)","v":0},{"$f":"VLOOKUP(B63,[2]B!B$1:C$48,2,0)","v":11},{"$f":"VLOOKUP(B63,[2]B!B$1:D$48,3,0)","v":16},{"$f":"VLOOKUP(B63,[2]B!B$1:F$48,5,0)","v":0},{"$f":"VLOOKUP(B63,[2]B!B$1:G$48,6,0)","v":3},{"$f":"VLOOKUP(B63,[2]B!B$1:H$48,7,0)","v":3},{"$f":"VLOOKUP(B63,[2]B!B$1:J$48,9,0)","v":0},{"$f":"IFERROR(VLOOKUP(B63,[3]A!B$1:C$48,2,0),IFERROR(VLOOKUP(B63,[3]B!B$1:C$51,2,0),VLOOKUP(B63,[3]C!B$1:C$52,2,0)))","v":8},{"$f":"IFERROR(VLOOKUP(B63,[3]A!B$1:D$48,3,0),IFERROR(VLOOKUP(B63,[3]B!B$1:D$51,3,0),VLOOKUP(B63,[3]C!B$1:D$52,3,0)))","v":16},{"$f":"IFERROR(VLOOKUP(B63,[3]A!B$1:F$48,5,0),IFERROR(VLOOKUP(B63,[3]B!B$1:F$51,5,0),VLOOKUP(B63,[3]C!B$1:F$52,5,0)))","v":0},{"$f":"IFERROR(VLOOKUP(B63,[3]A!B$1:G$48,6,0),IFERROR(VLOOKUP(B63,[3]B!B$1:G$51,6,0),VLOOKUP(B63,[3]C!B$1:G$52,6,0)))","v":2},{"$f":"IFERROR(VLOOKUP(B63,[3]A!B$1:H$48,7,0),IFERROR(VLOOKUP(B63,[3]B!B$1:H$51,7,0),VLOOKUP(B63,[3]C!B$1:H$52,7,0)))","v":2},0,7,12,3,2,2,{"$f":"IFERROR(VLOOKUP(B63,[4]A!B$1:J$48,9,0),IFERROR(VLOOKUP(B63,[4]B!B$1:J$51,9,0),VLOOKUP(B63,[4]C!B$1:J$52,9,0)))","v":0},3,4,null,1,1,null,59,3,3,40,43,72.881355932203391,2,"B-10",5,7,14]
[63,"15BA054",{"$f":"VLOOKUP(B64,[1]B!B$1:C$48,2,0)","v":2},{"$f":"VLOOKUP(B64,[1]B!B$1:D$48,3,0)","v":3},{"$f":"VLOOKUP(B64,[1]B!B$1:F$48,5,0)","v":0},{"$f":"VLOOKUP(B64,[1]B!B$1:G$48,6,0)","v":0},{"$f":"VLOOKUP(B64,[1]B!B$1:H$48,7,0)","v":0},{"$f":"VLOOKUP(B64,[1]B!B$1:J$48,9,0)","v":0},{"$f":"VLOOKUP(B64,[2]B!B$1:C$48,2,0)","v":13},{"$f":"VLOOKUP(B64,[2]B!B$1:D$48,3,0)","v":16},{"$f":"VLOOKUP(B64,[2]B!B$1:F$48,5,0)","v":0},{"$f":"VLOOKUP(B64,[2]B!B$1:G$48,6,0)","v":3},{"$f":"VLOOKUP(B64,[2]B!B$1:H$48,7,0)","v":3},{"$f":"VLOOKUP(B64,[2]B!B$1:J$48,9,0)","v":0},{"$f":"IFERROR(VLOOKUP(B64,[3]A!B$1:C$48,2,0),IFERROR(VLOOKUP(B64,[3]B!B$1:C$51,2,0),VLOOKUP(B64,[3]C!B$1:C$52,2,0)))","v":13},{"$f":"IFERROR(VLOOKUP(B64,[3]A!B$1:D$48,3,0),IFERROR(VLOOKUP(B64,[3]B!B$1:D$51,3,0),VLOOKUP(B64,[3]C!B$1:D$52,3,0)))","v":16},{"$f":"IFERROR(VLOOKUP(B64,[3]A!B$1:F$48,5,0),IFERROR(VLOOKUP(B64,[3]B!B$1:F$51,5,0),VLOOKUP(B64,[3]C!B$1:F$52,5,0)))","v":0},{"$f":"IFERROR(VLOOKUP(B64,[3]A!B$1:G$48,6,0),IFERROR(VLOOKUP(B64,[3]B!B$1:G$51,6,0),VLOOKUP(B64,[3]C!B$1:G$52,6,0)))","v":2},{"$f":"IFERROR(VLOOKUP(B64,[3]A!B$1:H$48,7,0),IFERROR(VLOOKUP(B64,[3]B!B$1:H$51,7,0),VLOOKUP(B64,[3]C!B$1:H$52,7,0)))","v":2},0,9,12,{"$f":"IFERROR(VLOOKUP(B64,[4]A!B$1:F$48,5,0),IFERROR(VLOOKUP(B64,[4]B!B$1:F$51,5,0),VLOOKUP(B64,[4]C!B$1:F$52,5,0)))","v":0},2,2,{"$f":"IFERROR(VLOOKUP(B64,[4]A!B$1:J$48,9,0),IFERROR(VLOOKUP(B64,[4]B!B$1:J$51,9,0),VLOOKUP(B64,[4]C!B$1:J$52,9,0)))","v":0},3,4,null,1,1,null,59,0,0,48,48,81.355932203389841,4,"B-10",6,6,16]
[64,"15BA055",{"$f":"VLOOKUP(B65,[1]B!B$1:C$48,2,0)","v":3},{"$f":"VLOOKUP(B65,[1]B!B$1:D$48,3,0)","v":3},{"$f":"VLOOKUP(B65,[1]B!B$1:F$48,5,0)","v":0},{"$f":"VLOOKUP(B65,[1]B!B$1:G$48,6,0)","v":0},{"$f":"VLOOKUP(B65,[1]B!B$1:H$48,7,0)","v":0},{"$f":"VLOOKUP(B65,[1]B!B$1:J$48,9,0)","v":0},{"$f":"VLOOKUP(B65,[2]B!B$1:C$48,2,0)","v":14},{"$f":"VLOOKUP(B65,[2]B!B$1:D$48,3,0)","v":16},{"$f":"VLOOKUP(B65,[2]B!B$1:F$48,5,0)","v":0},{"$f":"VLOOKUP(B65,[2]B!B$1:G$48,6,0)","v":0},{"$f":"VLOOKUP(B65,[2]B!B$1:H$48,7,0)","v":0},{"$f":"VLOOKUP(B65,[2]B!B$1:J$48,9,0)","v":0},{"$f":"IFERROR(VLOOKUP(B65,[3]A!B$1:C$48,2,0),IFERROR(VLOOKUP(B65,[3]B!B$1:C$51,2,0),VLOOKUP(B65,[3]C!B$1:C$52,2,0)))","v":11},{"$f":"IFERROR(VLOOKUP(B65,[3]A!B$1:D$48,3,0),IFERROR(VLOOKUP(B65,[3]B!B$1:D$51,3,0),VLOOKUP(B65,[3]C!B$1:D$52,3,0)))","v":16},{"$f":"IFERROR(VLOOKUP(B65,[3]A!B$1:F$48,5,0),IFERROR(VLOOKUP(B65,[3]B!B$1:F$51,5,0),VLOOKUP(B65,[3]C!B$1:F$52,5,0)))","v":0},{"$f":"IFERROR(VLOOKUP(B65,[3]A!B$1:G$48,6,0),IFERROR(VLOOKUP(B65,[3]B!B$1:G$51,6,0),VLOOKUP(B65,[3]C!B$1:G$52,6,0)))","v":0},{"$f":"IFERROR(VLOOKUP(B65,[3]A!B$1:H$48,7,0),IFERROR(VLOOKUP(B65,[3]B!B$1:H$51,7,0),VLOOKUP(B65,[3]C!B$1:H$52,7,0)))","v":0},0,8,12,{"$f":"IFERROR(VLOOKUP(B65,[4]A!B$1:F$48,5,0),IFERROR(VLOOKUP(B65,[4]B!B$1:F$51,5,0),VLOOKUP(B65,[4]C!B$1:F$52,5,0)))","v":0},{"$f":"IFERROR(VLOOKUP(B65,[4]A!B$1:G$48,6,0),IFERROR(VLOOKUP(B65,[4]B!B$1:G$51,6,0),VLOOKUP(B65,[4]C!B$1:G$52,6,0)))","v":0},1,{"$f":"IFERROR(VLOOKUP(B65,[4]A!B$1:J$48,9,0),IFERROR(VLOOKUP(B65,[4]B!B$1:J$51,9,0),VLOOKUP(B65,[4]C!B$1:J$52,9,0)))","v":0},3,4,null,1,1,null,53,0,0,40,40,75.471698113207552,3,"B-6",5,4,12]
[65,"15BA057",{"$f":"VLOOKUP(B66,[1]B!B$1:C$48,2,0)","v":0},{"$f":"VLOOKUP(B66,[1]B!B$1:D$48,3,0)","v":3},{"$f":"VLOOKUP(B66,[1]B!B$1:F$48,5,0)","v":0},{"$f":"VLOOKUP(B66,[1]B!B$1:G$48,6,0)","v":0},{"$f":"VLOOKUP(B66,[1]B!B$1:H$48,7,0)","v":0},{"$f":"VLOOKUP(B66,[1]B!B$1:J$48,9,0)","v":0},{"$f":"VLOOKUP(B66,[2]B!B$1:C$48,2,0)","v":7},{"$f":"VLOOKUP(B66,[2]B!B$1:D$48,3,0)","v":16},{"$f":"VLOOKUP(B66,[2]B!B$1:F$48,5,0)","v":0},{"$f":"VLOOKUP(B66,[2]B!B$1:G$48,6,0)","v":0},{"$f":"VLOOKUP(B66,[2]B!B$1:H$48,7,0)","v":0},{"$f":"VLOOKUP(B66,[2]B!B$1:J$48,9,0)","v":0},{"$f":"IFERROR(VLOOKUP(B66,[3]A!B$1:C$48,2,0),IFERROR(VLOOKUP(B66,[3]B!B$1:C$51,2,0),VLOOKUP(B66,[3]C!B$1:C$52,2,0)))","v":14},{"$f":"IFERROR(VLOOKUP(B66,[3]A!B$1:D$48,3,0),IFERROR(VLOOKUP(B66,[3]B!B$1:D$51,3,0),VLOOKUP(B66,[3]C!B$1:D$52,3,0)))","v":16},{"$f":"IFERROR(VLOOKUP(B66,[3]A!B$1:F$48,5,0),IFERROR(VLOOKUP(B66,[3]B!B$1:F$51,5,0),VLOOKUP(B66,[3]C!B$1:F$52,5,0)))","v":0},{"$f":"IFERROR(VLOOKUP(B66,[3]A!B$1:G$48,6,0),IFERROR(VLOOKUP(B66,[3]B!B$1:G$51,6,0),VLOOKUP(B66,[3]C!B$1:G$52,6,0)))","v":0},{"$f":"IFERROR(VLOOKUP(B66,[3]A!B$1:H$48,7,0),IFERROR(VLOOKUP(B66,[3]B!B$1:H$51,7,0),VLOOKUP(B66,[3]C!B$1:H$52,7,0)))","v":0},0,7,12,{"$f":"IFERROR(VLOOKUP(B66,[4]A!B$1:F$48,5,0),IFERROR(VLOOKUP(B66,[4]B!B$1:F$51,5,0),VLOOKUP(B66,[4]C!B$1:F$52,5,0)))","v":0},2,3,{"$f":"IFERROR(VLOOKUP(B66,[4]A!B$1:J$48,9,0),IFERROR(VLOOKUP(B66,[4]B!B$1:J$51,9,0),VLOOKUP(B66,[4]C!B$1:J$52,9,0)))","v":0},4,4,null,1,1,null,55,0,0,35,35,63.636363636363633,0,"B-8",3,5,8]
[66,"15BA061",{"$f":"VLOOKUP(B67,[1]B!B$1:C$48,2,0)","v":3},{"$f":"VLOOKUP(B67,[1]B!B$1:D$48,3,0)","v":3},{"$f":"VLOOKUP(B67,[1]B!B$1:F$48,5,0)","v":0},{"$f":"VLOOKUP(B67,[1]B!B$1:G$48,6,0)","v":0},{"$f":"VLOOKUP(B67,[1]B!B$1:H$48,7,0)","v":0},{"$f":"VLOOKUP(B67,[1]B!B$1:J$48,9,0)","v":0},{"$f":"VLOOKUP(B67,[2]B!B$1:C$48,2,0)","v":15},{"$f":"VLOOKUP(B67,[2]B!B$1:D$48,3,0)","v":16},{"$f":"VLOOKUP(B67,[2]B!B$1:F$48,5,0)","v":0},{"$f":"VLOOKUP(B67,[2]B!B$1:G$48,6,0)","v":0},{"$f":"VLOOKUP(B67,[2]B!B$1:H$48,7,0)","v":0},{"$f":"VLOOKUP(B67,[2]B!B$1:J$48,9,0)","v":0},{"$f":"IFERROR(VLOOKUP(B67,[3]A!B$1:C$48,2,0),IFERROR(VLOOKUP(B67,[3]B!B$1:C$51,2,0),VLOOKUP(B67,[3]C!B$1:C$52,2,0)))","v":13},{"$f":"IFERROR(VLOOKUP(B67,[3]A!B$1:D$48,3,0),IFERROR(VLOOKUP(B67,[3]B!B$1:D$51,3,0),VLOOKUP(B67,[3]C!B$1:D$52,3,0)))","v":16},{"$f":"IFERROR(VLOOKUP(B67,[3]A!B$1:F$48,5,0),IFERROR(VLOOKUP(B67,[3]B!B$1:F$51,5,0),VLOOKUP(B67,[3]C!B$1:F$52,5,0)))","v":0},{"$f":"IFERROR(VLOOKUP(B67,[3]A!B$1:G$48,6,0),IFERROR(VLOOKUP(B67,[3]B!B$1:G$51,6,0),VLOOKUP(B67,[3]C!B$1:G$52,6,0)))","v":0},{"$f":"IFERROR(VLOOKUP(B67,[3]A!B$1:H$48,7,0),IFERROR(VLOOKUP(B67,[3]B!B$1:H$51,7,0),VLOOKUP(B67,[3]C!B$1:H$52,7,0)))","v":0},0,9,12,{"$f":"IFERROR(VLOOKUP(B67,[4]A!B$1:F$48,5,0),IFERROR(VLOOKUP(B67,[4]B!B$1:F$51,5,0),VLOOKUP(B67,[4]C!B$1:F$52,5,0)))","v":0},1,1,{"$f":"IFERROR(VLOOKUP(B67,[4]A!B$1:J$48,9,0),IFERROR(VLOOKUP(B67,[4]B!B$1:J$51,9,0),VLOOKUP(B67,[4]C!B$1:J$52,9,0)))","v":0},4,4,null,1,1,null,{"$f":"SUM(D67,G67,J67,M67,P67,S67,V67,Y67,AB67,AE67)","v":53},{"$f":"SUM(E67,H67,K67,N67,Q67,T67,W67,Z67,AC67,AF67)","v":0},{"$f":"FLOOR(IF(AH67<(1/3*(AG67)),AH67,(1/3*(AG67))),1)","v":0},{"$f":"SUM(C67,F67,I67,L67,O67,R67,U67,X67,AA67,AD67)","v":46},{"$f":"IF(SUM(AJ67,AI67)>AG67,AG67,SUM(AJ67,AI67))","v":46},{"$f":"(AK67/AG67)*100","v":86.79245283018868},{"$f":"IF(AL67>=85,5,(IF(AND(AL67>=80,AL67<85),4,(IF(AND(AL67>=75,AL67<80),3,(IF(AND(AL67>=70,AL67<75),2,(IF(AND(AL67>67,AL67<70),1,0)))))))))","v":5},"B-6",4,7,{"$f":"SUM(AM67,AO67,AP67)","v":16}]
[67,"15BA066",{"$f":"VLOOKUP(B68,[1]B!B$1:C$48,2,0)","v":3},{"$f":"VLOOKUP(B68,[1]B!B$1:D$48,3,0)","v":3},{"$f":"VLOOKUP(B68,[1]B!B$1:F$48,5,0)","v":0},{"$f":"VLOOKUP(B68,[1]B!B$1:G$48,6,0)","v":0},{"$f":"VLOOKUP(B68,[1]B!B$1:H$48,7,0)","v":0},{"$f":"VLOOKUP(B68,[1]B!B$1:J$48,9,0)","v":0},{"$f":"VLOOKUP(B68,[2]B!B$1:C$48,2,0)","v":16},{"$f":"VLOOKUP(B68,[2]B!B$1:D$48,3,0)","v":16},{"$f":"VLOOKUP(B68,[2]B!B$1:F$48,5,0)","v":0},{"$f":"VLOOKUP(B68,[2]B!B$1:G$48,6,0)","v":0},{"$f":"VLOOKUP(B68,[2]B!B$1:H$48,7,0)","v":0},{"$f":"VLOOKUP(B68,[2]B!B$1:J$48,9,0)","v":0},{"$f":"IFERROR(VLOOKUP(B68,[3]A!B$1:C$48,2,0),IFERROR(VLOOKUP(B68,[3]B!B$1:C$51,2,0),VLOOKUP(B68,[3]C!B$1:C$52,2,0)))","v":10},{"$f":"IFERROR(VLOOKUP(B68,[3]A!B$1:D$48,3,0),IFERROR(VLOOKUP(B68,[3]B!B$1:D$51,3,0),VLOOKUP(B68,[3]C!B$1:D$52,3,0)))","v":16},{"$f":"IFERROR(VLOOKUP(B68,[3]A!B$1:F$48,5,0),IFERROR(VLOOKUP(B68,[3]B!B$1:F$51,5,0),VLOOKUP(B68,[3]C!B$1:F$52,5,0)))","v":0},{"$f":"IFERROR(VLOOKUP(B68,[3]A!B$1:G$48,6,0),IFERROR(VLOOKUP(B68,[3]B!B$1:G$51,6,0),VLOOKUP(B68,[3]C!B$1:G$52,6,0)))","v":0},{"$f":"IFERROR(VLOOKUP(B68,[3]A!B$1:H$48,7,0),IFERROR(VLOOKUP(B68,[3]B!B$1:H$51,7,0),VLOOKUP(B68,[3]C!B$1:H$52,7,0)))","v":0},0,9,12,2,1,1,{"$f":"IFERROR(VLOOKUP(B68,[4]A!B$1:J$48,9,0),IFERROR(VLOOKUP(B68,[4]B!B$1:J$51,9,0),VLOOKUP(B68,[4]C!B$1:J$52,9,0)))","v":0},4,4,null,1,1,null,53,2,2,44,46,86.79245283018868,5,"B-6",7,7,19]
[68,"15BA072",{"$f":"VLOOKUP(B69,[1]B!B$1:C$48,2,0)","v":3},{"$f":"VLOOKUP(B69,[1]B!B$1:D$48,3,0)","v":3},{"$f":"VLOOKUP(B69,[1]B!B$1:F$48,5,0)","v":0},{"$f":"VLOOKUP(B69,[1]B!B$1:G$48,6,0)","v":0},{"$f":"VLOOKUP(B69,[1]B!B$1:H$48,7,0)","v":0},{"$f":"VLOOKUP(B69,[1]B!B$1:J$48,9,0)","v":0},{"$f":"VLOOKUP(B69,[2]B!B$1:C$48,2,0)","v":16},{"$f":"VLOOKUP(B69,[2]B!B$1:D$48,3,0)","v":16},{"$f":"VLOOKUP(B69,[2]B!B$1:F$48,5,0)","v":0},{"$f":"VLOOKUP(B69,[2]B!B$1:G$48,6,0)","v":3},{"$f":"VLOOKUP(B69,[2]B!B$1:H$48,7,0)","v":3},{"$f":"VLOOKUP(B69,[2]B!B$1:J$48,9,0)","v":0},{"$f":"IFERROR(VLOOKUP(B69,[3]A!B$1:C$48,2,0),IFERROR(VLOOKUP(B69,[3]B!B$1:C$51,2,0),VLOOKUP(B69,[3]C!B$1:C$52,2,0)))","v":15},{"$f":"IFERROR(VLOOKUP(B69,[3]A!B$1:D$48,3,0),IFERROR(VLOOKUP(B69,[3]B!B$1:D$51,3,0),VLOOKUP(B69,[3]C!B$1:D$52,3,0)))","v":16},{"$f":"IFERROR(VLOOKUP(B69,[3]A!B$1:F$48,5,0),IFERROR(VLOOKUP(B69,[3]B!B$1:F$51,5,0),VLOOKUP(B69,[3]C!B$1:F$52,5,0)))","v":0},{"$f":"IFERROR(VLOOKUP(B69,[3]A!B$1:G$48,6,0),IFERROR(VLOOKUP(B69,[3]B!B$1:G$51,6,0),VLOOKUP(B69,[3]C!B$1:G$52,6,0)))","v":2},{"$f":"IFERROR(VLOOKUP(B69,[3]A!B$1:H$48,7,0),IFERROR(VLOOKUP(B69,[3]B!B$1:H$51,7,0),VLOOKUP(B69,[3]C!B$1:H$52,7,0)))","v":2},0,8,12,{"$f":"IFERROR(VLOOKUP(B69,[4]A!B$1:F$48,5,0),IFERROR(VLOOKUP(B69,[4]B!B$1:F$51,5,0),VLOOKUP(B69,[4]C!B$1:F$52,5,0)))","v":0},2,2,{"$f":"IFERROR(VLOOKUP(B69,[4]A!B$1:J$48,9,0),IFERROR(VLOOKUP(B69,[4]B!B$1:J$51,9,0),VLOOKUP(B69,[4]C!B$1:J$52,9,0)))","v":0},3,4,null,1,1,null,59,0,0,53,53,89.830508474576277,5,"B-10",7,10,22]
[69,"15BA074",{"$f":"VLOOKUP(B70,[1]B!B$1:C$48,2,0)","v":3},{"$f":"VLOOKUP(B70,[1]B!B$1:D$48,3,0)","v":3},{"$f":"VLOOKUP(B70,[1]B!B$1:F$48,5,0)","v":0},{"$f":"VLOOKUP(B70,[1]B!B$1:G$48,6,0)","v":0},{"$f":"VLOOKUP(B70,[1]B!B$1:H$48,7,0)","v":0},{"$f":"VLOOKUP(B70,[1]B!B$1:J$48,9,0)","v":0},{"$f":"VLOOKUP(B70,[2]B!B$1:C$48,2,0)","v":13},{"$f":"VLOOKUP(B70,[2]B!B$1:D$48,3,0)","v":16},{"$f":"VLOOKUP(B70,[2]B!B$1:F$48,5,0)","v":0},{"$f":"VLOOKUP(B70,[2]B!B$1:G$48,6,0)","v":0},{"$f":"VLOOKUP(B70,[2]B!B$1:H$48,7,0)","v":0},{"$f":"VLOOKUP(B70,[2]B!B$1:J$48,9,0)","v":0},{"$f":"IFERROR(VLOOKUP(B70,[3]A!B$1:C$48,2,0),IFERROR(VLOOKUP(B70,[3]B!B$1:C$51,2,0),VLOOKUP(B70,[3]C!B$1:C$52,2,0)))","v":13},{"$f":"IFERROR(VLOOKUP(B70,[3]A!B$1:D$48,3,0),IFERROR(VLOOKUP(B70,[3]B!B$1:D$51,3,0),VLOOKUP(B70,[3]C!B$1:D$52,3,0)))","v":16},{"$f":"IFERROR(VLOOKUP(B70,[3]A!B$1:F$48,5,0),IFERROR(VLOOKUP(B70,[3]B!B$1:F$51,5,0),VLOOKUP(B70,[3]C!B$1:F$52,5,0)))","v":0},{"$f":"IFERROR(VLOOKUP(B70,[3]A!B$1:G$48,6,0),IFERROR(VLOOKUP(B70,[3]B!B$1:G$51,6,0),VLOOKUP(B70,[3]C!B$1:G$52,6,0)))","v":0},{"$f":"IFERROR(VLOOKUP(B70,[3]A!B$1:H$48,7,0),IFERROR(VLOOKUP(B70,[3]B!B$1:H$51,7,0),VLOOKUP(B70,[3]C!B$1:H$52,7,0)))","v":0},0,6,12,{"$f":"IFERROR(VLOOKUP(B70,[4]A!B$1:F$48,5,0),IFERROR(VLOOKUP(B70,[4]B!B$1:F$51,5,0),VLOOKUP(B70,[4]C!B$1:F$52,5,0)))","v":0},{"$f":"IFERROR(VLOOKUP(B70,[4]A!B$1:G$48,6,0),IFERROR(VLOOKUP(B70,[4]B!B$1:G$51,6,0),VLOOKUP(B70,[4]C!B$1:G$52,6,0)))","v":0},1,{"$f":"IFERROR(VLOOKUP(B70,[4]A!B$1:J$48,9,0),IFERROR(VLOOKUP(B70,[4]B!B$1:J$51,9,0),VLOOKUP(B70,[4]C!B$1:J$52,9,0)))","v":0},3,4,null,1,1,null,53,0,0,39,39,73.584905660377359,2,"B-6",6,6,14]
[70,"15BA075",{"$f":"VLOOKUP(B71,[1]B!B$1:C$48,2,0)","v":3},{"$f":"VLOOKUP(B71,[1]B!B$1:D$48,3,0)","v":3},{"$f":"VLOOKUP(B71,[1]B!B$1:F$48,5,0)","v":0},{"$f":"VLOOKUP(B71,[1]B!B$1:G$48,6,0)","v":0},{"$f":"VLOOKUP(B71,[1]B!B$1:H$48,7,0)","v":0},{"$f":"VLOOKUP(B71,[1]B!B$1:J$48,9,0)","v":0},{"$f":"VLOOKUP(B71,[2]B!B$1:C$48,2,0)","v":12},{"$f":"VLOOKUP(B71,[2]B!B$1:D$48,3,0)","v":16},{"$f":"VLOOKUP(B71,[2]B!B$1:F$48,5,0)","v":0},{"$f":"VLOOKUP(B71,[2]B!B$1:G$48,6,0)","v":0},{"$f":"VLOOKUP(B71,[2]B!B$1:H$48,7,0)","v":0},{"$f":"VLOOKUP(B71,[2]B!B$1:J$48,9,0)","v":0},{"$f":"IFERROR(VLOOKUP(B71,[3]A!B$1:C$48,2,0),IFERROR(VLOOKUP(B71,[3]B!B$1:C$51,2,0),VLOOKUP(B71,[3]C!B$1:C$52,2,0)))","v":12},{"$f":"IFERROR(VLOOKUP(B71,[3]A!B$1:D$48,3,0),IFERROR(VLOOKUP(B71,[3]B!B$1:D$51,3,0),VLOOKUP(B71,[3]C!B$1:D$52,3,0)))","v":16},{"$f":"IFERROR(VLOOKUP(B71,[3]A!B$1:F$48,5,0),IFERROR(VLOOKUP(B71,[3]B!B$1:F$51,5,0),VLOOKUP(B71,[3]C!B$1:F$52,5,0)))","v":0},{"$f":"IFERROR(VLOOKUP(B71,[3]A!B$1:G$48,6,0),IFERROR(VLOOKUP(B71,[3]B!B$1:G$51,6,0),VLOOKUP(B71,[3]C!B$1:G$52,6,0)))","v":0},{"$f":"IFERROR(VLOOKUP(B71,[3]A!B$1:H$48,7,0),IFERROR(VLOOKUP(B71,[3]B!B$1:H$51,7,0),VLOOKUP(B71,[3]C!B$1:H$52,7,0)))","v":0},0,8,12,{"$f":"IFERROR(VLOOKUP(B71,[4]A!B$1:F$48,5,0),IFERROR(VLOOKUP(B71,[4]B!B$1:F$51,5,0),VLOOKUP(B71,[4]C!B$1:F$52,5,0)))","v":0},2,3,{"$f":"IFERROR(VLOOKUP(B71,[4]A!B$1:J$48,9,0),IFERROR(VLOOKUP(B71,[4]B!B$1:J$51,9,0),VLOOKUP(B71,[4]C!B$1:J$52,9,0)))","v":0},1,4,null,1,1,null,55,0,0,39,39,70.909090909090907,2,"B-8",6,3,11]
[71,"15BA081",{"$f":"VLOOKUP(B72,[1]B!B$1:C$48,2,0)","v":3},{"$f":"VLOOKUP(B72,[1]B!B$1:D$48,3,0)","v":3},{"$f":"VLOOKUP(B72,[1]B!B$1:F$48,5,0)","v":0},{"$f":"VLOOKUP(B72,[1]B!B$1:G$48,6,0)","v":0},{"$f":"VLOOKUP(B72,[1]B!B$1:H$48,7,0)","v":0},{"$f":"VLOOKUP(B72,[1]B!B$1:J$48,9,0)","v":0},{"$f":"VLOOKUP(B72,[2]B!B$1:C$48,2,0)","v":10},{"$f":"VLOOKUP(B72,[2]B!B$1:D$48,3,0)","v":16},{"$f":"VLOOKUP(B72,[2]B!B$1:F$48,5,0)","v":0},{"$f":"VLOOKUP(B72,[2]B!B$1:G$48,6,0)","v":0},{"$f":"VLOOKUP(B72,[2]B!B$1:H$48,7,0)","v":0},{"$f":"VLOOKUP(B72,[2]B!B$1:J$48,9,0)","v":0},{"$f":"IFERROR(VLOOKUP(B72,[3]A!B$1:C$48,2,0),IFERROR(VLOOKUP(B72,[3]B!B$1:C$51,2,0),VLOOKUP(B72,[3]C!B$1:C$52,2,0)))","v":5},{"$f":"IFERROR(VLOOKUP(B72,[3]A!B$1:D$48,3,0),IFERROR(VLOOKUP(B72,[3]B!B$1:D$51,3,0),VLOOKUP(B72,[3]C!B$1:D$52,3,0)))","v":16},{"$f":"IFERROR(VLOOKUP(B72,[3]A!B$1:F$48,5,0),IFERROR(VLOOKUP(B72,[3]B!B$1:F$51,5,0),VLOOKUP(B72,[3]C!B$1:F$52,5,0)))","v":0},{"$f":"IFERROR(VLOOKUP(B72,[3]A!B$1:G$48,6,0),IFERROR(VLOOKUP(B72,[3]B!B$1:G$51,6,0),VLOOKUP(B72,[3]C!B$1:G$52,6,0)))","v":0},{"$f":"IFERROR(VLOOKUP(B72,[3]A!B$1:H$48,7,0),IFERROR(VLOOKUP(B72,[3]B!B$1:H$51,7,0),VLOOKUP(B72,[3]C!B$1:H$52,7,0)))","v":0},0,9,12,{"$f":"IFERROR(VLOOKUP(B72,[4]A!B$1:F$48,5,0),IFERROR(VLOOKUP(B72,[4]B!B$1:F$51,5,0),VLOOKUP(B72,[4]C!B$1:F$52,5,0)))","v":0},1,1,{"$f":"IFERROR(VLOOKUP(B72,[4]A!B$1:J$48,9,0),IFERROR(VLOOKUP(B72,[4]B!B$1:J$51,9,0),VLOOKUP(B72,[4]C!B$1:J$52,9,0)))","v":0},4,4,null,1,1,null,53,0,0,33,33,62.264150943396224,0,"B-6",9,10,19]
[72,"15BA085",{"$f":"VLOOKUP(B73,[1]B!B$1:C$48,2,0)","v":3},{"$f":"VLOOKUP(B73,[1]B!B$1:D$48,3,0)","v":3},{"$f":"VLOOKUP(B73,[1]B!B$1:F$48,5,0)","v":0},{"$f":"VLOOKUP(B73,[1]B!B$1:G$48,6,0)","v":0},{"$f":"VLOOKUP(B73,[1]B!B$1:H$48,7,0)","v":0},{"$f":"VLOOKUP(B73,[1]B!B$1:J$48,9,0)","v":0},{"$f":"VLOOKUP(B73,[2]B!B$1:C$48,2,0)","v":9},{"$f":"VLOOKUP(B73,[2]B!B$1:D$48,3,0)","v":16},{"$f":"VLOOKUP(B73,[2]B!B$1:F$48,5,0)","v":0},{"$f":"VLOOKUP(B73,[2]B!B$1:G$48,6,0)","v":0},{"$f":"VLOOKUP(B73,[2]B!B$1:H$48,7,0)","v":0},{"$f":"VLOOKUP(B73,[2]B!B$1:J$48,9,0)","v":0},{"$f":"IFERROR(VLOOKUP(B73,[3]A!B$1:C$48,2,0),IFERROR(VLOOKUP(B73,[3]B!B$1:C$51,2,0),VLOOKUP(B73,[3]C!B$1:C$52,2,0)))","v":6},{"$f":"IFERROR(VLOOKUP(B73,[3]A!B$1:D$48,3,0),IFERROR(VLOOKUP(B73,[3]B!B$1:D$51,3,0),VLOOKUP(B73,[3]C!B$1:D$52,3,0)))","v":16},{"$f":"IFERROR(VLOOKUP(B73,[3]A!B$1:F$48,5,0),IFERROR(VLOOKUP(B73,[3]B!B$1:F$51,5,0),VLOOKUP(B73,[3]C!B$1:F$52,5,0)))","v":0},{"$f":"IFERROR(VLOOKUP(B73,[3]A!B$1:G$48,6,0),IFERROR(VLOOKUP(B73,[3]B!B$1:G$51,6,0),VLOOKUP(B73,[3]C!B$1:G$52,6,0)))","v":0},{"$f":"IFERROR(VLOOKUP(B73,[3]A!B$1:H$48,7,0),IFERROR(VLOOKUP(B73,[3]B!B$1:H$51,7,0),VLOOKUP(B73,[3]C!B$1:H$52,7,0)))","v":0},0,4,12,{"$f":"IFERROR(VLOOKUP(B73,[4]A!B$1:F$48,5,0),IFERROR(VLOOKUP(B73,[4]B!B$1:F$51,5,0),VLOOKUP(B73,[4]C!B$1:F$52,5,0)))","v":0},{"$f":"IFERROR(VLOOKUP(B73,[4]A!B$1:G$48,6,0),IFERROR(VLOOKUP(B73,[4]B!B$1:G$51,6,0),VLOOKUP(B73,[4]C!B$1:G$52,6,0)))","v":0},1,{"$f":"IFERROR(VLOOKUP(B73,[4]A!B$1:J$48,9,0),IFERROR(VLOOKUP(B73,[4]B!B$1:J$51,9,0),VLOOKUP(B73,[4]C!B$1:J$52,9,0)))","v":0},2,4,null,0,1,null,53,0,0,24,24,45.283018867924532,0,"B-6",5,2,7]
[73,"15BA086",{"$f":"VLOOKUP(B74,[1]B!B$1:C$48,2,0)","v":2},{"$f":"VLOOKUP(B74,[1]B!B$1:D$48,3,0)","v":3},{"$f":"VLOOKUP(B74,[1]B!B$1:F$48,5,0)","v":0},{"$f":"VLOOKUP(B74,[1]B!B$1:G$48,6,0)","v":0},{"$f":"VLOOKUP(B74,[1]B!B$1:H$48,7,0)","v":0},{"$f":"VLOOKUP(B74,[1]B!B$1:J$48,9,0)","v":0},{"$f":"VLOOKUP(B74,[2]B!B$1:C$48,2,0)","v":15},{"$f":"VLOOKUP(B74,[2]B!B$1:D$48,3,0)","v":16},{"$f":"VLOOKUP(B74,[2]B!B$1:F$48,5,0)","v":0},{"$f":"VLOOKUP(B74,[2]B!B$1:G$48,6,0)","v":3},{"$f":"VLOOKUP(B74,[2]B!B$1:H$48,7,0)","v":3},{"$f":"VLOOKUP(B74,[2]B!B$1:J$48,9,0)","v":0},{"$f":"IFERROR(VLOOKUP(B74,[3]A!B$1:C$48,2,0),IFERROR(VLOOKUP(B74,[3]B!B$1:C$51,2,0),VLOOKUP(B74,[3]C!B$1:C$52,2,0)))","v":14},{"$f":"IFERROR(VLOOKUP(B74,[3]A!B$1:D$48,3,0),IFERROR(VLOOKUP(B74,[3]B!B$1:D$51,3,0),VLOOKUP(B74,[3]C!B$1:D$52,3,0)))","v":16},{"$f":"IFERROR(VLOOKUP(B74,[3]A!B$1:F$48,5,0),IFERROR(VLOOKUP(B74,[3]B!B$1:F$51,5,0),VLOOKUP(B74,[3]C!B$1:F$52,5,0)))","v":0},{"$f":"IFERROR(VLOOKUP(B74,[3]A!B$1:G$48,6,0),IFERROR(VLOOKUP(B74,[3]B!B$1:G$51,6,0),VLOOKUP(B74,[3]C!B$1:G$52,6,0)))","v":2},{"$f":"IFERROR(VLOOKUP(B74,[3]A!B$1:H$48,7,0),IFERROR(VLOOKUP(B74,[3]B!B$1:H$51,7,0),VLOOKUP(B74,[3]C!B$1:H$52,7,0)))","v":2},0,8,12,{"$f":"IFERROR(VLOOKUP(B74,[4]A!B$1:F$48,5,0),IFERROR(VLOOKUP(B74,[4]B!B$1:F$51,5,0),VLOOKUP(B74,[4]C!B$1:F$52,5,0)))","v":0},2,2,{"$f":"IFERROR(VLOOKUP(B74,[4]A!B$1:J$48,9,0),IFERROR(VLOOKUP(B74,[4]B!B$1:J$51,9,0),VLOOKUP(B74,[4]C!B$1:J$52,9,0)))","v":0},2,4,null,1,1,null,59,0,0,49,49,83.050847457627114,4,"B-10",7,7,18]
[74,"15BA088",{"$f":"VLOOKUP(B75,[1]B!B$1:C$48,2,0)","v":3},{"$f":"VLOOKUP(B75,[1]B!B$1:D$48,3,0)","v":3},{"$f":"VLOOKUP(B75,[1]B!B$1:F$48,5,0)","v":0},{"$f":"VLOOKUP(B75,[1]B!B$1:G$48,6,0)","v":0},{"$f":"VLOOKUP(B75,[1]B!B$1:H$48,7,0)","v":0},{"$f":"VLOOKUP(B75,[1]B!B$1:J$48,9,0)","v":0},{"$f":"VLOOKUP(B75,[2]B!B$1:C$48,2,0)","v":4},{"$f":"VLOOKUP(B75,[2]B!B$1:D$48,3,0)","v":16},{"$f":"VLOOKUP(B75,[2]B!B$1:F$48,5,0)","v":0},{"$f":"VLOOKUP(B75,[2]B!B$1:G$48,6,0)","v":3},{"$f":"VLOOKUP(B75,[2]B!B$1:H$48,7,0)","v":3},{"$f":"VLOOKUP(B75,[2]B!B$1:J$48,9,0)","v":0},{"$f":"IFERROR(VLOOKUP(B75,[3]A!B$1:C$48,2,0),IFERROR(VLOOKUP(B75,[3]B!B$1:C$51,2,0),VLOOKUP(B75,[3]C!B$1:C$52,2,0)))","v":0},{"$f":"IFERROR(VLOOKUP(B75,[3]A!B$1:D$48,3,0),IFERROR(VLOOKUP(B75,[3]B!B$1:D$51,3,0),VLOOKUP(B75,[3]C!B$1:D$52,3,0)))","v":16},{"$f":"IFERROR(VLOOKUP(B75,[3]A!B$1:F$48,5,0),IFERROR(VLOOKUP(B75,[3]B!B$1:F$51,5,0),VLOOKUP(B75,[3]C!B$1:F$52,5,0)))","v":0},{"$f":"IFERROR(VLOOKUP(B75,[3]A!B$1:G$48,6,0),IFERROR(VLOOKUP(B75,[3]B!B$1:G$51,6,0),VLOOKUP(B75,[3]C!B$1:G$52,6,0)))","v":2},{"$f":"IFERROR(VLOOKUP(B75,[3]A!B$1:H$48,7,0),IFERROR(VLOOKUP(B75,[3]B!B$1:H$51,7,0),VLOOKUP(B75,[3]C!B$1:H$52,7,0)))","v":2},0,1,12,{"$f":"IFERROR(VLOOKUP(B75,[4]A!B$1:F$48,5,0),IFERROR(VLOOKUP(B75,[4]B!B$1:F$51,5,0),VLOOKUP(B75,[4]C!B$1:F$52,5,0)))","v":0},2,2,{"$f":"IFERROR(VLOOKUP(B75,[4]A!B$1:J$48,9,0),IFERROR(VLOOKUP(B75,[4]B!B$1:J$51,9,0),VLOOKUP(B75,[4]C!B$1:J$52,9,0)))","v":0},0,4,null,1,1,null,59,0,0,16,16,27.118644067796609,0,"B-10",3,0,3]
[75,"15BA089",{"$f":"VLOOKUP(B76,[1]B!B$1:C$48,2,0)","v":3},{"$f":"VLOOKUP(B76,[1]B!B$1:D$48,3,0)","v":3},{"$f":"VLOOKUP(B76,[1]B!B$1:F$48,5,0)","v":0},{"$f":"VLOOKUP(B76,[1]B!B$1:G$48,6,0)","v":0},{"$f":"VLOOKUP(B76,[1]B!B$1:H$48,7,0)","v":0},{"$f":"VLOOKUP(B76,[1]B!B$1:J$48,9,0)","v":0},{"$f":"VLOOKUP(B76,[2]B!B$1:C$48,2,0)","v":12},{"$f":"VLOOKUP(B76,[2]B!B$1:D$48,3,0)","v":16},{"$f":"VLOOKUP(B76,[2]B!B$1:F$48,5,0)","v":0},{"$f":"VLOOKUP(B76,[2]B!B$1:G$48,6,0)","v":0},{"$f":"VLOOKUP(B76,[2]B!B$1:H$48,7,0)","v":0},{"$f":"VLOOKUP(B76,[2]B!B$1:J$48,9,0)","v":0},{"$f":"IFERROR(VLOOKUP(B76,[3]A!B$1:C$48,2,0),IFERROR(VLOOKUP(B76,[3]B!B$1:C$51,2,0),VLOOKUP(B76,[3]C!B$1:C$52,2,0)))","v":6},{"$f":"IFERROR(VLOOKUP(B76,[3]A!B$1:D$48,3,0),IFERROR(VLOOKUP(B76,[3]B!B$1:D$51,3,0),VLOOKUP(B76,[3]C!B$1:D$52,3,0)))","v":16},{"$f":"IFERROR(VLOOKUP(B76,[3]A!B$1:F$48,5,0),IFERROR(VLOOKUP(B76,[3]B!B$1:F$51,5,0),VLOOKUP(B76,[3]C!B$1:F$52,5,0)))","v":4},{"$f":"IFERROR(VLOOKUP(B76,[3]A!B$1:G$48,6,0),IFERROR(VLOOKUP(B76,[3]B!B$1:G$51,6,0),VLOOKUP(B76,[3]C!B$1:G$52,6,0)))","v":0},{"$f":"IFERROR(VLOOKUP(B76,[3]A!B$1:H$48,7,0),IFERROR(VLOOKUP(B76,[3]B!B$1:H$51,7,0),VLOOKUP(B76,[3]C!B$1:H$52,7,0)))","v":0},0,4,12,5,{"$f":"IFERROR(VLOOKUP(B76,[4]A!B$1:G$48,6,0),IFERROR(VLOOKUP(B76,[4]B!B$1:G$51,6,0),VLOOKUP(B76,[4]C!B$1:G$52,6,0)))","v":0},1,{"$f":"IFERROR(VLOOKUP(B76,[4]A!B$1:J$48,9,0),IFERROR(VLOOKUP(B76,[4]B!B$1:J$51,9,0),VLOOKUP(B76,[4]C!B$1:J$52,9,0)))","v":0},3,4,1,1,null,null,52,10,10,29,39,75,3,"B-7",3,2,8]
[76,"15BA090",{"$f":"VLOOKUP(B77,[1]B!B$1:C$48,2,0)","v":3},{"$f":"VLOOKUP(B77,[1]B!B$1:D$48,3,0)","v":3},{"$f":"VLOOKUP(B77,[1]B!B$1:F$48,5,0)","v":0},{"$f":"VLOOKUP(B77,[1]B!B$1:G$48,6,0)","v":0},{"$f":"VLOOKUP(B77,[1]B!B$1:H$48,7,0)","v":0},{"$f":"VLOOKUP(B77,[1]B!B$1:J$48,9,0)","v":0},{"$f":"VLOOKUP(B77,[2]B!B$1:C$48,2,0)","v":15},{"$f":"VLOOKUP(B77,[2]B!B$1:D$48,3,0)","v":16},{"$f":"VLOOKUP(B77,[2]B!B$1:F$48,5,0)","v":0},{"$f":"VLOOKUP(B77,[2]B!B$1:G$48,6,0)","v":0},{"$f":"VLOOKUP(B77,[2]B!B$1:H$48,7,0)","v":0},{"$f":"VLOOKUP(B77,[2]B!B$1:J$48,9,0)","v":0},{"$f":"IFERROR(VLOOKUP(B77,[3]A!B$1:C$48,2,0),IFERROR(VLOOKUP(B77,[3]B!B$1:C$51,2,0),VLOOKUP(B77,[3]C!B$1:C$52,2,0)))","v":14},{"$f":"IFERROR(VLOOKUP(B77,[3]A!B$1:D$48,3,0),IFERROR(VLOOKUP(B77,[3]B!B$1:D$51,3,0),VLOOKUP(B77,[3]C!B$1:D$52,3,0)))","v":16},{"$f":"IFERROR(VLOOKUP(B77,[3]A!B$1:F$48,5,0),IFERROR(VLOOKUP(B77,[3]B!B$1:F$51,5,0),VLOOKUP(B77,[3]C!B$1:F$52,5,0)))","v":0},{"$f":"IFERROR(VLOOKUP(B77,[3]A!B$1:G$48,6,0),IFERROR(VLOOKUP(B77,[3]B!B$1:G$51,6,0),VLOOKUP(B77,[3]C!B$1:G$52,6,0)))","v":0},{"$f":"IFERROR(VLOOKUP(B77,[3]A!B$1:H$48,7,0),IFERROR(VLOOKUP(B77,[3]B!B$1:H$51,7,0),VLOOKUP(B77,[3]C!B$1:H$52,7,0)))","v":0},0,9,12,{"$f":"IFERROR(VLOOKUP(B77,[4]A!B$1:F$48,5,0),IFERROR(VLOOKUP(B77,[4]B!B$1:F$51,5,0),VLOOKUP(B77,[4]C!B$1:F$52,5,0)))","v":0},3,3,{"$f":"IFERROR(VLOOKUP(B77,[4]A!B$1:J$48,9,0),IFERROR(VLOOKUP(B77,[4]B!B$1:J$51,9,0),VLOOKUP(B77,[4]C!B$1:J$52,9,0)))","v":0},4,4,null,1,1,null,55,0,0,49,49,89.090909090909093,5,"B-8",9,10,24]
[77,"15BA092",{"$f":"VLOOKUP(B78,[1]B!B$1:C$48,2,0)","v":2},{"$f":"VLOOKUP(B78,[1]B!B$1:D$48,3,0)","v":3},{"$f":"VLOOKUP(B78,[1]B!B$1:F$48,5,0)","v":0},{"$f":"VLOOKUP(B78,[1]B!B$1:G$48,6,0)","v":0},{"$f":"VLOOKUP(B78,[1]B!B$1:H$48,7,0)","v":0},{"$f":"VLOOKUP(B78,[1]B!B$1:J$48,9,0)","v":0},{"$f":"VLOOKUP(B78,[2]B!B$1:C$48,2,0)","v":14},{"$f":"VLOOKUP(B78,[2]B!B$1:D$48,3,0)","v":16},{"$f":"VLOOKUP(B78,[2]B!B$1:F$48,5,0)","v":0},{"$f":"VLOOKUP(B78,[2]B!B$1:G$48,6,0)","v":0},{"$f":"VLOOKUP(B78,[2]B!B$1:H$48,7,0)","v":0},{"$f":"VLOOKUP(B78,[2]B!B$1:J$48,9,0)","v":0},{"$f":"IFERROR(VLOOKUP(B78,[3]A!B$1:C$48,2,0),IFERROR(VLOOKUP(B78,[3]B!B$1:C$51,2,0),VLOOKUP(B78,[3]C!B$1:C$52,2,0)))","v":11},{"$f":"IFERROR(VLOOKUP(B78,[3]A!B$1:D$48,3,0),IFERROR(VLOOKUP(B78,[3]B!B$1:D$51,3,0),VLOOKUP(B78,[3]C!B$1:D$52,3,0)))","v":16},{"$f":"IFERROR(VLOOKUP(B78,[3]A!B$1:F$48,5,0),IFERROR(VLOOKUP(B78,[3]B!B$1:F$51,5,0),VLOOKUP(B78,[3]C!B$1:F$52,5,0)))","v":0},{"$f":"IFERROR(VLOOKUP(B78,[3]A!B$1:G$48,6,0),IFERROR(VLOOKUP(B78,[3]B!B$1:G$51,6,0),VLOOKUP(B78,[3]C!B$1:G$52,6,0)))","v":0},{"$f":"IFERROR(VLOOKUP(B78,[3]A!B$1:H$48,7,0),IFERROR(VLOOKUP(B78,[3]B!B$1:H$51,7,0),VLOOKUP(B78,[3]C!B$1:H$52,7,0)))","v":0},0,8,12,{"$f":"IFERROR(VLOOKUP(B78,[4]A!B$1:F$48,5,0),IFERROR(VLOOKUP(B78,[4]B!B$1:F$51,5,0),VLOOKUP(B78,[4]C!B$1:F$52,5,0)))","v":0},1,1,{"$f":"IFERROR(VLOOKUP(B78,[4]A!B$1:J$48,9,0),IFERROR(VLOOKUP(B78,[4]B!B$1:J$51,9,0),VLOOKUP(B78,[4]C!B$1:J$52,9,0)))","v":0},4,4,1,1,null,null,52,1,1,41,42,80.769230769230774,4,"B-7",7,5,16]
[78,"15BA098",{"$f":"VLOOKUP(B79,[1]B!B$1:C$48,2,0)","v":2},{"$f":"VLOOKUP(B79,[1]B!B$1:D$48,3,0)","v":3},{"$f":"VLOOKUP(B79,[1]B!B$1:F$48,5,0)","v":0},{"$f":"VLOOKUP(B79,[1]B!B$1:G$48,6,0)","v":0},{"$f":"VLOOKUP(B79,[1]B!B$1:H$48,7,0)","v":0},{"$f":"VLOOKUP(B79,[1]B!B$1:J$48,9,0)","v":0},{"$f":"VLOOKUP(B79,[2]B!B$1:C$48,2,0)","v":9},{"$f":"VLOOKUP(B79,[2]B!B$1:D$48,3,0)","v":16},{"$f":"VLOOKUP(B79,[2]B!B$1:F$48,5,0)","v":0},{"$f":"VLOOKUP(B79,[2]B!B$1:G$48,6,0)","v":3},{"$f":"VLOOKUP(B79,[2]B!B$1:H$48,7,0)","v":3},{"$f":"VLOOKUP(B79,[2]B!B$1:J$48,9,0)","v":0},{"$f":"IFERROR(VLOOKUP(B79,[3]A!B$1:C$48,2,0),IFERROR(VLOOKUP(B79,[3]B!B$1:C$51,2,0),VLOOKUP(B79,[3]C!B$1:C$52,2,0)))","v":12},{"$f":"IFERROR(VLOOKUP(B79,[3]A!B$1:D$48,3,0),IFERROR(VLOOKUP(B79,[3]B!B$1:D$51,3,0),VLOOKUP(B79,[3]C!B$1:D$52,3,0)))","v":16},{"$f":"IFERROR(VLOOKUP(B79,[3]A!B$1:F$48,5,0),IFERROR(VLOOKUP(B79,[3]B!B$1:F$51,5,0),VLOOKUP(B79,[3]C!B$1:F$52,5,0)))","v":0},{"$f":"IFERROR(VLOOKUP(B79,[3]A!B$1:G$48,6,0),IFERROR(VLOOKUP(B79,[3]B!B$1:G$51,6,0),VLOOKUP(B79,[3]C!B$1:G$52,6,0)))","v":2},{"$f":"IFERROR(VLOOKUP(B79,[3]A!B$1:H$48,7,0),IFERROR(VLOOKUP(B79,[3]B!B$1:H$51,7,0),VLOOKUP(B79,[3]C!B$1:H$52,7,0)))","v":2},0,9,12,{"$f":"IFERROR(VLOOKUP(B79,[4]A!B$1:F$48,5,0),IFERROR(VLOOKUP(B79,[4]B!B$1:F$51,5,0),VLOOKUP(B79,[4]C!B$1:F$52,5,0)))","v":0},2,2,{"$f":"IFERROR(VLOOKUP(B79,[4]A!B$1:J$48,9,0),IFERROR(VLOOKUP(B79,[4]B!B$1:J$51,9,0),VLOOKUP(B79,[4]C!B$1:J$52,9,0)))","v":0},1,4,null,1,1,null,59,0,0,41,41,69.491525423728817,1,"B-10",8,8,17]
[79,"15BA101",{"$f":"VLOOKUP(B80,[1]B!B$1:C$48,2,0)","v":3},{"$f":"VLOOKUP(B80,[1]B!B$1:D$48,3,0)","v":3},{"$f":"VLOOKUP(B80,[1]B!B$1:F$48,5,0)","v":0},{"$f":"VLOOKUP(B80,[1]B!B$1:G$48,6,0)","v":0},{"$f":"VLOOKUP(B80,[1]B!B$1:H$48,7,0)","v":0},{"$f":"VLOOKUP(B80,[1]B!B$1:J$48,9,0)","v":0},{"$f":"VLOOKUP(B80,[2]B!B$1:C$48,2,0)","v":12},{"$f":"VLOOKUP(B80,[2]B!B$1:D$48,3,0)","v":16},{"$f":"VLOOKUP(B80,[2]B!B$1:F$48,5,0)","v":0},{"$f":"VLOOKUP(B80,[2]B!B$1:G$48,6,0)","v":0},{"$f":"VLOOKUP(B80,[2]B!B$1:H$48,7,0)","v":0},{"$f":"VLOOKUP(B80,[2]B!B$1:J$48,9,0)","v":0},{"$f":"IFERROR(VLOOKUP(B80,[3]A!B$1:C$48,2,0),IFERROR(VLOOKUP(B80,[3]B!B$1:C$51,2,0),VLOOKUP(B80,[3]C!B$1:C$52,2,0)))","v":10},{"$f":"IFERROR(VLOOKUP(B80,[3]A!B$1:D$48,3,0),IFERROR(VLOOKUP(B80,[3]B!B$1:D$51,3,0),VLOOKUP(B80,[3]C!B$1:D$52,3,0)))","v":16},{"$f":"IFERROR(VLOOKUP(B80,[3]A!B$1:F$48,5,0),IFERROR(VLOOKUP(B80,[3]B!B$1:F$51,5,0),VLOOKUP(B80,[3]C!B$1:F$52,5,0)))","v":0},{"$f":"IFERROR(VLOOKUP(B80,[3]A!B$1:G$48,6,0),IFERROR(VLOOKUP(B80,[3]B!B$1:G$51,6,0),VLOOKUP(B80,[3]C!B$1:G$52,6,0)))","v":0},{"$f":"IFERROR(VLOOKUP(B80,[3]A!B$1:H$48,7,0),IFERROR(VLOOKUP(B80,[3]B!B$1:H$51,7,0),VLOOKUP(B80,[3]C!B$1:H$52,7,0)))","v":0},0,8,12,{"$f":"IFERROR(VLOOKUP(B80,[4]A!B$1:F$48,5,0),IFERROR(VLOOKUP(B80,[4]B!B$1:F$51,5,0),VLOOKUP(B80,[4]C!B$1:F$52,5,0)))","v":0},1,1,{"$f":"IFERROR(VLOOKUP(B80,[4]A!B$1:J$48,9,0),IFERROR(VLOOKUP(B80,[4]B!B$1:J$51,9,0),VLOOKUP(B80,[4]C!B$1:J$52,9,0)))","v":0},3,4,1,1,null,null,52,1,1,38,39,75,3,"B-7",7,7,17]
[80,"15BA107",{"$f":"VLOOKUP(B81,[1]B!B$1:C$48,2,0)","v":3},{"$f":"VLOOKUP(B81,[1]B!B$1:D$48,3,0)","v":3},{"$f":"VLOOKUP(B81,[1]B!B$1:F$48,5,0)","v":0},{"$f":"VLOOKUP(B81,[1]B!B$1:G$48,6,0)","v":0},{"$f":"VLOOKUP(B81,[1]B!B$1:H$48,7,0)","v":0},{"$f":"VLOOKUP(B81,[1]B!B$1:J$48,9,0)","v":0},{"$f":"VLOOKUP(B81,[2]B!B$1:C$48,2,0)","v":15},{"$f":"VLOOKUP(B81,[2]B!B$1:D$48,3,0)","v":16},{"$f":"VLOOKUP(B81,[2]B!B$1:F$48,5,0)","v":0},{"$f":"VLOOKUP(B81,[2]B!B$1:G$48,6,0)","v":0},{"$f":"VLOOKUP(B81,[2]B!B$1:H$48,7,0)","v":0},{"$f":"VLOOKUP(B81,[2]B!B$1:J$48,9,0)","v":0},{"$f":"IFERROR(VLOOKUP(B81,[3]A!B$1:C$48,2,0),IFERROR(VLOOKUP(B81,[3]B!B$1:C$51,2,0),VLOOKUP(B81,[3]C!B$1:C$52,2,0)))","v":8},{"$f":"IFERROR(VLOOKUP(B81,[3]A!B$1:D$48,3,0),IFERROR(VLOOKUP(B81,[3]B!B$1:D$51,3,0),VLOOKUP(B81,[3]C!B$1:D$52,3,0)))","v":16},{"$f":"IFERROR(VLOOKUP(B81,[3]A!B$1:F$48,5,0),IFERROR(VLOOKUP(B81,[3]B!B$1:F$51,5,0),VLOOKUP(B81,[3]C!B$1:F$52,5,0)))","v":0},{"$f":"IFERROR(VLOOKUP(B81,[3]A!B$1:G$48,6,0),IFERROR(VLOOKUP(B81,[3]B!B$1:G$51,6,0),VLOOKUP(B81,[3]C!B$1:G$52,6,0)))","v":0},{"$f":"IFERROR(VLOOKUP(B81,[3]A!B$1:H$48,7,0),IFERROR(VLOOKUP(B81,[3]B!B$1:H$51,7,0),VLOOKUP(B81,[3]C!B$1:H$52,7,0)))","v":0},0,2,12,6,1,1,{"$f":"IFERROR(VLOOKUP(B81,[4]A!B$1:J$48,9,0),IFERROR(VLOOKUP(B81,[4]B!B$1:J$51,9,0),VLOOKUP(B81,[4]C!B$1:J$52,9,0)))","v":0},2,4,null,1,1,null,53,6,6,32,38,71.698113207547166,2,"B-9",4,8,14]
[81,"15BA108",{"$f":"VLOOKUP(B82,[1]B!B$1:C$48,2,0)","v":3},{"$f":"VLOOKUP(B82,[1]B!B$1:D$48,3,0)","v":3},{"$f":"VLOOKUP(B82,[1]B!B$1:F$48,5,0)","v":0},{"$f":"VLOOKUP(B82,[1]B!B$1:G$48,6,0)","v":0},{"$f":"VLOOKUP(B82,[1]B!B$1:H$48,7,0)","v":0},{"$f":"VLOOKUP(B82,[1]B!B$1:J$48,9,0)","v":0},{"$f":"VLOOKUP(B82,[2]B!B$1:C$48,2,0)","v":15},{"$f":"VLOOKUP(B82,[2]B!B$1:D$48,3,0)","v":16},{"$f":"VLOOKUP(B82,[2]B!B$1:F$48,5,0)","v":0},{"$f":"VLOOKUP(B82,[2]B!B$1:G$48,6,0)","v":2},{"$f":"VLOOKUP(B82,[2]B!B$1:H$48,7,0)","v":2},{"$f":"VLOOKUP(B82,[2]B!B$1:J$48,9,0)","v":0},{"$f":"IFERROR(VLOOKUP(B82,[3]A!B$1:C$48,2,0),IFERROR(VLOOKUP(B82,[3]B!B$1:C$51,2,0),VLOOKUP(B82,[3]C!B$1:C$52,2,0)))","v":13},{"$f":"IFERROR(VLOOKUP(B82,[3]A!B$1:D$48,3,0),IFERROR(VLOOKUP(B82,[3]B!B$1:D$51,3,0),VLOOKUP(B82,[3]C!B$1:D$52,3,0)))","v":16},{"$f":"IFERROR(VLOOKUP(B82,[3]A!B$1:F$48,5,0),IFERROR(VLOOKUP(B82,[3]B!B$1:F$51,5,0),VLOOKUP(B82,[3]C!B$1:F$52,5,0)))","v":0},{"$f":"IFERROR(VLOOKUP(B82,[3]A!B$1:G$48,6,0),IFERROR(VLOOKUP(B82,[3]B!B$1:G$51,6,0),VLOOKUP(B82,[3]C!B$1:G$52,6,0)))","v":2},{"$f":"IFERROR(VLOOKUP(B82,[3]A!B$1:H$48,7,0),IFERROR(VLOOKUP(B82,[3]B!B$1:H$51,7,0),VLOOKUP(B82,[3]C!B$1:H$52,7,0)))","v":2},0,10,12,{"$f":"IFERROR(VLOOKUP(B82,[4]A!B$1:F$48,5,0),IFERROR(VLOOKUP(B82,[4]B!B$1:F$51,5,0),VLOOKUP(B82,[4]C!B$1:F$52,5,0)))","v":0},1,1,{"$f":"IFERROR(VLOOKUP(B82,[4]A!B$1:J$48,9,0),IFERROR(VLOOKUP(B82,[4]B!B$1:J$51,9,0),VLOOKUP(B82,[4]C!B$1:J$52,9,0)))","v":0},2,4,null,1,1,null,57,0,0,49,49,85.964912280701753,5,"B-9",6,9,20]
[82,"15BA111",{"$f":"VLOOKUP(B83,[1]B!B$1:C$48,2,0)","v":3},{"$f":"VLOOKUP(B83,[1]B!B$1:D$48,3,0)","v":3},{"$f":"VLOOKUP(B83,[1]B!B$1:F$48,5,0)","v":0},{"$f":"VLOOKUP(B83,[1]B!B$1:G$48,6,0)","v":0},{"$f":"VLOOKUP(B83,[1]B!B$1:H$48,7,0)","v":0},{"$f":"VLOOKUP(B83,[1]B!B$1:J$48,9,0)","v":0},{"$f":"VLOOKUP(B83,[2]B!B$1:C$48,2,0)","v":16},{"$f":"VLOOKUP(B83,[2]B!B$1:D$48,3,0)","v":16},{"$f":"VLOOKUP(B83,[2]B!B$1:F$48,5,0)","v":0},{"$f":"VLOOKUP(B83,[2]B!B$1:G$48,6,0)","v":0},{"$f":"VLOOKUP(B83,[2]B!B$1:H$48,7,0)","v":0},{"$f":"VLOOKUP(B83,[2]B!B$1:J$48,9,0)","v":0},{"$f":"IFERROR(VLOOKUP(B83,[3]A!B$1:C$48,2,0),IFERROR(VLOOKUP(B83,[3]B!B$1:C$51,2,0),VLOOKUP(B83,[3]C!B$1:C$52,2,0)))","v":13},{"$f":"IFERROR(VLOOKUP(B83,[3]A!B$1:D$48,3,0),IFERROR(VLOOKUP(B83,[3]B!B$1:D$51,3,0),VLOOKUP(B83,[3]C!B$1:D$52,3,0)))","v":16},{"$f":"IFERROR(VLOOKUP(B83,[3]A!B$1:F$48,5,0),IFERROR(VLOOKUP(B83,[3]B!B$1:F$51,5,0),VLOOKUP(B83,[3]C!B$1:F$52,5,0)))","v":0},{"$f":"IFERROR(VLOOKUP(B83,[3]A!B$1:G$48,6,0),IFERROR(VLOOKUP(B83,[3]B!B$1:G$51,6,0),VLOOKUP(B83,[3]C!B$1:G$52,6,0)))","v":0},{"$f":"IFERROR(VLOOKUP(B83,[3]A!B$1:H$48,7,0),IFERROR(VLOOKUP(B83,[3]B!B$1:H$51,7,0),VLOOKUP(B83,[3]C!B$1:H$52,7,0)))","v":0},0,8,12,{"$f":"IFERROR(VLOOKUP(B83,[4]A!B$1:F$48,5,0),IFERROR(VLOOKUP(B83,[4]B!B$1:F$51,5,0),VLOOKUP(B83,[4]C!B$1:F$52,5,0)))","v":0},1,1,{"$f":"IFERROR(VLOOKUP(B83,[4]A!B$1:J$48,9,0),IFERROR(VLOOKUP(B83,[4]B!B$1:J$51,9,0),VLOOKUP(B83,[4]C!B$1:J$52,9,0)))","v":0},4,4,1,1,null,null,52,1,1,46,47,90.384615384615387,5,"B-7",5,4,14]
[83,"15BA113",{"$f":"VLOOKUP(B84,[1]B!B$1:C$48,2,0)","v":2},{"$f":"VLOOKUP(B84,[1]B!B$1:D$48,3,0)","v":3},{"$f":"VLOOKUP(B84,[1]B!B$1:F$48,5,0)","v":0},{"$f":"VLOOKUP(B84,[1]B!B$1:G$48,6,0)","v":0},{"$f":"VLOOKUP(B84,[1]B!B$1:H$48,7,0)","v":0},{"$f":"VLOOKUP(B84,[1]B!B$1:J$48,9,0)","v":0},{"$f":"VLOOKUP(B84,[2]B!B$1:C$48,2,0)","v":9},{"$f":"VLOOKUP(B84,[2]B!B$1:D$48,3,0)","v":16},{"$f":"VLOOKUP(B84,[2]B!B$1:F$48,5,0)","v":0},{"$f":"VLOOKUP(B84,[2]B!B$1:G$48,6,0)","v":0},{"$f":"VLOOKUP(B84,[2]B!B$1:H$48,7,0)","v":0},{"$f":"VLOOKUP(B84,[2]B!B$1:J$48,9,0)","v":0},{"$f":"IFERROR(VLOOKUP(B84,[3]A!B$1:C$48,2,0),IFERROR(VLOOKUP(B84,[3]B!B$1:C$51,2,0),VLOOKUP(B84,[3]C!B$1:C$52,2,0)))","v":13},{"$f":"IFERROR(VLOOKUP(B84,[3]A!B$1:D$48,3,0),IFERROR(VLOOKUP(B84,[3]B!B$1:D$51,3,0),VLOOKUP(B84,[3]C!B$1:D$52,3,0)))","v":16},{"$f":"IFERROR(VLOOKUP(B84,[3]A!B$1:F$48,5,0),IFERROR(VLOOKUP(B84,[3]B!B$1:F$51,5,0),VLOOKUP(B84,[3]C!B$1:F$52,5,0)))","v":0},{"$f":"IFERROR(VLOOKUP(B84,[3]A!B$1:G$48,6,0),IFERROR(VLOOKUP(B84,[3]B!B$1:G$51,6,0),VLOOKUP(B84,[3]C!B$1:G$52,6,0)))","v":0},{"$f":"IFERROR(VLOOKUP(B84,[3]A!B$1:H$48,7,0),IFERROR(VLOOKUP(B84,[3]B!B$1:H$51,7,0),VLOOKUP(B84,[3]C!B$1:H$52,7,0)))","v":0},0,9,12,{"$f":"IFERROR(VLOOKUP(B84,[4]A!B$1:F$48,5,0),IFERROR(VLOOKUP(B84,[4]B!B$1:F$51,5,0),VLOOKUP(B84,[4]C!B$1:F$52,5,0)))","v":0},1,1,{"$f":"IFERROR(VLOOKUP(B84,[4]A!B$1:J$48,9,0),IFERROR(VLOOKUP(B84,[4]B!B$1:J$51,9,0),VLOOKUP(B84,[4]C!B$1:J$52,9,0)))","v":0},3,4,1,1,null,null,52,1,1,38,39,75,3,"B-7",6,7,16]
[84,"15BA117",{"$f":"VLOOKUP(B85,[1]B!B$1:C$48,2,0)","v":2},{"$f":"VLOOKUP(B85,[1]B!B$1:D$48,3,0)","v":3},{"$f":"VLOOKUP(B85,[1]B!B$1:F$48,5,0)","v":0},{"$f":"VLOOKUP(B85,[1]B!B$1:G$48,6,0)","v":0},{"$f":"VLOOKUP(B85,[1]B!B$1:H$48,7,0)","v":0},{"$f":"VLOOKUP(B85,[1]B!B$1:J$48,9,0)","v":0},{"$f":"VLOOKUP(B85,[2]B!B$1:C$48,2,0)","v":9},{"$f":"VLOOKUP(B85,[2]B!B$1:D$48,3,0)","v":16},{"$f":"VLOOKUP(B85,[2]B!B$1:F$48,5,0)","v":0},{"$f":"VLOOKUP(B85,[2]B!B$1:G$48,6,0)","v":0},{"$f":"VLOOKUP(B85,[2]B!B$1:H$48,7,0)","v":0},{"$f":"VLOOKUP(B85,[2]B!B$1:J$48,9,0)","v":0},{"$f":"IFERROR(VLOOKUP(B85,[3]A!B$1:C$48,2,0),IFERROR(VLOOKUP(B85,[3]B!B$1:C$51,2,0),VLOOKUP(B85,[3]C!B$1:C$52,2,0)))","v":4},{"$f":"IFERROR(VLOOKUP(B85,[3]A!B$1:D$48,3,0),IFERROR(VLOOKUP(B85,[3]B!B$1:D$51,3,0),VLOOKUP(B85,[3]C!B$1:D$52,3,0)))","v":16},{"$f":"IFERROR(VLOOKUP(B85,[3]A!B$1:F$48,5,0),IFERROR(VLOOKUP(B85,[3]B!B$1:F$51,5,0),VLOOKUP(B85,[3]C!B$1:F$52,5,0)))","v":5},{"$f":"IFERROR(VLOOKUP(B85,[3]A!B$1:G$48,6,0),IFERROR(VLOOKUP(B85,[3]B!B$1:G$51,6,0),VLOOKUP(B85,[3]C!B$1:G$52,6,0)))","v":0},{"$f":"IFERROR(VLOOKUP(B85,[3]A!B$1:H$48,7,0),IFERROR(VLOOKUP(B85,[3]B!B$1:H$51,7,0),VLOOKUP(B85,[3]C!B$1:H$52,7,0)))","v":0},0,1,12,6,{"$f":"IFERROR(VLOOKUP(B85,[4]A!B$1:G$48,6,0),IFERROR(VLOOKUP(B85,[4]B!B$1:G$51,6,0),VLOOKUP(B85,[4]C!B$1:G$52,6,0)))","v":0},1,{"$f":"IFERROR(VLOOKUP(B85,[4]A!B$1:J$48,9,0),IFERROR(VLOOKUP(B85,[4]B!B$1:J$51,9,0),VLOOKUP(B85,[4]C!B$1:J$52,9,0)))","v":0},0,4,0,1,null,null,52,11,11,17,28,53.846153846153847,0,"B-7",4,3,7]
[85,"15BA120",{"$f":"VLOOKUP(B86,[1]B!B$1:C$48,2,0)","v":2},{"$f":"VLOOKUP(B86,[1]B!B$1:D$48,3,0)","v":3},{"$f":"VLOOKUP(B86,[1]B!B$1:F$48,5,0)","v":0},{"$f":"VLOOKUP(B86,[1]B!B$1:G$48,6,0)","v":0},{"$f":"VLOOKUP(B86,[1]B!B$1:H$48,7,0)","v":0},{"$f":"VLOOKUP(B86,[1]B!B$1:J$48,9,0)","v":0},{"$f":"VLOOKUP(B86,[2]B!B$1:C$48,2,0)","v":0},{"$f":"VLOOKUP(B86,[2]B!B$1:D$48,3,0)","v":16},{"$f":"VLOOKUP(B86,[2]B!B$1:F$48,5,0)","v":0},{"$f":"VLOOKUP(B86,[2]B!B$1:G$48,6,0)","v":2},{"$f":"VLOOKUP(B86,[2]B!B$1:H$48,7,0)","v":2},{"$f":"VLOOKUP(B86,[2]B!B$1:J$48,9,0)","v":0},{"$f":"IFERROR(VLOOKUP(B86,[3]A!B$1:C$48,2,0),IFERROR(VLOOKUP(B86,[3]B!B$1:C$51,2,0),VLOOKUP(B86,[3]C!B$1:C$52,2,0)))","v":2},{"$f":"IFERROR(VLOOKUP(B86,[3]A!B$1:D$48,3,0),IFERROR(VLOOKUP(B86,[3]B!B$1:D$51,3,0),VLOOKUP(B86,[3]C!B$1:D$52,3,0)))","v":16},{"$f":"IFERROR(VLOOKUP(B86,[3]A!B$1:F$48,5,0),IFERROR(VLOOKUP(B86,[3]B!B$1:F$51,5,0),VLOOKUP(B86,[3]C!B$1:F$52,5,0)))","v":0},{"$f":"IFERROR(VLOOKUP(B86,[3]A!B$1:G$48,6,0),IFERROR(VLOOKUP(B86,[3]B!B$1:G$51,6,0),VLOOKUP(B86,[3]C!B$1:G$52,6,0)))","v":2},{"$f":"IFERROR(VLOOKUP(B86,[3]A!B$1:H$48,7,0),IFERROR(VLOOKUP(B86,[3]B!B$1:H$51,7,0),VLOOKUP(B86,[3]C!B$1:H$52,7,0)))","v":2},0,0,12,6,1,1,{"$f":"IFERROR(VLOOKUP(B86,[4]A!B$1:J$48,9,0),IFERROR(VLOOKUP(B86,[4]B!B$1:J$51,9,0),VLOOKUP(B86,[4]C!B$1:J$52,9,0)))","v":0},0,4,2,1,1,null,57,8,8,10,18,31.578947368421051,0,"B-9",0,0,0]
[86,"15BA124",{"$f":"VLOOKUP(B87,[1]B!B$1:C$48,2,0)","v":3},{"$f":"VLOOKUP(B87,[1]B!B$1:D$48,3,0)","v":3},{"$f":"VLOOKUP(B87,[1]B!B$1:F$48,5,0)","v":0},{"$f":"VLOOKUP(B87,[1]B!B$1:G$48,6,0)","v":0},{"$f":"VLOOKUP(B87,[1]B!B$1:H$48,7,0)","v":0},{"$f":"VLOOKUP(B87,[1]B!B$1:J$48,9,0)","v":0},{"$f":"VLOOKUP(B87,[2]B!B$1:C$48,2,0)","v":9},{"$f":"VLOOKUP(B87,[2]B!B$1:D$48,3,0)","v":16},{"$f":"VLOOKUP(B87,[2]B!B$1:F$48,5,0)","v":0},{"$f":"VLOOKUP(B87,[2]B!B$1:G$48,6,0)","v":3},{"$f":"VLOOKUP(B87,[2]B!B$1:H$48,7,0)","v":3},{"$f":"VLOOKUP(B87,[2]B!B$1:J$48,9,0)","v":0},{"$f":"IFERROR(VLOOKUP(B87,[3]A!B$1:C$48,2,0),IFERROR(VLOOKUP(B87,[3]B!B$1:C$51,2,0),VLOOKUP(B87,[3]C!B$1:C$52,2,0)))","v":10},{"$f":"IFERROR(VLOOKUP(B87,[3]A!B$1:D$48,3,0),IFERROR(VLOOKUP(B87,[3]B!B$1:D$51,3,0),VLOOKUP(B87,[3]C!B$1:D$52,3,0)))","v":16},{"$f":"IFERROR(VLOOKUP(B87,[3]A!B$1:F$48,5,0),IFERROR(VLOOKUP(B87,[3]B!B$1:F$51,5,0),VLOOKUP(B87,[3]C!B$1:F$52,5,0)))","v":0},{"$f":"IFERROR(VLOOKUP(B87,[3]A!B$1:G$48,6,0),IFERROR(VLOOKUP(B87,[3]B!B$1:G$51,6,0),VLOOKUP(B87,[3]C!B$1:G$52,6,0)))","v":2},{"$f":"IFERROR(VLOOKUP(B87,[3]A!B$1:H$48,7,0),IFERROR(VLOOKUP(B87,[3]B!B$1:H$51,7,0),VLOOKUP(B87,[3]C!B$1:H$52,7,0)))","v":2},0,10,12,{"$f":"IFERROR(VLOOKUP(B87,[4]A!B$1:F$48,5,0),IFERROR(VLOOKUP(B87,[4]B!B$1:F$51,5,0),VLOOKUP(B87,[4]C!B$1:F$52,5,0)))","v":0},2,2,{"$f":"IFERROR(VLOOKUP(B87,[4]A!B$1:J$48,9,0),IFERROR(VLOOKUP(B87,[4]B!B$1:J$51,9,0),VLOOKUP(B87,[4]C!B$1:J$52,9,0)))","v":0},4,4,null,1,1,null,59,0,0,44,44,74.576271186440678,2,"B-10",5,3,10]
[87,"15BA127",{"$f":"VLOOKUP(B88,[1]B!B$1:C$48,2,0)","v":2},{"$f":"VLOOKUP(B88,[1]B!B$1:D$48,3,0)","v":3},{"$f":"VLOOKUP(B88,[1]B!B$1:F$48,5,0)","v":0},{"$f":"VLOOKUP(B88,[1]B!B$1:G$48,6,0)","v":0},{"$f":"VLOOKUP(B88,[1]B!B$1:H$48,7,0)","v":0},{"$f":"VLOOKUP(B88,[1]B!B$1:J$48,9,0)","v":0},{"$f":"VLOOKUP(B88,[2]B!B$1:C$48,2,0)","v":10},{"$f":"VLOOKUP(B88,[2]B!B$1:D$48,3,0)","v":16},{"$f":"VLOOKUP(B88,[2]B!B$1:F$48,5,0)","v":0},{"$f":"VLOOKUP(B88,[2]B!B$1:G$48,6,0)","v":0},{"$f":"VLOOKUP(B88,[2]B!B$1:H$48,7,0)","v":0},{"$f":"VLOOKUP(B88,[2]B!B$1:J$48,9,0)","v":0},{"$f":"IFERROR(VLOOKUP(B88,[3]A!B$1:C$48,2,0),IFERROR(VLOOKUP(B88,[3]B!B$1:C$51,2,0),VLOOKUP(B88,[3]C!B$1:C$52,2,0)))","v":13},{"$f":"IFERROR(VLOOKUP(B88,[3]A!B$1:D$48,3,0),IFERROR(VLOOKUP(B88,[3]B!B$1:D$51,3,0),VLOOKUP(B88,[3]C!B$1:D$52,3,0)))","v":16},{"$f":"IFERROR(VLOOKUP(B88,[3]A!B$1:F$48,5,0),IFERROR(VLOOKUP(B88,[3]B!B$1:F$51,5,0),VLOOKUP(B88,[3]C!B$1:F$52,5,0)))","v":0},{"$f":"IFERROR(VLOOKUP(B88,[3]A!B$1:G$48,6,0),IFERROR(VLOOKUP(B88,[3]B!B$1:G$51,6,0),VLOOKUP(B88,[3]C!B$1:G$52,6,0)))","v":0},{"$f":"IFERROR(VLOOKUP(B88,[3]A!B$1:H$48,7,0),IFERROR(VLOOKUP(B88,[3]B!B$1:H$51,7,0),VLOOKUP(B88,[3]C!B$1:H$52,7,0)))","v":0},0,11,12,{"$f":"IFERROR(VLOOKUP(B88,[4]A!B$1:F$48,5,0),IFERROR(VLOOKUP(B88,[4]B!B$1:F$51,5,0),VLOOKUP(B88,[4]C!B$1:F$52,5,0)))","v":0},{"$f":"IFERROR(VLOOKUP(B88,[4]A!B$1:G$48,6,0),IFERROR(VLOOKUP(B88,[4]B!B$1:G$51,6,0),VLOOKUP(B88,[4]C!B$1:G$52,6,0)))","v":0},1,{"$f":"IFERROR(VLOOKUP(B88,[4]A!B$1:J$48,9,0),IFERROR(VLOOKUP(B88,[4]B!B$1:J$51,9,0),VLOOKUP(B88,[4]C!B$1:J$52,9,0)))","v":0},3,4,1,1,null,null,52,1,1,40,41,78.84615384615384,3,"B-7",1,3,7]
[88,"15BA129",{"$f":"VLOOKUP(B89,[1]B!B$1:C$48,2,0)","v":2},{"$f":"VLOOKUP(B89,[1]B!B$1:D$48,3,0)","v":3},{"$f":"VLOOKUP(B89,[1]B!B$1:F$48,5,0)","v":0},{"$f":"VLOOKUP(B89,[1]B!B$1:G$48,6,0)","v":0},{"$f":"VLOOKUP(B89,[1]B!B$1:H$48,7,0)","v":0},{"$f":"VLOOKUP(B89,[1]B!B$1:J$48,9,0)","v":0},{"$f":"VLOOKUP(B89,[2]B!B$1:C$48,2,0)","v":5},{"$f":"VLOOKUP(B89,[2]B!B$1:D$48,3,0)","v":16},{"$f":"VLOOKUP(B89,[2]B!B$1:F$48,5,0)","v":0},{"$f":"VLOOKUP(B89,[2]B!B$1:G$48,6,0)","v":0},{"$f":"VLOOKUP(B89,[2]B!B$1:H$48,7,0)","v":0},{"$f":"VLOOKUP(B89,[2]B!B$1:J$48,9,0)","v":0},{"$f":"IFERROR(VLOOKUP(B89,[3]A!B$1:C$48,2,0),IFERROR(VLOOKUP(B89,[3]B!B$1:C$51,2,0),VLOOKUP(B89,[3]C!B$1:C$52,2,0)))","v":6},{"$f":"IFERROR(VLOOKUP(B89,[3]A!B$1:D$48,3,0),IFERROR(VLOOKUP(B89,[3]B!B$1:D$51,3,0),VLOOKUP(B89,[3]C!B$1:D$52,3,0)))","v":16},{"$f":"IFERROR(VLOOKUP(B89,[3]A!B$1:F$48,5,0),IFERROR(VLOOKUP(B89,[3]B!B$1:F$51,5,0),VLOOKUP(B89,[3]C!B$1:F$52,5,0)))","v":0},{"$f":"IFERROR(VLOOKUP(B89,[3]A!B$1:G$48,6,0),IFERROR(VLOOKUP(B89,[3]B!B$1:G$51,6,0),VLOOKUP(B89,[3]C!B$1:G$52,6,0)))","v":0},{"$f":"IFERROR(VLOOKUP(B89,[3]A!B$1:H$48,7,0),IFERROR(VLOOKUP(B89,[3]B!B$1:H$51,7,0),VLOOKUP(B89,[3]C!B$1:H$52,7,0)))","v":0},0,5,12,{"$f":"IFERROR(VLOOKUP(B89,[4]A!B$1:F$48,5,0),IFERROR(VLOOKUP(B89,[4]B!B$1:F$51,5,0),VLOOKUP(B89,[4]C!B$1:F$52,5,0)))","v":0},{"$f":"IFERROR(VLOOKUP(B89,[4]A!B$1:G$48,6,0),IFERROR(VLOOKUP(B89,[4]B!B$1:G$51,6,0),VLOOKUP(B89,[4]C!B$1:G$52,6,0)))","v":0},1,{"$f":"IFERROR(VLOOKUP(B89,[4]A!B$1:J$48,9,0),IFERROR(VLOOKUP(B89,[4]B!B$1:J$51,9,0),VLOOKUP(B89,[4]C!B$1:J$52,9,0)))","v":0},0,4,0,1,null,null,52,0,0,19,19,36.538461538461533,0,"B-7",1,2,3]
[89,"15BA130",{"$f":"VLOOKUP(B90,[1]B!B$1:C$48,2,0)","v":2},{"$f":"VLOOKUP(B90,[1]B!B$1:D$48,3,0)","v":3},{"$f":"VLOOKUP(B90,[1]B!B$1:F$48,5,0)","v":0},{"$f":"VLOOKUP(B90,[1]B!B$1:G$48,6,0)","v":0},{"$f":"VLOOKUP(B90,[1]B!B$1:H$48,7,0)","v":0},{"$f":"VLOOKUP(B90,[1]B!B$1:J$48,9,0)","v":0},{"$f":"VLOOKUP(B90,[2]B!B$1:C$48,2,0)","v":4},{"$f":"VLOOKUP(B90,[2]B!B$1:D$48,3,0)","v":16},{"$f":"VLOOKUP(B90,[2]B!B$1:F$48,5,0)","v":0},{"$f":"VLOOKUP(B90,[2]B!B$1:G$48,6,0)","v":0},{"$f":"VLOOKUP(B90,[2]B!B$1:H$48,7,0)","v":0},{"$f":"VLOOKUP(B90,[2]B!B$1:J$48,9,0)","v":0},{"$f":"IFERROR(VLOOKUP(B90,[3]A!B$1:C$48,2,0),IFERROR(VLOOKUP(B90,[3]B!B$1:C$51,2,0),VLOOKUP(B90,[3]C!B$1:C$52,2,0)))","v":3},{"$f":"IFERROR(VLOOKUP(B90,[3]A!B$1:D$48,3,0),IFERROR(VLOOKUP(B90,[3]B!B$1:D$51,3,0),VLOOKUP(B90,[3]C!B$1:D$52,3,0)))","v":16},{"$f":"IFERROR(VLOOKUP(B90,[3]A!B$1:F$48,5,0),IFERROR(VLOOKUP(B90,[3]B!B$1:F$51,5,0),VLOOKUP(B90,[3]C!B$1:F$52,5,0)))","v":0},{"$f":"IFERROR(VLOOKUP(B90,[3]A!B$1:G$48,6,0),IFERROR(VLOOKUP(B90,[3]B!B$1:G$51,6,0),VLOOKUP(B90,[3]C!B$1:G$52,6,0)))","v":0},{"$f":"IFERROR(VLOOKUP(B90,[3]A!B$1:H$48,7,0),IFERROR(VLOOKUP(B90,[3]B!B$1:H$51,7,0),VLOOKUP(B90,[3]C!B$1:H$52,7,0)))","v":0},0,4,12,{"$f":"IFERROR(VLOOKUP(B90,[4]A!B$1:F$48,5,0),IFERROR(VLOOKUP(B90,[4]B!B$1:F$51,5,0),VLOOKUP(B90,[4]C!B$1:F$52,5,0)))","v":0},{"$f":"IFERROR(VLOOKUP(B90,[4]A!B$1:G$48,6,0),IFERROR(VLOOKUP(B90,[4]B!B$1:G$51,6,0),VLOOKUP(B90,[4]C!B$1:G$52,6,0)))","v":0},1,{"$f":"IFERROR(VLOOKUP(B90,[4]A!B$1:J$48,9,0),IFERROR(VLOOKUP(B90,[4]B!B$1:J$51,9,0),VLOOKUP(B90,[4]C!B$1:J$52,9,0)))","v":0},0,4,1,1,null,null,52,1,1,14,15,28.846153846153843,0,"B-7",2,1,3]
[90,"15BA134",{"$f":"VLOOKUP(B91,[1]B!B$1:C$48,2,0)","v":2},{"$f":"VLOOKUP(B91,[1]B!B$1:D$48,3,0)","v":3},{"$f":"VLOOKUP(B91,[1]B!B$1:F$48,5,0)","v":0},{"$f":"VLOOKUP(B91,[1]B!B$1:G$48,6,0)","v":0},{"$f":"VLOOKUP(B91,[1]B!B$1:H$48,7,0)","v":0},{"$f":"VLOOKUP(B91,[1]B!B$1:J$48,9,0)","v":0},11,{"$f":"VLOOKUP(B91,[2]B!B$1:D$48,3,0)","v":16},{"$f":"VLOOKUP(B91,[2]B!B$1:F$48,5,0)","v":0},{"$f":"VLOOKUP(B91,[2]B!B$1:G$48,6,0)","v":2},{"$f":"VLOOKUP(B91,[2]B!B$1:H$48,7,0)","v":2},{"$f":"VLOOKUP(B91,[2]B!B$1:J$48,9,0)","v":0},{"$f":"IFERROR(VLOOKUP(B91,[3]A!B$1:C$48,2,0),IFERROR(VLOOKUP(B91,[3]B!B$1:C$51,2,0),VLOOKUP(B91,[3]C!B$1:C$52,2,0)))","v":10},{"$f":"IFERROR(VLOOKUP(B91,[3]A!B$1:D$48,3,0),IFERROR(VLOOKUP(B91,[3]B!B$1:D$51,3,0),VLOOKUP(B91,[3]C!B$1:D$52,3,0)))","v":16},{"$f":"IFERROR(VLOOKUP(B91,[3]A!B$1:F$48,5,0),IFERROR(VLOOKUP(B91,[3]B!B$1:F$51,5,0),VLOOKUP(B91,[3]C!B$1:F$52,5,0)))","v":0},{"$f":"IFERROR(VLOOKUP(B91,[3]A!B$1:G$48,6,0),IFERROR(VLOOKUP(B91,[3]B!B$1:G$51,6,0),VLOOKUP(B91,[3]C!B$1:G$52,6,0)))","v":2},{"$f":"IFERROR(VLOOKUP(B91,[3]A!B$1:H$48,7,0),IFERROR(VLOOKUP(B91,[3]B!B$1:H$51,7,0),VLOOKUP(B91,[3]C!B$1:H$52,7,0)))","v":2},0,10,12,{"$f":"IFERROR(VLOOKUP(B91,[4]A!B$1:F$48,5,0),IFERROR(VLOOKUP(B91,[4]B!B$1:F$51,5,0),VLOOKUP(B91,[4]C!B$1:F$52,5,0)))","v":0},1,1,{"$f":"IFERROR(VLOOKUP(B91,[4]A!B$1:J$48,9,0),IFERROR(VLOOKUP(B91,[4]B!B$1:J$51,9,0),VLOOKUP(B91,[4]C!B$1:J$52,9,0)))","v":0},3,4,null,1,1,null,57,0,0,42,42,73.68421052631578,2,"B-9",5,5,12]
[91,"15BA135",{"$f":"VLOOKUP(B92,[1]B!B$1:C$48,2,0)","v":3},{"$f":"VLOOKUP(B92,[1]B!B$1:D$48,3,0)","v":3},{"$f":"VLOOKUP(B92,[1]B!B$1:F$48,5,0)","v":0},{"$f":"VLOOKUP(B92,[1]B!B$1:G$48,6,0)","v":0},{"$f":"VLOOKUP(B92,[1]B!B$1:H$48,7,0)","v":0},{"$f":"VLOOKUP(B92,[1]B!B$1:J$48,9,0)","v":0},{"$f":"VLOOKUP(B92,[2]B!B$1:C$48,2,0)","v":13},{"$f":"VLOOKUP(B92,[2]B!B$1:D$48,3,0)","v":16},{"$f":"VLOOKUP(B92,[2]B!B$1:F$48,5,0)","v":0},{"$f":"VLOOKUP(B92,[2]B!B$1:G$48,6,0)","v":2},{"$f":"VLOOKUP(B92,[2]B!B$1:H$48,7,0)","v":2},{"$f":"VLOOKUP(B92,[2]B!B$1:J$48,9,0)","v":0},{"$f":"IFERROR(VLOOKUP(B92,[3]A!B$1:C$48,2,0),IFERROR(VLOOKUP(B92,[3]B!B$1:C$51,2,0),VLOOKUP(B92,[3]C!B$1:C$52,2,0)))","v":14},{"$f":"IFERROR(VLOOKUP(B92,[3]A!B$1:D$48,3,0),IFERROR(VLOOKUP(B92,[3]B!B$1:D$51,3,0),VLOOKUP(B92,[3]C!B$1:D$52,3,0)))","v":16},{"$f":"IFERROR(VLOOKUP(B92,[3]A!B$1:F$48,5,0),IFERROR(VLOOKUP(B92,[3]B!B$1:F$51,5,0),VLOOKUP(B92,[3]C!B$1:F$52,5,0)))","v":0},{"$f":"IFERROR(VLOOKUP(B92,[3]A!B$1:G$48,6,0),IFERROR(VLOOKUP(B92,[3]B!B$1:G$51,6,0),VLOOKUP(B92,[3]C!B$1:G$52,6,0)))","v":2},{"$f":"IFERROR(VLOOKUP(B92,[3]A!B$1:H$48,7,0),IFERROR(VLOOKUP(B92,[3]B!B$1:H$51,7,0),VLOOKUP(B92,[3]C!B$1:H$52,7,0)))","v":2},0,6,12,1,1,1,{"$f":"IFERROR(VLOOKUP(B92,[4]A!B$1:J$48,9,0),IFERROR(VLOOKUP(B92,[4]B!B$1:J$51,9,0),VLOOKUP(B92,[4]C!B$1:J$52,9,0)))","v":0},3,4,null,1,1,null,57,1,1,45,46,80.701754385964904,4,"B-9",2,3,9]
[92,"15BA140",{"$f":"VLOOKUP(B93,[1]B!B$1:C$48,2,0)","v":3},{"$f":"VLOOKUP(B93,[1]B!B$1:D$48,3,0)","v":3},{"$f":"VLOOKUP(B93,[1]B!B$1:F$48,5,0)","v":0},{"$f":"VLOOKUP(B93,[1]B!B$1:G$48,6,0)","v":0},{"$f":"VLOOKUP(B93,[1]B!B$1:H$48,7,0)","v":0},{"$f":"VLOOKUP(B93,[1]B!B$1:J$48,9,0)","v":0},{"$f":"VLOOKUP(B93,[2]B!B$1:C$48,2,0)","v":11},{"$f":"VLOOKUP(B93,[2]B!B$1:D$48,3,0)","v":16},{"$f":"VLOOKUP(B93,[2]B!B$1:F$48,5,0)","v":0},{"$f":"VLOOKUP(B93,[2]B!B$1:G$48,6,0)","v":0},{"$f":"VLOOKUP(B93,[2]B!B$1:H$48,7,0)","v":0},{"$f":"VLOOKUP(B93,[2]B!B$1:J$48,9,0)","v":0},{"$f":"IFERROR(VLOOKUP(B93,[3]A!B$1:C$48,2,0),IFERROR(VLOOKUP(B93,[3]B!B$1:C$51,2,0),VLOOKUP(B93,[3]C!B$1:C$52,2,0)))","v":10},{"$f":"IFERROR(VLOOKUP(B93,[3]A!B$1:D$48,3,0),IFERROR(VLOOKUP(B93,[3]B!B$1:D$51,3,0),VLOOKUP(B93,[3]C!B$1:D$52,3,0)))","v":16},{"$f":"IFERROR(VLOOKUP(B93,[3]A!B$1:F$48,5,0),IFERROR(VLOOKUP(B93,[3]B!B$1:F$51,5,0),VLOOKUP(B93,[3]C!B$1:F$52,5,0)))","v":0},{"$f":"IFERROR(VLOOKUP(B93,[3]A!B$1:G$48,6,0),IFERROR(VLOOKUP(B93,[3]B!B$1:G$51,6,0),VLOOKUP(B93,[3]C!B$1:G$52,6,0)))","v":0},{"$f":"IFERROR(VLOOKUP(B93,[3]A!B$1:H$48,7,0),IFERROR(VLOOKUP(B93,[3]B!B$1:H$51,7,0),VLOOKUP(B93,[3]C!B$1:H$52,7,0)))","v":0},0,6,12,{"$f":"IFERROR(VLOOKUP(B93,[4]A!B$1:F$48,5,0),IFERROR(VLOOKUP(B93,[4]B!B$1:F$51,5,0),VLOOKUP(B93,[4]C!B$1:F$52,5,0)))","v":0},{"$f":"IFERROR(VLOOKUP(B93,[4]A!B$1:G$48,6,0),IFERROR(VLOOKUP(B93,[4]B!B$1:G$51,6,0),VLOOKUP(B93,[4]C!B$1:G$52,6,0)))","v":0},1,{"$f":"IFERROR(VLOOKUP(B93,[4]A!B$1:J$48,9,0),IFERROR(VLOOKUP(B93,[4]B!B$1:J$51,9,0),VLOOKUP(B93,[4]C!B$1:J$52,9,0)))","v":0},2,4,0,1,null,null,52,0,0,33,33,63.46153846153846,0,"B-7",2,4,6]
[93,"15BA141",{"$f":"VLOOKUP(B94,[1]B!B$1:C$48,2,0)","v":3},{"$f":"VLOOKUP(B94,[1]B!B$1:D$48,3,0)","v":3},{"$f":"VLOOKUP(B94,[1]B!B$1:F$48,5,0)","v":0},{"$f":"VLOOKUP(B94,[1]B!B$1:G$48,6,0)","v":0},{"$f":"VLOOKUP(B94,[1]B!B$1:H$48,7,0)","v":0},{"$f":"VLOOKUP(B94,[1]B!B$1:J$48,9,0)","v":0},{"$f":"VLOOKUP(B94,[2]B!B$1:C$48,2,0)","v":10},{"$f":"VLOOKUP(B94,[2]B!B$1:D$48,3,0)","v":16},{"$f":"VLOOKUP(B94,[2]B!B$1:F$48,5,0)","v":0},{"$f":"VLOOKUP(B94,[2]B!B$1:G$48,6,0)","v":2},{"$f":"VLOOKUP(B94,[2]B!B$1:H$48,7,0)","v":2},{"$f":"VLOOKUP(B94,[2]B!B$1:J$48,9,0)","v":0},{"$f":"IFERROR(VLOOKUP(B94,[3]A!B$1:C$48,2,0),IFERROR(VLOOKUP(B94,[3]B!B$1:C$51,2,0),VLOOKUP(B94,[3]C!B$1:C$52,2,0)))","v":7},{"$f":"IFERROR(VLOOKUP(B94,[3]A!B$1:D$48,3,0),IFERROR(VLOOKUP(B94,[3]B!B$1:D$51,3,0),VLOOKUP(B94,[3]C!B$1:D$52,3,0)))","v":16},{"$f":"IFERROR(VLOOKUP(B94,[3]A!B$1:F$48,5,0),IFERROR(VLOOKUP(B94,[3]B!B$1:F$51,5,0),VLOOKUP(B94,[3]C!B$1:F$52,5,0)))","v":0},{"$f":"IFERROR(VLOOKUP(B94,[3]A!B$1:G$48,6,0),IFERROR(VLOOKUP(B94,[3]B!B$1:G$51,6,0),VLOOKUP(B94,[3]C!B$1:G$52,6,0)))","v":2},{"$f":"IFERROR(VLOOKUP(B94,[3]A!B$1:H$48,7,0),IFERROR(VLOOKUP(B94,[3]B!B$1:H$51,7,0),VLOOKUP(B94,[3]C!B$1:H$52,7,0)))","v":2},0,8,12,{"$f":"IFERROR(VLOOKUP(B94,[4]A!B$1:F$48,5,0),IFERROR(VLOOKUP(B94,[4]B!B$1:F$51,5,0),VLOOKUP(B94,[4]C!B$1:F$52,5,0)))","v":0},1,1,{"$f":"IFERROR(VLOOKUP(B94,[4]A!B$1:J$48,9,0),IFERROR(VLOOKUP(B94,[4]B!B$1:J$51,9,0),VLOOKUP(B94,[4]C!B$1:J$52,9,0)))","v":0},2,4,null,1,1,null,57,0,0,36,36,63.157894736842103,0,"B-9",5,5,10]
[94,"15BA149",{"$f":"VLOOKUP(B95,[1]B!B$1:C$51,2,0)","v":3},{"$f":"VLOOKUP(B95,[1]B!B$1:D$51,3,0)","v":3},{"$f":"VLOOKUP(B95,[1]B!B$1:F$51,5,0)","v":0},{"$f":"VLOOKUP(B95,[1]B!B$1:G$51,6,0)","v":0},{"$f":"VLOOKUP(B95,[1]B!B$1:G$51,6,0)","v":0},{"$f":"VLOOKUP(B95,[1]B!B$1:J$51,9,0)","v":0},10,16,0,0,0,0,{"$f":"IFERROR(VLOOKUP(B95,[3]A!B$1:C$48,2,0),IFERROR(VLOOKUP(B95,[3]B!B$1:C$51,2,0),VLOOKUP(B95,[3]C!B$1:C$52,2,0)))","v":11},{"$f":"IFERROR(VLOOKUP(B95,[3]A!B$1:D$48,3,0),IFERROR(VLOOKUP(B95,[3]B!B$1:D$51,3,0),VLOOKUP(B95,[3]C!B$1:D$52,3,0)))","v":16},{"$f":"IFERROR(VLOOKUP(B95,[3]A!B$1:F$48,5,0),IFERROR(VLOOKUP(B95,[3]B!B$1:F$51,5,0),VLOOKUP(B95,[3]C!B$1:F$52,5,0)))","v":0},{"$f":"IFERROR(VLOOKUP(B95,[3]A!B$1:G$48,6,0),IFERROR(VLOOKUP(B95,[3]B!B$1:G$51,6,0),VLOOKUP(B95,[3]C!B$1:G$52,6,0)))","v":0},{"$f":"IFERROR(VLOOKUP(B95,[3]A!B$1:H$48,7,0),IFERROR(VLOOKUP(B95,[3]B!B$1:H$51,7,0),VLOOKUP(B95,[3]C!B$1:H$52,7,0)))","v":0},0,6,12,{"$f":"IFERROR(VLOOKUP(B95,[4]A!B$1:F$48,5,0),IFERROR(VLOOKUP(B95,[4]B!B$1:F$51,5,0),VLOOKUP(B95,[4]C!B$1:F$52,5,0)))","v":0},{"$f":"IFERROR(VLOOKUP(B95,[4]A!B$1:G$48,6,0),IFERROR(VLOOKUP(B95,[4]B!B$1:G$51,6,0),VLOOKUP(B95,[4]C!B$1:G$52,6,0)))","v":0},1,{"$f":"IFERROR(VLOOKUP(B95,[4]A!B$1:J$48,9,0),IFERROR(VLOOKUP(B95,[4]B!B$1:J$51,9,0),VLOOKUP(B95,[4]C!B$1:J$52,9,0)))","v":0},3,4,1,1,null,null,52,1,1,34,35,67.307692307692307,1,"B-7",5,4,10]
[95,"15BA150",{"$f":"VLOOKUP(B96,[1]B!B$1:C$51,2,0)","v":0},{"$f":"VLOOKUP(B96,[1]B!B$1:D$51,3,0)","v":3},{"$f":"VLOOKUP(B96,[1]B!B$1:F$51,5,0)","v":0},{"$f":"VLOOKUP(B96,[1]B!B$1:G$51,6,0)","v":0},{"$f":"VLOOKUP(B96,[1]B!B$1:H$51,7,0)","v":0},{"$f":"VLOOKUP(B96,[1]B!B$1:J$51,9,0)","v":0},0,16,0,2,2,0,{"$f":"IFERROR(VLOOKUP(B96,[3]A!B$1:C$48,2,0),IFERROR(VLOOKUP(B96,[3]B!B$1:C$51,2,0),VLOOKUP(B96,[3]C!B$1:C$52,2,0)))","v":0},{"$f":"IFERROR(VLOOKUP(B96,[3]A!B$1:D$48,3,0),IFERROR(VLOOKUP(B96,[3]B!B$1:D$51,3,0),VLOOKUP(B96,[3]C!B$1:D$52,3,0)))","v":16},{"$f":"IFERROR(VLOOKUP(B96,[3]A!B$1:F$48,5,0),IFERROR(VLOOKUP(B96,[3]B!B$1:F$51,5,0),VLOOKUP(B96,[3]C!B$1:F$52,5,0)))","v":0},{"$f":"IFERROR(VLOOKUP(B96,[3]A!B$1:G$48,6,0),IFERROR(VLOOKUP(B96,[3]B!B$1:G$51,6,0),VLOOKUP(B96,[3]C!B$1:G$52,6,0)))","v":2},{"$f":"IFERROR(VLOOKUP(B96,[3]A!B$1:H$48,7,0),IFERROR(VLOOKUP(B96,[3]B!B$1:H$51,7,0),VLOOKUP(B96,[3]C!B$1:H$52,7,0)))","v":2},0,0,12,{"$f":"IFERROR(VLOOKUP(B96,[4]A!B$1:F$48,5,0),IFERROR(VLOOKUP(B96,[4]B!B$1:F$51,5,0),VLOOKUP(B96,[4]C!B$1:F$52,5,0)))","v":0},1,1,{"$f":"IFERROR(VLOOKUP(B96,[4]A!B$1:J$48,9,0),IFERROR(VLOOKUP(B96,[4]B!B$1:J$51,9,0),VLOOKUP(B96,[4]C!B$1:J$52,9,0)))","v":0},0,4,null,1,1,null,57,0,0,6,6,10.526315789473683,0,"B-9",0,0,0]
[96,"15BA155",{"$f":"VLOOKUP(B97,[1]B!B$1:C$51,2,0)","v":2},{"$f":"VLOOKUP(B97,[1]B!B$1:D$51,3,0)","v":3},{"$f":"VLOOKUP(B97,[1]B!B$1:F$51,5,0)","v":0},{"$f":"VLOOKUP(B97,[1]B!B$1:G$51,6,0)","v":0},{"$f":"VLOOKUP(B97,[1]B!B$1:H$51,7,0)","v":0},{"$f":"VLOOKUP(B97,[1]B!B$1:J$51,9,0)","v":0},14,16,0,2,2,0,{"$f":"IFERROR(VLOOKUP(B97,[3]A!B$1:C$48,2,0),IFERROR(VLOOKUP(B97,[3]B!B$1:C$51,2,0),VLOOKUP(B97,[3]C!B$1:C$52,2,0)))","v":14},{"$f":"IFERROR(VLOOKUP(B97,[3]A!B$1:D$48,3,0),IFERROR(VLOOKUP(B97,[3]B!B$1:D$51,3,0),VLOOKUP(B97,[3]C!B$1:D$52,3,0)))","v":16},{"$f":"IFERROR(VLOOKUP(B97,[3]A!B$1:F$48,5,0),IFERROR(VLOOKUP(B97,[3]B!B$1:F$51,5,0),VLOOKUP(B97,[3]C!B$1:F$52,5,0)))","v":0},{"$f":"IFERROR(VLOOKUP(B97,[3]A!B$1:G$48,6,0),IFERROR(VLOOKUP(B97,[3]B!B$1:G$51,6,0),VLOOKUP(B97,[3]C!B$1:G$52,6,0)))","v":2},{"$f":"IFERROR(VLOOKUP(B97,[3]A!B$1:H$48,7,0),IFERROR(VLOOKUP(B97,[3]B!B$1:H$51,7,0),VLOOKUP(B97,[3]C!B$1:H$52,7,0)))","v":2},0,11,12,{"$f":"IFERROR(VLOOKUP(B97,[4]A!B$1:F$48,5,0),IFERROR(VLOOKUP(B97,[4]B!B$1:F$51,5,0),VLOOKUP(B97,[4]C!B$1:F$52,5,0)))","v":0},1,1,{"$f":"IFERROR(VLOOKUP(B97,[4]A!B$1:J$48,9,0),IFERROR(VLOOKUP(B97,[4]B!B$1:J$51,9,0),VLOOKUP(B97,[4]C!B$1:J$52,9,0)))","v":0},3,4,null,1,1,null,57,0,0,50,50,87.719298245614027,5,"B-9",2,3,10]
[97,"15BA005",{"$f":"VLOOKUP(B98,[1]C!B$1:C$51,2,0)","v":9},{"$f":"VLOOKUP(B98,[1]C!B$1:D$51,3,0)","v":9},{"$f":"VLOOKUP(B98,[1]C!B$1:F$51,5,0)","v":0},{"$f":"VLOOKUP(B98,[1]C!B$1:G$51,6,0)","v":0},{"$f":"VLOOKUP(B98,[1]C!B$1:H$51,7,0)","v":0},{"$f":"VLOOKUP(B98,[1]C!B$1:J$51,9,0)","v":0},{"$f":"VLOOKUP(B98,[2]C!B$1:C$48,2,0)","v":18},{"$f":"VLOOKUP(B98,[2]C!B$1:D$48,3,0)","v":18},{"$f":"VLOOKUP(B98,[2]C!B$1:F$48,5,0)","v":0},{"$f":"VLOOKUP(B98,[2]C!B$1:G$48,6,0)","v":3},{"$f":"VLOOKUP(B98,[2]C!B$1:H$48,7,0)","v":3},{"$f":"VLOOKUP(B98,[2]C!B$1:J$48,9,0)","v":0},{"$f":"IFERROR(VLOOKUP(B98,[3]A!B$1:C$48,2,0),IFERROR(VLOOKUP(B98,[3]B!B$1:C$51,2,0),VLOOKUP(B98,[3]C!B$1:C$52,2,0)))","v":10},{"$f":"IFERROR(VLOOKUP(B98,[3]A!B$1:D$48,3,0),IFERROR(VLOOKUP(B98,[3]B!B$1:D$51,3,0),VLOOKUP(B98,[3]C!B$1:D$52,3,0)))","v":11},{"$f":"IFERROR(VLOOKUP(B98,[3]A!B$1:F$48,5,0),IFERROR(VLOOKUP(B98,[3]B!B$1:F$51,5,0),VLOOKUP(B98,[3]C!B$1:F$52,5,0)))","v":0},{"$f":"IFERROR(VLOOKUP(B98,[3]A!B$1:G$48,6,0),IFERROR(VLOOKUP(B98,[3]B!B$1:G$51,6,0),VLOOKUP(B98,[3]C!B$1:G$52,6,0)))","v":0},{"$f":"IFERROR(VLOOKUP(B98,[3]A!B$1:H$48,7,0),IFERROR(VLOOKUP(B98,[3]B!B$1:H$51,7,0),VLOOKUP(B98,[3]C!B$1:H$52,7,0)))","v":0},0,10,16,{"$f":"IFERROR(VLOOKUP(B98,[4]A!B$1:F$48,5,0),IFERROR(VLOOKUP(B98,[4]B!B$1:F$51,5,0),VLOOKUP(B98,[4]C!B$1:F$52,5,0)))","v":0},2,3,{"$f":"IFERROR(VLOOKUP(B98,[4]A!B$1:J$48,9,0),IFERROR(VLOOKUP(B98,[4]B!B$1:J$51,9,0),VLOOKUP(B98,[4]C!B$1:J$52,9,0)))","v":0},2,2,null,1,1,null,63,0,0,55,55,87.301587301587304,5,"C-14",8,8,21]
[98,"15BA010",{"$f":"VLOOKUP(B99,[1]C!B$1:C$51,2,0)","v":8},{"$f":"VLOOKUP(B99,[1]C!B$1:D$51,3,0)","v":9},{"$f":"VLOOKUP(B99,[1]C!B$1:F$51,5,0)","v":0},{"$f":"VLOOKUP(B99,[1]C!B$1:G$51,6,0)","v":0},{"$f":"VLOOKUP(B99,[1]C!B$1:H$51,7,0)","v":0},{"$f":"VLOOKUP(B99,[1]C!B$1:J$51,9,0)","v":0},{"$f":"VLOOKUP(B99,[2]C!B$1:C$48,2,0)","v":18},{"$f":"VLOOKUP(B99,[2]C!B$1:D$48,3,0)","v":18},{"$f":"VLOOKUP(B99,[2]C!B$1:F$48,5,0)","v":0},{"$f":"VLOOKUP(B99,[2]C!B$1:G$48,6,0)","v":3},{"$f":"VLOOKUP(B99,[2]C!B$1:H$48,7,0)","v":3},{"$f":"VLOOKUP(B99,[2]C!B$1:J$48,9,0)","v":0},{"$f":"IFERROR(VLOOKUP(B99,[3]A!B$1:C$48,2,0),IFERROR(VLOOKUP(B99,[3]B!B$1:C$51,2,0),VLOOKUP(B99,[3]C!B$1:C$52,2,0)))","v":10},{"$f":"IFERROR(VLOOKUP(B99,[3]A!B$1:D$48,3,0),IFERROR(VLOOKUP(B99,[3]B!B$1:D$51,3,0),VLOOKUP(B99,[3]C!B$1:D$52,3,0)))","v":11},{"$f":"IFERROR(VLOOKUP(B99,[3]A!B$1:F$48,5,0),IFERROR(VLOOKUP(B99,[3]B!B$1:F$51,5,0),VLOOKUP(B99,[3]C!B$1:F$52,5,0)))","v":0},{"$f":"IFERROR(VLOOKUP(B99,[3]A!B$1:G$48,6,0),IFERROR(VLOOKUP(B99,[3]B!B$1:G$51,6,0),VLOOKUP(B99,[3]C!B$1:G$52,6,0)))","v":0},{"$f":"IFERROR(VLOOKUP(B99,[3]A!B$1:H$48,7,0),IFERROR(VLOOKUP(B99,[3]B!B$1:H$51,7,0),VLOOKUP(B99,[3]C!B$1:H$52,7,0)))","v":0},0,14,16,{"$f":"IFERROR(VLOOKUP(B99,[4]A!B$1:F$48,5,0),IFERROR(VLOOKUP(B99,[4]B!B$1:F$51,5,0),VLOOKUP(B99,[4]C!B$1:F$52,5,0)))","v":0},3,3,{"$f":"IFERROR(VLOOKUP(B99,[4]A!B$1:J$48,9,0),IFERROR(VLOOKUP(B99,[4]B!B$1:J$51,9,0),VLOOKUP(B99,[4]C!B$1:J$52,9,0)))","v":0},2,2,null,1,1,null,63,0,0,59,59,93.650793650793645,5,"C-14",10,10,25]
[99,"15BA013",{"$f":"VLOOKUP(B100,[1]C!B$1:C$51,2,0)","v":9},{"$f":"VLOOKUP(B100,[1]C!B$1:D$51,3,0)","v":9},{"$f":"VLOOKUP(B100,[1]C!B$1:F$51,5,0)","v":0},{"$f":"VLOOKUP(B100,[1]C!B$1:G$51,6,0)","v":0},{"$f":"VLOOKUP(B100,[1]C!B$1:H$51,7,0)","v":0},{"$f":"VLOOKUP(B100,[1]C!B$1:J$51,9,0)","v":0},{"$f":"VLOOKUP(B100,[2]C!B$1:C$48,2,0)","v":17},{"$f":"VLOOKUP(B100,[2]C!B$1:D$48,3,0)","v":18},{"$f":"VLOOKUP(B100,[2]C!B$1:F$48,5,0)","v":0},{"$f":"VLOOKUP(B100,[2]C!B$1:G$48,6,0)","v":4},{"$f":"VLOOKUP(B100,[2]C!B$1:H$48,7,0)","v":4},{"$f":"VLOOKUP(B100,[2]C!B$1:J$48,9,0)","v":0},{"$f":"IFERROR(VLOOKUP(B100,[3]A!B$1:C$48,2,0),IFERROR(VLOOKUP(B100,[3]B!B$1:C$51,2,0),VLOOKUP(B100,[3]C!B$1:C$52,2,0)))","v":4},{"$f":"IFERROR(VLOOKUP(B100,[3]A!B$1:D$48,3,0),IFERROR(VLOOKUP(B100,[3]B!B$1:D$51,3,0),VLOOKUP(B100,[3]C!B$1:D$52,3,0)))","v":11},{"$f":"IFERROR(VLOOKUP(B100,[3]A!B$1:F$48,5,0),IFERROR(VLOOKUP(B100,[3]B!B$1:F$51,5,0),VLOOKUP(B100,[3]C!B$1:F$52,5,0)))","v":0},{"$f":"IFERROR(VLOOKUP(B100,[3]A!B$1:G$48,6,0),IFERROR(VLOOKUP(B100,[3]B!B$1:G$51,6,0),VLOOKUP(B100,[3]C!B$1:G$52,6,0)))","v":1},{"$f":"IFERROR(VLOOKUP(B100,[3]A!B$1:H$48,7,0),IFERROR(VLOOKUP(B100,[3]B!B$1:H$51,7,0),VLOOKUP(B100,[3]C!B$1:H$52,7,0)))","v":2},0,4,16,{"$f":"IFERROR(VLOOKUP(B100,[4]A!B$1:F$48,5,0),IFERROR(VLOOKUP(B100,[4]B!B$1:F$51,5,0),VLOOKUP(B100,[4]C!B$1:F$52,5,0)))","v":0},1,3,{"$f":"IFERROR(VLOOKUP(B100,[4]A!B$1:J$48,9,0),IFERROR(VLOOKUP(B100,[4]B!B$1:J$51,9,0),VLOOKUP(B100,[4]C!B$1:J$52,9,0)))","v":0},2,2,null,1,1,null,66,0,0,43,43,65.151515151515156,0,"c-12",6,6,12]
[100,"15BA018",{"$f":"VLOOKUP(B101,[1]C!B$1:C$51,2,0)","v":9},{"$f":"VLOOKUP(B101,[1]C!B$1:D$51,3,0)","v":9},{"$f":"VLOOKUP(B101,[1]C!B$1:F$51,5,0)","v":0},{"$f":"VLOOKUP(B101,[1]C!B$1:G$51,6,0)","v":0},{"$f":"VLOOKUP(B101,[1]C!B$1:H$51,7,0)","v":0},{"$f":"VLOOKUP(B101,[1]C!B$1:J$51,9,0)","v":0},{"$f":"VLOOKUP(B101,[2]C!B$1:C$48,2,0)","v":18},{"$f":"VLOOKUP(B101,[2]C!B$1:D$48,3,0)","v":18},{"$f":"VLOOKUP(B101,[2]C!B$1:F$48,5,0)","v":0},{"$f":"VLOOKUP(B101,[2]C!B$1:G$48,6,0)","v":3},{"$f":"VLOOKUP(B101,[2]C!B$1:H$48,7,0)","v":3},{"$f":"VLOOKUP(B101,[2]C!B$1:J$48,9,0)","v":0},{"$f":"IFERROR(VLOOKUP(B101,[3]A!B$1:C$48,2,0),IFERROR(VLOOKUP(B101,[3]B!B$1:C$51,2,0),VLOOKUP(B101,[3]C!B$1:C$52,2,0)))","v":6},{"$f":"IFERROR(VLOOKUP(B101,[3]A!B$1:D$48,3,0),IFERROR(VLOOKUP(B101,[3]B!B$1:D$51,3,0),VLOOKUP(B101,[3]C!B$1:D$52,3,0)))","v":11},{"$f":"IFERROR(VLOOKUP(B101,[3]A!B$1:F$48,5,0),IFERROR(VLOOKUP(B101,[3]B!B$1:F$51,5,0),VLOOKUP(B101,[3]C!B$1:F$52,5,0)))","v":0},{"$f":"IFERROR(VLOOKUP(B101,[3]A!B$1:G$48,6,0),IFERROR(VLOOKUP(B101,[3]B!B$1:G$51,6,0),VLOOKUP(B101,[3]C!B$1:G$52,6,0)))","v":0},{"$f":"IFERROR(VLOOKUP(B101,[3]A!B$1:H$48,7,0),IFERROR(VLOOKUP(B101,[3]B!B$1:H$51,7,0),VLOOKUP(B101,[3]C!B$1:H$52,7,0)))","v":0},0,8,16,{"$f":"IFERROR(VLOOKUP(B101,[4]A!B$1:F$48,5,0),IFERROR(VLOOKUP(B101,[4]B!B$1:F$51,5,0),VLOOKUP(B101,[4]C!B$1:F$52,5,0)))","v":0},1,3,{"$f":"IFERROR(VLOOKUP(B101,[4]A!B$1:J$48,9,0),IFERROR(VLOOKUP(B101,[4]B!B$1:J$51,9,0),VLOOKUP(B101,[4]C!B$1:J$52,9,0)))","v":0},2,2,null,1,1,null,63,0,0,48,48,76.19047619047619,3,"C-14",9,9,21]
[101,"15BA020",{"$f":"VLOOKUP(B102,[1]C!B$1:C$51,2,0)","v":8},{"$f":"VLOOKUP(B102,[1]C!B$1:D$51,3,0)","v":9},{"$f":"VLOOKUP(B102,[1]C!B$1:F$51,5,0)","v":0},{"$f":"VLOOKUP(B102,[1]C!B$1:G$51,6,0)","v":0},{"$f":"VLOOKUP(B102,[1]C!B$1:H$51,7,0)","v":0},{"$f":"VLOOKUP(B102,[1]C!B$1:J$51,9,0)","v":0},{"$f":"VLOOKUP(B102,[2]C!B$1:C$48,2,0)","v":18},{"$f":"VLOOKUP(B102,[2]C!B$1:D$48,3,0)","v":18},{"$f":"VLOOKUP(B102,[2]C!B$1:F$48,5,0)","v":0},{"$f":"VLOOKUP(B102,[2]C!B$1:G$48,6,0)","v":4},{"$f":"VLOOKUP(B102,[2]C!B$1:H$48,7,0)","v":4},{"$f":"VLOOKUP(B102,[2]C!B$1:J$48,9,0)","v":0},{"$f":"IFERROR(VLOOKUP(B102,[3]A!B$1:C$48,2,0),IFERROR(VLOOKUP(B102,[3]B!B$1:C$51,2,0),VLOOKUP(B102,[3]C!B$1:C$52,2,0)))","v":9},{"$f":"IFERROR(VLOOKUP(B102,[3]A!B$1:D$48,3,0),IFERROR(VLOOKUP(B102,[3]B!B$1:D$51,3,0),VLOOKUP(B102,[3]C!B$1:D$52,3,0)))","v":11},{"$f":"IFERROR(VLOOKUP(B102,[3]A!B$1:F$48,5,0),IFERROR(VLOOKUP(B102,[3]B!B$1:F$51,5,0),VLOOKUP(B102,[3]C!B$1:F$52,5,0)))","v":0},{"$f":"IFERROR(VLOOKUP(B102,[3]A!B$1:G$48,6,0),IFERROR(VLOOKUP(B102,[3]B!B$1:G$51,6,0),VLOOKUP(B102,[3]C!B$1:G$52,6,0)))","v":2},{"$f":"IFERROR(VLOOKUP(B102,[3]A!B$1:H$48,7,0),IFERROR(VLOOKUP(B102,[3]B!B$1:H$51,7,0),VLOOKUP(B102,[3]C!B$1:H$52,7,0)))","v":2},0,14,16,{"$f":"IFERROR(VLOOKUP(B102,[4]A!B$1:F$48,5,0),IFERROR(VLOOKUP(B102,[4]B!B$1:F$51,5,0),VLOOKUP(B102,[4]C!B$1:F$52,5,0)))","v":0},2,3,{"$f":"IFERROR(VLOOKUP(B102,[4]A!B$1:J$48,9,0),IFERROR(VLOOKUP(B102,[4]B!B$1:J$51,9,0),VLOOKUP(B102,[4]C!B$1:J$52,9,0)))","v":0},2,2,null,1,1,null,66,0,0,60,60,90.909090909090907,5,"c-12",6,6,17]
[102,"15BA025",{"$f":"VLOOKUP(B103,[1]C!B$1:C$51,2,0)","v":9},{"$f":"VLOOKUP(B103,[1]C!B$1:D$51,3,0)","v":9},{"$f":"VLOOKUP(B103,[1]C!B$1:F$51,5,0)","v":0},{"$f":"VLOOKUP(B103,[1]C!B$1:G$51,6,0)","v":0},{"$f":"VLOOKUP(B103,[1]C!B$1:H$51,7,0)","v":0},{"$f":"VLOOKUP(B103,[1]C!B$1:J$51,9,0)","v":0},{"$f":"VLOOKUP(B103,[2]C!B$1:C$48,2,0)","v":17},{"$f":"VLOOKUP(B103,[2]C!B$1:D$48,3,0)","v":18},{"$f":"VLOOKUP(B103,[2]C!B$1:F$48,5,0)","v":0},{"$f":"VLOOKUP(B103,[2]C!B$1:G$48,6,0)","v":3},{"$f":"VLOOKUP(B103,[2]C!B$1:H$48,7,0)","v":3},{"$f":"VLOOKUP(B103,[2]C!B$1:J$48,9,0)","v":0},{"$f":"IFERROR(VLOOKUP(B103,[3]A!B$1:C$48,2,0),IFERROR(VLOOKUP(B103,[3]B!B$1:C$51,2,0),VLOOKUP(B103,[3]C!B$1:C$52,2,0)))","v":6},{"$f":"IFERROR(VLOOKUP(B103,[3]A!B$1:D$48,3,0),IFERROR(VLOOKUP(B103,[3]B!B$1:D$51,3,0),VLOOKUP(B103,[3]C!B$1:D$52,3,0)))","v":11},{"$f":"IFERROR(VLOOKUP(B103,[3]A!B$1:F$48,5,0),IFERROR(VLOOKUP(B103,[3]B!B$1:F$51,5,0),VLOOKUP(B103,[3]C!B$1:F$52,5,0)))","v":0},{"$f":"IFERROR(VLOOKUP(B103,[3]A!B$1:G$48,6,0),IFERROR(VLOOKUP(B103,[3]B!B$1:G$51,6,0),VLOOKUP(B103,[3]C!B$1:G$52,6,0)))","v":0},{"$f":"IFERROR(VLOOKUP(B103,[3]A!B$1:H$48,7,0),IFERROR(VLOOKUP(B103,[3]B!B$1:H$51,7,0),VLOOKUP(B103,[3]C!B$1:H$52,7,0)))","v":0},0,7,16,2,0,3,{"$f":"IFERROR(VLOOKUP(B103,[4]A!B$1:J$48,9,0),IFERROR(VLOOKUP(B103,[4]B!B$1:J$51,9,0),VLOOKUP(B103,[4]C!B$1:J$52,9,0)))","v":0},2,2,null,1,1,null,63,2,2,45,47,74.603174603174608,2,"C-14",6,5,13]
[103,"15BA028",{"$f":"VLOOKUP(B104,[1]C!B$1:C$51,2,0)","v":9},{"$f":"VLOOKUP(B104,[1]C!B$1:D$51,3,0)","v":9},{"$f":"VLOOKUP(B104,[1]C!B$1:F$51,5,0)","v":0},{"$f":"VLOOKUP(B104,[1]C!B$1:G$51,6,0)","v":0},{"$f":"VLOOKUP(B104,[1]C!B$1:H$51,7,0)","v":0},{"$f":"VLOOKUP(B104,[1]C!B$1:J$51,9,0)","v":0},{"$f":"VLOOKUP(B104,[2]C!B$1:C$48,2,0)","v":18},{"$f":"VLOOKUP(B104,[2]C!B$1:D$48,3,0)","v":18},{"$f":"VLOOKUP(B104,[2]C!B$1:F$48,5,0)","v":0},{"$f":"VLOOKUP(B104,[2]C!B$1:G$48,6,0)","v":3},{"$f":"VLOOKUP(B104,[2]C!B$1:H$48,7,0)","v":3},{"$f":"VLOOKUP(B104,[2]C!B$1:J$48,9,0)","v":0},{"$f":"IFERROR(VLOOKUP(B104,[3]A!B$1:C$48,2,0),IFERROR(VLOOKUP(B104,[3]B!B$1:C$51,2,0),VLOOKUP(B104,[3]C!B$1:C$52,2,0)))","v":6},{"$f":"IFERROR(VLOOKUP(B104,[3]A!B$1:D$48,3,0),IFERROR(VLOOKUP(B104,[3]B!B$1:D$51,3,0),VLOOKUP(B104,[3]C!B$1:D$52,3,0)))","v":11},{"$f":"IFERROR(VLOOKUP(B104,[3]A!B$1:F$48,5,0),IFERROR(VLOOKUP(B104,[3]B!B$1:F$51,5,0),VLOOKUP(B104,[3]C!B$1:F$52,5,0)))","v":0},{"$f":"IFERROR(VLOOKUP(B104,[3]A!B$1:G$48,6,0),IFERROR(VLOOKUP(B104,[3]B!B$1:G$51,6,0),VLOOKUP(B104,[3]C!B$1:G$52,6,0)))","v":0},{"$f":"IFERROR(VLOOKUP(B104,[3]A!B$1:H$48,7,0),IFERROR(VLOOKUP(B104,[3]B!B$1:H$51,7,0),VLOOKUP(B104,[3]C!B$1:H$52,7,0)))","v":0},0,8,16,{"$f":"IFERROR(VLOOKUP(B104,[4]A!B$1:F$48,5,0),IFERROR(VLOOKUP(B104,[4]B!B$1:F$51,5,0),VLOOKUP(B104,[4]C!B$1:F$52,5,0)))","v":0},2,3,{"$f":"IFERROR(VLOOKUP(B104,[4]A!B$1:J$48,9,0),IFERROR(VLOOKUP(B104,[4]B!B$1:J$51,9,0),VLOOKUP(B104,[4]C!B$1:J$52,9,0)))","v":0},2,2,null,1,1,null,63,0,0,49,49,77.777777777777786,3,"C-14",8,7,18]
[104,"15BA031",{"$f":"VLOOKUP(B105,[1]C!B$1:C$51,2,0)","v":9},{"$f":"VLOOKUP(B105,[1]C!B$1:D$51,3,0)","v":9},{"$f":"VLOOKUP(B105,[1]C!B$1:F$51,5,0)","v":0},{"$f":"VLOOKUP(B105,[1]C!B$1:G$51,6,0)","v":0},{"$f":"VLOOKUP(B105,[1]C!B$1:H$51,7,0)","v":0},{"$f":"VLOOKUP(B105,[1]C!B$1:J$51,9,0)","v":0},{"$f":"VLOOKUP(B105,[2]C!B$1:C$48,2,0)","v":18},{"$f":"VLOOKUP(B105,[2]C!B$1:D$48,3,0)","v":18},{"$f":"VLOOKUP(B105,[2]C!B$1:F$48,5,0)","v":0},{"$f":"VLOOKUP(B105,[2]C!B$1:G$48,6,0)","v":3},{"$f":"VLOOKUP(B105,[2]C!B$1:H$48,7,0)","v":3},{"$f":"VLOOKUP(B105,[2]C!B$1:J$48,9,0)","v":0},{"$f":"IFERROR(VLOOKUP(B105,[3]A!B$1:C$48,2,0),IFERROR(VLOOKUP(B105,[3]B!B$1:C$51,2,0),VLOOKUP(B105,[3]C!B$1:C$52,2,0)))","v":10},{"$f":"IFERROR(VLOOKUP(B105,[3]A!B$1:D$48,3,0),IFERROR(VLOOKUP(B105,[3]B!B$1:D$51,3,0),VLOOKUP(B105,[3]C!B$1:D$52,3,0)))","v":11},{"$f":"IFERROR(VLOOKUP(B105,[3]A!B$1:F$48,5,0),IFERROR(VLOOKUP(B105,[3]B!B$1:F$51,5,0),VLOOKUP(B105,[3]C!B$1:F$52,5,0)))","v":0},{"$f":"IFERROR(VLOOKUP(B105,[3]A!B$1:G$48,6,0),IFERROR(VLOOKUP(B105,[3]B!B$1:G$51,6,0),VLOOKUP(B105,[3]C!B$1:G$52,6,0)))","v":0},{"$f":"IFERROR(VLOOKUP(B105,[3]A!B$1:H$48,7,0),IFERROR(VLOOKUP(B105,[3]B!B$1:H$51,7,0),VLOOKUP(B105,[3]C!B$1:H$52,7,0)))","v":0},0,6,16,5,0,3,{"$f":"IFERROR(VLOOKUP(B105,[4]A!B$1:J$48,9,0),IFERROR(VLOOKUP(B105,[4]B!B$1:J$51,9,0),VLOOKUP(B105,[4]C!B$1:J$52,9,0)))","v":0},2,2,null,1,1,null,63,5,5,49,54,85.714285714285708,5,"C-14",6,6,17]
[105,"15BA032",{"$f":"VLOOKUP(B106,[1]C!B$1:C$51,2,0)","v":9},{"$f":"VLOOKUP(B106,[1]C!B$1:D$51,3,0)","v":9},{"$f":"VLOOKUP(B106,[1]C!B$1:F$51,5,0)","v":0},{"$f":"VLOOKUP(B106,[1]C!B$1:G$51,6,0)","v":0},{"$f":"VLOOKUP(B106,[1]C!B$1:H$51,7,0)","v":0},{"$f":"VLOOKUP(B106,[1]C!B$1:J$51,9,0)","v":0},{"$f":"VLOOKUP(B106,[2]C!B$1:C$48,2,0)","v":18},{"$f":"VLOOKUP(B106,[2]C!B$1:D$48,3,0)","v":18},{"$f":"VLOOKUP(B106,[2]C!B$1:F$48,5,0)","v":0},{"$f":"VLOOKUP(B106,[2]C!B$1:G$48,6,0)","v":3},{"$f":"VLOOKUP(B106,[2]C!B$1:H$48,7,0)","v":3},{"$f":"VLOOKUP(B106,[2]C!B$1:J$48,9,0)","v":0},{"$f":"IFERROR(VLOOKUP(B106,[3]A!B$1:C$48,2,0),IFERROR(VLOOKUP(B106,[3]B!B$1:C$51,2,0),VLOOKUP(B106,[3]C!B$1:C$52,2,0)))","v":7},{"$f":"IFERROR(VLOOKUP(B106,[3]A!B$1:D$48,3,0),IFERROR(VLOOKUP(B106,[3]B!B$1:D$51,3,0),VLOOKUP(B106,[3]C!B$1:D$52,3,0)))","v":11},{"$f":"IFERROR(VLOOKUP(B106,[3]A!B$1:F$48,5,0),IFERROR(VLOOKUP(B106,[3]B!B$1:F$51,5,0),VLOOKUP(B106,[3]C!B$1:F$52,5,0)))","v":0},{"$f":"IFERROR(VLOOKUP(B106,[3]A!B$1:G$48,6,0),IFERROR(VLOOKUP(B106,[3]B!B$1:G$51,6,0),VLOOKUP(B106,[3]C!B$1:G$52,6,0)))","v":0},{"$f":"IFERROR(VLOOKUP(B106,[3]A!B$1:H$48,7,0),IFERROR(VLOOKUP(B106,[3]B!B$1:H$51,7,0),VLOOKUP(B106,[3]C!B$1:H$52,7,0)))","v":0},0,9,16,2,1,3,{"$f":"IFERROR(VLOOKUP(B106,[4]A!B$1:J$48,9,0),IFERROR(VLOOKUP(B106,[4]B!B$1:J$51,9,0),VLOOKUP(B106,[4]C!B$1:J$52,9,0)))","v":0},2,2,null,1,1,null,63,2,2,50,52,82.539682539682531,4,"C-14",6,5,15]
[106,"15BA034",{"$f":"VLOOKUP(B107,[1]C!B$1:C$51,2,0)","v":9},{"$f":"VLOOKUP(B107,[1]C!B$1:D$51,3,0)","v":9},{"$f":"VLOOKUP(B107,[1]C!B$1:F$51,5,0)","v":0},{"$f":"VLOOKUP(B107,[1]C!B$1:G$51,6,0)","v":0},{"$f":"VLOOKUP(B107,[1]C!B$1:H$51,7,0)","v":0},{"$f":"VLOOKUP(B107,[1]C!B$1:J$51,9,0)","v":0},{"$f":"VLOOKUP(B107,[2]C!B$1:C$48,2,0)","v":18},{"$f":"VLOOKUP(B107,[2]C!B$1:D$48,3,0)","v":18},{"$f":"VLOOKUP(B107,[2]C!B$1:F$48,5,0)","v":0},{"$f":"VLOOKUP(B107,[2]C!B$1:G$48,6,0)","v":3},{"$f":"VLOOKUP(B107,[2]C!B$1:H$48,7,0)","v":3},{"$f":"VLOOKUP(B107,[2]C!B$1:J$48,9,0)","v":0},{"$f":"IFERROR(VLOOKUP(B107,[3]A!B$1:C$48,2,0),IFERROR(VLOOKUP(B107,[3]B!B$1:C$51,2,0),VLOOKUP(B107,[3]C!B$1:C$52,2,0)))","v":6},{"$f":"IFERROR(VLOOKUP(B107,[3]A!B$1:D$48,3,0),IFERROR(VLOOKUP(B107,[3]B!B$1:D$51,3,0),VLOOKUP(B107,[3]C!B$1:D$52,3,0)))","v":11},{"$f":"IFERROR(VLOOKUP(B107,[3]A!B$1:F$48,5,0),IFERROR(VLOOKUP(B107,[3]B!B$1:F$51,5,0),VLOOKUP(B107,[3]C!B$1:F$52,5,0)))","v":0},{"$f":"IFERROR(VLOOKUP(B107,[3]A!B$1:G$48,6,0),IFERROR(VLOOKUP(B107,[3]B!B$1:G$51,6,0),VLOOKUP(B107,[3]C!B$1:G$52,6,0)))","v":0},{"$f":"IFERROR(VLOOKUP(B107,[3]A!B$1:H$48,7,0),IFERROR(VLOOKUP(B107,[3]B!B$1:H$51,7,0),VLOOKUP(B107,[3]C!B$1:H$52,7,0)))","v":0},0,11,16,{"$f":"IFERROR(VLOOKUP(B107,[4]A!B$1:F$48,5,0),IFERROR(VLOOKUP(B107,[4]B!B$1:F$51,5,0),VLOOKUP(B107,[4]C!B$1:F$52,5,0)))","v":0},2,3,{"$f":"IFERROR(VLOOKUP(B107,[4]A!B$1:J$48,9,0),IFERROR(VLOOKUP(B107,[4]B!B$1:J$51,9,0),VLOOKUP(B107,[4]C!B$1:J$52,9,0)))","v":0},2,2,null,1,1,null,63,0,0,52,52,82.539682539682531,4,"C-14",6,5,15]
[107,"15BA037",{"$f":"VLOOKUP(B108,[1]C!B$1:C$51,2,0)","v":9},{"$f":"VLOOKUP(B108,[1]C!B$1:D$51,3,0)","v":9},{"$f":"VLOOKUP(B108,[1]C!B$1:F$51,5,0)","v":0},{"$f":"VLOOKUP(B108,[1]C!B$1:G$51,6,0)","v":0},{"$f":"VLOOKUP(B108,[1]C!B$1:H$51,7,0)","v":0},{"$f":"VLOOKUP(B108,[1]C!B$1:J$51,9,0)","v":0},{"$f":"VLOOKUP(B108,[2]C!B$1:C$48,2,0)","v":18},{"$f":"VLOOKUP(B108,[2]C!B$1:D$48,3,0)","v":18},{"$f":"VLOOKUP(B108,[2]C!B$1:F$48,5,0)","v":0},{"$f":"VLOOKUP(B108,[2]C!B$1:G$48,6,0)","v":3},{"$f":"VLOOKUP(B108,[2]C!B$1:H$48,7,0)","v":3},{"$f":"VLOOKUP(B108,[2]C!B$1:J$48,9,0)","v":0},{"$f":"IFERROR(VLOOKUP(B108,[3]A!B$1:C$48,2,0),IFERROR(VLOOKUP(B108,[3]B!B$1:C$51,2,0),VLOOKUP(B108,[3]C!B$1:C$52,2,0)))","v":3},{"$f":"IFERROR(VLOOKUP(B108,[3]A!B$1:D$48,3,0),IFERROR(VLOOKUP(B108,[3]B!B$1:D$51,3,0),VLOOKUP(B108,[3]C!B$1:D$52,3,0)))","v":11},{"$f":"IFERROR(VLOOKUP(B108,[3]A!B$1:F$48,5,0),IFERROR(VLOOKUP(B108,[3]B!B$1:F$51,5,0),VLOOKUP(B108,[3]C!B$1:F$52,5,0)))","v":0},{"$f":"IFERROR(VLOOKUP(B108,[3]A!B$1:G$48,6,0),IFERROR(VLOOKUP(B108,[3]B!B$1:G$51,6,0),VLOOKUP(B108,[3]C!B$1:G$52,6,0)))","v":0},{"$f":"IFERROR(VLOOKUP(B108,[3]A!B$1:H$48,7,0),IFERROR(VLOOKUP(B108,[3]B!B$1:H$51,7,0),VLOOKUP(B108,[3]C!B$1:H$52,7,0)))","v":0},0,9,16,{"$f":"IFERROR(VLOOKUP(B108,[4]A!B$1:F$48,5,0),IFERROR(VLOOKUP(B108,[4]B!B$1:F$51,5,0),VLOOKUP(B108,[4]C!B$1:F$52,5,0)))","v":0},0,3,{"$f":"IFERROR(VLOOKUP(B108,[4]A!B$1:J$48,9,0),IFERROR(VLOOKUP(B108,[4]B!B$1:J$51,9,0),VLOOKUP(B108,[4]C!B$1:J$52,9,0)))","v":0},2,2,null,1,1,null,63,0,0,45,45,71.428571428571431,2,"C-14",9,9,20]
[108,"15BA045",{"$f":"VLOOKUP(B109,[1]C!B$1:C$51,2,0)","v":9},{"$f":"VLOOKUP(B109,[1]C!B$1:D$51,3,0)","v":9},{"$f":"VLOOKUP(B109,[1]C!B$1:F$51,5,0)","v":0},{"$f":"VLOOKUP(B109,[1]C!B$1:G$51,6,0)","v":0},{"$f":"VLOOKUP(B109,[1]C!B$1:H$51,7,0)","v":0},{"$f":"VLOOKUP(B109,[1]C!B$1:J$51,9,0)","v":0},{"$f":"VLOOKUP(B109,[2]C!B$1:C$48,2,0)","v":16},{"$f":"VLOOKUP(B109,[2]C!B$1:D$48,3,0)","v":18},{"$f":"VLOOKUP(B109,[2]C!B$1:F$48,5,0)","v":0},{"$f":"VLOOKUP(B109,[2]C!B$1:G$48,6,0)","v":3},{"$f":"VLOOKUP(B109,[2]C!B$1:H$48,7,0)","v":3},{"$f":"VLOOKUP(B109,[2]C!B$1:J$48,9,0)","v":0},{"$f":"IFERROR(VLOOKUP(B109,[3]A!B$1:C$48,2,0),IFERROR(VLOOKUP(B109,[3]B!B$1:C$51,2,0),VLOOKUP(B109,[3]C!B$1:C$52,2,0)))","v":9},{"$f":"IFERROR(VLOOKUP(B109,[3]A!B$1:D$48,3,0),IFERROR(VLOOKUP(B109,[3]B!B$1:D$51,3,0),VLOOKUP(B109,[3]C!B$1:D$52,3,0)))","v":11},{"$f":"IFERROR(VLOOKUP(B109,[3]A!B$1:F$48,5,0),IFERROR(VLOOKUP(B109,[3]B!B$1:F$51,5,0),VLOOKUP(B109,[3]C!B$1:F$52,5,0)))","v":0},{"$f":"IFERROR(VLOOKUP(B109,[3]A!B$1:G$48,6,0),IFERROR(VLOOKUP(B109,[3]B!B$1:G$51,6,0),VLOOKUP(B109,[3]C!B$1:G$52,6,0)))","v":2},{"$f":"IFERROR(VLOOKUP(B109,[3]A!B$1:H$48,7,0),IFERROR(VLOOKUP(B109,[3]B!B$1:H$51,7,0),VLOOKUP(B109,[3]C!B$1:H$52,7,0)))","v":2},0,12,16,2,2,2,{"$f":"IFERROR(VLOOKUP(B109,[4]A!B$1:J$48,9,0),IFERROR(VLOOKUP(B109,[4]B!B$1:J$51,9,0),VLOOKUP(B109,[4]C!B$1:J$52,9,0)))","v":0},2,2,null,2,2,null,65,2,2,57,59,90.769230769230774,5,"C-11",8,8,21]
[109,"15BA046",{"$f":"VLOOKUP(B110,[1]C!B$1:C$51,2,0)","v":8},{"$f":"VLOOKUP(B110,[1]C!B$1:D$51,3,0)","v":9},{"$f":"VLOOKUP(B110,[1]C!B$1:F$51,5,0)","v":0},{"$f":"VLOOKUP(B110,[1]C!B$1:G$51,6,0)","v":0},{"$f":"VLOOKUP(B110,[1]C!B$1:H$51,7,0)","v":0},{"$f":"VLOOKUP(B110,[1]C!B$1:J$51,9,0)","v":0},{"$f":"VLOOKUP(B110,[2]C!B$1:C$48,2,0)","v":17},{"$f":"VLOOKUP(B110,[2]C!B$1:D$48,3,0)","v":18},{"$f":"VLOOKUP(B110,[2]C!B$1:F$48,5,0)","v":0},{"$f":"VLOOKUP(B110,[2]C!B$1:G$48,6,0)","v":3},{"$f":"VLOOKUP(B110,[2]C!B$1:H$48,7,0)","v":3},{"$f":"VLOOKUP(B110,[2]C!B$1:J$48,9,0)","v":0},{"$f":"IFERROR(VLOOKUP(B110,[3]A!B$1:C$48,2,0),IFERROR(VLOOKUP(B110,[3]B!B$1:C$51,2,0),VLOOKUP(B110,[3]C!B$1:C$52,2,0)))","v":9},{"$f":"IFERROR(VLOOKUP(B110,[3]A!B$1:D$48,3,0),IFERROR(VLOOKUP(B110,[3]B!B$1:D$51,3,0),VLOOKUP(B110,[3]C!B$1:D$52,3,0)))","v":11},{"$f":"IFERROR(VLOOKUP(B110,[3]A!B$1:F$48,5,0),IFERROR(VLOOKUP(B110,[3]B!B$1:F$51,5,0),VLOOKUP(B110,[3]C!B$1:F$52,5,0)))","v":1},{"$f":"IFERROR(VLOOKUP(B110,[3]A!B$1:G$48,6,0),IFERROR(VLOOKUP(B110,[3]B!B$1:G$51,6,0),VLOOKUP(B110,[3]C!B$1:G$52,6,0)))","v":2},{"$f":"IFERROR(VLOOKUP(B110,[3]A!B$1:H$48,7,0),IFERROR(VLOOKUP(B110,[3]B!B$1:H$51,7,0),VLOOKUP(B110,[3]C!B$1:H$52,7,0)))","v":2},0,14,16,{"$f":"IFERROR(VLOOKUP(B110,[4]A!B$1:F$48,5,0),IFERROR(VLOOKUP(B110,[4]B!B$1:F$51,5,0),VLOOKUP(B110,[4]C!B$1:F$52,5,0)))","v":0},2,2,{"$f":"IFERROR(VLOOKUP(B110,[4]A!B$1:J$48,9,0),IFERROR(VLOOKUP(B110,[4]B!B$1:J$51,9,0),VLOOKUP(B110,[4]C!B$1:J$52,9,0)))","v":0},2,2,null,2,2,null,65,1,1,59,60,92.307692307692307,5,"C-11",10,10,25]
[110,"15BA052",{"$f":"VLOOKUP(B111,[1]C!B$1:C$51,2,0)","v":9},{"$f":"VLOOKUP(B111,[1]C!B$1:D$51,3,0)","v":9},{"$f":"VLOOKUP(B111,[1]C!B$1:F$51,5,0)","v":0},{"$f":"VLOOKUP(B111,[1]C!B$1:G$51,6,0)","v":0},{"$f":"VLOOKUP(B111,[1]C!B$1:H$51,7,0)","v":0},{"$f":"VLOOKUP(B111,[1]C!B$1:J$51,9,0)","v":0},{"$f":"VLOOKUP(B111,[2]C!B$1:C$48,2,0)","v":18},{"$f":"VLOOKUP(B111,[2]C!B$1:D$48,3,0)","v":18},{"$f":"VLOOKUP(B111,[2]C!B$1:F$48,5,0)","v":0},{"$f":"VLOOKUP(B111,[2]C!B$1:G$48,6,0)","v":3},{"$f":"VLOOKUP(B111,[2]C!B$1:H$48,7,0)","v":3},{"$f":"VLOOKUP(B111,[2]C!B$1:J$48,9,0)","v":0},{"$f":"IFERROR(VLOOKUP(B111,[3]A!B$1:C$48,2,0),IFERROR(VLOOKUP(B111,[3]B!B$1:C$51,2,0),VLOOKUP(B111,[3]C!B$1:C$52,2,0)))","v":7},{"$f":"IFERROR(VLOOKUP(B111,[3]A!B$1:D$48,3,0),IFERROR(VLOOKUP(B111,[3]B!B$1:D$51,3,0),VLOOKUP(B111,[3]C!B$1:D$52,3,0)))","v":11},{"$f":"IFERROR(VLOOKUP(B111,[3]A!B$1:F$48,5,0),IFERROR(VLOOKUP(B111,[3]B!B$1:F$51,5,0),VLOOKUP(B111,[3]C!B$1:F$52,5,0)))","v":1},{"$f":"IFERROR(VLOOKUP(B111,[3]A!B$1:G$48,6,0),IFERROR(VLOOKUP(B111,[3]B!B$1:G$51,6,0),VLOOKUP(B111,[3]C!B$1:G$52,6,0)))","v":0},{"$f":"IFERROR(VLOOKUP(B111,[3]A!B$1:H$48,7,0),IFERROR(VLOOKUP(B111,[3]B!B$1:H$51,7,0),VLOOKUP(B111,[3]C!B$1:H$52,7,0)))","v":0},0,12,16,{"$f":"IFERROR(VLOOKUP(B111,[4]A!B$1:F$48,5,0),IFERROR(VLOOKUP(B111,[4]B!B$1:F$51,5,0),VLOOKUP(B111,[4]C!B$1:F$52,5,0)))","v":0},3,3,{"$f":"IFERROR(VLOOKUP(B111,[4]A!B$1:J$48,9,0),IFERROR(VLOOKUP(B111,[4]B!B$1:J$51,9,0),VLOOKUP(B111,[4]C!B$1:J$52,9,0)))","v":0},1,2,null,1,1,null,63,1,1,54,55,87.301587301587304,5,"C-14",10,10,25]
[111,"15BA056",{"$f":"VLOOKUP(B112,[1]C!B$1:C$51,2,0)","v":9},{"$f":"VLOOKUP(B112,[1]C!B$1:D$51,3,0)","v":9},{"$f":"VLOOKUP(B112,[1]C!B$1:F$51,5,0)","v":0},{"$f":"VLOOKUP(B112,[1]C!B$1:G$51,6,0)","v":0},{"$f":"VLOOKUP(B112,[1]C!B$1:H$51,7,0)","v":0},{"$f":"VLOOKUP(B112,[1]C!B$1:J$51,9,0)","v":0},{"$f":"VLOOKUP(B112,[2]C!B$1:C$48,2,0)","v":18},{"$f":"VLOOKUP(B112,[2]C!B$1:D$48,3,0)","v":18},{"$f":"VLOOKUP(B112,[2]C!B$1:F$48,5,0)","v":0},{"$f":"VLOOKUP(B112,[2]C!B$1:G$48,6,0)","v":4},{"$f":"VLOOKUP(B112,[2]C!B$1:H$48,7,0)","v":4},{"$f":"VLOOKUP(B112,[2]C!B$1:J$48,9,0)","v":0},{"$f":"IFERROR(VLOOKUP(B112,[3]A!B$1:C$48,2,0),IFERROR(VLOOKUP(B112,[3]B!B$1:C$51,2,0),VLOOKUP(B112,[3]C!B$1:C$52,2,0)))","v":10},{"$f":"IFERROR(VLOOKUP(B112,[3]A!B$1:D$48,3,0),IFERROR(VLOOKUP(B112,[3]B!B$1:D$51,3,0),VLOOKUP(B112,[3]C!B$1:D$52,3,0)))","v":11},{"$f":"IFERROR(VLOOKUP(B112,[3]A!B$1:F$48,5,0),IFERROR(VLOOKUP(B112,[3]B!B$1:F$51,5,0),VLOOKUP(B112,[3]C!B$1:F$52,5,0)))","v":0},{"$f":"IFERROR(VLOOKUP(B112,[3]A!B$1:G$48,6,0),IFERROR(VLOOKUP(B112,[3]B!B$1:G$51,6,0),VLOOKUP(B112,[3]C!B$1:G$52,6,0)))","v":2},{"$f":"IFERROR(VLOOKUP(B112,[3]A!B$1:H$48,7,0),IFERROR(VLOOKUP(B112,[3]B!B$1:H$51,7,0),VLOOKUP(B112,[3]C!B$1:H$52,7,0)))","v":2},0,13,16,{"$f":"IFERROR(VLOOKUP(B112,[4]A!B$1:F$48,5,0),IFERROR(VLOOKUP(B112,[4]B!B$1:F$51,5,0),VLOOKUP(B112,[4]C!B$1:F$52,5,0)))","v":0},3,3,{"$f":"IFERROR(VLOOKUP(B112,[4]A!B$1:J$48,9,0),IFERROR(VLOOKUP(B112,[4]B!B$1:J$51,9,0),VLOOKUP(B112,[4]C!B$1:J$52,9,0)))","v":0},2,2,null,1,1,null,66,0,0,62,62,93.939393939393938,5,"c-12",9,8,22]
[112,"15BA058",{"$f":"VLOOKUP(B113,[1]C!B$1:C$51,2,0)","v":8},{"$f":"VLOOKUP(B113,[1]C!B$1:D$51,3,0)","v":9},{"$f":"VLOOKUP(B113,[1]C!B$1:F$51,5,0)","v":0},{"$f":"VLOOKUP(B113,[1]C!B$1:G$51,6,0)","v":0},{"$f":"VLOOKUP(B113,[1]C!B$1:H$51,7,0)","v":0},{"$f":"VLOOKUP(B113,[1]C!B$1:J$51,9,0)","v":0},{"$f":"VLOOKUP(B113,[2]C!B$1:C$48,2,0)","v":17},{"$f":"VLOOKUP(B113,[2]C!B$1:D$48,3,0)","v":18},{"$f":"VLOOKUP(B113,[2]C!B$1:F$48,5,0)","v":0},{"$f":"VLOOKUP(B113,[2]C!B$1:G$48,6,0)","v":4},{"$f":"VLOOKUP(B113,[2]C!B$1:H$48,7,0)","v":4},{"$f":"VLOOKUP(B113,[2]C!B$1:J$48,9,0)","v":0},{"$f":"IFERROR(VLOOKUP(B113,[3]A!B$1:C$48,2,0),IFERROR(VLOOKUP(B113,[3]B!B$1:C$51,2,0),VLOOKUP(B113,[3]C!B$1:C$52,2,0)))","v":8},{"$f":"IFERROR(VLOOKUP(B113,[3]A!B$1:D$48,3,0),IFERROR(VLOOKUP(B113,[3]B!B$1:D$51,3,0),VLOOKUP(B113,[3]C!B$1:D$52,3,0)))","v":11},{"$f":"IFERROR(VLOOKUP(B113,[3]A!B$1:F$48,5,0),IFERROR(VLOOKUP(B113,[3]B!B$1:F$51,5,0),VLOOKUP(B113,[3]C!B$1:F$52,5,0)))","v":0},{"$f":"IFERROR(VLOOKUP(B113,[3]A!B$1:G$48,6,0),IFERROR(VLOOKUP(B113,[3]B!B$1:G$51,6,0),VLOOKUP(B113,[3]C!B$1:G$52,6,0)))","v":0},{"$f":"IFERROR(VLOOKUP(B113,[3]A!B$1:H$48,7,0),IFERROR(VLOOKUP(B113,[3]B!B$1:H$51,7,0),VLOOKUP(B113,[3]C!B$1:H$52,7,0)))","v":2},0,2,16,{"$f":"IFERROR(VLOOKUP(B113,[4]A!B$1:F$48,5,0),IFERROR(VLOOKUP(B113,[4]B!B$1:F$51,5,0),VLOOKUP(B113,[4]C!B$1:F$52,5,0)))","v":0},{"$f":"IFERROR(VLOOKUP(B113,[4]A!B$1:G$48,6,0),IFERROR(VLOOKUP(B113,[4]B!B$1:G$51,6,0),VLOOKUP(B113,[4]C!B$1:G$52,6,0)))","v":0},3,{"$f":"IFERROR(VLOOKUP(B113,[4]A!B$1:J$48,9,0),IFERROR(VLOOKUP(B113,[4]B!B$1:J$51,9,0),VLOOKUP(B113,[4]C!B$1:J$52,9,0)))","v":0},0,2,null,0,1,null,66,0,0,39,39,59.090909090909093,0,"c-12",4,4,8]
[113,"15BA059",{"$f":"VLOOKUP(B114,[1]C!B$1:C$51,2,0)","v":7},{"$f":"VLOOKUP(B114,[1]C!B$1:D$51,3,0)","v":9},{"$f":"VLOOKUP(B114,[1]C!B$1:F$51,5,0)","v":0},{"$f":"VLOOKUP(B114,[1]C!B$1:G$51,6,0)","v":0},{"$f":"VLOOKUP(B114,[1]C!B$1:H$51,7,0)","v":0},{"$f":"VLOOKUP(B114,[1]C!B$1:J$51,9,0)","v":0},{"$f":"VLOOKUP(B114,[2]C!B$1:C$48,2,0)","v":18},{"$f":"VLOOKUP(B114,[2]C!B$1:D$48,3,0)","v":18},{"$f":"VLOOKUP(B114,[2]C!B$1:F$48,5,0)","v":0},{"$f":"VLOOKUP(B114,[2]C!B$1:G$48,6,0)","v":4},{"$f":"VLOOKUP(B114,[2]C!B$1:H$48,7,0)","v":4},{"$f":"VLOOKUP(B114,[2]C!B$1:J$48,9,0)","v":0},{"$f":"IFERROR(VLOOKUP(B114,[3]A!B$1:C$48,2,0),IFERROR(VLOOKUP(B114,[3]B!B$1:C$51,2,0),VLOOKUP(B114,[3]C!B$1:C$52,2,0)))","v":6},{"$f":"IFERROR(VLOOKUP(B114,[3]A!B$1:D$48,3,0),IFERROR(VLOOKUP(B114,[3]B!B$1:D$51,3,0),VLOOKUP(B114,[3]C!B$1:D$52,3,0)))","v":11},{"$f":"IFERROR(VLOOKUP(B114,[3]A!B$1:F$48,5,0),IFERROR(VLOOKUP(B114,[3]B!B$1:F$51,5,0),VLOOKUP(B114,[3]C!B$1:F$52,5,0)))","v":0},{"$f":"IFERROR(VLOOKUP(B114,[3]A!B$1:G$48,6,0),IFERROR(VLOOKUP(B114,[3]B!B$1:G$51,6,0),VLOOKUP(B114,[3]C!B$1:G$52,6,0)))","v":1},{"$f":"IFERROR(VLOOKUP(B114,[3]A!B$1:H$48,7,0),IFERROR(VLOOKUP(B114,[3]B!B$1:H$51,7,0),VLOOKUP(B114,[3]C!B$1:H$52,7,0)))","v":2},0,12,16,{"$f":"IFERROR(VLOOKUP(B114,[4]A!B$1:F$48,5,0),IFERROR(VLOOKUP(B114,[4]B!B$1:F$51,5,0),VLOOKUP(B114,[4]C!B$1:F$52,5,0)))","v":0},2,3,{"$f":"IFERROR(VLOOKUP(B114,[4]A!B$1:J$48,9,0),IFERROR(VLOOKUP(B114,[4]B!B$1:J$51,9,0),VLOOKUP(B114,[4]C!B$1:J$52,9,0)))","v":0},0,2,null,0,1,null,66,0,0,50,50,75.757575757575751,3,"c-12",7,6,16]
[114,"15BA063",{"$f":"VLOOKUP(B115,[1]C!B$1:C$51,2,0)","v":9},{"$f":"VLOOKUP(B115,[1]C!B$1:D$51,3,0)","v":9},{"$f":"VLOOKUP(B115,[1]C!B$1:F$51,5,0)","v":0},{"$f":"VLOOKUP(B115,[1]C!B$1:G$51,6,0)","v":0},{"$f":"VLOOKUP(B115,[1]C!B$1:H$51,7,0)","v":0},{"$f":"VLOOKUP(B115,[1]C!B$1:J$51,9,0)","v":0},{"$f":"VLOOKUP(B115,[2]C!B$1:C$48,2,0)","v":18},{"$f":"VLOOKUP(B115,[2]C!B$1:D$48,3,0)","v":18},{"$f":"VLOOKUP(B115,[2]C!B$1:F$48,5,0)","v":0},{"$f":"VLOOKUP(B115,[2]C!B$1:G$48,6,0)","v":3},{"$f":"VLOOKUP(B115,[2]C!B$1:H$48,7,0)","v":3},{"$f":"VLOOKUP(B115,[2]C!B$1:J$48,9,0)","v":0},{"$f":"IFERROR(VLOOKUP(B115,[3]A!B$1:C$48,2,0),IFERROR(VLOOKUP(B115,[3]B!B$1:C$51,2,0),VLOOKUP(B115,[3]C!B$1:C$52,2,0)))","v":10},{"$f":"IFERROR(VLOOKUP(B115,[3]A!B$1:D$48,3,0),IFERROR(VLOOKUP(B115,[3]B!B$1:D$51,3,0),VLOOKUP(B115,[3]C!B$1:D$52,3,0)))","v":11},{"$f":"IFERROR(VLOOKUP(B115,[3]A!B$1:F$48,5,0),IFERROR(VLOOKUP(B115,[3]B!B$1:F$51,5,0),VLOOKUP(B115,[3]C!B$1:F$52,5,0)))","v":0},{"$f":"IFERROR(VLOOKUP(B115,[3]A!B$1:G$48,6,0),IFERROR(VLOOKUP(B115,[3]B!B$1:G$51,6,0),VLOOKUP(B115,[3]C!B$1:G$52,6,0)))","v":0},{"$f":"IFERROR(VLOOKUP(B115,[3]A!B$1:H$48,7,0),IFERROR(VLOOKUP(B115,[3]B!B$1:H$51,7,0),VLOOKUP(B115,[3]C!B$1:H$52,7,0)))","v":0},0,11,16,{"$f":"IFERROR(VLOOKUP(B115,[4]A!B$1:F$48,5,0),IFERROR(VLOOKUP(B115,[4]B!B$1:F$51,5,0),VLOOKUP(B115,[4]C!B$1:F$52,5,0)))","v":0},2,3,{"$f":"IFERROR(VLOOKUP(B115,[4]A!B$1:J$48,9,0),IFERROR(VLOOKUP(B115,[4]B!B$1:J$51,9,0),VLOOKUP(B115,[4]C!B$1:J$52,9,0)))","v":0},2,2,null,1,1,null,63,0,0,56,56,88.888888888888886,5,"C-14",10,9,24]
[115,"15BA069",{"$f":"VLOOKUP(B116,[1]C!B$1:C$51,2,0)","v":9},{"$f":"VLOOKUP(B116,[1]C!B$1:D$51,3,0)","v":9},{"$f":"VLOOKUP(B116,[1]C!B$1:F$51,5,0)","v":0},{"$f":"VLOOKUP(B116,[1]C!B$1:G$51,6,0)","v":0},{"$f":"VLOOKUP(B116,[1]C!B$1:H$51,7,0)","v":0},{"$f":"VLOOKUP(B116,[1]C!B$1:J$51,9,0)","v":0},{"$f":"VLOOKUP(B116,[2]C!B$1:C$48,2,0)","v":16},{"$f":"VLOOKUP(B116,[2]C!B$1:D$48,3,0)","v":18},{"$f":"VLOOKUP(B116,[2]C!B$1:F$48,5,0)","v":0},{"$f":"VLOOKUP(B116,[2]C!B$1:G$48,6,0)","v":4},{"$f":"VLOOKUP(B116,[2]C!B$1:H$48,7,0)","v":4},{"$f":"VLOOKUP(B116,[2]C!B$1:J$48,9,0)","v":0},{"$f":"IFERROR(VLOOKUP(B116,[3]A!B$1:C$48,2,0),IFERROR(VLOOKUP(B116,[3]B!B$1:C$51,2,0),VLOOKUP(B116,[3]C!B$1:C$52,2,0)))","v":6},{"$f":"IFERROR(VLOOKUP(B116,[3]A!B$1:D$48,3,0),IFERROR(VLOOKUP(B116,[3]B!B$1:D$51,3,0),VLOOKUP(B116,[3]C!B$1:D$52,3,0)))","v":11},{"$f":"IFERROR(VLOOKUP(B116,[3]A!B$1:F$48,5,0),IFERROR(VLOOKUP(B116,[3]B!B$1:F$51,5,0),VLOOKUP(B116,[3]C!B$1:F$52,5,0)))","v":0},{"$f":"IFERROR(VLOOKUP(B116,[3]A!B$1:G$48,6,0),IFERROR(VLOOKUP(B116,[3]B!B$1:G$51,6,0),VLOOKUP(B116,[3]C!B$1:G$52,6,0)))","v":2},{"$f":"IFERROR(VLOOKUP(B116,[3]A!B$1:H$48,7,0),IFERROR(VLOOKUP(B116,[3]B!B$1:H$51,7,0),VLOOKUP(B116,[3]C!B$1:H$52,7,0)))","v":2},0,4,16,{"$f":"IFERROR(VLOOKUP(B116,[4]A!B$1:F$48,5,0),IFERROR(VLOOKUP(B116,[4]B!B$1:F$51,5,0),VLOOKUP(B116,[4]C!B$1:F$52,5,0)))","v":0},{"$f":"IFERROR(VLOOKUP(B116,[4]A!B$1:G$48,6,0),IFERROR(VLOOKUP(B116,[4]B!B$1:G$51,6,0),VLOOKUP(B116,[4]C!B$1:G$52,6,0)))","v":0},3,{"$f":"IFERROR(VLOOKUP(B116,[4]A!B$1:J$48,9,0),IFERROR(VLOOKUP(B116,[4]B!B$1:J$51,9,0),VLOOKUP(B116,[4]C!B$1:J$52,9,0)))","v":0},0,2,null,0,1,null,66,0,0,41,41,62.121212121212125,0,"c-12",4,4,8]
[116,"15BA073",{"$f":"VLOOKUP(B117,[1]C!B$1:C$51,2,0)","v":9},{"$f":"VLOOKUP(B117,[1]C!B$1:D$51,3,0)","v":9},{"$f":"VLOOKUP(B117,[1]C!B$1:F$51,5,0)","v":0},{"$f":"VLOOKUP(B117,[1]C!B$1:G$51,6,0)","v":0},{"$f":"VLOOKUP(B117,[1]C!B$1:H$51,7,0)","v":0},{"$f":"VLOOKUP(B117,[1]C!B$1:J$51,9,0)","v":0},{"$f":"VLOOKUP(B117,[2]C!B$1:C$48,2,0)","v":17},{"$f":"VLOOKUP(B117,[2]C!B$1:D$48,3,0)","v":18},{"$f":"VLOOKUP(B117,[2]C!B$1:F$48,5,0)","v":0},{"$f":"VLOOKUP(B117,[2]C!B$1:G$48,6,0)","v":4},{"$f":"VLOOKUP(B117,[2]C!B$1:H$48,7,0)","v":4},{"$f":"VLOOKUP(B117,[2]C!B$1:J$48,9,0)","v":0},{"$f":"IFERROR(VLOOKUP(B117,[3]A!B$1:C$48,2,0),IFERROR(VLOOKUP(B117,[3]B!B$1:C$51,2,0),VLOOKUP(B117,[3]C!B$1:C$52,2,0)))","v":11},{"$f":"IFERROR(VLOOKUP(B117,[3]A!B$1:D$48,3,0),IFERROR(VLOOKUP(B117,[3]B!B$1:D$51,3,0),VLOOKUP(B117,[3]C!B$1:D$52,3,0)))","v":11},{"$f":"IFERROR(VLOOKUP(B117,[3]A!B$1:F$48,5,0),IFERROR(VLOOKUP(B117,[3]B!B$1:F$51,5,0),VLOOKUP(B117,[3]C!B$1:F$52,5,0)))","v":0},{"$f":"IFERROR(VLOOKUP(B117,[3]A!B$1:G$48,6,0),IFERROR(VLOOKUP(B117,[3]B!B$1:G$51,6,0),VLOOKUP(B117,[3]C!B$1:G$52,6,0)))","v":1},{"$f":"IFERROR(VLOOKUP(B117,[3]A!B$1:H$48,7,0),IFERROR(VLOOKUP(B117,[3]B!B$1:H$51,7,0),VLOOKUP(B117,[3]C!B$1:H$52,7,0)))","v":2},0,15,16,{"$f":"IFERROR(VLOOKUP(B117,[4]A!B$1:F$48,5,0),IFERROR(VLOOKUP(B117,[4]B!B$1:F$51,5,0),VLOOKUP(B117,[4]C!B$1:F$52,5,0)))","v":0},3,3,{"$f":"IFERROR(VLOOKUP(B117,[4]A!B$1:J$48,9,0),IFERROR(VLOOKUP(B117,[4]B!B$1:J$51,9,0),VLOOKUP(B117,[4]C!B$1:J$52,9,0)))","v":0},2,2,null,1,1,null,66,0,0,63,63,95.454545454545453,5,"C-13",9,9,23]
[117,"15BA076",{"$f":"VLOOKUP(B118,[1]C!B$1:C$51,2,0)","v":8},{"$f":"VLOOKUP(B118,[1]C!B$1:D$51,3,0)","v":9},{"$f":"VLOOKUP(B118,[1]C!B$1:F$51,5,0)","v":0},{"$f":"VLOOKUP(B118,[1]C!B$1:G$51,6,0)","v":0},{"$f":"VLOOKUP(B118,[1]C!B$1:H$51,7,0)","v":0},{"$f":"VLOOKUP(B118,[1]C!B$1:J$51,9,0)","v":0},{"$f":"VLOOKUP(B118,[2]C!B$1:C$48,2,0)","v":15},{"$f":"VLOOKUP(B118,[2]C!B$1:D$48,3,0)","v":18},{"$f":"VLOOKUP(B118,[2]C!B$1:F$48,5,0)","v":0},{"$f":"VLOOKUP(B118,[2]C!B$1:G$48,6,0)","v":3},{"$f":"VLOOKUP(B118,[2]C!B$1:H$48,7,0)","v":3},{"$f":"VLOOKUP(B118,[2]C!B$1:J$48,9,0)","v":0},{"$f":"IFERROR(VLOOKUP(B118,[3]A!B$1:C$48,2,0),IFERROR(VLOOKUP(B118,[3]B!B$1:C$51,2,0),VLOOKUP(B118,[3]C!B$1:C$52,2,0)))","v":10},{"$f":"IFERROR(VLOOKUP(B118,[3]A!B$1:D$48,3,0),IFERROR(VLOOKUP(B118,[3]B!B$1:D$51,3,0),VLOOKUP(B118,[3]C!B$1:D$52,3,0)))","v":11},{"$f":"IFERROR(VLOOKUP(B118,[3]A!B$1:F$48,5,0),IFERROR(VLOOKUP(B118,[3]B!B$1:F$51,5,0),VLOOKUP(B118,[3]C!B$1:F$52,5,0)))","v":0},{"$f":"IFERROR(VLOOKUP(B118,[3]A!B$1:G$48,6,0),IFERROR(VLOOKUP(B118,[3]B!B$1:G$51,6,0),VLOOKUP(B118,[3]C!B$1:G$52,6,0)))","v":2},{"$f":"IFERROR(VLOOKUP(B118,[3]A!B$1:H$48,7,0),IFERROR(VLOOKUP(B118,[3]B!B$1:H$51,7,0),VLOOKUP(B118,[3]C!B$1:H$52,7,0)))","v":2},0,12,16,{"$f":"IFERROR(VLOOKUP(B118,[4]A!B$1:F$48,5,0),IFERROR(VLOOKUP(B118,[4]B!B$1:F$51,5,0),VLOOKUP(B118,[4]C!B$1:F$52,5,0)))","v":0},2,2,{"$f":"IFERROR(VLOOKUP(B118,[4]A!B$1:J$48,9,0),IFERROR(VLOOKUP(B118,[4]B!B$1:J$51,9,0),VLOOKUP(B118,[4]C!B$1:J$52,9,0)))","v":0},2,2,null,2,2,null,65,0,0,56,56,86.15384615384616,5,"C-11",10,10,25]
[118,"15BA077",{"$f":"VLOOKUP(B119,[1]C!B$1:C$51,2,0)","v":8},{"$f":"VLOOKUP(B119,[1]C!B$1:D$51,3,0)","v":9},{"$f":"VLOOKUP(B119,[1]C!B$1:F$51,5,0)","v":0},{"$f":"VLOOKUP(B119,[1]C!B$1:G$51,6,0)","v":0},{"$f":"VLOOKUP(B119,[1]C!B$1:H$51,7,0)","v":0},{"$f":"VLOOKUP(B119,[1]C!B$1:J$51,9,0)","v":0},{"$f":"VLOOKUP(B119,[2]C!B$1:C$48,2,0)","v":16},{"$f":"VLOOKUP(B119,[2]C!B$1:D$48,3,0)","v":18},{"$f":"VLOOKUP(B119,[2]C!B$1:F$48,5,0)","v":0},{"$f":"VLOOKUP(B119,[2]C!B$1:G$48,6,0)","v":3},{"$f":"VLOOKUP(B119,[2]C!B$1:H$48,7,0)","v":3},{"$f":"VLOOKUP(B119,[2]C!B$1:J$48,9,0)","v":0},{"$f":"IFERROR(VLOOKUP(B119,[3]A!B$1:C$48,2,0),IFERROR(VLOOKUP(B119,[3]B!B$1:C$51,2,0),VLOOKUP(B119,[3]C!B$1:C$52,2,0)))","v":9},{"$f":"IFERROR(VLOOKUP(B119,[3]A!B$1:D$48,3,0),IFERROR(VLOOKUP(B119,[3]B!B$1:D$51,3,0),VLOOKUP(B119,[3]C!B$1:D$52,3,0)))","v":11},{"$f":"IFERROR(VLOOKUP(B119,[3]A!B$1:F$48,5,0),IFERROR(VLOOKUP(B119,[3]B!B$1:F$51,5,0),VLOOKUP(B119,[3]C!B$1:F$52,5,0)))","v":0},{"$f":"IFERROR(VLOOKUP(B119,[3]A!B$1:G$48,6,0),IFERROR(VLOOKUP(B119,[3]B!B$1:G$51,6,0),VLOOKUP(B119,[3]C!B$1:G$52,6,0)))","v":0},{"$f":"IFERROR(VLOOKUP(B119,[3]A!B$1:H$48,7,0),IFERROR(VLOOKUP(B119,[3]B!B$1:H$51,7,0),VLOOKUP(B119,[3]C!B$1:H$52,7,0)))","v":0},0,14,16,2,2,3,{"$f":"IFERROR(VLOOKUP(B119,[4]A!B$1:J$48,9,0),IFERROR(VLOOKUP(B119,[4]B!B$1:J$51,9,0),VLOOKUP(B119,[4]C!B$1:J$52,9,0)))","v":0},2,2,null,1,1,null,63,2,2,55,57,90.476190476190482,5,"C-14",5,5,15]
[119,"15BA079",{"$f":"VLOOKUP(B120,[1]C!B$1:C$51,2,0)","v":9},{"$f":"VLOOKUP(B120,[1]C!B$1:D$51,3,0)","v":9},{"$f":"VLOOKUP(B120,[1]C!B$1:F$51,5,0)","v":0},{"$f":"VLOOKUP(B120,[1]C!B$1:G$51,6,0)","v":0},{"$f":"VLOOKUP(B120,[1]C!B$1:H$51,7,0)","v":0},{"$f":"VLOOKUP(B120,[1]C!B$1:J$51,9,0)","v":0},{"$f":"VLOOKUP(B120,[2]C!B$1:C$48,2,0)","v":17},{"$f":"VLOOKUP(B120,[2]C!B$1:D$48,3,0)","v":18},{"$f":"VLOOKUP(B120,[2]C!B$1:F$48,5,0)","v":0},{"$f":"VLOOKUP(B120,[2]C!B$1:G$48,6,0)","v":3},{"$f":"VLOOKUP(B120,[2]C!B$1:H$48,7,0)","v":3},{"$f":"VLOOKUP(B120,[2]C!B$1:J$48,9,0)","v":0},{"$f":"IFERROR(VLOOKUP(B120,[3]A!B$1:C$48,2,0),IFERROR(VLOOKUP(B120,[3]B!B$1:C$51,2,0),VLOOKUP(B120,[3]C!B$1:C$52,2,0)))","v":11},{"$f":"IFERROR(VLOOKUP(B120,[3]A!B$1:D$48,3,0),IFERROR(VLOOKUP(B120,[3]B!B$1:D$51,3,0),VLOOKUP(B120,[3]C!B$1:D$52,3,0)))","v":11},{"$f":"IFERROR(VLOOKUP(B120,[3]A!B$1:F$48,5,0),IFERROR(VLOOKUP(B120,[3]B!B$1:F$51,5,0),VLOOKUP(B120,[3]C!B$1:F$52,5,0)))","v":0},{"$f":"IFERROR(VLOOKUP(B120,[3]A!B$1:G$48,6,0),IFERROR(VLOOKUP(B120,[3]B!B$1:G$51,6,0),VLOOKUP(B120,[3]C!B$1:G$52,6,0)))","v":2},{"$f":"IFERROR(VLOOKUP(B120,[3]A!B$1:H$48,7,0),IFERROR(VLOOKUP(B120,[3]B!B$1:H$51,7,0),VLOOKUP(B120,[3]C!B$1:H$52,7,0)))","v":2},0,6,16,6,2,2,{"$f":"IFERROR(VLOOKUP(B120,[4]A!B$1:J$48,9,0),IFERROR(VLOOKUP(B120,[4]B!B$1:J$51,9,0),VLOOKUP(B120,[4]C!B$1:J$52,9,0)))","v":0},2,2,null,2,2,null,65,6,6,54,60,92.307692307692307,5,"C-11",10,10,25]
[120,"15BA082",{"$f":"VLOOKUP(B121,[1]C!B$1:C$51,2,0)","v":9},{"$f":"VLOOKUP(B121,[1]C!B$1:D$51,3,0)","v":9},{"$f":"VLOOKUP(B121,[1]C!B$1:F$51,5,0)","v":0},{"$f":"VLOOKUP(B121,[1]C!B$1:G$51,6,0)","v":0},{"$f":"VLOOKUP(B121,[1]C!B$1:H$51,7,0)","v":0},{"$f":"VLOOKUP(B121,[1]C!B$1:J$51,9,0)","v":0},{"$f":"VLOOKUP(B121,[2]C!B$1:C$48,2,0)","v":18},{"$f":"VLOOKUP(B121,[2]C!B$1:D$48,3,0)","v":18},{"$f":"VLOOKUP(B121,[2]C!B$1:F$48,5,0)","v":0},{"$f":"VLOOKUP(B121,[2]C!B$1:G$48,6,0)","v":3},{"$f":"VLOOKUP(B121,[2]C!B$1:H$48,7,0)","v":3},{"$f":"VLOOKUP(B121,[2]C!B$1:J$48,9,0)","v":0},{"$f":"IFERROR(VLOOKUP(B121,[3]A!B$1:C$48,2,0),IFERROR(VLOOKUP(B121,[3]B!B$1:C$51,2,0),VLOOKUP(B121,[3]C!B$1:C$52,2,0)))","v":10},{"$f":"IFERROR(VLOOKUP(B121,[3]A!B$1:D$48,3,0),IFERROR(VLOOKUP(B121,[3]B!B$1:D$51,3,0),VLOOKUP(B121,[3]C!B$1:D$52,3,0)))","v":11},{"$f":"IFERROR(VLOOKUP(B121,[3]A!B$1:F$48,5,0),IFERROR(VLOOKUP(B121,[3]B!B$1:F$51,5,0),VLOOKUP(B121,[3]C!B$1:F$52,5,0)))","v":0},{"$f":"IFERROR(VLOOKUP(B121,[3]A!B$1:G$48,6,0),IFERROR(VLOOKUP(B121,[3]B!B$1:G$51,6,0),VLOOKUP(B121,[3]C!B$1:G$52,6,0)))","v":0},{"$f":"IFERROR(VLOOKUP(B121,[3]A!B$1:H$48,7,0),IFERROR(VLOOKUP(B121,[3]B!B$1:H$51,7,0),VLOOKUP(B121,[3]C!B$1:H$52,7,0)))","v":0},0,12,16,{"$f":"IFERROR(VLOOKUP(B121,[4]A!B$1:F$48,5,0),IFERROR(VLOOKUP(B121,[4]B!B$1:F$51,5,0),VLOOKUP(B121,[4]C!B$1:F$52,5,0)))","v":0},2,3,{"$f":"IFERROR(VLOOKUP(B121,[4]A!B$1:J$48,9,0),IFERROR(VLOOKUP(B121,[4]B!B$1:J$51,9,0),VLOOKUP(B121,[4]C!B$1:J$52,9,0)))","v":0},2,2,null,1,1,null,63,0,0,57,57,90.476190476190482,5,"C-13",10,9,24]
[121,"15BA087",{"$f":"VLOOKUP(B122,[1]C!B$1:C$51,2,0)","v":9},{"$f":"VLOOKUP(B122,[1]C!B$1:D$51,3,0)","v":9},{"$f":"VLOOKUP(B122,[1]C!B$1:F$51,5,0)","v":0},{"$f":"VLOOKUP(B122,[1]C!B$1:G$51,6,0)","v":0},{"$f":"VLOOKUP(B122,[1]C!B$1:H$51,7,0)","v":0},{"$f":"VLOOKUP(B122,[1]C!B$1:J$51,9,0)","v":0},{"$f":"VLOOKUP(B122,[2]C!B$1:C$48,2,0)","v":17},{"$f":"VLOOKUP(B122,[2]C!B$1:D$48,3,0)","v":18},{"$f":"VLOOKUP(B122,[2]C!B$1:F$48,5,0)","v":0},{"$f":"VLOOKUP(B122,[2]C!B$1:G$48,6,0)","v":3},{"$f":"VLOOKUP(B122,[2]C!B$1:H$48,7,0)","v":3},{"$f":"VLOOKUP(B122,[2]C!B$1:J$48,9,0)","v":0},{"$f":"IFERROR(VLOOKUP(B122,[3]A!B$1:C$48,2,0),IFERROR(VLOOKUP(B122,[3]B!B$1:C$51,2,0),VLOOKUP(B122,[3]C!B$1:C$52,2,0)))","v":8},{"$f":"IFERROR(VLOOKUP(B122,[3]A!B$1:D$48,3,0),IFERROR(VLOOKUP(B122,[3]B!B$1:D$51,3,0),VLOOKUP(B122,[3]C!B$1:D$52,3,0)))","v":11},{"$f":"IFERROR(VLOOKUP(B122,[3]A!B$1:F$48,5,0),IFERROR(VLOOKUP(B122,[3]B!B$1:F$51,5,0),VLOOKUP(B122,[3]C!B$1:F$52,5,0)))","v":0},{"$f":"IFERROR(VLOOKUP(B122,[3]A!B$1:G$48,6,0),IFERROR(VLOOKUP(B122,[3]B!B$1:G$51,6,0),VLOOKUP(B122,[3]C!B$1:G$52,6,0)))","v":2},{"$f":"IFERROR(VLOOKUP(B122,[3]A!B$1:H$48,7,0),IFERROR(VLOOKUP(B122,[3]B!B$1:H$51,7,0),VLOOKUP(B122,[3]C!B$1:H$52,7,0)))","v":2},0,11,16,{"$f":"IFERROR(VLOOKUP(B122,[4]A!B$1:F$48,5,0),IFERROR(VLOOKUP(B122,[4]B!B$1:F$51,5,0),VLOOKUP(B122,[4]C!B$1:F$52,5,0)))","v":0},2,2,{"$f":"IFERROR(VLOOKUP(B122,[4]A!B$1:J$48,9,0),IFERROR(VLOOKUP(B122,[4]B!B$1:J$51,9,0),VLOOKUP(B122,[4]C!B$1:J$52,9,0)))","v":0},2,2,null,2,2,null,65,0,0,56,56,86.15384615384616,5,"C-11",7,6,18]
[122,"15BA094",{"$f":"VLOOKUP(B123,[1]C!B$1:C$51,2,0)","v":8},{"$f":"VLOOKUP(B123,[1]C!B$1:D$51,3,0)","v":9},{"$f":"VLOOKUP(B123,[1]C!B$1:F$51,5,0)","v":0},{"$f":"VLOOKUP(B123,[1]C!B$1:G$51,6,0)","v":0},{"$f":"VLOOKUP(B123,[1]C!B$1:H$51,7,0)","v":0},{"$f":"VLOOKUP(B123,[1]C!B$1:J$51,9,0)","v":0},{"$f":"VLOOKUP(B123,[2]C!B$1:C$48,2,0)","v":18},{"$f":"VLOOKUP(B123,[2]C!B$1:D$48,3,0)","v":18},{"$f":"VLOOKUP(B123,[2]C!B$1:F$48,5,0)","v":0},{"$f":"VLOOKUP(B123,[2]C!B$1:G$48,6,0)","v":3},{"$f":"VLOOKUP(B123,[2]C!B$1:H$48,7,0)","v":3},{"$f":"VLOOKUP(B123,[2]C!B$1:J$48,9,0)","v":0},{"$f":"IFERROR(VLOOKUP(B123,[3]A!B$1:C$48,2,0),IFERROR(VLOOKUP(B123,[3]B!B$1:C$51,2,0),VLOOKUP(B123,[3]C!B$1:C$52,2,0)))","v":10},{"$f":"IFERROR(VLOOKUP(B123,[3]A!B$1:D$48,3,0),IFERROR(VLOOKUP(B123,[3]B!B$1:D$51,3,0),VLOOKUP(B123,[3]C!B$1:D$52,3,0)))","v":11},{"$f":"IFERROR(VLOOKUP(B123,[3]A!B$1:F$48,5,0),IFERROR(VLOOKUP(B123,[3]B!B$1:F$51,5,0),VLOOKUP(B123,[3]C!B$1:F$52,5,0)))","v":0},{"$f":"IFERROR(VLOOKUP(B123,[3]A!B$1:G$48,6,0),IFERROR(VLOOKUP(B123,[3]B!B$1:G$51,6,0),VLOOKUP(B123,[3]C!B$1:G$52,6,0)))","v":0},{"$f":"IFERROR(VLOOKUP(B123,[3]A!B$1:H$48,7,0),IFERROR(VLOOKUP(B123,[3]B!B$1:H$51,7,0),VLOOKUP(B123,[3]C!B$1:H$52,7,0)))","v":0},0,12,16,1,3,4,{"$f":"IFERROR(VLOOKUP(B123,[4]A!B$1:J$48,9,0),IFERROR(VLOOKUP(B123,[4]B!B$1:J$51,9,0),VLOOKUP(B123,[4]C!B$1:J$52,9,0)))","v":0},2,2,null,1,1,null,64,1,1,57,58,90.625,5,"C-15",9,8,22]
[123,"15BA097",{"$f":"VLOOKUP(B124,[1]C!B$1:C$51,2,0)","v":9},{"$f":"VLOOKUP(B124,[1]C!B$1:D$51,3,0)","v":9},{"$f":"VLOOKUP(B124,[1]C!B$1:F$51,5,0)","v":0},{"$f":"VLOOKUP(B124,[1]C!B$1:G$51,6,0)","v":0},{"$f":"VLOOKUP(B124,[1]C!B$1:H$51,7,0)","v":0},{"$f":"VLOOKUP(B124,[1]C!B$1:J$51,9,0)","v":0},{"$f":"VLOOKUP(B124,[2]C!B$1:C$48,2,0)","v":17},{"$f":"VLOOKUP(B124,[2]C!B$1:D$48,3,0)","v":18},{"$f":"VLOOKUP(B124,[2]C!B$1:F$48,5,0)","v":0},{"$f":"VLOOKUP(B124,[2]C!B$1:G$48,6,0)","v":3},{"$f":"VLOOKUP(B124,[2]C!B$1:H$48,7,0)","v":3},{"$f":"VLOOKUP(B124,[2]C!B$1:J$48,9,0)","v":0},{"$f":"IFERROR(VLOOKUP(B124,[3]A!B$1:C$48,2,0),IFERROR(VLOOKUP(B124,[3]B!B$1:C$51,2,0),VLOOKUP(B124,[3]C!B$1:C$52,2,0)))","v":10},{"$f":"IFERROR(VLOOKUP(B124,[3]A!B$1:D$48,3,0),IFERROR(VLOOKUP(B124,[3]B!B$1:D$51,3,0),VLOOKUP(B124,[3]C!B$1:D$52,3,0)))","v":11},{"$f":"IFERROR(VLOOKUP(B124,[3]A!B$1:F$48,5,0),IFERROR(VLOOKUP(B124,[3]B!B$1:F$51,5,0),VLOOKUP(B124,[3]C!B$1:F$52,5,0)))","v":0},{"$f":"IFERROR(VLOOKUP(B124,[3]A!B$1:G$48,6,0),IFERROR(VLOOKUP(B124,[3]B!B$1:G$51,6,0),VLOOKUP(B124,[3]C!B$1:G$52,6,0)))","v":0},{"$f":"IFERROR(VLOOKUP(B124,[3]A!B$1:H$48,7,0),IFERROR(VLOOKUP(B124,[3]B!B$1:H$51,7,0),VLOOKUP(B124,[3]C!B$1:H$52,7,0)))","v":0},0,14,16,1,4,4,{"$f":"IFERROR(VLOOKUP(B124,[4]A!B$1:J$48,9,0),IFERROR(VLOOKUP(B124,[4]B!B$1:J$51,9,0),VLOOKUP(B124,[4]C!B$1:J$52,9,0)))","v":0},2,2,null,1,1,null,64,1,1,60,61,95.3125,5,"C-15",9,8,22]
[124,"15BA099",{"$f":"VLOOKUP(B125,[1]C!B$1:C$51,2,0)","v":9},{"$f":"VLOOKUP(B125,[1]C!B$1:D$51,3,0)","v":9},{"$f":"VLOOKUP(B125,[1]C!B$1:F$51,5,0)","v":0},{"$f":"VLOOKUP(B125,[1]C!B$1:G$51,6,0)","v":0},{"$f":"VLOOKUP(B125,[1]C!B$1:H$51,7,0)","v":0},{"$f":"VLOOKUP(B125,[1]C!B$1:J$51,9,0)","v":0},{"$f":"VLOOKUP(B125,[2]C!B$1:C$48,2,0)","v":18},{"$f":"VLOOKUP(B125,[2]C!B$1:D$48,3,0)","v":18},{"$f":"VLOOKUP(B125,[2]C!B$1:F$48,5,0)","v":0},{"$f":"VLOOKUP(B125,[2]C!B$1:G$48,6,0)","v":3},{"$f":"VLOOKUP(B125,[2]C!B$1:H$48,7,0)","v":3},{"$f":"VLOOKUP(B125,[2]C!B$1:J$48,9,0)","v":0},{"$f":"IFERROR(VLOOKUP(B125,[3]A!B$1:C$48,2,0),IFERROR(VLOOKUP(B125,[3]B!B$1:C$51,2,0),VLOOKUP(B125,[3]C!B$1:C$52,2,0)))","v":8},{"$f":"IFERROR(VLOOKUP(B125,[3]A!B$1:D$48,3,0),IFERROR(VLOOKUP(B125,[3]B!B$1:D$51,3,0),VLOOKUP(B125,[3]C!B$1:D$52,3,0)))","v":11},{"$f":"IFERROR(VLOOKUP(B125,[3]A!B$1:F$48,5,0),IFERROR(VLOOKUP(B125,[3]B!B$1:F$51,5,0),VLOOKUP(B125,[3]C!B$1:F$52,5,0)))","v":0},{"$f":"IFERROR(VLOOKUP(B125,[3]A!B$1:G$48,6,0),IFERROR(VLOOKUP(B125,[3]B!B$1:G$51,6,0),VLOOKUP(B125,[3]C!B$1:G$52,6,0)))","v":0},{"$f":"IFERROR(VLOOKUP(B125,[3]A!B$1:H$48,7,0),IFERROR(VLOOKUP(B125,[3]B!B$1:H$51,7,0),VLOOKUP(B125,[3]C!B$1:H$52,7,0)))","v":0},0,13,16,{"$f":"IFERROR(VLOOKUP(B125,[4]A!B$1:F$48,5,0),IFERROR(VLOOKUP(B125,[4]B!B$1:F$51,5,0),VLOOKUP(B125,[4]C!B$1:F$52,5,0)))","v":0},2,4,{"$f":"IFERROR(VLOOKUP(B125,[4]A!B$1:J$48,9,0),IFERROR(VLOOKUP(B125,[4]B!B$1:J$51,9,0),VLOOKUP(B125,[4]C!B$1:J$52,9,0)))","v":0},2,2,null,1,1,null,64,0,0,56,56,87.5,5,"C-15",7,6,18]
[125,"15BA102",{"$f":"VLOOKUP(B126,[1]C!B$1:C$51,2,0)","v":9},{"$f":"VLOOKUP(B126,[1]C!B$1:D$51,3,0)","v":9},{"$f":"VLOOKUP(B126,[1]C!B$1:F$51,5,0)","v":0},{"$f":"VLOOKUP(B126,[1]C!B$1:G$51,6,0)","v":0},{"$f":"VLOOKUP(B126,[1]C!B$1:H$51,7,0)","v":0},{"$f":"VLOOKUP(B126,[1]C!B$1:J$51,9,0)","v":0},{"$f":"VLOOKUP(B126,[2]C!B$1:C$48,2,0)","v":18},{"$f":"VLOOKUP(B126,[2]C!B$1:D$48,3,0)","v":18},{"$f":"VLOOKUP(B126,[2]C!B$1:F$48,5,0)","v":0},{"$f":"VLOOKUP(B126,[2]C!B$1:G$48,6,0)","v":3},{"$f":"VLOOKUP(B126,[2]C!B$1:H$48,7,0)","v":3},{"$f":"VLOOKUP(B126,[2]C!B$1:J$48,9,0)","v":0},{"$f":"IFERROR(VLOOKUP(B126,[3]A!B$1:C$48,2,0),IFERROR(VLOOKUP(B126,[3]B!B$1:C$51,2,0),VLOOKUP(B126,[3]C!B$1:C$52,2,0)))","v":9},{"$f":"IFERROR(VLOOKUP(B126,[3]A!B$1:D$48,3,0),IFERROR(VLOOKUP(B126,[3]B!B$1:D$51,3,0),VLOOKUP(B126,[3]C!B$1:D$52,3,0)))","v":11},{"$f":"IFERROR(VLOOKUP(B126,[3]A!B$1:F$48,5,0),IFERROR(VLOOKUP(B126,[3]B!B$1:F$51,5,0),VLOOKUP(B126,[3]C!B$1:F$52,5,0)))","v":0},{"$f":"IFERROR(VLOOKUP(B126,[3]A!B$1:G$48,6,0),IFERROR(VLOOKUP(B126,[3]B!B$1:G$51,6,0),VLOOKUP(B126,[3]C!B$1:G$52,6,0)))","v":0},{"$f":"IFERROR(VLOOKUP(B126,[3]A!B$1:H$48,7,0),IFERROR(VLOOKUP(B126,[3]B!B$1:H$51,7,0),VLOOKUP(B126,[3]C!B$1:H$52,7,0)))","v":0},0,7,16,{"$f":"IFERROR(VLOOKUP(B126,[4]A!B$1:F$48,5,0),IFERROR(VLOOKUP(B126,[4]B!B$1:F$51,5,0),VLOOKUP(B126,[4]C!B$1:F$52,5,0)))","v":0},2,4,{"$f":"IFERROR(VLOOKUP(B126,[4]A!B$1:J$48,9,0),IFERROR(VLOOKUP(B126,[4]B!B$1:J$51,9,0),VLOOKUP(B126,[4]C!B$1:J$52,9,0)))","v":0},2,2,null,1,1,null,64,0,0,51,51,79.6875,3,"C-15",9,9,21]
[126,"15BA103",{"$f":"VLOOKUP(B127,[1]C!B$1:C$51,2,0)","v":9},{"$f":"VLOOKUP(B127,[1]C!B$1:D$51,3,0)","v":9},{"$f":"VLOOKUP(B127,[1]C!B$1:F$51,5,0)","v":0},{"$f":"VLOOKUP(B127,[1]C!B$1:G$51,6,0)","v":0},{"$f":"VLOOKUP(B127,[1]C!B$1:H$51,7,0)","v":0},{"$f":"VLOOKUP(B127,[1]C!B$1:J$51,9,0)","v":0},{"$f":"VLOOKUP(B127,[2]C!B$1:C$48,2,0)","v":17},{"$f":"VLOOKUP(B127,[2]C!B$1:D$48,3,0)","v":18},{"$f":"VLOOKUP(B127,[2]C!B$1:F$48,5,0)","v":0},{"$f":"VLOOKUP(B127,[2]C!B$1:G$48,6,0)","v":4},{"$f":"VLOOKUP(B127,[2]C!B$1:H$48,7,0)","v":4},{"$f":"VLOOKUP(B127,[2]C!B$1:J$48,9,0)","v":0},{"$f":"IFERROR(VLOOKUP(B127,[3]A!B$1:C$48,2,0),IFERROR(VLOOKUP(B127,[3]B!B$1:C$51,2,0),VLOOKUP(B127,[3]C!B$1:C$52,2,0)))","v":6},{"$f":"IFERROR(VLOOKUP(B127,[3]A!B$1:D$48,3,0),IFERROR(VLOOKUP(B127,[3]B!B$1:D$51,3,0),VLOOKUP(B127,[3]C!B$1:D$52,3,0)))","v":11},{"$f":"IFERROR(VLOOKUP(B127,[3]A!B$1:F$48,5,0),IFERROR(VLOOKUP(B127,[3]B!B$1:F$51,5,0),VLOOKUP(B127,[3]C!B$1:F$52,5,0)))","v":0},{"$f":"IFERROR(VLOOKUP(B127,[3]A!B$1:G$48,6,0),IFERROR(VLOOKUP(B127,[3]B!B$1:G$51,6,0),VLOOKUP(B127,[3]C!B$1:G$52,6,0)))","v":1},{"$f":"IFERROR(VLOOKUP(B127,[3]A!B$1:H$48,7,0),IFERROR(VLOOKUP(B127,[3]B!B$1:H$51,7,0),VLOOKUP(B127,[3]C!B$1:H$52,7,0)))","v":2},0,5,16,{"$f":"IFERROR(VLOOKUP(B127,[4]A!B$1:F$48,5,0),IFERROR(VLOOKUP(B127,[4]B!B$1:F$51,5,0),VLOOKUP(B127,[4]C!B$1:F$52,5,0)))","v":0},1,3,{"$f":"IFERROR(VLOOKUP(B127,[4]A!B$1:J$48,9,0),IFERROR(VLOOKUP(B127,[4]B!B$1:J$51,9,0),VLOOKUP(B127,[4]C!B$1:J$52,9,0)))","v":0},0,2,null,0,1,null,66,0,0,43,43,65.151515151515156,0,"C-13",5,5,10]
[127,"15BA104",{"$f":"VLOOKUP(B128,[1]C!B$1:C$51,2,0)","v":9},{"$f":"VLOOKUP(B128,[1]C!B$1:D$51,3,0)","v":9},{"$f":"VLOOKUP(B128,[1]C!B$1:F$51,5,0)","v":0},{"$f":"VLOOKUP(B128,[1]C!B$1:G$51,6,0)","v":0},{"$f":"VLOOKUP(B128,[1]C!B$1:H$51,7,0)","v":0},{"$f":"VLOOKUP(B128,[1]C!B$1:J$51,9,0)","v":0},{"$f":"VLOOKUP(B128,[2]C!B$1:C$48,2,0)","v":17},{"$f":"VLOOKUP(B128,[2]C!B$1:D$48,3,0)","v":18},{"$f":"VLOOKUP(B128,[2]C!B$1:F$48,5,0)","v":0},{"$f":"VLOOKUP(B128,[2]C!B$1:G$48,6,0)","v":3},{"$f":"VLOOKUP(B128,[2]C!B$1:H$48,7,0)","v":3},{"$f":"VLOOKUP(B128,[2]C!B$1:J$48,9,0)","v":0},{"$f":"IFERROR(VLOOKUP(B128,[3]A!B$1:C$48,2,0),IFERROR(VLOOKUP(B128,[3]B!B$1:C$51,2,0),VLOOKUP(B128,[3]C!B$1:C$52,2,0)))","v":7},{"$f":"IFERROR(VLOOKUP(B128,[3]A!B$1:D$48,3,0),IFERROR(VLOOKUP(B128,[3]B!B$1:D$51,3,0),VLOOKUP(B128,[3]C!B$1:D$52,3,0)))","v":11},{"$f":"IFERROR(VLOOKUP(B128,[3]A!B$1:F$48,5,0),IFERROR(VLOOKUP(B128,[3]B!B$1:F$51,5,0),VLOOKUP(B128,[3]C!B$1:F$52,5,0)))","v":0},{"$f":"IFERROR(VLOOKUP(B128,[3]A!B$1:G$48,6,0),IFERROR(VLOOKUP(B128,[3]B!B$1:G$51,6,0),VLOOKUP(B128,[3]C!B$1:G$52,6,0)))","v":0},{"$f":"IFERROR(VLOOKUP(B128,[3]A!B$1:H$48,7,0),IFERROR(VLOOKUP(B128,[3]B!B$1:H$51,7,0),VLOOKUP(B128,[3]C!B$1:H$52,7,0)))","v":0},0,3,16,{"$f":"IFERROR(VLOOKUP(B128,[4]A!B$1:F$48,5,0),IFERROR(VLOOKUP(B128,[4]B!B$1:F$51,5,0),VLOOKUP(B128,[4]C!B$1:F$52,5,0)))","v":0},0,4,{"$f":"IFERROR(VLOOKUP(B128,[4]A!B$1:J$48,9,0),IFERROR(VLOOKUP(B128,[4]B!B$1:J$51,9,0),VLOOKUP(B128,[4]C!B$1:J$52,9,0)))","v":0},1,2,null,1,1,null,64,0,0,41,41,64.0625,0,"C-15",5,5,10]
[128,"15BA109",{"$f":"VLOOKUP(B129,[1]C!B$1:C$51,2,0)","v":9},{"$f":"VLOOKUP(B129,[1]C!B$1:D$51,3,0)","v":9},{"$f":"VLOOKUP(B129,[1]C!B$1:F$51,5,0)","v":0},{"$f":"VLOOKUP(B129,[1]C!B$1:G$51,6,0)","v":0},{"$f":"VLOOKUP(B129,[1]C!B$1:H$51,7,0)","v":0},{"$f":"VLOOKUP(B129,[1]C!B$1:J$51,9,0)","v":0},{"$f":"VLOOKUP(B129,[2]C!B$1:C$48,2,0)","v":18},{"$f":"VLOOKUP(B129,[2]C!B$1:D$48,3,0)","v":18},{"$f":"VLOOKUP(B129,[2]C!B$1:F$48,5,0)","v":0},{"$f":"VLOOKUP(B129,[2]C!B$1:G$48,6,0)","v":3},{"$f":"VLOOKUP(B129,[2]C!B$1:H$48,7,0)","v":3},{"$f":"VLOOKUP(B129,[2]C!B$1:J$48,9,0)","v":0},{"$f":"IFERROR(VLOOKUP(B129,[3]A!B$1:C$48,2,0),IFERROR(VLOOKUP(B129,[3]B!B$1:C$51,2,0),VLOOKUP(B129,[3]C!B$1:C$52,2,0)))","v":10},{"$f":"IFERROR(VLOOKUP(B129,[3]A!B$1:D$48,3,0),IFERROR(VLOOKUP(B129,[3]B!B$1:D$51,3,0),VLOOKUP(B129,[3]C!B$1:D$52,3,0)))","v":11},{"$f":"IFERROR(VLOOKUP(B129,[3]A!B$1:F$48,5,0),IFERROR(VLOOKUP(B129,[3]B!B$1:F$51,5,0),VLOOKUP(B129,[3]C!B$1:F$52,5,0)))","v":0},{"$f":"IFERROR(VLOOKUP(B129,[3]A!B$1:G$48,6,0),IFERROR(VLOOKUP(B129,[3]B!B$1:G$51,6,0),VLOOKUP(B129,[3]C!B$1:G$52,6,0)))","v":0},{"$f":"IFERROR(VLOOKUP(B129,[3]A!B$1:H$48,7,0),IFERROR(VLOOKUP(B129,[3]B!B$1:H$51,7,0),VLOOKUP(B129,[3]C!B$1:H$52,7,0)))","v":0},0,7,16,{"$f":"IFERROR(VLOOKUP(B129,[4]A!B$1:F$48,5,0),IFERROR(VLOOKUP(B129,[4]B!B$1:F$51,5,0),VLOOKUP(B129,[4]C!B$1:F$52,5,0)))","v":0},0,4,{"$f":"IFERROR(VLOOKUP(B129,[4]A!B$1:J$48,9,0),IFERROR(VLOOKUP(B129,[4]B!B$1:J$51,9,0),VLOOKUP(B129,[4]C!B$1:J$52,9,0)))","v":0},2,2,null,1,1,null,64,0,0,50,50,78.125,3,"C-15",9,9,21]
[129,"15BA114",{"$f":"VLOOKUP(B130,[1]C!B$1:C$51,2,0)","v":9},{"$f":"VLOOKUP(B130,[1]C!B$1:D$51,3,0)","v":9},{"$f":"VLOOKUP(B130,[1]C!B$1:F$51,5,0)","v":0},{"$f":"VLOOKUP(B130,[1]C!B$1:G$51,6,0)","v":0},{"$f":"VLOOKUP(B130,[1]C!B$1:H$51,7,0)","v":0},{"$f":"VLOOKUP(B130,[1]C!B$1:J$51,9,0)","v":0},{"$f":"VLOOKUP(B130,[2]C!B$1:C$48,2,0)","v":16},{"$f":"VLOOKUP(B130,[2]C!B$1:D$48,3,0)","v":18},{"$f":"VLOOKUP(B130,[2]C!B$1:F$48,5,0)","v":0},{"$f":"VLOOKUP(B130,[2]C!B$1:G$48,6,0)","v":3},{"$f":"VLOOKUP(B130,[2]C!B$1:H$48,7,0)","v":3},{"$f":"VLOOKUP(B130,[2]C!B$1:J$48,9,0)","v":0},{"$f":"IFERROR(VLOOKUP(B130,[3]A!B$1:C$48,2,0),IFERROR(VLOOKUP(B130,[3]B!B$1:C$51,2,0),VLOOKUP(B130,[3]C!B$1:C$52,2,0)))","v":10},{"$f":"IFERROR(VLOOKUP(B130,[3]A!B$1:D$48,3,0),IFERROR(VLOOKUP(B130,[3]B!B$1:D$51,3,0),VLOOKUP(B130,[3]C!B$1:D$52,3,0)))","v":11},{"$f":"IFERROR(VLOOKUP(B130,[3]A!B$1:F$48,5,0),IFERROR(VLOOKUP(B130,[3]B!B$1:F$51,5,0),VLOOKUP(B130,[3]C!B$1:F$52,5,0)))","v":0},{"$f":"IFERROR(VLOOKUP(B130,[3]A!B$1:G$48,6,0),IFERROR(VLOOKUP(B130,[3]B!B$1:G$51,6,0),VLOOKUP(B130,[3]C!B$1:G$52,6,0)))","v":2},{"$f":"IFERROR(VLOOKUP(B130,[3]A!B$1:H$48,7,0),IFERROR(VLOOKUP(B130,[3]B!B$1:H$51,7,0),VLOOKUP(B130,[3]C!B$1:H$52,7,0)))","v":2},0,7,16,{"$f":"IFERROR(VLOOKUP(B130,[4]A!B$1:F$48,5,0),IFERROR(VLOOKUP(B130,[4]B!B$1:F$51,5,0),VLOOKUP(B130,[4]C!B$1:F$52,5,0)))","v":0},2,2,{"$f":"IFERROR(VLOOKUP(B130,[4]A!B$1:J$48,9,0),IFERROR(VLOOKUP(B130,[4]B!B$1:J$51,9,0),VLOOKUP(B130,[4]C!B$1:J$52,9,0)))","v":0},2,2,null,2,2,null,{"$f":"SUM(D130,G130,J130,M130,P130,S130,V130,Y130,AB130,AE130)","v":65},{"$f":"SUM(E130,H130,K130,N130,Q130,T130,W130,Z130,AC130,AF130)","v":0},{"$f":"FLOOR(IF(AH130<(1/3*(AG130)),AH130,(1/3*(AG130))),1)","v":0},{"$f":"SUM(C130,F130,I130,L130,O130,R130,U130,X130,AA130,AD130)","v":53},{"$f":"IF(SUM(AJ130,AI130)>AG130,AG130,SUM(AJ130,AI130))","v":53},{"$f":"(AK130/AG130)*100","v":81.538461538461533},{"$f":"IF(AL130>=85,5,(IF(AND(AL130>=80,AL130<85),4,(IF(AND(AL130>=75,AL130<80),3,(IF(AND(AL130>=70,AL130<75),2,(IF(AND(AL130>67,AL130<70),1,0)))))))))","v":4},"C-11",8,8,{"$f":"SUM(AM130,AO130,AP130)","v":20}]
[130,"15BA118",{"$f":"VLOOKUP(B131,[1]C!B$1:C$51,2,0)","v":9},{"$f":"VLOOKUP(B131,[1]C!B$1:D$51,3,0)","v":9},{"$f":"VLOOKUP(B131,[1]C!B$1:F$51,5,0)","v":0},{"$f":"VLOOKUP(B131,[1]C!B$1:G$51,6,0)","v":0},{"$f":"VLOOKUP(B131,[1]C!B$1:H$51,7,0)","v":0},{"$f":"VLOOKUP(B131,[1]C!B$1:J$51,9,0)","v":0},{"$f":"VLOOKUP(B131,[2]C!B$1:C$48,2,0)","v":18},{"$f":"VLOOKUP(B131,[2]C!B$1:D$48,3,0)","v":18},{"$f":"VLOOKUP(B131,[2]C!B$1:F$48,5,0)","v":0},{"$f":"VLOOKUP(B131,[2]C!B$1:G$48,6,0)","v":3},{"$f":"VLOOKUP(B131,[2]C!B$1:H$48,7,0)","v":3},{"$f":"VLOOKUP(B131,[2]C!B$1:J$48,9,0)","v":0},{"$f":"IFERROR(VLOOKUP(B131,[3]A!B$1:C$48,2,0),IFERROR(VLOOKUP(B131,[3]B!B$1:C$51,2,0),VLOOKUP(B131,[3]C!B$1:C$52,2,0)))","v":7},{"$f":"IFERROR(VLOOKUP(B131,[3]A!B$1:D$48,3,0),IFERROR(VLOOKUP(B131,[3]B!B$1:D$51,3,0),VLOOKUP(B131,[3]C!B$1:D$52,3,0)))","v":11},{"$f":"IFERROR(VLOOKUP(B131,[3]A!B$1:F$48,5,0),IFERROR(VLOOKUP(B131,[3]B!B$1:F$51,5,0),VLOOKUP(B131,[3]C!B$1:F$52,5,0)))","v":0},{"$f":"IFERROR(VLOOKUP(B131,[3]A!B$1:G$48,6,0),IFERROR(VLOOKUP(B131,[3]B!B$1:G$51,6,0),VLOOKUP(B131,[3]C!B$1:G$52,6,0)))","v":0},{"$f":"IFERROR(VLOOKUP(B131,[3]A!B$1:H$48,7,0),IFERROR(VLOOKUP(B131,[3]B!B$1:H$51,7,0),VLOOKUP(B131,[3]C!B$1:H$52,7,0)))","v":0},0,9,16,{"$f":"IFERROR(VLOOKUP(B131,[4]A!B$1:F$48,5,0),IFERROR(VLOOKUP(B131,[4]B!B$1:F$51,5,0),VLOOKUP(B131,[4]C!B$1:F$52,5,0)))","v":0},2,4,{"$f":"IFERROR(VLOOKUP(B131,[4]A!B$1:J$48,9,0),IFERROR(VLOOKUP(B131,[4]B!B$1:J$51,9,0),VLOOKUP(B131,[4]C!B$1:J$52,9,0)))","v":0},2,2,null,1,1,null,64,0,0,51,51,79.6875,3,"C-15",8,7,18]
[131,"15BA121",{"$f":"VLOOKUP(B132,[1]C!B$1:C$51,2,0)","v":9},{"$f":"VLOOKUP(B132,[1]C!B$1:D$51,3,0)","v":9},{"$f":"VLOOKUP(B132,[1]C!B$1:F$51,5,0)","v":0},{"$f":"VLOOKUP(B132,[1]C!B$1:G$51,6,0)","v":0},{"$f":"VLOOKUP(B132,[1]C!B$1:H$51,7,0)","v":0},{"$f":"VLOOKUP(B132,[1]C!B$1:J$51,9,0)","v":0},{"$f":"VLOOKUP(B132,[2]C!B$1:C$48,2,0)","v":18},{"$f":"VLOOKUP(B132,[2]C!B$1:D$48,3,0)","v":18},{"$f":"VLOOKUP(B132,[2]C!B$1:F$48,5,0)","v":0},{"$f":"VLOOKUP(B132,[2]C!B$1:G$48,6,0)","v":3},{"$f":"VLOOKUP(B132,[2]C!B$1:H$48,7,0)","v":3},{"$f":"VLOOKUP(B132,[2]C!B$1:J$48,9,0)","v":0},{"$f":"IFERROR(VLOOKUP(B132,[3]A!B$1:C$48,2,0),IFERROR(VLOOKUP(B132,[3]B!B$1:C$51,2,0),VLOOKUP(B132,[3]C!B$1:C$52,2,0)))","v":7},{"$f":"IFERROR(VLOOKUP(B132,[3]A!B$1:D$48,3,0),IFERROR(VLOOKUP(B132,[3]B!B$1:D$51,3,0),VLOOKUP(B132,[3]C!B$1:D$52,3,0)))","v":11},{"$f":"IFERROR(VLOOKUP(B132,[3]A!B$1:F$48,5,0),IFERROR(VLOOKUP(B132,[3]B!B$1:F$51,5,0),VLOOKUP(B132,[3]C!B$1:F$52,5,0)))","v":0},{"$f":"IFERROR(VLOOKUP(B132,[3]A!B$1:G$48,6,0),IFERROR(VLOOKUP(B132,[3]B!B$1:G$51,6,0),VLOOKUP(B132,[3]C!B$1:G$52,6,0)))","v":0},{"$f":"IFERROR(VLOOKUP(B132,[3]A!B$1:H$48,7,0),IFERROR(VLOOKUP(B132,[3]B!B$1:H$51,7,0),VLOOKUP(B132,[3]C!B$1:H$52,7,0)))","v":0},0,4,16,{"$f":"IFERROR(VLOOKUP(B132,[4]A!B$1:F$48,5,0),IFERROR(VLOOKUP(B132,[4]B!B$1:F$51,5,0),VLOOKUP(B132,[4]C!B$1:F$52,5,0)))","v":0},2,4,{"$f":"IFERROR(VLOOKUP(B132,[4]A!B$1:J$48,9,0),IFERROR(VLOOKUP(B132,[4]B!B$1:J$51,9,0),VLOOKUP(B132,[4]C!B$1:J$52,9,0)))","v":0},0,2,null,1,1,null,64,0,0,44,44,68.75,1,"C-15",6,5,12]
[132,"15BA122",{"$f":"VLOOKUP(B133,[1]C!B$1:C$51,2,0)","v":9},{"$f":"VLOOKUP(B133,[1]C!B$1:D$51,3,0)","v":9},{"$f":"VLOOKUP(B133,[1]C!B$1:F$51,5,0)","v":0},{"$f":"VLOOKUP(B133,[1]C!B$1:G$51,6,0)","v":0},{"$f":"VLOOKUP(B133,[1]C!B$1:H$51,7,0)","v":0},{"$f":"VLOOKUP(B133,[1]C!B$1:J$51,9,0)","v":0},{"$f":"VLOOKUP(B133,[2]C!B$1:C$48,2,0)","v":18},{"$f":"VLOOKUP(B133,[2]C!B$1:D$48,3,0)","v":18},{"$f":"VLOOKUP(B133,[2]C!B$1:F$48,5,0)","v":0},{"$f":"VLOOKUP(B133,[2]C!B$1:G$48,6,0)","v":3},{"$f":"VLOOKUP(B133,[2]C!B$1:H$48,7,0)","v":3},{"$f":"VLOOKUP(B133,[2]C!B$1:J$48,9,0)","v":0},{"$f":"IFERROR(VLOOKUP(B133,[3]A!B$1:C$48,2,0),IFERROR(VLOOKUP(B133,[3]B!B$1:C$51,2,0),VLOOKUP(B133,[3]C!B$1:C$52,2,0)))","v":11},{"$f":"IFERROR(VLOOKUP(B133,[3]A!B$1:D$48,3,0),IFERROR(VLOOKUP(B133,[3]B!B$1:D$51,3,0),VLOOKUP(B133,[3]C!B$1:D$52,3,0)))","v":11},{"$f":"IFERROR(VLOOKUP(B133,[3]A!B$1:F$48,5,0),IFERROR(VLOOKUP(B133,[3]B!B$1:F$51,5,0),VLOOKUP(B133,[3]C!B$1:F$52,5,0)))","v":0},{"$f":"IFERROR(VLOOKUP(B133,[3]A!B$1:G$48,6,0),IFERROR(VLOOKUP(B133,[3]B!B$1:G$51,6,0),VLOOKUP(B133,[3]C!B$1:G$52,6,0)))","v":2},{"$f":"IFERROR(VLOOKUP(B133,[3]A!B$1:H$48,7,0),IFERROR(VLOOKUP(B133,[3]B!B$1:H$51,7,0),VLOOKUP(B133,[3]C!B$1:H$52,7,0)))","v":2},0,11,16,1,2,2,{"$f":"IFERROR(VLOOKUP(B133,[4]A!B$1:J$48,9,0),IFERROR(VLOOKUP(B133,[4]B!B$1:J$51,9,0),VLOOKUP(B133,[4]C!B$1:J$52,9,0)))","v":0},2,2,null,2,2,null,65,1,1,60,61,93.84615384615384,5,"C-11",9,9,23]
[133,"15BA125",{"$f":"VLOOKUP(B134,[1]C!B$1:C$51,2,0)","v":9},{"$f":"VLOOKUP(B134,[1]C!B$1:D$51,3,0)","v":9},{"$f":"VLOOKUP(B134,[1]C!B$1:F$51,5,0)","v":0},{"$f":"VLOOKUP(B134,[1]C!B$1:G$51,6,0)","v":0},{"$f":"VLOOKUP(B134,[1]C!B$1:H$51,7,0)","v":0},{"$f":"VLOOKUP(B134,[1]C!B$1:J$51,9,0)","v":0},{"$f":"VLOOKUP(B134,[2]C!B$1:C$48,2,0)","v":18},{"$f":"VLOOKUP(B134,[2]C!B$1:D$48,3,0)","v":18},{"$f":"VLOOKUP(B134,[2]C!B$1:F$48,5,0)","v":0},{"$f":"VLOOKUP(B134,[2]C!B$1:G$48,6,0)","v":3},{"$f":"VLOOKUP(B134,[2]C!B$1:H$48,7,0)","v":3},{"$f":"VLOOKUP(B134,[2]C!B$1:J$48,9,0)","v":0},{"$f":"IFERROR(VLOOKUP(B134,[3]A!B$1:C$48,2,0),IFERROR(VLOOKUP(B134,[3]B!B$1:C$51,2,0),VLOOKUP(B134,[3]C!B$1:C$52,2,0)))","v":7},{"$f":"IFERROR(VLOOKUP(B134,[3]A!B$1:D$48,3,0),IFERROR(VLOOKUP(B134,[3]B!B$1:D$51,3,0),VLOOKUP(B134,[3]C!B$1:D$52,3,0)))","v":11},{"$f":"IFERROR(VLOOKUP(B134,[3]A!B$1:F$48,5,0),IFERROR(VLOOKUP(B134,[3]B!B$1:F$51,5,0),VLOOKUP(B134,[3]C!B$1:F$52,5,0)))","v":0},{"$f":"IFERROR(VLOOKUP(B134,[3]A!B$1:G$48,6,0),IFERROR(VLOOKUP(B134,[3]B!B$1:G$51,6,0),VLOOKUP(B134,[3]C!B$1:G$52,6,0)))","v":0},{"$f":"IFERROR(VLOOKUP(B134,[3]A!B$1:H$48,7,0),IFERROR(VLOOKUP(B134,[3]B!B$1:H$51,7,0),VLOOKUP(B134,[3]C!B$1:H$52,7,0)))","v":0},0,14,16,{"$f":"IFERROR(VLOOKUP(B134,[4]A!B$1:F$48,5,0),IFERROR(VLOOKUP(B134,[4]B!B$1:F$51,5,0),VLOOKUP(B134,[4]C!B$1:F$52,5,0)))","v":0},3,4,{"$f":"IFERROR(VLOOKUP(B134,[4]A!B$1:J$48,9,0),IFERROR(VLOOKUP(B134,[4]B!B$1:J$51,9,0),VLOOKUP(B134,[4]C!B$1:J$52,9,0)))","v":0},2,2,null,1,1,null,64,0,0,57,57,89.0625,5,"C-15",10,9,24]
[134,"15BA131",{"$f":"VLOOKUP(B135,[1]C!B$1:C$51,2,0)","v":9},{"$f":"VLOOKUP(B135,[1]C!B$1:D$51,3,0)","v":9},{"$f":"VLOOKUP(B135,[1]C!B$1:F$51,5,0)","v":0},{"$f":"VLOOKUP(B135,[1]C!B$1:G$51,6,0)","v":0},{"$f":"VLOOKUP(B135,[1]C!B$1:H$51,7,0)","v":0},{"$f":"VLOOKUP(B135,[1]C!B$1:J$51,9,0)","v":0},{"$f":"VLOOKUP(B135,[2]C!B$1:C$48,2,0)","v":18},{"$f":"VLOOKUP(B135,[2]C!B$1:D$48,3,0)","v":18},{"$f":"VLOOKUP(B135,[2]C!B$1:F$48,5,0)","v":0},{"$f":"VLOOKUP(B135,[2]C!B$1:G$48,6,0)","v":4},{"$f":"VLOOKUP(B135,[2]C!B$1:H$48,7,0)","v":4},{"$f":"VLOOKUP(B135,[2]C!B$1:J$48,9,0)","v":0},{"$f":"IFERROR(VLOOKUP(B135,[3]A!B$1:C$48,2,0),IFERROR(VLOOKUP(B135,[3]B!B$1:C$51,2,0),VLOOKUP(B135,[3]C!B$1:C$52,2,0)))","v":7},{"$f":"IFERROR(VLOOKUP(B135,[3]A!B$1:D$48,3,0),IFERROR(VLOOKUP(B135,[3]B!B$1:D$51,3,0),VLOOKUP(B135,[3]C!B$1:D$52,3,0)))","v":11},{"$f":"IFERROR(VLOOKUP(B135,[3]A!B$1:F$48,5,0),IFERROR(VLOOKUP(B135,[3]B!B$1:F$51,5,0),VLOOKUP(B135,[3]C!B$1:F$52,5,0)))","v":0},{"$f":"IFERROR(VLOOKUP(B135,[3]A!B$1:G$48,6,0),IFERROR(VLOOKUP(B135,[3]B!B$1:G$51,6,0),VLOOKUP(B135,[3]C!B$1:G$52,6,0)))","v":0},{"$f":"IFERROR(VLOOKUP(B135,[3]A!B$1:H$48,7,0),IFERROR(VLOOKUP(B135,[3]B!B$1:H$51,7,0),VLOOKUP(B135,[3]C!B$1:H$52,7,0)))","v":2},0,6,16,{"$f":"IFERROR(VLOOKUP(B135,[4]A!B$1:F$48,5,0),IFERROR(VLOOKUP(B135,[4]B!B$1:F$51,5,0),VLOOKUP(B135,[4]C!B$1:F$52,5,0)))","v":0},1,3,{"$f":"IFERROR(VLOOKUP(B135,[4]A!B$1:J$48,9,0),IFERROR(VLOOKUP(B135,[4]B!B$1:J$51,9,0),VLOOKUP(B135,[4]C!B$1:J$52,9,0)))","v":0},0,2,null,1,1,null,66,0,0,46,46,69.696969696969703,1,"C-13",5,5,11]
[135,"15BA132",{"$f":"VLOOKUP(B136,[1]C!B$1:C$51,2,0)","v":9},{"$f":"VLOOKUP(B136,[1]C!B$1:D$51,3,0)","v":9},{"$f":"VLOOKUP(B136,[1]C!B$1:F$51,5,0)","v":0},{"$f":"VLOOKUP(B136,[1]C!B$1:G$51,6,0)","v":0},{"$f":"VLOOKUP(B136,[1]C!B$1:H$51,7,0)","v":0},{"$f":"VLOOKUP(B136,[1]C!B$1:J$51,9,0)","v":0},{"$f":"VLOOKUP(B136,[2]C!B$1:C$48,2,0)","v":18},{"$f":"VLOOKUP(B136,[2]C!B$1:D$48,3,0)","v":18},{"$f":"VLOOKUP(B136,[2]C!B$1:F$48,5,0)","v":0},{"$f":"VLOOKUP(B136,[2]C!B$1:G$48,6,0)","v":3},{"$f":"VLOOKUP(B136,[2]C!B$1:H$48,7,0)","v":3},{"$f":"VLOOKUP(B136,[2]C!B$1:J$48,9,0)","v":0},{"$f":"IFERROR(VLOOKUP(B136,[3]A!B$1:C$48,2,0),IFERROR(VLOOKUP(B136,[3]B!B$1:C$51,2,0),VLOOKUP(B136,[3]C!B$1:C$52,2,0)))","v":10},{"$f":"IFERROR(VLOOKUP(B136,[3]A!B$1:D$48,3,0),IFERROR(VLOOKUP(B136,[3]B!B$1:D$51,3,0),VLOOKUP(B136,[3]C!B$1:D$52,3,0)))","v":11},{"$f":"IFERROR(VLOOKUP(B136,[3]A!B$1:F$48,5,0),IFERROR(VLOOKUP(B136,[3]B!B$1:F$51,5,0),VLOOKUP(B136,[3]C!B$1:F$52,5,0)))","v":0},{"$f":"IFERROR(VLOOKUP(B136,[3]A!B$1:G$48,6,0),IFERROR(VLOOKUP(B136,[3]B!B$1:G$51,6,0),VLOOKUP(B136,[3]C!B$1:G$52,6,0)))","v":2},{"$f":"IFERROR(VLOOKUP(B136,[3]A!B$1:H$48,7,0),IFERROR(VLOOKUP(B136,[3]B!B$1:H$51,7,0),VLOOKUP(B136,[3]C!B$1:H$52,7,0)))","v":2},0,13,16,{"$f":"IFERROR(VLOOKUP(B136,[4]A!B$1:F$48,5,0),IFERROR(VLOOKUP(B136,[4]B!B$1:F$51,5,0),VLOOKUP(B136,[4]C!B$1:F$52,5,0)))","v":0},2,2,{"$f":"IFERROR(VLOOKUP(B136,[4]A!B$1:J$48,9,0),IFERROR(VLOOKUP(B136,[4]B!B$1:J$51,9,0),VLOOKUP(B136,[4]C!B$1:J$52,9,0)))","v":0},0,2,null,2,2,null,65,0,0,59,59,90.769230769230774,5,"C-11",7,6,18]
[136,"15BA136",{"$f":"VLOOKUP(B137,[1]C!B$1:C$51,2,0)","v":8},{"$f":"VLOOKUP(B137,[1]C!B$1:D$51,3,0)","v":9},{"$f":"VLOOKUP(B137,[1]C!B$1:F$51,5,0)","v":0},{"$f":"VLOOKUP(B137,[1]C!B$1:G$51,6,0)","v":0},{"$f":"VLOOKUP(B137,[1]C!B$1:H$51,7,0)","v":0},{"$f":"VLOOKUP(B137,[1]C!B$1:J$51,9,0)","v":0},{"$f":"VLOOKUP(B137,[2]C!B$1:C$48,2,0)","v":17},{"$f":"VLOOKUP(B137,[2]C!B$1:D$48,3,0)","v":18},{"$f":"VLOOKUP(B137,[2]C!B$1:F$48,5,0)","v":0},{"$f":"VLOOKUP(B137,[2]C!B$1:G$48,6,0)","v":3},{"$f":"VLOOKUP(B137,[2]C!B$1:H$48,7,0)","v":3},{"$f":"VLOOKUP(B137,[2]C!B$1:J$48,9,0)","v":0},{"$f":"IFERROR(VLOOKUP(B137,[3]A!B$1:C$48,2,0),IFERROR(VLOOKUP(B137,[3]B!B$1:C$51,2,0),VLOOKUP(B137,[3]C!B$1:C$52,2,0)))","v":9},{"$f":"IFERROR(VLOOKUP(B137,[3]A!B$1:D$48,3,0),IFERROR(VLOOKUP(B137,[3]B!B$1:D$51,3,0),VLOOKUP(B137,[3]C!B$1:D$52,3,0)))","v":11},{"$f":"IFERROR(VLOOKUP(B137,[3]A!B$1:F$48,5,0),IFERROR(VLOOKUP(B137,[3]B!B$1:F$51,5,0),VLOOKUP(B137,[3]C!B$1:F$52,5,0)))","v":0},{"$f":"IFERROR(VLOOKUP(B137,[3]A!B$1:G$48,6,0),IFERROR(VLOOKUP(B137,[3]B!B$1:G$51,6,0),VLOOKUP(B137,[3]C!B$1:G$52,6,0)))","v":2},{"$f":"IFERROR(VLOOKUP(B137,[3]A!B$1:H$48,7,0),IFERROR(VLOOKUP(B137,[3]B!B$1:H$51,7,0),VLOOKUP(B137,[3]C!B$1:H$52,7,0)))","v":2},0,11,16,{"$f":"IFERROR(VLOOKUP(B137,[4]A!B$1:F$48,5,0),IFERROR(VLOOKUP(B137,[4]B!B$1:F$51,5,0),VLOOKUP(B137,[4]C!B$1:F$52,5,0)))","v":0},2,2,{"$f":"IFERROR(VLOOKUP(B137,[4]A!B$1:J$48,9,0),IFERROR(VLOOKUP(B137,[4]B!B$1:J$51,9,0),VLOOKUP(B137,[4]C!B$1:J$52,9,0)))","v":0},2,2,null,2,2,null,65,0,0,56,56,86.15384615384616,5,"C-11",7,6,18]
[137,"15BA137",{"$f":"VLOOKUP(B138,[1]C!B$1:C$51,2,0)","v":9},{"$f":"VLOOKUP(B138,[1]C!B$1:D$51,3,0)","v":9},{"$f":"VLOOKUP(B138,[1]C!B$1:F$51,5,0)","v":0},{"$f":"VLOOKUP(B138,[1]C!B$1:G$51,6,0)","v":0},{"$f":"VLOOKUP(B138,[1]C!B$1:H$51,7,0)","v":0},{"$f":"VLOOKUP(B138,[1]C!B$1:J$51,9,0)","v":0},{"$f":"VLOOKUP(B138,[2]C!B$1:C$48,2,0)","v":18},{"$f":"VLOOKUP(B138,[2]C!B$1:D$48,3,0)","v":18},{"$f":"VLOOKUP(B138,[2]C!B$1:F$48,5,0)","v":0},{"$f":"VLOOKUP(B138,[2]C!B$1:G$48,6,0)","v":3},{"$f":"VLOOKUP(B138,[2]C!B$1:H$48,7,0)","v":3},{"$f":"VLOOKUP(B138,[2]C!B$1:J$48,9,0)","v":0},{"$f":"IFERROR(VLOOKUP(B138,[3]A!B$1:C$48,2,0),IFERROR(VLOOKUP(B138,[3]B!B$1:C$51,2,0),VLOOKUP(B138,[3]C!B$1:C$52,2,0)))","v":9},{"$f":"IFERROR(VLOOKUP(B138,[3]A!B$1:D$48,3,0),IFERROR(VLOOKUP(B138,[3]B!B$1:D$51,3,0),VLOOKUP(B138,[3]C!B$1:D$52,3,0)))","v":11},{"$f":"IFERROR(VLOOKUP(B138,[3]A!B$1:F$48,5,0),IFERROR(VLOOKUP(B138,[3]B!B$1:F$51,5,0),VLOOKUP(B138,[3]C!B$1:F$52,5,0)))","v":0},{"$f":"IFERROR(VLOOKUP(B138,[3]A!B$1:G$48,6,0),IFERROR(VLOOKUP(B138,[3]B!B$1:G$51,6,0),VLOOKUP(B138,[3]C!B$1:G$52,6,0)))","v":2},{"$f":"IFERROR(VLOOKUP(B138,[3]A!B$1:H$48,7,0),IFERROR(VLOOKUP(B138,[3]B!B$1:H$51,7,0),VLOOKUP(B138,[3]C!B$1:H$52,7,0)))","v":2},0,7,16,{"$f":"IFERROR(VLOOKUP(B138,[4]A!B$1:F$48,5,0),IFERROR(VLOOKUP(B138,[4]B!B$1:F$51,5,0),VLOOKUP(B138,[4]C!B$1:F$52,5,0)))","v":0},2,2,{"$f":"IFERROR(VLOOKUP(B138,[4]A!B$1:J$48,9,0),IFERROR(VLOOKUP(B138,[4]B!B$1:J$51,9,0),VLOOKUP(B138,[4]C!B$1:J$52,9,0)))","v":0},2,2,null,2,2,null,65,0,0,54,54,83.07692307692308,4,"C-11",10,9,23]
[138,"15BA142",{"$f":"VLOOKUP(B139,[1]C!B$1:C$51,2,0)","v":9},{"$f":"VLOOKUP(B139,[1]C!B$1:D$51,3,0)","v":9},{"$f":"VLOOKUP(B139,[1]C!B$1:F$51,5,0)","v":0},{"$f":"VLOOKUP(B139,[1]C!B$1:G$51,6,0)","v":0},{"$f":"VLOOKUP(B139,[1]C!B$1:H$51,7,0)","v":0},{"$f":"VLOOKUP(B139,[1]C!B$1:J$51,9,0)","v":0},{"$f":"VLOOKUP(B139,[2]C!B$1:C$48,2,0)","v":17},{"$f":"VLOOKUP(B139,[2]C!B$1:D$48,3,0)","v":18},{"$f":"VLOOKUP(B139,[2]C!B$1:F$48,5,0)","v":0},{"$f":"VLOOKUP(B139,[2]C!B$1:G$48,6,0)","v":3},{"$f":"VLOOKUP(B139,[2]C!B$1:H$48,7,0)","v":3},{"$f":"VLOOKUP(B139,[2]C!B$1:J$48,9,0)","v":0},{"$f":"IFERROR(VLOOKUP(B139,[3]A!B$1:C$48,2,0),IFERROR(VLOOKUP(B139,[3]B!B$1:C$51,2,0),VLOOKUP(B139,[3]C!B$1:C$52,2,0)))","v":10},{"$f":"IFERROR(VLOOKUP(B139,[3]A!B$1:D$48,3,0),IFERROR(VLOOKUP(B139,[3]B!B$1:D$51,3,0),VLOOKUP(B139,[3]C!B$1:D$52,3,0)))","v":11},{"$f":"IFERROR(VLOOKUP(B139,[3]A!B$1:F$48,5,0),IFERROR(VLOOKUP(B139,[3]B!B$1:F$51,5,0),VLOOKUP(B139,[3]C!B$1:F$52,5,0)))","v":0},{"$f":"IFERROR(VLOOKUP(B139,[3]A!B$1:G$48,6,0),IFERROR(VLOOKUP(B139,[3]B!B$1:G$51,6,0),VLOOKUP(B139,[3]C!B$1:G$52,6,0)))","v":2},{"$f":"IFERROR(VLOOKUP(B139,[3]A!B$1:H$48,7,0),IFERROR(VLOOKUP(B139,[3]B!B$1:H$51,7,0),VLOOKUP(B139,[3]C!B$1:H$52,7,0)))","v":2},0,14,16,{"$f":"IFERROR(VLOOKUP(B139,[4]A!B$1:F$48,5,0),IFERROR(VLOOKUP(B139,[4]B!B$1:F$51,5,0),VLOOKUP(B139,[4]C!B$1:F$52,5,0)))","v":0},2,2,{"$f":"IFERROR(VLOOKUP(B139,[4]A!B$1:J$48,9,0),IFERROR(VLOOKUP(B139,[4]B!B$1:J$51,9,0),VLOOKUP(B139,[4]C!B$1:J$52,9,0)))","v":0},2,2,null,2,2,null,65,0,0,61,61,93.84615384615384,5,"C-11",8,7,20]
[139,"15BA145",{"$f":"VLOOKUP(B140,[1]C!B$1:C$51,2,0)","v":9},{"$f":"VLOOKUP(B140,[1]C!B$1:D$51,3,0)","v":9},{"$f":"VLOOKUP(B140,[1]C!B$1:F$51,5,0)","v":0},{"$f":"VLOOKUP(B140,[1]C!B$1:G$51,6,0)","v":0},{"$f":"VLOOKUP(B140,[1]C!B$1:H$51,7,0)","v":0},{"$f":"VLOOKUP(B140,[1]C!B$1:J$51,9,0)","v":0},{"$f":"VLOOKUP(B140,[2]C!B$1:C$48,2,0)","v":18},{"$f":"VLOOKUP(B140,[2]C!B$1:D$48,3,0)","v":18},{"$f":"VLOOKUP(B140,[2]C!B$1:F$48,5,0)","v":0},{"$f":"VLOOKUP(B140,[2]C!B$1:G$48,6,0)","v":3},{"$f":"VLOOKUP(B140,[2]C!B$1:H$48,7,0)","v":3},{"$f":"VLOOKUP(B140,[2]C!B$1:J$48,9,0)","v":0},{"$f":"IFERROR(VLOOKUP(B140,[3]A!B$1:C$48,2,0),IFERROR(VLOOKUP(B140,[3]B!B$1:C$51,2,0),VLOOKUP(B140,[3]C!B$1:C$52,2,0)))","v":5},{"$f":"IFERROR(VLOOKUP(B140,[3]A!B$1:D$48,3,0),IFERROR(VLOOKUP(B140,[3]B!B$1:D$51,3,0),VLOOKUP(B140,[3]C!B$1:D$52,3,0)))","v":11},{"$f":"IFERROR(VLOOKUP(B140,[3]A!B$1:F$48,5,0),IFERROR(VLOOKUP(B140,[3]B!B$1:F$51,5,0),VLOOKUP(B140,[3]C!B$1:F$52,5,0)))","v":0},{"$f":"IFERROR(VLOOKUP(B140,[3]A!B$1:G$48,6,0),IFERROR(VLOOKUP(B140,[3]B!B$1:G$51,6,0),VLOOKUP(B140,[3]C!B$1:G$52,6,0)))","v":0},{"$f":"IFERROR(VLOOKUP(B140,[3]A!B$1:H$48,7,0),IFERROR(VLOOKUP(B140,[3]B!B$1:H$51,7,0),VLOOKUP(B140,[3]C!B$1:H$52,7,0)))","v":0},0,2,16,{"$f":"IFERROR(VLOOKUP(B140,[4]A!B$1:F$48,5,0),IFERROR(VLOOKUP(B140,[4]B!B$1:F$51,5,0),VLOOKUP(B140,[4]C!B$1:F$52,5,0)))","v":0},0,4,{"$f":"IFERROR(VLOOKUP(B140,[4]A!B$1:J$48,9,0),IFERROR(VLOOKUP(B140,[4]B!B$1:J$51,9,0),VLOOKUP(B140,[4]C!B$1:J$52,9,0)))","v":0},2,2,null,1,1,null,64,0,0,40,40,62.5,0,"C-15",8,7,15]
[140,"15BA146",{"$f":"VLOOKUP(B141,[1]C!B$1:C$51,2,0)","v":9},{"$f":"VLOOKUP(B141,[1]C!B$1:D$51,3,0)","v":9},{"$f":"VLOOKUP(B141,[1]C!B$1:F$51,5,0)","v":0},{"$f":"VLOOKUP(B141,[1]C!B$1:G$51,6,0)","v":0},{"$f":"VLOOKUP(B141,[1]C!B$1:H$51,7,0)","v":0},{"$f":"VLOOKUP(B141,[1]C!B$1:J$51,9,0)","v":0},{"$f":"VLOOKUP(B141,[2]C!B$1:C$48,2,0)","v":17},{"$f":"VLOOKUP(B141,[2]C!B$1:D$48,3,0)","v":18},{"$f":"VLOOKUP(B141,[2]C!B$1:F$48,5,0)","v":0},{"$f":"VLOOKUP(B141,[2]C!B$1:G$48,6,0)","v":4},{"$f":"VLOOKUP(B141,[2]C!B$1:H$48,7,0)","v":4},{"$f":"VLOOKUP(B141,[2]C!B$1:J$48,9,0)","v":0},{"$f":"IFERROR(VLOOKUP(B141,[3]A!B$1:C$48,2,0),IFERROR(VLOOKUP(B141,[3]B!B$1:C$51,2,0),VLOOKUP(B141,[3]C!B$1:C$52,2,0)))","v":9},{"$f":"IFERROR(VLOOKUP(B141,[3]A!B$1:D$48,3,0),IFERROR(VLOOKUP(B141,[3]B!B$1:D$51,3,0),VLOOKUP(B141,[3]C!B$1:D$52,3,0)))","v":11},{"$f":"IFERROR(VLOOKUP(B141,[3]A!B$1:F$48,5,0),IFERROR(VLOOKUP(B141,[3]B!B$1:F$51,5,0),VLOOKUP(B141,[3]C!B$1:F$52,5,0)))","v":0},{"$f":"IFERROR(VLOOKUP(B141,[3]A!B$1:G$48,6,0),IFERROR(VLOOKUP(B141,[3]B!B$1:G$51,6,0),VLOOKUP(B141,[3]C!B$1:G$52,6,0)))","v":2},{"$f":"IFERROR(VLOOKUP(B141,[3]A!B$1:H$48,7,0),IFERROR(VLOOKUP(B141,[3]B!B$1:H$51,7,0),VLOOKUP(B141,[3]C!B$1:H$52,7,0)))","v":2},0,12,16,{"$f":"IFERROR(VLOOKUP(B141,[4]A!B$1:F$48,5,0),IFERROR(VLOOKUP(B141,[4]B!B$1:F$51,5,0),VLOOKUP(B141,[4]C!B$1:F$52,5,0)))","v":0},2,3,{"$f":"IFERROR(VLOOKUP(B141,[4]A!B$1:J$48,9,0),IFERROR(VLOOKUP(B141,[4]B!B$1:J$51,9,0),VLOOKUP(B141,[4]C!B$1:J$52,9,0)))","v":0},2,2,null,1,1,null,66,0,0,58,58,87.878787878787875,5,"C-13",7,6,18]
[141,"15BA147",{"$f":"VLOOKUP(B142,[1]C!B$1:C$51,2,0)","v":8},{"$f":"VLOOKUP(B142,[1]C!B$1:D$51,3,0)","v":9},{"$f":"VLOOKUP(B142,[1]C!B$1:F$51,5,0)","v":0},{"$f":"VLOOKUP(B142,[1]C!B$1:G$51,6,0)","v":0},{"$f":"VLOOKUP(B142,[1]C!B$1:H$51,7,0)","v":0},{"$f":"VLOOKUP(B142,[1]C!B$1:J$51,9,0)","v":0},{"$f":"VLOOKUP(B142,[2]C!B$1:C$48,2,0)","v":17},{"$f":"VLOOKUP(B142,[2]C!B$1:D$48,3,0)","v":18},{"$f":"VLOOKUP(B142,[2]C!B$1:F$48,5,0)","v":0},{"$f":"VLOOKUP(B142,[2]C!B$1:G$48,6,0)","v":3},{"$f":"VLOOKUP(B142,[2]C!B$1:H$48,7,0)","v":3},{"$f":"VLOOKUP(B142,[2]C!B$1:J$48,9,0)","v":0},{"$f":"IFERROR(VLOOKUP(B142,[3]A!B$1:C$48,2,0),IFERROR(VLOOKUP(B142,[3]B!B$1:C$51,2,0),VLOOKUP(B142,[3]C!B$1:C$52,2,0)))","v":4},{"$f":"IFERROR(VLOOKUP(B142,[3]A!B$1:D$48,3,0),IFERROR(VLOOKUP(B142,[3]B!B$1:D$51,3,0),VLOOKUP(B142,[3]C!B$1:D$52,3,0)))","v":11},{"$f":"IFERROR(VLOOKUP(B142,[3]A!B$1:F$48,5,0),IFERROR(VLOOKUP(B142,[3]B!B$1:F$51,5,0),VLOOKUP(B142,[3]C!B$1:F$52,5,0)))","v":0},{"$f":"IFERROR(VLOOKUP(B142,[3]A!B$1:G$48,6,0),IFERROR(VLOOKUP(B142,[3]B!B$1:G$51,6,0),VLOOKUP(B142,[3]C!B$1:G$52,6,0)))","v":0},{"$f":"IFERROR(VLOOKUP(B142,[3]A!B$1:H$48,7,0),IFERROR(VLOOKUP(B142,[3]B!B$1:H$51,7,0),VLOOKUP(B142,[3]C!B$1:H$52,7,0)))","v":0},0,2,16,{"$f":"IFERROR(VLOOKUP(B142,[4]A!B$1:F$48,5,0),IFERROR(VLOOKUP(B142,[4]B!B$1:F$51,5,0),VLOOKUP(B142,[4]C!B$1:F$52,5,0)))","v":0},0,4,{"$f":"IFERROR(VLOOKUP(B142,[4]A!B$1:J$48,9,0),IFERROR(VLOOKUP(B142,[4]B!B$1:J$51,9,0),VLOOKUP(B142,[4]C!B$1:J$52,9,0)))","v":0},2,2,null,1,1,null,64,0,0,37,37,57.8125,0,"C-15",5,4,9]
[142,"15BA148",{"$f":"VLOOKUP(B143,[1]C!B$1:C$51,2,0)","v":9},{"$f":"VLOOKUP(B143,[1]C!B$1:D$51,3,0)","v":9},{"$f":"VLOOKUP(B143,[1]C!B$1:F$51,5,0)","v":0},{"$f":"VLOOKUP(B143,[1]C!B$1:G$51,6,0)","v":0},{"$f":"VLOOKUP(B143,[1]C!B$1:H$51,7,0)","v":0},{"$f":"VLOOKUP(B143,[1]C!B$1:J$51,9,0)","v":0},{"$f":"VLOOKUP(B143,[2]C!B$1:C$48,2,0)","v":18},{"$f":"VLOOKUP(B143,[2]C!B$1:D$48,3,0)","v":18},{"$f":"VLOOKUP(B143,[2]C!B$1:F$48,5,0)","v":0},{"$f":"VLOOKUP(B143,[2]C!B$1:G$48,6,0)","v":4},{"$f":"VLOOKUP(B143,[2]C!B$1:H$48,7,0)","v":4},{"$f":"VLOOKUP(B143,[2]C!B$1:J$48,9,0)","v":0},{"$f":"IFERROR(VLOOKUP(B143,[3]A!B$1:C$48,2,0),IFERROR(VLOOKUP(B143,[3]B!B$1:C$51,2,0),VLOOKUP(B143,[3]C!B$1:C$52,2,0)))","v":8},{"$f":"IFERROR(VLOOKUP(B143,[3]A!B$1:D$48,3,0),IFERROR(VLOOKUP(B143,[3]B!B$1:D$51,3,0),VLOOKUP(B143,[3]C!B$1:D$52,3,0)))","v":11},{"$f":"IFERROR(VLOOKUP(B143,[3]A!B$1:F$48,5,0),IFERROR(VLOOKUP(B143,[3]B!B$1:F$51,5,0),VLOOKUP(B143,[3]C!B$1:F$52,5,0)))","v":0},{"$f":"IFERROR(VLOOKUP(B143,[3]A!B$1:G$48,6,0),IFERROR(VLOOKUP(B143,[3]B!B$1:G$51,6,0),VLOOKUP(B143,[3]C!B$1:G$52,6,0)))","v":2},{"$f":"IFERROR(VLOOKUP(B143,[3]A!B$1:H$48,7,0),IFERROR(VLOOKUP(B143,[3]B!B$1:H$51,7,0),VLOOKUP(B143,[3]C!B$1:H$52,7,0)))","v":2},0,9,16,{"$f":"IFERROR(VLOOKUP(B143,[4]A!B$1:F$48,5,0),IFERROR(VLOOKUP(B143,[4]B!B$1:F$51,5,0),VLOOKUP(B143,[4]C!B$1:F$52,5,0)))","v":0},1,3,{"$f":"IFERROR(VLOOKUP(B143,[4]A!B$1:J$48,9,0),IFERROR(VLOOKUP(B143,[4]B!B$1:J$51,9,0),VLOOKUP(B143,[4]C!B$1:J$52,9,0)))","v":0},2,2,null,1,1,null,66,0,0,54,54,81.818181818181827,4,"C-13",7,7,18]
[143,"15BA150",{"$f":"VLOOKUP(B144,[1]C!B$1:C$51,2,0)","v":9},{"$f":"VLOOKUP(B144,[1]C!B$1:D$51,3,0)","v":9},{"$f":"VLOOKUP(B144,[1]C!B$1:F$51,5,0)","v":0},{"$f":"VLOOKUP(B144,[1]C!B$1:G$51,6,0)","v":0},{"$f":"VLOOKUP(B144,[1]C!B$1:H$51,7,0)","v":0},{"$f":"VLOOKUP(B144,[1]C!B$1:J$51,9,0)","v":0},{"$f":"VLOOKUP(B144,[2]C!B$1:C$48,2,0)","v":18},{"$f":"VLOOKUP(B144,[2]C!B$1:D$48,3,0)","v":18},{"$f":"VLOOKUP(B144,[2]C!B$1:F$48,5,0)","v":0},{"$f":"VLOOKUP(B144,[2]C!B$1:G$48,6,0)","v":4},{"$f":"VLOOKUP(B144,[2]C!B$1:H$48,7,0)","v":4},{"$f":"VLOOKUP(B144,[2]C!B$1:J$48,9,0)","v":0},{"$f":"IFERROR(VLOOKUP(B144,[3]A!B$1:C$48,2,0),IFERROR(VLOOKUP(B144,[3]B!B$1:C$51,2,0),VLOOKUP(B144,[3]C!B$1:C$52,2,0)))","v":0},{"$f":"IFERROR(VLOOKUP(B144,[3]A!B$1:D$48,3,0),IFERROR(VLOOKUP(B144,[3]B!B$1:D$51,3,0),VLOOKUP(B144,[3]C!B$1:D$52,3,0)))","v":16},{"$f":"IFERROR(VLOOKUP(B144,[3]A!B$1:F$48,5,0),IFERROR(VLOOKUP(B144,[3]B!B$1:F$51,5,0),VLOOKUP(B144,[3]C!B$1:F$52,5,0)))","v":0},{"$f":"IFERROR(VLOOKUP(B144,[3]A!B$1:G$48,6,0),IFERROR(VLOOKUP(B144,[3]B!B$1:G$51,6,0),VLOOKUP(B144,[3]C!B$1:G$52,6,0)))","v":2},{"$f":"IFERROR(VLOOKUP(B144,[3]A!B$1:H$48,7,0),IFERROR(VLOOKUP(B144,[3]B!B$1:H$51,7,0),VLOOKUP(B144,[3]C!B$1:H$52,7,0)))","v":2},0,7,16,{"$f":"IFERROR(VLOOKUP(B144,[4]A!B$1:F$48,5,0),IFERROR(VLOOKUP(B144,[4]B!B$1:F$51,5,0),VLOOKUP(B144,[4]C!B$1:F$52,5,0)))","v":0},1,3,{"$f":"IFERROR(VLOOKUP(B144,[4]A!B$1:J$48,9,0),IFERROR(VLOOKUP(B144,[4]B!B$1:J$51,9,0),VLOOKUP(B144,[4]C!B$1:J$52,9,0)))","v":0},2,2,null,1,1,null,71,0,0,44,44,61.971830985915489,0,"C-13",8,7,15]
[144,"15BA152",{"$f":"VLOOKUP(B145,[1]C!B$1:C$51,2,0)","v":9},{"$f":"VLOOKUP(B145,[1]C!B$1:D$51,3,0)","v":9},{"$f":"VLOOKUP(B145,[1]C!B$1:F$51,5,0)","v":0},{"$f":"VLOOKUP(B145,[1]C!B$1:G$51,6,0)","v":0},{"$f":"VLOOKUP(B145,[1]C!B$1:H$51,7,0)","v":0},{"$f":"VLOOKUP(B145,[1]C!B$1:J$51,9,0)","v":0},18,18,0,3,3,0,{"$f":"IFERROR(VLOOKUP(B145,[3]A!B$1:C$48,2,0),IFERROR(VLOOKUP(B145,[3]B!B$1:C$51,2,0),VLOOKUP(B145,[3]C!B$1:C$52,2,0)))","v":10},{"$f":"IFERROR(VLOOKUP(B145,[3]A!B$1:D$48,3,0),IFERROR(VLOOKUP(B145,[3]B!B$1:D$51,3,0),VLOOKUP(B145,[3]C!B$1:D$52,3,0)))","v":11},{"$f":"IFERROR(VLOOKUP(B145,[3]A!B$1:F$48,5,0),IFERROR(VLOOKUP(B145,[3]B!B$1:F$51,5,0),VLOOKUP(B145,[3]C!B$1:F$52,5,0)))","v":0},{"$f":"IFERROR(VLOOKUP(B145,[3]A!B$1:G$48,6,0),IFERROR(VLOOKUP(B145,[3]B!B$1:G$51,6,0),VLOOKUP(B145,[3]C!B$1:G$52,6,0)))","v":0},{"$f":"IFERROR(VLOOKUP(B145,[3]A!B$1:H$48,7,0),IFERROR(VLOOKUP(B145,[3]B!B$1:H$51,7,0),VLOOKUP(B145,[3]C!B$1:H$52,7,0)))","v":0},0,6,16,{"$f":"IFERROR(VLOOKUP(B145,[4]A!B$1:F$48,5,0),IFERROR(VLOOKUP(B145,[4]B!B$1:F$51,5,0),VLOOKUP(B145,[4]C!B$1:F$52,5,0)))","v":0},1,4,{"$f":"IFERROR(VLOOKUP(B145,[4]A!B$1:J$48,9,0),IFERROR(VLOOKUP(B145,[4]B!B$1:J$51,9,0),VLOOKUP(B145,[4]C!B$1:J$52,9,0)))","v":0},2,2,null,1,1,null,64,0,0,50,50,78.125,3,"C-15",8,8,19]
[145,"15BA154",{"$f":"VLOOKUP(B146,[1]C!B$1:C$51,2,0)","v":9},{"$f":"VLOOKUP(B146,[1]C!B$1:D$51,3,0)","v":9},{"$f":"VLOOKUP(B146,[1]C!B$1:F$51,5,0)","v":0},{"$f":"VLOOKUP(B146,[1]C!B$1:G$51,6,0)","v":0},{"$f":"VLOOKUP(B146,[1]C!B$1:H$51,7,0)","v":0},{"$f":"VLOOKUP(B146,[1]C!B$1:J$51,9,0)","v":0},16,18,0,3,3,0,{"$f":"IFERROR(VLOOKUP(B146,[3]A!B$1:C$48,2,0),IFERROR(VLOOKUP(B146,[3]B!B$1:C$51,2,0),VLOOKUP(B146,[3]C!B$1:C$52,2,0)))","v":4},{"$f":"IFERROR(VLOOKUP(B146,[3]A!B$1:D$48,3,0),IFERROR(VLOOKUP(B146,[3]B!B$1:D$51,3,0),VLOOKUP(B146,[3]C!B$1:D$52,3,0)))","v":11},{"$f":"IFERROR(VLOOKUP(B146,[3]A!B$1:F$48,5,0),IFERROR(VLOOKUP(B146,[3]B!B$1:F$51,5,0),VLOOKUP(B146,[3]C!B$1:F$52,5,0)))","v":0},{"$f":"IFERROR(VLOOKUP(B146,[3]A!B$1:G$48,6,0),IFERROR(VLOOKUP(B146,[3]B!B$1:G$51,6,0),VLOOKUP(B146,[3]C!B$1:G$52,6,0)))","v":1},{"$f":"IFERROR(VLOOKUP(B146,[3]A!B$1:H$48,7,0),IFERROR(VLOOKUP(B146,[3]B!B$1:H$51,7,0),VLOOKUP(B146,[3]C!B$1:H$52,7,0)))","v":2},0,4,16,{"$f":"IFERROR(VLOOKUP(B146,[4]A!B$1:F$48,5,0),IFERROR(VLOOKUP(B146,[4]B!B$1:F$51,5,0),VLOOKUP(B146,[4]C!B$1:F$52,5,0)))","v":0},2,2,{"$f":"IFERROR(VLOOKUP(B146,[4]A!B$1:J$48,9,0),IFERROR(VLOOKUP(B146,[4]B!B$1:J$51,9,0),VLOOKUP(B146,[4]C!B$1:J$52,9,0)))","v":0},2,2,null,2,2,null,65,0,0,43,43,66.153846153846146,0,"C-11",7,7,14]
[146,"15BA157",{"$f":"VLOOKUP(B147,[1]C!B$1:C$51,2,0)","v":8},{"$f":"VLOOKUP(B147,[1]C!B$1:D$51,3,0)","v":9},{"$f":"VLOOKUP(B147,[1]C!B$1:F$51,5,0)","v":0},{"$f":"VLOOKUP(B147,[1]C!B$1:G$51,6,0)","v":0},{"$f":"VLOOKUP(B147,[1]C!B$1:H$51,7,0)","v":0},{"$f":"VLOOKUP(B147,[1]C!B$1:J$51,9,0)","v":0},18,18,0,3,3,0,{"$f":"IFERROR(VLOOKUP(B147,[3]A!B$1:C$48,2,0),IFERROR(VLOOKUP(B147,[3]B!B$1:C$51,2,0),VLOOKUP(B147,[3]C!B$1:C$52,2,0)))","v":10},{"$f":"IFERROR(VLOOKUP(B147,[3]A!B$1:D$48,3,0),IFERROR(VLOOKUP(B147,[3]B!B$1:D$51,3,0),VLOOKUP(B147,[3]C!B$1:D$52,3,0)))","v":11},{"$f":"IFERROR(VLOOKUP(B147,[3]A!B$1:F$48,5,0),IFERROR(VLOOKUP(B147,[3]B!B$1:F$51,5,0),VLOOKUP(B147,[3]C!B$1:F$52,5,0)))","v":0},{"$f":"IFERROR(VLOOKUP(B147,[3]A!B$1:G$48,6,0),IFERROR(VLOOKUP(B147,[3]B!B$1:G$51,6,0),VLOOKUP(B147,[3]C!B$1:G$52,6,0)))","v":2},{"$f":"IFERROR(VLOOKUP(B147,[3]A!B$1:H$48,7,0),IFERROR(VLOOKUP(B147,[3]B!B$1:H$51,7,0),VLOOKUP(B147,[3]C!B$1:H$52,7,0)))","v":2},0,11,16,2,2,2,{"$f":"IFERROR(VLOOKUP(B147,[4]A!B$1:J$48,9,0),IFERROR(VLOOKUP(B147,[4]B!B$1:J$51,9,0),VLOOKUP(B147,[4]C!B$1:J$52,9,0)))","v":0},2,2,null,2,2,null,65,2,2,58,60,92.307692307692307,5,"C-11",10,10,25]
[147,"15BA158",{"$f":"VLOOKUP(B148,[1]C!B$1:C$52,2,0)","v":9},{"$f":"VLOOKUP(B148,[1]C!B$1:D$52,3,0)","v":9},{"$f":"VLOOKUP(B148,[1]C!B$1:F$52,5,0)","v":0},{"$f":"VLOOKUP(B148,[1]C!B$1:G$52,6,0)","v":0},{"$f":"VLOOKUP(B148,[1]C!B$1:H$52,7,0)","v":0},{"$f":"VLOOKUP(B148,[1]C!B$1:J$52,9,0)","v":0},18,18,0,3,3,0,{"$f":"IFERROR(VLOOKUP(B148,[3]A!B$1:C$48,2,0),IFERROR(VLOOKUP(B148,[3]B!B$1:C$51,2,0),VLOOKUP(B148,[3]C!B$1:C$52,2,0)))","v":11},{"$f":"IFERROR(VLOOKUP(B148,[3]A!B$1:D$48,3,0),IFERROR(VLOOKUP(B148,[3]B!B$1:D$51,3,0),VLOOKUP(B148,[3]C!B$1:D$52,3,0)))","v":11},{"$f":"IFERROR(VLOOKUP(B148,[3]A!B$1:F$48,5,0),IFERROR(VLOOKUP(B148,[3]B!B$1:F$51,5,0),VLOOKUP(B148,[3]C!B$1:F$52,5,0)))","v":0},{"$f":"IFERROR(VLOOKUP(B148,[3]A!B$1:G$48,6,0),IFERROR(VLOOKUP(B148,[3]B!B$1:G$51,6,0),VLOOKUP(B148,[3]C!B$1:G$52,6,0)))","v":0},{"$f":"IFERROR(VLOOKUP(B148,[3]A!B$1:H$48,7,0),IFERROR(VLOOKUP(B148,[3]B!B$1:H$51,7,0),VLOOKUP(B148,[3]C!B$1:H$52,7,0)))","v":0},0,15,16,{"$f":"IFERROR(VLOOKUP(B148,[4]A!B$1:F$48,5,0),IFERROR(VLOOKUP(B148,[4]B!B$1:F$51,5,0),VLOOKUP(B148,[4]C!B$1:F$52,5,0)))","v":0},2,3,{"$f":"IFERROR(VLOOKUP(B148,[4]A!B$1:J$48,9,0),IFERROR(VLOOKUP(B148,[4]B!B$1:J$51,9,0),VLOOKUP(B148,[4]C!B$1:J$52,9,0)))","v":0},2,2,null,1,1,null,63,0,0,61,61,96.825396825396822,5,"c-12",10,9,24]

{"sheet":"English","index":1,"n_rows":148,"n_cols":43,"rows_kept":148,"cut":false,"hidden":false,"merged":[]}
["Sr. No.","Roll No.","July  Th ClassesAttended","July  Th Classes Held","July Final Calculated Benefits ","July  Tut ClassesAttended","July  Tut Classes Held","July Tut Final Calculated Benefits ","Aug  Th ClassesAttended","Aug  Th Classes Held","Aug Final Calculated Benefits ","Aug  Tut ClassesAttended","Aug  Tut Classes Held","Aug Tut Final Calculated Benefits ","Sep  Th ClassesAttended","Sep  Th Classes Held","Sep Final Calculated Benefits ","Sep  Tut ClassesAttended","Sep  Tut Classes Held","Sep Tut Final Calculated Benefits ","Oct  Th ClassesAttended","Oct  Th Classes Held","Oct Final Calculated Benefits ","Oct  Tut ClassesAttended","Oct  Tut Classes Held","Oct Tut Final Calculated Benefits ","nOV  Th ClassesAttended","Nov  Th Classes Held","Nov Final Calculated Benefits ","Nov  Tut ClassesAttended","Nov  Tut Classes Held","Nov Tut Final Calculated Benefits ","Total Classes Held in Semester","Total Benefits initially given in the semester","Final Benefits given to the student","Total Classes Attended by the student","Total classes attended + attendance benefits","Attendance Percentage","Attendance Marks","Tut Group"," Assignment (tutorial test) marks out of 10","Assignment (class test) marks out of 10","Final Marks Out of 25"]
[1,"15BA001"]
[2,"15BA002"]
[3,"15BA003"]
[4,"15BA006"]
[5,"15BA007"]
[6,"15BA011"]
[7,"15BA015"]
[8,"15BA019"]
[9,"15BA023"]
[10,"15BA026"]
[11,"15BA033"]
[12,"15BA035"]
[13,"15BA038"]
[14,"15BA042"]
[15,"15BA043"]
[16,"15BA048"]
[17,"15BA053"]
[18,"15BA060"]
[19,"15BA062"]
[20,"15BA064"]
[21,"15BA065"]
[22,"15BA068"]
[23,"15BA071"]
[24,"15BA078"]
[25,"15BA080"]
[26,"15BA083"]
[27,"15BA084"]
[28,"15BA091"]
[29,"15BA095"]
[30,"15BA096"]
[31,"15BA100"]
[32,"15BA105"]
[33,"15BA106"]
[34,"15BA110"]
[35,"15BA112"]
[36,"15BA115"]
[37,"15BA116"]
[38,"15BA119"]
[39,"15BA123"]
[40,"15BA126"]
[41,"15BA128"]
[42,"15BA133"]
[43,"15BA138"]
[44,"15BA139"]
[45,"15BA143"]
[46,"15BA151"]
[47,"15BA153"]
[48,"15BA004"]
[49,"15BA008"]
[50,"15BA009"]
[51,"15BA012"]
[52,"15BA014"]
[53,"15BA016"]
[54,"15BA017"]
[55,"15BA021"]
[56,"15BA024"]
[57,"15BA030"]
[58,"15BA036"]
[59,"15BA039"]
[60,"15BA040"]
[61,"15BA050"]
[62,"15BA051"]
[63,"15BA054"]
[64,"15BA055"]
[65,"15BA057"]
[66,"15BA061"]
[67,"15BA066"]
[68,"15BA072"]
[69,"15BA074"]
[70,"15BA075"]
[71,"15BA081"]
[72,"15BA085"]
[73,"15BA086"]
[74,"15BA088"]
[75,"15BA089"]
[76,"15BA090"]
[77,"15BA092"]
[78,"15BA098"]
[79,"15BA101"]
[80,"15BA107"]
[81,"15BA108"]
[82,"15BA111"]
[83,"15BA113"]
[84,"15BA117"]
[85,"15BA120"]
[86,"15BA124"]
[87,"15BA127"]
[88,"15BA129"]
[89,"15BA130"]
[90,"15BA134"]
[91,"15BA135"]
[92,"15BA140"]
[93,"15BA141"]
[94,"15BA149"]
[95,"15BA150"]
[96,"15BA155"]
[97,"15BA005",{"$f":"VLOOKUP(B98,[1]C!B$1:K$48,10,0)","v":0},{"$f":"VLOOKUP(B98,[1]C!B$1:L$48,11,0)","v":0},{"$f":"VLOOKUP(B98,[1]C!B$1:N$48,13,0)","v":0},{"$f":"VLOOKUP(B98,[1]C!B$1:O$48,14,0)","v":0},{"$f":"VLOOKUP(B98,[1]C!B$1:P$48,15,0)","v":0},{"$f":"VLOOKUP(B98,[1]C!B$1:R$48,17,0)","v":0},{"$f":"IFERROR(VLOOKUP(B98,[2]A!B$1:K$52,10,0),IFERROR(VLOOKUP(B98,[2]B!B$1:K$51,10,0),VLOOKUP(B98,[2]C!B$1:K$52,10,0)))","v":9},{"$f":"IFERROR(VLOOKUP(B98,[2]A!B$1:L$48,11,0),IFERROR(VLOOKUP(B98,[2]B!B$1:L$51,11,0),VLOOKUP(B98,[2]C!B$1:L$52,11,0)))","v":9},{"$f":"IFERROR(VLOOKUP(B98,[2]A!B$1:N$48,13,0),IFERROR(VLOOKUP(B98,[2]B!B$1:N$51,13,0),VLOOKUP(B98,[2]C!B$1:N$52,13,0)))","v":0},{"$f":"IFERROR(VLOOKUP(B98,[2]A!B$1:O$48,14,0),IFERROR(VLOOKUP(B98,[2]B!B$1:O$51,14,0),VLOOKUP(B98,[2]C!B$1:O$52,14,0)))","v":0},{"$f":"IFERROR(VLOOKUP(B98,[2]A!B$1:P$48,15,0),IFERROR(VLOOKUP(B98,[2]B!B$1:P$48,15,0),VLOOKUP(B98,[2]C!B$1:P$52,15,0)))","v":0},{"$f":"IFERROR(VLOOKUP(B98,[2]A!B$1:R$48,17,0),IFERROR(VLOOKUP(B98,[2]B!B$1:R$51,17,0),VLOOKUP(B98,[2]C!B$1:R$52,17,0)))","v":0},{"$f":"VLOOKUP(B98,[3]C!B$1:I$52,8,0)","v":11},{"$f":"VLOOKUP(B98,[3]C!B$1:J$52,9,0)","v":11},0,0,0,0,10,10,{"$f":"IFERROR(VLOOKUP(B98,[4]A!B$1:N$48,13,0),IFERROR(VLOOKUP(B98,[4]B!B$1:N$51,13,0),VLOOKUP(B98,[4]C!B$1:N$52,13,0)))","v":0},{"$f":"IFERROR(VLOOKUP(B98,[4]A!B$1:O$48,14,0),IFERROR(VLOOKUP(B98,[4]B!B$1:O$51,14,0),VLOOKUP(B98,[4]C!B$1:O$52,14,0)))","v":0},{"$f":"IFERROR(VLOOKUP(B98,[4]A!B$1:P$48,15,0),IFERROR(VLOOKUP(B98,[4]B!B$1:P$51,15,0),VLOOKUP(B98,[4]C!B$1:P$52,15,0)))","v":0},{"$f":"IFERROR(VLOOKUP(B98,[4]A!B$1:R$48,17,0),IFERROR(VLOOKUP(B98,[4]B!B$1:R$51,17,0),VLOOKUP(B98,[4]C!B$1:R$52,17,0)))","v":0},3,3,null,null,null,null,{"$f":"SUM(D98,G98,J98,M98,P98,S98,V98,Y98,AB98,AE98)","v":33},{"$f":"SUM(E98,H98,K98,N98,Q98,T98,W98,Z98,AC98,AF98)","v":0},{"$f":"FLOOR(IF(AH98<(1/3*(AG98)),AH98,(1/3*(AG98))),1)","v":0},{"$f":"SUM(C98,F98,I98,L98,O98,R98,U98,X98,AA98,AD98)","v":33},{"$f":"IF(SUM(AJ98,AI98)>AG98,AG98,SUM(AJ98,AI98))","v":33},{"$f":"(AK98/AG98)*100","v":100},{"$f":"IF(AL98>=85,5,(IF(AND(AL98>=80,AL98<85),4,(IF(AND(AL98>=75,AL98<80),3,(IF(AND(AL98>=70,AL98<75),2,(IF(AND(AL98>67,AL98<70),1,0)))))))))","v":5},null,8,10,{"$f":"SUM(AM98,AO98,AP98)","v":23}]
[98,"15BA010",{"$f":"VLOOKUP(B99,[1]C!B$1:K$48,10,0)","v":0},{"$f":"VLOOKUP(B99,[1]C!B$1:L$48,11,0)","v":0},{"$f":"VLOOKUP(B99,[1]C!B$1:N$48,13,0)","v":0},{"$f":"VLOOKUP(B99,[1]C!B$1:O$48,14,0)","v":0},{"$f":"VLOOKUP(B99,[1]C!B$1:P$48,15,0)","v":0},{"$f":"VLOOKUP(B99,[1]C!B$1:R$48,17,0)","v":0},{"$f":"IFERROR(VLOOKUP(B99,[2]A!B$1:K$52,10,0),IFERROR(VLOOKUP(B99,[2]B!B$1:K$51,10,0),VLOOKUP(B99,[2]C!B$1:K$52,10,0)))","v":9},{"$f":"IFERROR(VLOOKUP(B99,[2]A!B$1:L$48,11,0),IFERROR(VLOOKUP(B99,[2]B!B$1:L$51,11,0),VLOOKUP(B99,[2]C!B$1:L$52,11,0)))","v":9},{"$f":"IFERROR(VLOOKUP(B99,[2]A!B$1:N$48,13,0),IFERROR(VLOOKUP(B99,[2]B!B$1:N$51,13,0),VLOOKUP(B99,[2]C!B$1:N$52,13,0)))","v":0},{"$f":"IFERROR(VLOOKUP(B99,[2]A!B$1:O$48,14,0),IFERROR(VLOOKUP(B99,[2]B!B$1:O$51,14,0),VLOOKUP(B99,[2]C!B$1:O$52,14,0)))","v":0},{"$f":"IFERROR(VLOOKUP(B99,[2]A!B$1:P$48,15,0),IFERROR(VLOOKUP(B99,[2]B!B$1:P$48,15,0),VLOOKUP(B99,[2]C!B$1:P$52,15,0)))","v":0},{"$f":"IFERROR(VLOOKUP(B99,[2]A!B$1:R$48,17,0),IFERROR(VLOOKUP(B99,[2]B!B$1:R$51,17,0),VLOOKUP(B99,[2]C!B$1:R$52,17,0)))","v":0},{"$f":"VLOOKUP(B99,[3]C!B$1:I$52,8,0)","v":11},{"$f":"VLOOKUP(B99,[3]C!B$1:J$52,9,0)","v":11},0,0,0,0,10,10,{"$f":"IFERROR(VLOOKUP(B99,[4]A!B$1:N$48,13,0),IFERROR(VLOOKUP(B99,[4]B!B$1:N$51,13,0),VLOOKUP(B99,[4]C!B$1:N$52,13,0)))","v":0},{"$f":"IFERROR(VLOOKUP(B99,[4]A!B$1:O$48,14,0),IFERROR(VLOOKUP(B99,[4]B!B$1:O$51,14,0),VLOOKUP(B99,[4]C!B$1:O$52,14,0)))","v":0},{"$f":"IFERROR(VLOOKUP(B99,[4]A!B$1:P$48,15,0),IFERROR(VLOOKUP(B99,[4]B!B$1:P$51,15,0),VLOOKUP(B99,[4]C!B$1:P$52,15,0)))","v":0},{"$f":"IFERROR(VLOOKUP(B99,[4]A!B$1:R$48,17,0),IFERROR(VLOOKUP(B99,[4]B!B$1:R$51,17,0),VLOOKUP(B99,[4]C!B$1:R$52,17,0)))","v":0},3,3,null,null,null,null,33,0,0,33,33,100,5,null,9,10,24]
[99,"15BA013",{"$f":"VLOOKUP(B100,[1]C!B$1:K$48,10,0)","v":0},{"$f":"VLOOKUP(B100,[1]C!B$1:L$48,11,0)","v":0},{"$f":"VLOOKUP(B100,[1]C!B$1:N$48,13,0)","v":0},{"$f":"VLOOKUP(B100,[1]C!B$1:O$48,14,0)","v":0},{"$f":"VLOOKUP(B100,[1]C!B$1:P$48,15,0)","v":0},{"$f":"VLOOKUP(B100,[1]C!B$1:R$48,17,0)","v":0},{"$f":"IFERROR(VLOOKUP(B100,[2]A!B$1:K$52,10,0),IFERROR(VLOOKUP(B100,[2]B!B$1:K$51,10,0),VLOOKUP(B100,[2]C!B$1:K$52,10,0)))","v":9},{"$f":"IFERROR(VLOOKUP(B100,[2]A!B$1:L$48,11,0),IFERROR(VLOOKUP(B100,[2]B!B$1:L$51,11,0),VLOOKUP(B100,[2]C!B$1:L$52,11,0)))","v":9},{"$f":"IFERROR(VLOOKUP(B100,[2]A!B$1:N$48,13,0),IFERROR(VLOOKUP(B100,[2]B!B$1:N$51,13,0),VLOOKUP(B100,[2]C!B$1:N$52,13,0)))","v":0},{"$f":"IFERROR(VLOOKUP(B100,[2]A!B$1:O$48,14,0),IFERROR(VLOOKUP(B100,[2]B!B$1:O$51,14,0),VLOOKUP(B100,[2]C!B$1:O$52,14,0)))","v":0},{"$f":"IFERROR(VLOOKUP(B100,[2]A!B$1:P$48,15,0),IFERROR(VLOOKUP(B100,[2]B!B$1:P$48,15,0),VLOOKUP(B100,[2]C!B$1:P$52,15,0)))","v":0},{"$f":"IFERROR(VLOOKUP(B100,[2]A!B$1:R$48,17,0),IFERROR(VLOOKUP(B100,[2]B!B$1:R$51,17,0),VLOOKUP(B100,[2]C!B$1:R$52,17,0)))","v":0},{"$f":"VLOOKUP(B100,[3]C!B$1:I$52,8,0)","v":11},{"$f":"VLOOKUP(B100,[3]C!B$1:J$52,9,0)","v":11},0,0,0,0,10,10,{"$f":"IFERROR(VLOOKUP(B100,[4]A!B$1:N$48,13,0),IFERROR(VLOOKUP(B100,[4]B!B$1:N$51,13,0),VLOOKUP(B100,[4]C!B$1:N$52,13,0)))","v":0},{"$f":"IFERROR(VLOOKUP(B100,[4]A!B$1:O$48,14,0),IFERROR(VLOOKUP(B100,[4]B!B$1:O$51,14,0),VLOOKUP(B100,[4]C!B$1:O$52,14,0)))","v":0},{"$f":"IFERROR(VLOOKUP(B100,[4]A!B$1:P$48,15,0),IFERROR(VLOOKUP(B100,[4]B!B$1:P$51,15,0),VLOOKUP(B100,[4]C!B$1:P$52,15,0)))","v":0},{"$f":"IFERROR(VLOOKUP(B100,[4]A!B$1:R$48,17,0),IFERROR(VLOOKUP(B100,[4]B!B$1:R$51,17,0),VLOOKUP(B100,[4]C!B$1:R$52,17,0)))","v":0},3,3,null,null,null,null,33,0,0,33,33,100,5,null,7,0,12]
[100,"15BA018",{"$f":"VLOOKUP(B101,[1]C!B$1:K$48,10,0)","v":0},{"$f":"VLOOKUP(B101,[1]C!B$1:L$48,11,0)","v":0},{"$f":"VLOOKUP(B101,[1]C!B$1:N$48,13,0)","v":0},{"$f":"VLOOKUP(B101,[1]C!B$1:O$48,14,0)","v":0},{"$f":"VLOOKUP(B101,[1]C!B$1:P$48,15,0)","v":0},{"$f":"VLOOKUP(B101,[1]C!B$1:R$48,17,0)","v":0},{"$f":"IFERROR(VLOOKUP(B101,[2]A!B$1:K$52,10,0),IFERROR(VLOOKUP(B101,[2]B!B$1:K$51,10,0),VLOOKUP(B101,[2]C!B$1:K$52,10,0)))","v":9},{"$f":"IFERROR(VLOOKUP(B101,[2]A!B$1:L$48,11,0),IFERROR(VLOOKUP(B101,[2]B!B$1:L$51,11,0),VLOOKUP(B101,[2]C!B$1:L$52,11,0)))","v":9},{"$f":"IFERROR(VLOOKUP(B101,[2]A!B$1:N$48,13,0),IFERROR(VLOOKUP(B101,[2]B!B$1:N$51,13,0),VLOOKUP(B101,[2]C!B$1:N$52,13,0)))","v":0},{"$f":"IFERROR(VLOOKUP(B101,[2]A!B$1:O$48,14,0),IFERROR(VLOOKUP(B101,[2]B!B$1:O$51,14,0),VLOOKUP(B101,[2]C!B$1:O$52,14,0)))","v":0},{"$f":"IFERROR(VLOOKUP(B101,[2]A!B$1:P$48,15,0),IFERROR(VLOOKUP(B101,[2]B!B$1:P$48,15,0),VLOOKUP(B101,[2]C!B$1:P$52,15,0)))","v":0},{"$f":"IFERROR(VLOOKUP(B101,[2]A!B$1:R$48,17,0),IFERROR(VLOOKUP(B101,[2]B!B$1:R$51,17,0),VLOOKUP(B101,[2]C!B$1:R$52,17,0)))","v":0},{"$f":"VLOOKUP(B101,[3]C!B$1:I$52,8,0)","v":11},{"$f":"VLOOKUP(B101,[3]C!B$1:J$52,9,0)","v":11},0,0,0,0,10,10,{"$f":"IFERROR(VLOOKUP(B101,[4]A!B$1:N$48,13,0),IFERROR(VLOOKUP(B101,[4]B!B$1:N$51,13,0),VLOOKUP(B101,[4]C!B$1:N$52,13,0)))","v":0},{"$f":"IFERROR(VLOOKUP(B101,[4]A!B$1:O$48,14,0),IFERROR(VLOOKUP(B101,[4]B!B$1:O$51,14,0),VLOOKUP(B101,[4]C!B$1:O$52,14,0)))","v":0},{"$f":"IFERROR(VLOOKUP(B101,[4]A!B$1:P$48,15,0),IFERROR(VLOOKUP(B101,[4]B!B$1:P$51,15,0),VLOOKUP(B101,[4]C!B$1:P$52,15,0)))","v":0},{"$f":"IFERROR(VLOOKUP(B101,[4]A!B$1:R$48,17,0),IFERROR(VLOOKUP(B101,[4]B!B$1:R$51,17,0),VLOOKUP(B101,[4]C!B$1:R$52,17,0)))","v":0},3,3,null,null,null,null,33,0,0,33,33,100,5,null,9,10,24]
[101,"15BA020",{"$f":"VLOOKUP(B102,[1]C!B$1:K$48,10,0)","v":0},{"$f":"VLOOKUP(B102,[1]C!B$1:L$48,11,0)","v":0},{"$f":"VLOOKUP(B102,[1]C!B$1:N$48,13,0)","v":0},{"$f":"VLOOKUP(B102,[1]C!B$1:O$48,14,0)","v":0},{"$f":"VLOOKUP(B102,[1]C!B$1:P$48,15,0)","v":0},{"$f":"VLOOKUP(B102,[1]C!B$1:R$48,17,0)","v":0},{"$f":"IFERROR(VLOOKUP(B102,[2]A!B$1:K$52,10,0),IFERROR(VLOOKUP(B102,[2]B!B$1:K$51,10,0),VLOOKUP(B102,[2]C!B$1:K$52,10,0)))","v":9},{"$f":"IFERROR(VLOOKUP(B102,[2]A!B$1:L$48,11,0),IFERROR(VLOOKUP(B102,[2]B!B$1:L$51,11,0),VLOOKUP(B102,[2]C!B$1:L$52,11,0)))","v":9},{"$f":"IFERROR(VLOOKUP(B102,[2]A!B$1:N$48,13,0),IFERROR(VLOOKUP(B102,[2]B!B$1:N$51,13,0),VLOOKUP(B102,[2]C!B$1:N$52,13,0)))","v":0},{"$f":"IFERROR(VLOOKUP(B102,[2]A!B$1:O$48,14,0),IFERROR(VLOOKUP(B102,[2]B!B$1:O$51,14,0),VLOOKUP(B102,[2]C!B$1:O$52,14,0)))","v":0},{"$f":"IFERROR(VLOOKUP(B102,[2]A!B$1:P$48,15,0),IFERROR(VLOOKUP(B102,[2]B!B$1:P$48,15,0),VLOOKUP(B102,[2]C!B$1:P$52,15,0)))","v":0},{"$f":"IFERROR(VLOOKUP(B102,[2]A!B$1:R$48,17,0),IFERROR(VLOOKUP(B102,[2]B!B$1:R$51,17,0),VLOOKUP(B102,[2]C!B$1:R$52,17,0)))","v":0},{"$f":"VLOOKUP(B102,[3]C!B$1:I$52,8,0)","v":11},{"$f":"VLOOKUP(B102,[3]C!B$1:J$52,9,0)","v":11},0,0,0,0,10,10,{"$f":"IFERROR(VLOOKUP(B102,[4]A!B$1:N$48,13,0),IFERROR(VLOOKUP(B102,[4]B!B$1:N$51,13,0),VLOOKUP(B102,[4]C!B$1:N$52,13,0)))","v":0},{"$f":"IFERROR(VLOOKUP(B102,[4]A!B$1:O$48,14,0),IFERROR(VLOOKUP(B102,[4]B!B$1:O$51,14,0),VLOOKUP(B102,[4]C!B$1:O$52,14,0)))","v":0},{"$f":"IFERROR(VLOOKUP(B102,[4]A!B$1:P$48,15,0),IFERROR(VLOOKUP(B102,[4]B!B$1:P$51,15,0),VLOOKUP(B102,[4]C!B$1:P$52,15,0)))","v":0},{"$f":"IFERROR(VLOOKUP(B102,[4]A!B$1:R$48,17,0),IFERROR(VLOOKUP(B102,[4]B!B$1:R$51,17,0),VLOOKUP(B102,[4]C!B$1:R$52,17,0)))","v":0},3,3,null,null,null,null,33,0,0,33,33,100,5,null,7,7,19]
[102,"15BA025",{"$f":"VLOOKUP(B103,[1]C!B$1:K$48,10,0)","v":0},{"$f":"VLOOKUP(B103,[1]C!B$1:L$48,11,0)","v":0},{"$f":"VLOOKUP(B103,[1]C!B$1:N$48,13,0)","v":0},{"$f":"VLOOKUP(B103,[1]C!B$1:O$48,14,0)","v":0},{"$f":"VLOOKUP(B103,[1]C!B$1:P$48,15,0)","v":0},{"$f":"VLOOKUP(B103,[1]C!B$1:R$48,17,0)","v":0},{"$f":"IFERROR(VLOOKUP(B103,[2]A!B$1:K$52,10,0),IFERROR(VLOOKUP(B103,[2]B!B$1:K$51,10,0),VLOOKUP(B103,[2]C!B$1:K$52,10,0)))","v":9},{"$f":"IFERROR(VLOOKUP(B103,[2]A!B$1:L$48,11,0),IFERROR(VLOOKUP(B103,[2]B!B$1:L$51,11,0),VLOOKUP(B103,[2]C!B$1:L$52,11,0)))","v":9},{"$f":"IFERROR(VLOOKUP(B103,[2]A!B$1:N$48,13,0),IFERROR(VLOOKUP(B103,[2]B!B$1:N$51,13,0),VLOOKUP(B103,[2]C!B$1:N$52,13,0)))","v":0},{"$f":"IFERROR(VLOOKUP(B103,[2]A!B$1:O$48,14,0),IFERROR(VLOOKUP(B103,[2]B!B$1:O$51,14,0),VLOOKUP(B103,[2]C!B$1:O$52,14,0)))","v":0},{"$f":"IFERROR(VLOOKUP(B103,[2]A!B$1:P$48,15,0),IFERROR(VLOOKUP(B103,[2]B!B$1:P$48,15,0),VLOOKUP(B103,[2]C!B$1:P$52,15,0)))","v":0},{"$f":"IFERROR(VLOOKUP(B103,[2]A!B$1:R$48,17,0),IFERROR(VLOOKUP(B103,[2]B!B$1:R$51,17,0),VLOOKUP(B103,[2]C!B$1:R$52,17,0)))","v":0},{"$f":"VLOOKUP(B103,[3]C!B$1:I$52,8,0)","v":11},{"$f":"VLOOKUP(B103,[3]C!B$1:J$52,9,0)","v":11},0,0,0,0,10,10,{"$f":"IFERROR(VLOOKUP(B103,[4]A!B$1:N$48,13,0),IFERROR(VLOOKUP(B103,[4]B!B$1:N$51,13,0),VLOOKUP(B103,[4]C!B$1:N$52,13,0)))","v":0},{"$f":"IFERROR(VLOOKUP(B103,[4]A!B$1:O$48,14,0),IFERROR(VLOOKUP(B103,[4]B!B$1:O$51,14,0),VLOOKUP(B103,[4]C!B$1:O$52,14,0)))","v":0},{"$f":"IFERROR(VLOOKUP(B103,[4]A!B$1:P$48,15,0),IFERROR(VLOOKUP(B103,[4]B!B$1:P$51,15,0),VLOOKUP(B103,[4]C!B$1:P$52,15,0)))","v":0},{"$f":"IFERROR(VLOOKUP(B103,[4]A!B$1:R$48,17,0),IFERROR(VLOOKUP(B103,[4]B!B$1:R$51,17,0),VLOOKUP(B103,[4]C!B$1:R$52,17,0)))","v":0},3,3,null,null,null,null,33,0,0,33,33,100,5,null,0,10,15]
[103,"15BA028",{"$f":"VLOOKUP(B104,[1]C!B$1:K$48,10,0)","v":0},{"$f":"VLOOKUP(B104,[1]C!B$1:L$48,11,0)","v":0},{"$f":"VLOOKUP(B104,[1]C!B$1:N$48,13,0)","v":0},{"$f":"VLOOKUP(B104,[1]C!B$1:O$48,14,0)","v":0},{"$f":"VLOOKUP(B104,[1]C!B$1:P$48,15,0)","v":0},{"$f":"VLOOKUP(B104,[1]C!B$1:R$48,17,0)","v":0},{"$f":"IFERROR(VLOOKUP(B104,[2]A!B$1:K$52,10,0),IFERROR(VLOOKUP(B104,[2]B!B$1:K$51,10,0),VLOOKUP(B104,[2]C!B$1:K$52,10,0)))","v":9},{"$f":"IFERROR(VLOOKUP(B104,[2]A!B$1:L$48,11,0),IFERROR(VLOOKUP(B104,[2]B!B$1:L$51,11,0),VLOOKUP(B104,[2]C!B$1:L$52,11,0)))","v":9},{"$f":"IFERROR(VLOOKUP(B104,[2]A!B$1:N$48,13,0),IFERROR(VLOOKUP(B104,[2]B!B$1:N$51,13,0),VLOOKUP(B104,[2]C!B$1:N$52,13,0)))","v":0},{"$f":"IFERROR(VLOOKUP(B104,[2]A!B$1:O$48,14,0),IFERROR(VLOOKUP(B104,[2]B!B$1:O$51,14,0),VLOOKUP(B104,[2]C!B$1:O$52,14,0)))","v":0},{"$f":"IFERROR(VLOOKUP(B104,[2]A!B$1:P$48,15,0),IFERROR(VLOOKUP(B104,[2]B!B$1:P$48,15,0),VLOOKUP(B104,[2]C!B$1:P$52,15,0)))","v":0},{"$f":"IFERROR(VLOOKUP(B104,[2]A!B$1:R$48,17,0),IFERROR(VLOOKUP(B104,[2]B!B$1:R$51,17,0),VLOOKUP(B104,[2]C!B$1:R$52,17,0)))","v":0},{"$f":"VLOOKUP(B104,[3]C!B$1:I$52,8,0)","v":11},{"$f":"VLOOKUP(B104,[3]C!B$1:J$52,9,0)","v":11},0,0,0,0,10,10,{"$f":"IFERROR(VLOOKUP(B104,[4]A!B$1:N$48,13,0),IFERROR(VLOOKUP(B104,[4]B!B$1:N$51,13,0),VLOOKUP(B104,[4]C!B$1:N$52,13,0)))","v":0},{"$f":"IFERROR(VLOOKUP(B104,[4]A!B$1:O$48,14,0),IFERROR(VLOOKUP(B104,[4]B!B$1:O$51,14,0),VLOOKUP(B104,[4]C!B$1:O$52,14,0)))","v":0},{"$f":"IFERROR(VLOOKUP(B104,[4]A!B$1:P$48,15,0),IFERROR(VLOOKUP(B104,[4]B!B$1:P$51,15,0),VLOOKUP(B104,[4]C!B$1:P$52,15,0)))","v":0},{"$f":"IFERROR(VLOOKUP(B104,[4]A!B$1:R$48,17,0),IFERROR(VLOOKUP(B104,[4]B!B$1:R$51,17,0),VLOOKUP(B104,[4]C!B$1:R$52,17,0)))","v":0},3,3,null,null,null,null,33,0,0,33,33,100,5,null,8,7,20]
[104,"15BA031",{"$f":"VLOOKUP(B105,[1]C!B$1:K$48,10,0)","v":0},{"$f":"VLOOKUP(B105,[1]C!B$1:L$48,11,0)","v":0},{"$f":"VLOOKUP(B105,[1]C!B$1:N$48,13,0)","v":0},{"$f":"VLOOKUP(B105,[1]C!B$1:O$48,14,0)","v":0},{"$f":"VLOOKUP(B105,[1]C!B$1:P$48,15,0)","v":0},{"$f":"VLOOKUP(B105,[1]C!B$1:R$48,17,0)","v":0},{"$f":"IFERROR(VLOOKUP(B105,[2]A!B$1:K$52,10,0),IFERROR(VLOOKUP(B105,[2]B!B$1:K$51,10,0),VLOOKUP(B105,[2]C!B$1:K$52,10,0)))","v":9},{"$f":"IFERROR(VLOOKUP(B105,[2]A!B$1:L$48,11,0),IFERROR(VLOOKUP(B105,[2]B!B$1:L$51,11,0),VLOOKUP(B105,[2]C!B$1:L$52,11,0)))","v":9},{"$f":"IFERROR(VLOOKUP(B105,[2]A!B$1:N$48,13,0),IFERROR(VLOOKUP(B105,[2]B!B$1:N$51,13,0),VLOOKUP(B105,[2]C!B$1:N$52,13,0)))","v":0},{"$f":"IFERROR(VLOOKUP(B105,[2]A!B$1:O$48,14,0),IFERROR(VLOOKUP(B105,[2]B!B$1:O$51,14,0),VLOOKUP(B105,[2]C!B$1:O$52,14,0)))","v":0},{"$f":"IFERROR(VLOOKUP(B105,[2]A!B$1:P$48,15,0),IFERROR(VLOOKUP(B105,[2]B!B$1:P$48,15,0),VLOOKUP(B105,[2]C!B$1:P$52,15,0)))","v":0},{"$f":"IFERROR(VLOOKUP(B105,[2]A!B$1:R$48,17,0),IFERROR(VLOOKUP(B105,[2]B!B$1:R$51,17,0),VLOOKUP(B105,[2]C!B$1:R$52,17,0)))","v":0},{"$f":"VLOOKUP(B105,[3]C!B$1:I$52,8,0)","v":11},{"$f":"VLOOKUP(B105,[3]C!B$1:J$52,9,0)","v":11},0,0,0,0,10,10,{"$f":"IFERROR(VLOOKUP(B105,[4]A!B$1:N$48,13,0),IFERROR(VLOOKUP(B105,[4]B!B$1:N$51,13,0),VLOOKUP(B105,[4]C!B$1:N$52,13,0)))","v":0},{"$f":"IFERROR(VLOOKUP(B105,[4]A!B$1:O$48,14,0),IFERROR(VLOOKUP(B105,[4]B!B$1:O$51,14,0),VLOOKUP(B105,[4]C!B$1:O$52,14,0)))","v":0},{"$f":"IFERROR(VLOOKUP(B105,[4]A!B$1:P$48,15,0),IFERROR(VLOOKUP(B105,[4]B!B$1:P$51,15,0),VLOOKUP(B105,[4]C!B$1:P$52,15,0)))","v":0},{"$f":"IFERROR(VLOOKUP(B105,[4]A!B$1:R$48,17,0),IFERROR(VLOOKUP(B105,[4]B!B$1:R$51,17,0),VLOOKUP(B105,[4]C!B$1:R$52,17,0)))","v":0},3,3,null,null,null,null,33,0,0,33,33,100,5,null,8,9,22]
[105,"15BA032",{"$f":"VLOOKUP(B106,[1]C!B$1:K$48,10,0)","v":0},{"$f":"VLOOKUP(B106,[1]C!B$1:L$48,11,0)","v":0},{"$f":"VLOOKUP(B106,[1]C!B$1:N$48,13,0)","v":0},{"$f":"VLOOKUP(B106,[1]C!B$1:O$48,14,0)","v":0},{"$f":"VLOOKUP(B106,[1]C!B$1:P$48,15,0)","v":0},{"$f":"VLOOKUP(B106,[1]C!B$1:R$48,17,0)","v":0},{"$f":"IFERROR(VLOOKUP(B106,[2]A!B$1:K$52,10,0),IFERROR(VLOOKUP(B106,[2]B!B$1:K$51,10,0),VLOOKUP(B106,[2]C!B$1:K$52,10,0)))","v":9},{"$f":"IFERROR(VLOOKUP(B106,[2]A!B$1:L$48,11,0),IFERROR(VLOOKUP(B106,[2]B!B$1:L$51,11,0),VLOOKUP(B106,[2]C!B$1:L$52,11,0)))","v":9},{"$f":"IFERROR(VLOOKUP(B106,[2]A!B$1:N$48,13,0),IFERROR(VLOOKUP(B106,[2]B!B$1:N$51,13,0),VLOOKUP(B106,[2]C!B$1:N$52,13,0)))","v":0},{"$f":"IFERROR(VLOOKUP(B106,[2]A!B$1:O$48,14,0),IFERROR(VLOOKUP(B106,[2]B!B$1:O$51,14,0),VLOOKUP(B106,[2]C!B$1:O$52,14,0)))","v":0},{"$f":"IFERROR(VLOOKUP(B106,[2]A!B$1:P$48,15,0),IFERROR(VLOOKUP(B106,[2]B!B$1:P$48,15,0),VLOOKUP(B106,[2]C!B$1:P$52,15,0)))","v":0},{"$f":"IFERROR(VLOOKUP(B106,[2]A!B$1:R$48,17,0),IFERROR(VLOOKUP(B106,[2]B!B$1:R$51,17,0),VLOOKUP(B106,[2]C!B$1:R$52,17,0)))","v":0},{"$f":"VLOOKUP(B106,[3]C!B$1:I$52,8,0)","v":11},{"$f":"VLOOKUP(B106,[3]C!B$1:J$52,9,0)","v":11},0,0,0,0,10,10,{"$f":"IFERROR(VLOOKUP(B106,[4]A!B$1:N$48,13,0),IFERROR(VLOOKUP(B106,[4]B!B$1:N$51,13,0),VLOOKUP(B106,[4]C!B$1:N$52,13,0)))","v":0},{"$f":"IFERROR(VLOOKUP(B106,[4]A!B$1:O$48,14,0),IFERROR(VLOOKUP(B106,[4]B!B$1:O$51,14,0),VLOOKUP(B106,[4]C!B$1:O$52,14,0)))","v":0},{"$f":"IFERROR(VLOOKUP(B106,[4]A!B$1:P$48,15,0),IFERROR(VLOOKUP(B106,[4]B!B$1:P$51,15,0),VLOOKUP(B106,[4]C!B$1:P$52,15,0)))","v":0},{"$f":"IFERROR(VLOOKUP(B106,[4]A!B$1:R$48,17,0),IFERROR(VLOOKUP(B106,[4]B!B$1:R$51,17,0),VLOOKUP(B106,[4]C!B$1:R$52,17,0)))","v":0},3,3,null,null,null,null,33,0,0,33,33,100,5,null,8,10,23]
[106,"15BA034",{"$f":"VLOOKUP(B107,[1]C!B$1:K$48,10,0)","v":0},{"$f":"VLOOKUP(B107,[1]C!B$1:L$48,11,0)","v":0},{"$f":"VLOOKUP(B107,[1]C!B$1:N$48,13,0)","v":0},{"$f":"VLOOKUP(B107,[1]C!B$1:O$48,14,0)","v":0},{"$f":"VLOOKUP(B107,[1]C!B$1:P$48,15,0)","v":0},{"$f":"VLOOKUP(B107,[1]C!B$1:R$48,17,0)","v":0},{"$f":"IFERROR(VLOOKUP(B107,[2]A!B$1:K$52,10,0),IFERROR(VLOOKUP(B107,[2]B!B$1:K$51,10,0),VLOOKUP(B107,[2]C!B$1:K$52,10,0)))","v":9},{"$f":"IFERROR(VLOOKUP(B107,[2]A!B$1:L$48,11,0),IFERROR(VLOOKUP(B107,[2]B!B$1:L$51,11,0),VLOOKUP(B107,[2]C!B$1:L$52,11,0)))","v":9},{"$f":"IFERROR(VLOOKUP(B107,[2]A!B$1:N$48,13,0),IFERROR(VLOOKUP(B107,[2]B!B$1:N$51,13,0),VLOOKUP(B107,[2]C!B$1:N$52,13,0)))","v":0},{"$f":"IFERROR(VLOOKUP(B107,[2]A!B$1:O$48,14,0),IFERROR(VLOOKUP(B107,[2]B!B$1:O$51,14,0),VLOOKUP(B107,[2]C!B$1:O$52,14,0)))","v":0},{"$f":"IFERROR(VLOOKUP(B107,[2]A!B$1:P$48,15,0),IFERROR(VLOOKUP(B107,[2]B!B$1:P$48,15,0),VLOOKUP(B107,[2]C!B$1:P$52,15,0)))","v":0},{"$f":"IFERROR(VLOOKUP(B107,[2]A!B$1:R$48,17,0),IFERROR(VLOOKUP(B107,[2]B!B$1:R$51,17,0),VLOOKUP(B107,[2]C!B$1:R$52,17,0)))","v":0},{"$f":"VLOOKUP(B107,[3]C!B$1:I$52,8,0)","v":11},{"$f":"VLOOKUP(B107,[3]C!B$1:J$52,9,0)","v":11},0,0,0,0,10,10,{"$f":"IFERROR(VLOOKUP(B107,[4]A!B$1:N$48,13,0),IFERROR(VLOOKUP(B107,[4]B!B$1:N$51,13,0),VLOOKUP(B107,[4]C!B$1:N$52,13,0)))","v":0},{"$f":"IFERROR(VLOOKUP(B107,[4]A!B$1:O$48,14,0),IFERROR(VLOOKUP(B107,[4]B!B$1:O$51,14,0),VLOOKUP(B107,[4]C!B$1:O$52,14,0)))","v":0},{"$f":"IFERROR(VLOOKUP(B107,[4]A!B$1:P$48,15,0),IFERROR(VLOOKUP(B107,[4]B!B$1:P$51,15,0),VLOOKUP(B107,[4]C!B$1:P$52,15,0)))","v":0},{"$f":"IFERROR(VLOOKUP(B107,[4]A!B$1:R$48,17,0),IFERROR(VLOOKUP(B107,[4]B!B$1:R$51,17,0),VLOOKUP(B107,[4]C!B$1:R$52,17,0)))","v":0},3,3,null,null,null,null,33,0,0,33,33,100,5,null,8,10,23]
[107,"15BA037",{"$f":"VLOOKUP(B108,[1]C!B$1:K$48,10,0)","v":0},{"$f":"VLOOKUP(B108,[1]C!B$1:L$48,11,0)","v":0},{"$f":"VLOOKUP(B108,[1]C!B$1:N$48,13,0)","v":0},{"$f":"VLOOKUP(B108,[1]C!B$1:O$48,14,0)","v":0},{"$f":"VLOOKUP(B108,[1]C!B$1:P$48,15,0)","v":0},{"$f":"VLOOKUP(B108,[1]C!B$1:R$48,17,0)","v":0},{"$f":"IFERROR(VLOOKUP(B108,[2]A!B$1:K$52,10,0),IFERROR(VLOOKUP(B108,[2]B!B$1:K$51,10,0),VLOOKUP(B108,[2]C!B$1:K$52,10,0)))","v":9},{"$f":"IFERROR(VLOOKUP(B108,[2]A!B$1:L$48,11,0),IFERROR(VLOOKUP(B108,[2]B!B$1:L$51,11,0),VLOOKUP(B108,[2]C!B$1:L$52,11,0)))","v":9},{"$f":"IFERROR(VLOOKUP(B108,[2]A!B$1:N$48,13,0),IFERROR(VLOOKUP(B108,[2]B!B$1:N$51,13,0),VLOOKUP(B108,[2]C!B$1:N$52,13,0)))","v":0},{"$f":"IFERROR(VLOOKUP(B108,[2]A!B$1:O$48,14,0),IFERROR(VLOOKUP(B108,[2]B!B$1:O$51,14,0),VLOOKUP(B108,[2]C!B$1:O$52,14,0)))","v":0},{"$f":"IFERROR(VLOOKUP(B108,[2]A!B$1:P$48,15,0),IFERROR(VLOOKUP(B108,[2]B!B$1:P$48,15,0),VLOOKUP(B108,[2]C!B$1:P$52,15,0)))","v":0},{"$f":"IFERROR(VLOOKUP(B108,[2]A!B$1:R$48,17,0),IFERROR(VLOOKUP(B108,[2]B!B$1:R$51,17,0),VLOOKUP(B108,[2]C!B$1:R$52,17,0)))","v":0},{"$f":"VLOOKUP(B108,[3]C!B$1:I$52,8,0)","v":11},{"$f":"VLOOKUP(B108,[3]C!B$1:J$52,9,0)","v":11},0,0,0,0,10,10,{"$f":"IFERROR(VLOOKUP(B108,[4]A!B$1:N$48,13,0),IFERROR(VLOOKUP(B108,[4]B!B$1:N$51,13,0),VLOOKUP(B108,[4]C!B$1:N$52,13,0)))","v":0},{"$f":"IFERROR(VLOOKUP(B108,[4]A!B$1:O$48,14,0),IFERROR(VLOOKUP(B108,[4]B!B$1:O$51,14,0),VLOOKUP(B108,[4]C!B$1:O$52,14,0)))","v":0},{"$f":"IFERROR(VLOOKUP(B108,[4]A!B$1:P$48,15,0),IFERROR(VLOOKUP(B108,[4]B!B$1:P$51,15,0),VLOOKUP(B108,[4]C!B$1:P$52,15,0)))","v":0},{"$f":"IFERROR(VLOOKUP(B108,[4]A!B$1:R$48,17,0),IFERROR(VLOOKUP(B108,[4]B!B$1:R$51,17,0),VLOOKUP(B108,[4]C!B$1:R$52,17,0)))","v":0},3,3,null,null,null,null,33,0,0,33,33,100,5,null,5,10,20]
[108,"15BA045",{"$f":"VLOOKUP(B109,[1]C!B$1:K$48,10,0)","v":0},{"$f":"VLOOKUP(B109,[1]C!B$1:L$48,11,0)","v":0},{"$f":"VLOOKUP(B109,[1]C!B$1:N$48,13,0)","v":0},{"$f":"VLOOKUP(B109,[1]C!B$1:O$48,14,0)","v":0},{"$f":"VLOOKUP(B109,[1]C!B$1:P$48,15,0)","v":0},{"$f":"VLOOKUP(B109,[1]C!B$1:R$48,17,0)","v":0},{"$f":"IFERROR(VLOOKUP(B109,[2]A!B$1:K$52,10,0),IFERROR(VLOOKUP(B109,[2]B!B$1:K$51,10,0),VLOOKUP(B109,[2]C!B$1:K$52,10,0)))","v":9},{"$f":"IFERROR(VLOOKUP(B109,[2]A!B$1:L$48,11,0),IFERROR(VLOOKUP(B109,[2]B!B$1:L$51,11,0),VLOOKUP(B109,[2]C!B$1:L$52,11,0)))","v":9},{"$f":"IFERROR(VLOOKUP(B109,[2]A!B$1:N$48,13,0),IFERROR(VLOOKUP(B109,[2]B!B$1:N$51,13,0),VLOOKUP(B109,[2]C!B$1:N$52,13,0)))","v":0},{"$f":"IFERROR(VLOOKUP(B109,[2]A!B$1:O$48,14,0),IFERROR(VLOOKUP(B109,[2]B!B$1:O$51,14,0),VLOOKUP(B109,[2]C!B$1:O$52,14,0)))","v":0},{"$f":"IFERROR(VLOOKUP(B109,[2]A!B$1:P$48,15,0),IFERROR(VLOOKUP(B109,[2]B!B$1:P$48,15,0),VLOOKUP(B109,[2]C!B$1:P$52,15,0)))","v":0},{"$f":"IFERROR(VLOOKUP(B109,[2]A!B$1:R$48,17,0),IFERROR(VLOOKUP(B109,[2]B!B$1:R$51,17,0),VLOOKUP(B109,[2]C!B$1:R$52,17,0)))","v":0},{"$f":"VLOOKUP(B109,[3]C!B$1:I$52,8,0)","v":11},{"$f":"VLOOKUP(B109,[3]C!B$1:J$52,9,0)","v":11},0,0,0,0,10,10,{"$f":"IFERROR(VLOOKUP(B109,[4]A!B$1:N$48,13,0),IFERROR(VLOOKUP(B109,[4]B!B$1:N$51,13,0),VLOOKUP(B109,[4]C!B$1:N$52,13,0)))","v":0},{"$f":"IFERROR(VLOOKUP(B109,[4]A!B$1:O$48,14,0),IFERROR(VLOOKUP(B109,[4]B!B$1:O$51,14,0),VLOOKUP(B109,[4]C!B$1:O$52,14,0)))","v":0},{"$f":"IFERROR(VLOOKUP(B109,[4]A!B$1:P$48,15,0),IFERROR(VLOOKUP(B109,[4]B!B$1:P$51,15,0),VLOOKUP(B109,[4]C!B$1:P$52,15,0)))","v":0},{"$f":"IFERROR(VLOOKUP(B109,[4]A!B$1:R$48,17,0),IFERROR(VLOOKUP(B109,[4]B!B$1:R$51,17,0),VLOOKUP(B109,[4]C!B$1:R$52,17,0)))","v":0},3,3,null,null,null,null,33,0,0,33,33,100,5,null,0,10,15]
[109,"15BA046",{"$f":"VLOOKUP(B110,[1]C!B$1:K$48,10,0)","v":0},{"$f":"VLOOKUP(B110,[1]C!B$1:L$48,11,0)","v":0},{"$f":"VLOOKUP(B110,[1]C!B$1:N$48,13,0)","v":0},{"$f":"VLOOKUP(B110,[1]C!B$1:O$48,14,0)","v":0},{"$f":"VLOOKUP(B110,[1]C!B$1:P$48,15,0)","v":0},{"$f":"VLOOKUP(B110,[1]C!B$1:R$48,17,0)","v":0},{"$f":"IFERROR(VLOOKUP(B110,[2]A!B$1:K$52,10,0),IFERROR(VLOOKUP(B110,[2]B!B$1:K$51,10,0),VLOOKUP(B110,[2]C!B$1:K$52,10,0)))","v":9},{"$f":"IFERROR(VLOOKUP(B110,[2]A!B$1:L$48,11,0),IFERROR(VLOOKUP(B110,[2]B!B$1:L$51,11,0),VLOOKUP(B110,[2]C!B$1:L$52,11,0)))","v":9},{"$f":"IFERROR(VLOOKUP(B110,[2]A!B$1:N$48,13,0),IFERROR(VLOOKUP(B110,[2]B!B$1:N$51,13,0),VLOOKUP(B110,[2]C!B$1:N$52,13,0)))","v":0},{"$f":"IFERROR(VLOOKUP(B110,[2]A!B$1:O$48,14,0),IFERROR(VLOOKUP(B110,[2]B!B$1:O$51,14,0),VLOOKUP(B110,[2]C!B$1:O$52,14,0)))","v":0},{"$f":"IFERROR(VLOOKUP(B110,[2]A!B$1:P$48,15,0),IFERROR(VLOOKUP(B110,[2]B!B$1:P$48,15,0),VLOOKUP(B110,[2]C!B$1:P$52,15,0)))","v":0},{"$f":"IFERROR(VLOOKUP(B110,[2]A!B$1:R$48,17,0),IFERROR(VLOOKUP(B110,[2]B!B$1:R$51,17,0),VLOOKUP(B110,[2]C!B$1:R$52,17,0)))","v":0},{"$f":"VLOOKUP(B110,[3]C!B$1:I$52,8,0)","v":11},{"$f":"VLOOKUP(B110,[3]C!B$1:J$52,9,0)","v":11},0,0,0,0,10,10,{"$f":"IFERROR(VLOOKUP(B110,[4]A!B$1:N$48,13,0),IFERROR(VLOOKUP(B110,[4]B!B$1:N$51,13,0),VLOOKUP(B110,[4]C!B$1:N$52,13,0)))","v":0},{"$f":"IFERROR(VLOOKUP(B110,[4]A!B$1:O$48,14,0),IFERROR(VLOOKUP(B110,[4]B!B$1:O$51,14,0),VLOOKUP(B110,[4]C!B$1:O$52,14,0)))","v":0},{"$f":"IFERROR(VLOOKUP(B110,[4]A!B$1:P$48,15,0),IFERROR(VLOOKUP(B110,[4]B!B$1:P$51,15,0),VLOOKUP(B110,[4]C!B$1:P$52,15,0)))","v":0},{"$f":"IFERROR(VLOOKUP(B110,[4]A!B$1:R$48,17,0),IFERROR(VLOOKUP(B110,[4]B!B$1:R$51,17,0),VLOOKUP(B110,[4]C!B$1:R$52,17,0)))","v":0},3,3,null,null,null,null,33,0,0,33,33,100,5,null,9,9,23]
[110,"15BA052",{"$f":"VLOOKUP(B111,[1]C!B$1:K$48,10,0)","v":0},{"$f":"VLOOKUP(B111,[1]C!B$1:L$48,11,0)","v":0},{"$f":"VLOOKUP(B111,[1]C!B$1:N$48,13,0)","v":0},{"$f":"VLOOKUP(B111,[1]C!B$1:O$48,14,0)","v":0},{"$f":"VLOOKUP(B111,[1]C!B$1:P$48,15,0)","v":0},{"$f":"VLOOKUP(B111,[1]C!B$1:R$48,17,0)","v":0},{"$f":"IFERROR(VLOOKUP(B111,[2]A!B$1:K$52,10,0),IFERROR(VLOOKUP(B111,[2]B!B$1:K$51,10,0),VLOOKUP(B111,[2]C!B$1:K$52,10,0)))","v":9},{"$f":"IFERROR(VLOOKUP(B111,[2]A!B$1:L$48,11,0),IFERROR(VLOOKUP(B111,[2]B!B$1:L$51,11,0),VLOOKUP(B111,[2]C!B$1:L$52,11,0)))","v":9},{"$f":"IFERROR(VLOOKUP(B111,[2]A!B$1:N$48,13,0),IFERROR(VLOOKUP(B111,[2]B!B$1:N$51,13,0),VLOOKUP(B111,[2]C!B$1:N$52,13,0)))","v":0},{"$f":"IFERROR(VLOOKUP(B111,[2]A!B$1:O$48,14,0),IFERROR(VLOOKUP(B111,[2]B!B$1:O$51,14,0),VLOOKUP(B111,[2]C!B$1:O$52,14,0)))","v":0},{"$f":"IFERROR(VLOOKUP(B111,[2]A!B$1:P$48,15,0),IFERROR(VLOOKUP(B111,[2]B!B$1:P$48,15,0),VLOOKUP(B111,[2]C!B$1:P$52,15,0)))","v":0},{"$f":"IFERROR(VLOOKUP(B111,[2]A!B$1:R$48,17,0),IFERROR(VLOOKUP(B111,[2]B!B$1:R$51,17,0),VLOOKUP(B111,[2]C!B$1:R$52,17,0)))","v":0},{"$f":"VLOOKUP(B111,[3]C!B$1:I$52,8,0)","v":11},{"$f":"VLOOKUP(B111,[3]C!B$1:J$52,9,0)","v":11},0,0,0,0,10,10,{"$f":"IFERROR(VLOOKUP(B111,[4]A!B$1:N$48,13,0),IFERROR(VLOOKUP(B111,[4]B!B$1:N$51,13,0),VLOOKUP(B111,[4]C!B$1:N$52,13,0)))","v":0},{"$f":"IFERROR(VLOOKUP(B111,[4]A!B$1:O$48,14,0),IFERROR(VLOOKUP(B111,[4]B!B$1:O$51,14,0),VLOOKUP(B111,[4]C!B$1:O$52,14,0)))","v":0},{"$f":"IFERROR(VLOOKUP(B111,[4]A!B$1:P$48,15,0),IFERROR(VLOOKUP(B111,[4]B!B$1:P$51,15,0),VLOOKUP(B111,[4]C!B$1:P$52,15,0)))","v":0},{"$f":"IFERROR(VLOOKUP(B111,[4]A!B$1:R$48,17,0),IFERROR(VLOOKUP(B111,[4]B!B$1:R$51,17,0),VLOOKUP(B111,[4]C!B$1:R$52,17,0)))","v":0},3,3,null,null,null,null,33,0,0,33,33,100,5,null,10,10,25]
[111,"15BA056",{"$f":"VLOOKUP(B112,[1]C!B$1:K$48,10,0)","v":0},{"$f":"VLOOKUP(B112,[1]C!B$1:L$48,11,0)","v":0},{"$f":"VLOOKUP(B112,[1]C!B$1:N$48,13,0)","v":0},{"$f":"VLOOKUP(B112,[1]C!B$1:O$48,14,0)","v":0},{"$f":"VLOOKUP(B112,[1]C!B$1:P$48,15,0)","v":0},{"$f":"VLOOKUP(B112,[1]C!B$1:R$48,17,0)","v":0},{"$f":"IFERROR(VLOOKUP(B112,[2]A!B$1:K$52,10,0),IFERROR(VLOOKUP(B112,[2]B!B$1:K$51,10,0),VLOOKUP(B112,[2]C!B$1:K$52,10,0)))","v":9},{"$f":"IFERROR(VLOOKUP(B112,[2]A!B$1:L$48,11,0),IFERROR(VLOOKUP(B112,[2]B!B$1:L$51,11,0),VLOOKUP(B112,[2]C!B$1:L$52,11,0)))","v":9},{"$f":"IFERROR(VLOOKUP(B112,[2]A!B$1:N$48,13,0),IFERROR(VLOOKUP(B112,[2]B!B$1:N$51,13,0),VLOOKUP(B112,[2]C!B$1:N$52,13,0)))","v":0},{"$f":"IFERROR(VLOOKUP(B112,[2]A!B$1:O$48,14,0),IFERROR(VLOOKUP(B112,[2]B!B$1:O$51,14,0),VLOOKUP(B112,[2]C!B$1:O$52,14,0)))","v":0},{"$f":"IFERROR(VLOOKUP(B112,[2]A!B$1:P$48,15,0),IFERROR(VLOOKUP(B112,[2]B!B$1:P$48,15,0),VLOOKUP(B112,[2]C!B$1:P$52,15,0)))","v":0},{"$f":"IFERROR(VLOOKUP(B112,[2]A!B$1:R$48,17,0),IFERROR(VLOOKUP(B112,[2]B!B$1:R$51,17,0),VLOOKUP(B112,[2]C!B$1:R$52,17,0)))","v":0},{"$f":"VLOOKUP(B112,[3]C!B$1:I$52,8,0)","v":11},{"$f":"VLOOKUP(B112,[3]C!B$1:J$52,9,0)","v":11},0,0,0,0,10,10,{"$f":"IFERROR(VLOOKUP(B112,[4]A!B$1:N$48,13,0),IFERROR(VLOOKUP(B112,[4]B!B$1:N$51,13,0),VLOOKUP(B112,[4]C!B$1:N$52,13,0)))","v":0},{"$f":"IFERROR(VLOOKUP(B112,[4]A!B$1:O$48,14,0),IFERROR(VLOOKUP(B112,[4]B!B$1:O$51,14,0),VLOOKUP(B112,[4]C!B$1:O$52,14,0)))","v":0},{"$f":"IFERROR(VLOOKUP(B112,[4]A!B$1:P$48,15,0),IFERROR(VLOOKUP(B112,[4]B!B$1:P$51,15,0),VLOOKUP(B112,[4]C!B$1:P$52,15,0)))","v":0},{"$f":"IFERROR(VLOOKUP(B112,[4]A!B$1:R$48,17,0),IFERROR(VLOOKUP(B112,[4]B!B$1:R$51,17,0),VLOOKUP(B112,[4]C!B$1:R$52,17,0)))","v":0},3,3,null,null,null,null,33,0,0,33,33,100,5,null,6,10,21]
[112,"15BA058",{"$f":"VLOOKUP(B113,[1]C!B$1:K$48,10,0)","v":0},{"$f":"VLOOKUP(B113,[1]C!B$1:L$48,11,0)","v":0},{"$f":"VLOOKUP(B113,[1]C!B$1:N$48,13,0)","v":0},{"$f":"VLOOKUP(B113,[1]C!B$1:O$48,14,0)","v":0},{"$f":"VLOOKUP(B113,[1]C!B$1:P$48,15,0)","v":0},{"$f":"VLOOKUP(B113,[1]C!B$1:R$48,17,0)","v":0},{"$f":"IFERROR(VLOOKUP(B113,[2]A!B$1:K$52,10,0),IFERROR(VLOOKUP(B113,[2]B!B$1:K$51,10,0),VLOOKUP(B113,[2]C!B$1:K$52,10,0)))","v":9},{"$f":"IFERROR(VLOOKUP(B113,[2]A!B$1:L$48,11,0),IFERROR(VLOOKUP(B113,[2]B!B$1:L$51,11,0),VLOOKUP(B113,[2]C!B$1:L$52,11,0)))","v":9},{"$f":"IFERROR(VLOOKUP(B113,[2]A!B$1:N$48,13,0),IFERROR(VLOOKUP(B113,[2]B!B$1:N$51,13,0),VLOOKUP(B113,[2]C!B$1:N$52,13,0)))","v":0},{"$f":"IFERROR(VLOOKUP(B113,[2]A!B$1:O$48,14,0),IFERROR(VLOOKUP(B113,[2]B!B$1:O$51,14,0),VLOOKUP(B113,[2]C!B$1:O$52,14,0)))","v":0},{"$f":"IFERROR(VLOOKUP(B113,[2]A!B$1:P$48,15,0),IFERROR(VLOOKUP(B113,[2]B!B$1:P$48,15,0),VLOOKUP(B113,[2]C!B$1:P$52,15,0)))","v":0},{"$f":"IFERROR(VLOOKUP(B113,[2]A!B$1:R$48,17,0),IFERROR(VLOOKUP(B113,[2]B!B$1:R$51,17,0),VLOOKUP(B113,[2]C!B$1:R$52,17,0)))","v":0},{"$f":"VLOOKUP(B113,[3]C!B$1:I$52,8,0)","v":11},{"$f":"VLOOKUP(B113,[3]C!B$1:J$52,9,0)","v":11},0,0,0,0,10,10,{"$f":"IFERROR(VLOOKUP(B113,[4]A!B$1:N$48,13,0),IFERROR(VLOOKUP(B113,[4]B!B$1:N$51,13,0),VLOOKUP(B113,[4]C!B$1:N$52,13,0)))","v":0},{"$f":"IFERROR(VLOOKUP(B113,[4]A!B$1:O$48,14,0),IFERROR(VLOOKUP(B113,[4]B!B$1:O$51,14,0),VLOOKUP(B113,[4]C!B$1:O$52,14,0)))","v":0},{"$f":"IFERROR(VLOOKUP(B113,[4]A!B$1:P$48,15,0),IFERROR(VLOOKUP(B113,[4]B!B$1:P$51,15,0),VLOOKUP(B113,[4]C!B$1:P$52,15,0)))","v":0},{"$f":"IFERROR(VLOOKUP(B113,[4]A!B$1:R$48,17,0),IFERROR(VLOOKUP(B113,[4]B!B$1:R$51,17,0),VLOOKUP(B113,[4]C!B$1:R$52,17,0)))","v":0},3,3,null,null,null,null,33,0,0,33,33,100,5,null,6,8,19]
[113,"15BA059",{"$f":"VLOOKUP(B114,[1]C!B$1:K$48,10,0)","v":0},{"$f":"VLOOKUP(B114,[1]C!B$1:L$48,11,0)","v":0},{"$f":"VLOOKUP(B114,[1]C!B$1:N$48,13,0)","v":0},{"$f":"VLOOKUP(B114,[1]C!B$1:O$48,14,0)","v":0},{"$f":"VLOOKUP(B114,[1]C!B$1:P$48,15,0)","v":0},{"$f":"VLOOKUP(B114,[1]C!B$1:R$48,17,0)","v":0},{"$f":"IFERROR(VLOOKUP(B114,[2]A!B$1:K$52,10,0),IFERROR(VLOOKUP(B114,[2]B!B$1:K$51,10,0),VLOOKUP(B114,[2]C!B$1:K$52,10,0)))","v":9},{"$f":"IFERROR(VLOOKUP(B114,[2]A!B$1:L$48,11,0),IFERROR(VLOOKUP(B114,[2]B!B$1:L$51,11,0),VLOOKUP(B114,[2]C!B$1:L$52,11,0)))","v":9},{"$f":"IFERROR(VLOOKUP(B114,[2]A!B$1:N$48,13,0),IFERROR(VLOOKUP(B114,[2]B!B$1:N$51,13,0),VLOOKUP(B114,[2]C!B$1:N$52,13,0)))","v":0},{"$f":"IFERROR(VLOOKUP(B114,[2]A!B$1:O$48,14,0),IFERROR(VLOOKUP(B114,[2]B!B$1:O$51,14,0),VLOOKUP(B114,[2]C!B$1:O$52,14,0)))","v":0},{"$f":"IFERROR(VLOOKUP(B114,[2]A!B$1:P$48,15,0),IFERROR(VLOOKUP(B114,[2]B!B$1:P$48,15,0),VLOOKUP(B114,[2]C!B$1:P$52,15,0)))","v":0},{"$f":"IFERROR(VLOOKUP(B114,[2]A!B$1:R$48,17,0),IFERROR(VLOOKUP(B114,[2]B!B$1:R$51,17,0),VLOOKUP(B114,[2]C!B$1:R$52,17,0)))","v":0},{"$f":"VLOOKUP(B114,[3]C!B$1:I$52,8,0)","v":11},{"$f":"VLOOKUP(B114,[3]C!B$1:J$52,9,0)","v":11},0,0,0,0,10,10,{"$f":"IFERROR(VLOOKUP(B114,[4]A!B$1:N$48,13,0),IFERROR(VLOOKUP(B114,[4]B!B$1:N$51,13,0),VLOOKUP(B114,[4]C!B$1:N$52,13,0)))","v":0},{"$f":"IFERROR(VLOOKUP(B114,[4]A!B$1:O$48,14,0),IFERROR(VLOOKUP(B114,[4]B!B$1:O$51,14,0),VLOOKUP(B114,[4]C!B$1:O$52,14,0)))","v":0},{"$f":"IFERROR(VLOOKUP(B114,[4]A!B$1:P$48,15,0),IFERROR(VLOOKUP(B114,[4]B!B$1:P$51,15,0),VLOOKUP(B114,[4]C!B$1:P$52,15,0)))","v":0},{"$f":"IFERROR(VLOOKUP(B114,[4]A!B$1:R$48,17,0),IFERROR(VLOOKUP(B114,[4]B!B$1:R$51,17,0),VLOOKUP(B114,[4]C!B$1:R$52,17,0)))","v":0},3,3,null,null,null,null,33,0,0,33,33,100,5,null,0,9,14]
[114,"15BA063",{"$f":"VLOOKUP(B115,[1]C!B$1:K$48,10,0)","v":0},{"$f":"VLOOKUP(B115,[1]C!B$1:L$48,11,0)","v":0},{"$f":"VLOOKUP(B115,[1]C!B$1:N$48,13,0)","v":0},{"$f":"VLOOKUP(B115,[1]C!B$1:O$48,14,0)","v":0},{"$f":"VLOOKUP(B115,[1]C!B$1:P$48,15,0)","v":0},{"$f":"VLOOKUP(B115,[1]C!B$1:R$48,17,0)","v":0},{"$f":"IFERROR(VLOOKUP(B115,[2]A!B$1:K$52,10,0),IFERROR(VLOOKUP(B115,[2]B!B$1:K$51,10,0),VLOOKUP(B115,[2]C!B$1:K$52,10,0)))","v":9},{"$f":"IFERROR(VLOOKUP(B115,[2]A!B$1:L$48,11,0),IFERROR(VLOOKUP(B115,[2]B!B$1:L$51,11,0),VLOOKUP(B115,[2]C!B$1:L$52,11,0)))","v":9},{"$f":"IFERROR(VLOOKUP(B115,[2]A!B$1:N$48,13,0),IFERROR(VLOOKUP(B115,[2]B!B$1:N$51,13,0),VLOOKUP(B115,[2]C!B$1:N$52,13,0)))","v":0},{"$f":"IFERROR(VLOOKUP(B115,[2]A!B$1:O$48,14,0),IFERROR(VLOOKUP(B115,[2]B!B$1:O$51,14,0),VLOOKUP(B115,[2]C!B$1:O$52,14,0)))","v":0},{"$f":"IFERROR(VLOOKUP(B115,[2]A!B$1:P$48,15,0),IFERROR(VLOOKUP(B115,[2]B!B$1:P$48,15,0),VLOOKUP(B115,[2]C!B$1:P$52,15,0)))","v":0},{"$f":"IFERROR(VLOOKUP(B115,[2]A!B$1:R$48,17,0),IFERROR(VLOOKUP(B115,[2]B!B$1:R$51,17,0),VLOOKUP(B115,[2]C!B$1:R$52,17,0)))","v":0},{"$f":"VLOOKUP(B115,[3]C!B$1:I$52,8,0)","v":11},{"$f":"VLOOKUP(B115,[3]C!B$1:J$52,9,0)","v":11},0,0,0,0,10,10,{"$f":"IFERROR(VLOOKUP(B115,[4]A!B$1:N$48,13,0),IFERROR(VLOOKUP(B115,[4]B!B$1:N$51,13,0),VLOOKUP(B115,[4]C!B$1:N$52,13,0)))","v":0},{"$f":"IFERROR(VLOOKUP(B115,[4]A!B$1:O$48,14,0),IFERROR(VLOOKUP(B115,[4]B!B$1:O$51,14,0),VLOOKUP(B115,[4]C!B$1:O$52,14,0)))","v":0},{"$f":"IFERROR(VLOOKUP(B115,[4]A!B$1:P$48,15,0),IFERROR(VLOOKUP(B115,[4]B!B$1:P$51,15,0),VLOOKUP(B115,[4]C!B$1:P$52,15,0)))","v":0},{"$f":"IFERROR(VLOOKUP(B115,[4]A!B$1:R$48,17,0),IFERROR(VLOOKUP(B115,[4]B!B$1:R$51,17,0),VLOOKUP(B115,[4]C!B$1:R$52,17,0)))","v":0},3,3,null,null,null,null,33,0,0,33,33,100,5,null,9,10,24]
[115,"15BA069",{"$f":"VLOOKUP(B116,[1]C!B$1:K$48,10,0)","v":0},{"$f":"VLOOKUP(B116,[1]C!B$1:L$48,11,0)","v":0},{"$f":"VLOOKUP(B116,[1]C!B$1:N$48,13,0)","v":0},{"$f":"VLOOKUP(B116,[1]C!B$1:O$48,14,0)","v":0},{"$f":"VLOOKUP(B116,[1]C!B$1:P$48,15,0)","v":0},{"$f":"VLOOKUP(B116,[1]C!B$1:R$48,17,0)","v":0},{"$f":"IFERROR(VLOOKUP(B116,[2]A!B$1:K$52,10,0),IFERROR(VLOOKUP(B116,[2]B!B$1:K$51,10,0),VLOOKUP(B116,[2]C!B$1:K$52,10,0)))","v":9},{"$f":"IFERROR(VLOOKUP(B116,[2]A!B$1:L$48,11,0),IFERROR(VLOOKUP(B116,[2]B!B$1:L$51,11,0),VLOOKUP(B116,[2]C!B$1:L$52,11,0)))","v":9},{"$f":"IFERROR(VLOOKUP(B116,[2]A!B$1:N$48,13,0),IFERROR(VLOOKUP(B116,[2]B!B$1:N$51,13,0),VLOOKUP(B116,[2]C!B$1:N$52,13,0)))","v":0},{"$f":"IFERROR(VLOOKUP(B116,[2]A!B$1:O$48,14,0),IFERROR(VLOOKUP(B116,[2]B!B$1:O$51,14,0),VLOOKUP(B116,[2]C!B$1:O$52,14,0)))","v":0},{"$f":"IFERROR(VLOOKUP(B116,[2]A!B$1:P$48,15,0),IFERROR(VLOOKUP(B116,[2]B!B$1:P$48,15,0),VLOOKUP(B116,[2]C!B$1:P$52,15,0)))","v":0},{"$f":"IFERROR(VLOOKUP(B116,[2]A!B$1:R$48,17,0),IFERROR(VLOOKUP(B116,[2]B!B$1:R$51,17,0),VLOOKUP(B116,[2]C!B$1:R$52,17,0)))","v":0},{"$f":"VLOOKUP(B116,[3]C!B$1:I$52,8,0)","v":11},{"$f":"VLOOKUP(B116,[3]C!B$1:J$52,9,0)","v":11},0,0,0,0,10,10,{"$f":"IFERROR(VLOOKUP(B116,[4]A!B$1:N$48,13,0),IFERROR(VLOOKUP(B116,[4]B!B$1:N$51,13,0),VLOOKUP(B116,[4]C!B$1:N$52,13,0)))","v":0},{"$f":"IFERROR(VLOOKUP(B116,[4]A!B$1:O$48,14,0),IFERROR(VLOOKUP(B116,[4]B!B$1:O$51,14,0),VLOOKUP(B116,[4]C!B$1:O$52,14,0)))","v":0},{"$f":"IFERROR(VLOOKUP(B116,[4]A!B$1:P$48,15,0),IFERROR(VLOOKUP(B116,[4]B!B$1:P$51,15,0),VLOOKUP(B116,[4]C!B$1:P$52,15,0)))","v":0},{"$f":"IFERROR(VLOOKUP(B116,[4]A!B$1:R$48,17,0),IFERROR(VLOOKUP(B116,[4]B!B$1:R$51,17,0),VLOOKUP(B116,[4]C!B$1:R$52,17,0)))","v":0},3,3,null,null,null,null,33,0,0,33,33,100,5,null,6,10,21]
[116,"15BA073",{"$f":"VLOOKUP(B117,[1]C!B$1:K$48,10,0)","v":0},{"$f":"VLOOKUP(B117,[1]C!B$1:L$48,11,0)","v":0},{"$f":"VLOOKUP(B117,[1]C!B$1:N$48,13,0)","v":0},{"$f":"VLOOKUP(B117,[1]C!B$1:O$48,14,0)","v":0},{"$f":"VLOOKUP(B117,[1]C!B$1:P$48,15,0)","v":0},{"$f":"VLOOKUP(B117,[1]C!B$1:R$48,17,0)","v":0},{"$f":"IFERROR(VLOOKUP(B117,[2]A!B$1:K$52,10,0),IFERROR(VLOOKUP(B117,[2]B!B$1:K$51,10,0),VLOOKUP(B117,[2]C!B$1:K$52,10,0)))","v":9},{"$f":"IFERROR(VLOOKUP(B117,[2]A!B$1:L$48,11,0),IFERROR(VLOOKUP(B117,[2]B!B$1:L$51,11,0),VLOOKUP(B117,[2]C!B$1:L$52,11,0)))","v":9},{"$f":"IFERROR(VLOOKUP(B117,[2]A!B$1:N$48,13,0),IFERROR(VLOOKUP(B117,[2]B!B$1:N$51,13,0),VLOOKUP(B117,[2]C!B$1:N$52,13,0)))","v":0},{"$f":"IFERROR(VLOOKUP(B117,[2]A!B$1:O$48,14,0),IFERROR(VLOOKUP(B117,[2]B!B$1:O$51,14,0),VLOOKUP(B117,[2]C!B$1:O$52,14,0)))","v":0},{"$f":"IFERROR(VLOOKUP(B117,[2]A!B$1:P$48,15,0),IFERROR(VLOOKUP(B117,[2]B!B$1:P$48,15,0),VLOOKUP(B117,[2]C!B$1:P$52,15,0)))","v":0},{"$f":"IFERROR(VLOOKUP(B117,[2]A!B$1:R$48,17,0),IFERROR(VLOOKUP(B117,[2]B!B$1:R$51,17,0),VLOOKUP(B117,[2]C!B$1:R$52,17,0)))","v":0},{"$f":"VLOOKUP(B117,[3]C!B$1:I$52,8,0)","v":11},{"$f":"VLOOKUP(B117,[3]C!B$1:J$52,9,0)","v":11},0,0,0,0,10,10,{"$f":"IFERROR(VLOOKUP(B117,[4]A!B$1:N$48,13,0),IFERROR(VLOOKUP(B117,[4]B!B$1:N$51,13,0),VLOOKUP(B117,[4]C!B$1:N$52,13,0)))","v":0},{"$f":"IFERROR(VLOOKUP(B117,[4]A!B$1:O$48,14,0),IFERROR(VLOOKUP(B117,[4]B!B$1:O$51,14,0),VLOOKUP(B117,[4]C!B$1:O$52,14,0)))","v":0},{"$f":"IFERROR(VLOOKUP(B117,[4]A!B$1:P$48,15,0),IFERROR(VLOOKUP(B117,[4]B!B$1:P$51,15,0),VLOOKUP(B117,[4]C!B$1:P$52,15,0)))","v":0},{"$f":"IFERROR(VLOOKUP(B117,[4]A!B$1:R$48,17,0),IFERROR(VLOOKUP(B117,[4]B!B$1:R$51,17,0),VLOOKUP(B117,[4]C!B$1:R$52,17,0)))","v":0},3,3,null,null,null,null,33,0,0,33,33,100,5,null,0,10,15]
[117,"15BA076",{"$f":"VLOOKUP(B118,[1]C!B$1:K$48,10,0)","v":0},{"$f":"VLOOKUP(B118,[1]C!B$1:L$48,11,0)","v":0},{"$f":"VLOOKUP(B118,[1]C!B$1:N$48,13,0)","v":0},{"$f":"VLOOKUP(B118,[1]C!B$1:O$48,14,0)","v":0},{"$f":"VLOOKUP(B118,[1]C!B$1:P$48,15,0)","v":0},{"$f":"VLOOKUP(B118,[1]C!B$1:R$48,17,0)","v":0},{"$f":"IFERROR(VLOOKUP(B118,[2]A!B$1:K$52,10,0),IFERROR(VLOOKUP(B118,[2]B!B$1:K$51,10,0),VLOOKUP(B118,[2]C!B$1:K$52,10,0)))","v":9},{"$f":"IFERROR(VLOOKUP(B118,[2]A!B$1:L$48,11,0),IFERROR(VLOOKUP(B118,[2]B!B$1:L$51,11,0),VLOOKUP(B118,[2]C!B$1:L$52,11,0)))","v":9},{"$f":"IFERROR(VLOOKUP(B118,[2]A!B$1:N$48,13,0),IFERROR(VLOOKUP(B118,[2]B!B$1:N$51,13,0),VLOOKUP(B118,[2]C!B$1:N$52,13,0)))","v":0},{"$f":"IFERROR(VLOOKUP(B118,[2]A!B$1:O$48,14,0),IFERROR(VLOOKUP(B118,[2]B!B$1:O$51,14,0),VLOOKUP(B118,[2]C!B$1:O$52,14,0)))","v":0},{"$f":"IFERROR(VLOOKUP(B118,[2]A!B$1:P$48,15,0),IFERROR(VLOOKUP(B118,[2]B!B$1:P$48,15,0),VLOOKUP(B118,[2]C!B$1:P$52,15,0)))","v":0},{"$f":"IFERROR(VLOOKUP(B118,[2]A!B$1:R$48,17,0),IFERROR(VLOOKUP(B118,[2]B!B$1:R$51,17,0),VLOOKUP(B118,[2]C!B$1:R$52,17,0)))","v":0},{"$f":"VLOOKUP(B118,[3]C!B$1:I$52,8,0)","v":11},{"$f":"VLOOKUP(B118,[3]C!B$1:J$52,9,0)","v":11},0,0,0,0,10,10,{"$f":"IFERROR(VLOOKUP(B118,[4]A!B$1:N$48,13,0),IFERROR(VLOOKUP(B118,[4]B!B$1:N$51,13,0),VLOOKUP(B118,[4]C!B$1:N$52,13,0)))","v":0},{"$f":"IFERROR(VLOOKUP(B118,[4]A!B$1:O$48,14,0),IFERROR(VLOOKUP(B118,[4]B!B$1:O$51,14,0),VLOOKUP(B118,[4]C!B$1:O$52,14,0)))","v":0},{"$f":"IFERROR(VLOOKUP(B118,[4]A!B$1:P$48,15,0),IFERROR(VLOOKUP(B118,[4]B!B$1:P$51,15,0),VLOOKUP(B118,[4]C!B$1:P$52,15,0)))","v":0},{"$f":"IFERROR(VLOOKUP(B118,[4]A!B$1:R$48,17,0),IFERROR(VLOOKUP(B118,[4]B!B$1:R$51,17,0),VLOOKUP(B118,[4]C!B$1:R$52,17,0)))","v":0},3,3,null,null,null,null,33,0,0,33,33,100,5,null,8,10,23]
[118,"15BA077",{"$f":"VLOOKUP(B119,[1]C!B$1:K$48,10,0)","v":0},{"$f":"VLOOKUP(B119,[1]C!B$1:L$48,11,0)","v":0},{"$f":"VLOOKUP(B119,[1]C!B$1:N$48,13,0)","v":0},{"$f":"VLOOKUP(B119,[1]C!B$1:O$48,14,0)","v":0},{"$f":"VLOOKUP(B119,[1]C!B$1:P$48,15,0)","v":0},{"$f":"VLOOKUP(B119,[1]C!B$1:R$48,17,0)","v":0},{"$f":"IFERROR(VLOOKUP(B119,[2]A!B$1:K$52,10,0),IFERROR(VLOOKUP(B119,[2]B!B$1:K$51,10,0),VLOOKUP(B119,[2]C!B$1:K$52,10,0)))","v":9},{"$f":"IFERROR(VLOOKUP(B119,[2]A!B$1:L$48,11,0),IFERROR(VLOOKUP(B119,[2]B!B$1:L$51,11,0),VLOOKUP(B119,[2]C!B$1:L$52,11,0)))","v":9},{"$f":"IFERROR(VLOOKUP(B119,[2]A!B$1:N$48,13,0),IFERROR(VLOOKUP(B119,[2]B!B$1:N$51,13,0),VLOOKUP(B119,[2]C!B$1:N$52,13,0)))","v":0},{"$f":"IFERROR(VLOOKUP(B119,[2]A!B$1:O$48,14,0),IFERROR(VLOOKUP(B119,[2]B!B$1:O$51,14,0),VLOOKUP(B119,[2]C!B$1:O$52,14,0)))","v":0},{"$f":"IFERROR(VLOOKUP(B119,[2]A!B$1:P$48,15,0),IFERROR(VLOOKUP(B119,[2]B!B$1:P$48,15,0),VLOOKUP(B119,[2]C!B$1:P$52,15,0)))","v":0},{"$f":"IFERROR(VLOOKUP(B119,[2]A!B$1:R$48,17,0),IFERROR(VLOOKUP(B119,[2]B!B$1:R$51,17,0),VLOOKUP(B119,[2]C!B$1:R$52,17,0)))","v":0},{"$f":"VLOOKUP(B119,[3]C!B$1:I$52,8,0)","v":11},{"$f":"VLOOKUP(B119,[3]C!B$1:J$52,9,0)","v":11},0,0,0,0,10,10,{"$f":"IFERROR(VLOOKUP(B119,[4]A!B$1:N$48,13,0),IFERROR(VLOOKUP(B119,[4]B!B$1:N$51,13,0),VLOOKUP(B119,[4]C!B$1:N$52,13,0)))","v":0},{"$f":"IFERROR(VLOOKUP(B119,[4]A!B$1:O$48,14,0),IFERROR(VLOOKUP(B119,[4]B!B$1:O$51,14,0),VLOOKUP(B119,[4]C!B$1:O$52,14,0)))","v":0},{"$f":"IFERROR(VLOOKUP(B119,[4]A!B$1:P$48,15,0),IFERROR(VLOOKUP(B119,[4]B!B$1:P$51,15,0),VLOOKUP(B119,[4]C!B$1:P$52,15,0)))","v":0},{"$f":"IFERROR(VLOOKUP(B119,[4]A!B$1:R$48,17,0),IFERROR(VLOOKUP(B119,[4]B!B$1:R$51,17,0),VLOOKUP(B119,[4]C!B$1:R$52,17,0)))","v":0},3,3,null,null,null,null,33,0,0,33,33,100,5,null,9,8,22]
[119,"15BA079",{"$f":"VLOOKUP(B120,[1]C!B$1:K$48,10,0)","v":0},{"$f":"VLOOKUP(B120,[1]C!B$1:L$48,11,0)","v":0},{"$f":"VLOOKUP(B120,[1]C!B$1:N$48,13,0)","v":0},{"$f":"VLOOKUP(B120,[1]C!B$1:O$48,14,0)","v":0},{"$f":"VLOOKUP(B120,[1]C!B$1:P$48,15,0)","v":0},{"$f":"VLOOKUP(B120,[1]C!B$1:R$48,17,0)","v":0},{"$f":"IFERROR(VLOOKUP(B120,[2]A!B$1:K$52,10,0),IFERROR(VLOOKUP(B120,[2]B!B$1:K$51,10,0),VLOOKUP(B120,[2]C!B$1:K$52,10,0)))","v":9},{"$f":"IFERROR(VLOOKUP(B120,[2]A!B$1:L$48,11,0),IFERROR(VLOOKUP(B120,[2]B!B$1:L$51,11,0),VLOOKUP(B120,[2]C!B$1:L$52,11,0)))","v":9},{"$f":"IFERROR(VLOOKUP(B120,[2]A!B$1:N$48,13,0),IFERROR(VLOOKUP(B120,[2]B!B$1:N$51,13,0),VLOOKUP(B120,[2]C!B$1:N$52,13,0)))","v":0},{"$f":"IFERROR(VLOOKUP(B120,[2]A!B$1:O$48,14,0),IFERROR(VLOOKUP(B120,[2]B!B$1:O$51,14,0),VLOOKUP(B120,[2]C!B$1:O$52,14,0)))","v":0},{"$f":"IFERROR(VLOOKUP(B120,[2]A!B$1:P$48,15,0),IFERROR(VLOOKUP(B120,[2]B!B$1:P$48,15,0),VLOOKUP(B120,[2]C!B$1:P$52,15,0)))","v":0},{"$f":"IFERROR(VLOOKUP(B120,[2]A!B$1:R$48,17,0),IFERROR(VLOOKUP(B120,[2]B!B$1:R$51,17,0),VLOOKUP(B120,[2]C!B$1:R$52,17,0)))","v":0},{"$f":"VLOOKUP(B120,[3]C!B$1:I$52,8,0)","v":11},{"$f":"VLOOKUP(B120,[3]C!B$1:J$52,9,0)","v":11},0,0,0,0,10,10,{"$f":"IFERROR(VLOOKUP(B120,[4]A!B$1:N$48,13,0),IFERROR(VLOOKUP(B120,[4]B!B$1:N$51,13,0),VLOOKUP(B120,[4]C!B$1:N$52,13,0)))","v":0},{"$f":"IFERROR(VLOOKUP(B120,[4]A!B$1:O$48,14,0),IFERROR(VLOOKUP(B120,[4]B!B$1:O$51,14,0),VLOOKUP(B120,[4]C!B$1:O$52,14,0)))","v":0},{"$f":"IFERROR(VLOOKUP(B120,[4]A!B$1:P$48,15,0),IFERROR(VLOOKUP(B120,[4]B!B$1:P$51,15,0),VLOOKUP(B120,[4]C!B$1:P$52,15,0)))","v":0},{"$f":"IFERROR(VLOOKUP(B120,[4]A!B$1:R$48,17,0),IFERROR(VLOOKUP(B120,[4]B!B$1:R$51,17,0),VLOOKUP(B120,[4]C!B$1:R$52,17,0)))","v":0},3,3,null,null,null,null,33,0,0,33,33,100,5,null,9,10,24]
[120,"15BA082",{"$f":"VLOOKUP(B121,[1]C!B$1:K$48,10,0)","v":0},{"$f":"VLOOKUP(B121,[1]C!B$1:L$48,11,0)","v":0},{"$f":"VLOOKUP(B121,[1]C!B$1:N$48,13,0)","v":0},{"$f":"VLOOKUP(B121,[1]C!B$1:O$48,14,0)","v":0},{"$f":"VLOOKUP(B121,[1]C!B$1:P$48,15,0)","v":0},{"$f":"VLOOKUP(B121,[1]C!B$1:R$48,17,0)","v":0},{"$f":"IFERROR(VLOOKUP(B121,[2]A!B$1:K$52,10,0),IFERROR(VLOOKUP(B121,[2]B!B$1:K$51,10,0),VLOOKUP(B121,[2]C!B$1:K$52,10,0)))","v":9},{"$f":"IFERROR(VLOOKUP(B121,[2]A!B$1:L$48,11,0),IFERROR(VLOOKUP(B121,[2]B!B$1:L$51,11,0),VLOOKUP(B121,[2]C!B$1:L$52,11,0)))","v":9},{"$f":"IFERROR(VLOOKUP(B121,[2]A!B$1:N$48,13,0),IFERROR(VLOOKUP(B121,[2]B!B$1:N$51,13,0),VLOOKUP(B121,[2]C!B$1:N$52,13,0)))","v":0},{"$f":"IFERROR(VLOOKUP(B121,[2]A!B$1:O$48,14,0),IFERROR(VLOOKUP(B121,[2]B!B$1:O$51,14,0),VLOOKUP(B121,[2]C!B$1:O$52,14,0)))","v":0},{"$f":"IFERROR(VLOOKUP(B121,[2]A!B$1:P$48,15,0),IFERROR(VLOOKUP(B121,[2]B!B$1:P$48,15,0),VLOOKUP(B121,[2]C!B$1:P$52,15,0)))","v":0},{"$f":"IFERROR(VLOOKUP(B121,[2]A!B$1:R$48,17,0),IFERROR(VLOOKUP(B121,[2]B!B$1:R$51,17,0),VLOOKUP(B121,[2]C!B$1:R$52,17,0)))","v":0},{"$f":"VLOOKUP(B121,[3]C!B$1:I$52,8,0)","v":11},{"$f":"VLOOKUP(B121,[3]C!B$1:J$52,9,0)","v":11},0,0,0,0,10,10,{"$f":"IFERROR(VLOOKUP(B121,[4]A!B$1:N$48,13,0),IFERROR(VLOOKUP(B121,[4]B!B$1:N$51,13,0),VLOOKUP(B121,[4]C!B$1:N$52,13,0)))","v":0},{"$f":"IFERROR(VLOOKUP(B121,[4]A!B$1:O$48,14,0),IFERROR(VLOOKUP(B121,[4]B!B$1:O$51,14,0),VLOOKUP(B121,[4]C!B$1:O$52,14,0)))","v":0},{"$f":"IFERROR(VLOOKUP(B121,[4]A!B$1:P$48,15,0),IFERROR(VLOOKUP(B121,[4]B!B$1:P$51,15,0),VLOOKUP(B121,[4]C!B$1:P$52,15,0)))","v":0},{"$f":"IFERROR(VLOOKUP(B121,[4]A!B$1:R$48,17,0),IFERROR(VLOOKUP(B121,[4]B!B$1:R$51,17,0),VLOOKUP(B121,[4]C!B$1:R$52,17,0)))","v":0},3,3,null,null,null,null,33,0,0,33,33,100,5,null,7,10,22]
[121,"15BA087",{"$f":"VLOOKUP(B122,[1]C!B$1:K$48,10,0)","v":0},{"$f":"VLOOKUP(B122,[1]C!B$1:L$48,11,0)","v":0},{"$f":"VLOOKUP(B122,[1]C!B$1:N$48,13,0)","v":0},{"$f":"VLOOKUP(B122,[1]C!B$1:O$48,14,0)","v":0},{"$f":"VLOOKUP(B122,[1]C!B$1:P$48,15,0)","v":0},{"$f":"VLOOKUP(B122,[1]C!B$1:R$48,17,0)","v":0},{"$f":"IFERROR(VLOOKUP(B122,[2]A!B$1:K$52,10,0),IFERROR(VLOOKUP(B122,[2]B!B$1:K$51,10,0),VLOOKUP(B122,[2]C!B$1:K$52,10,0)))","v":9},{"$f":"IFERROR(VLOOKUP(B122,[2]A!B$1:L$48,11,0),IFERROR(VLOOKUP(B122,[2]B!B$1:L$51,11,0),VLOOKUP(B122,[2]C!B$1:L$52,11,0)))","v":9},{"$f":"IFERROR(VLOOKUP(B122,[2]A!B$1:N$48,13,0),IFERROR(VLOOKUP(B122,[2]B!B$1:N$51,13,0),VLOOKUP(B122,[2]C!B$1:N$52,13,0)))","v":0},{"$f":"IFERROR(VLOOKUP(B122,[2]A!B$1:O$48,14,0),IFERROR(VLOOKUP(B122,[2]B!B$1:O$51,14,0),VLOOKUP(B122,[2]C!B$1:O$52,14,0)))","v":0},{"$f":"IFERROR(VLOOKUP(B122,[2]A!B$1:P$48,15,0),IFERROR(VLOOKUP(B122,[2]B!B$1:P$48,15,0),VLOOKUP(B122,[2]C!B$1:P$52,15,0)))","v":0},{"$f":"IFERROR(VLOOKUP(B122,[2]A!B$1:R$48,17,0),IFERROR(VLOOKUP(B122,[2]B!B$1:R$51,17,0),VLOOKUP(B122,[2]C!B$1:R$52,17,0)))","v":0},{"$f":"VLOOKUP(B122,[3]C!B$1:I$52,8,0)","v":11},{"$f":"VLOOKUP(B122,[3]C!B$1:J$52,9,0)","v":11},0,0,0,0,10,10,{"$f":"IFERROR(VLOOKUP(B122,[4]A!B$1:N$48,13,0),IFERROR(VLOOKUP(B122,[4]B!B$1:N$51,13,0),VLOOKUP(B122,[4]C!B$1:N$52,13,0)))","v":0},{"$f":"IFERROR(VLOOKUP(B122,[4]A!B$1:O$48,14,0),IFERROR(VLOOKUP(B122,[4]B!B$1:O$51,14,0),VLOOKUP(B122,[4]C!B$1:O$52,14,0)))","v":0},{"$f":"IFERROR(VLOOKUP(B122,[4]A!B$1:P$48,15,0),IFERROR(VLOOKUP(B122,[4]B!B$1:P$51,15,0),VLOOKUP(B122,[4]C!B$1:P$52,15,0)))","v":0},{"$f":"IFERROR(VLOOKUP(B122,[4]A!B$1:R$48,17,0),IFERROR(VLOOKUP(B122,[4]B!B$1:R$51,17,0),VLOOKUP(B122,[4]C!B$1:R$52,17,0)))","v":0},3,3,null,null,null,null,33,0,0,33,33,100,5,null,8,10,23]
[122,"15BA094",{"$f":"VLOOKUP(B123,[1]C!B$1:K$48,10,0)","v":0},{"$f":"VLOOKUP(B123,[1]C!B$1:L$48,11,0)","v":0},{"$f":"VLOOKUP(B123,[1]C!B$1:N$48,13,0)","v":0},{"$f":"VLOOKUP(B123,[1]C!B$1:O$48,14,0)","v":0},{"$f":"VLOOKUP(B123,[1]C!B$1:P$48,15,0)","v":0},{"$f":"VLOOKUP(B123,[1]C!B$1:R$48,17,0)","v":0},{"$f":"IFERROR(VLOOKUP(B123,[2]A!B$1:K$52,10,0),IFERROR(VLOOKUP(B123,[2]B!B$1:K$51,10,0),VLOOKUP(B123,[2]C!B$1:K$52,10,0)))","v":9},{"$f":"IFERROR(VLOOKUP(B123,[2]A!B$1:L$48,11,0),IFERROR(VLOOKUP(B123,[2]B!B$1:L$51,11,0),VLOOKUP(B123,[2]C!B$1:L$52,11,0)))","v":9},{"$f":"IFERROR(VLOOKUP(B123,[2]A!B$1:N$48,13,0),IFERROR(VLOOKUP(B123,[2]B!B$1:N$51,13,0),VLOOKUP(B123,[2]C!B$1:N$52,13,0)))","v":0},{"$f":"IFERROR(VLOOKUP(B123,[2]A!B$1:O$48,14,0),IFERROR(VLOOKUP(B123,[2]B!B$1:O$51,14,0),VLOOKUP(B123,[2]C!B$1:O$52,14,0)))","v":0},{"$f":"IFERROR(VLOOKUP(B123,[2]A!B$1:P$48,15,0),IFERROR(VLOOKUP(B123,[2]B!B$1:P$48,15,0),VLOOKUP(B123,[2]C!B$1:P$52,15,0)))","v":0},{"$f":"IFERROR(VLOOKUP(B123,[2]A!B$1:R$48,17,0),IFERROR(VLOOKUP(B123,[2]B!B$1:R$51,17,0),VLOOKUP(B123,[2]C!B$1:R$52,17,0)))","v":0},{"$f":"VLOOKUP(B123,[3]C!B$1:I$52,8,0)","v":11},{"$f":"VLOOKUP(B123,[3]C!B$1:J$52,9,0)","v":11},0,0,0,0,10,10,{"$f":"IFERROR(VLOOKUP(B123,[4]A!B$1:N$48,13,0),IFERROR(VLOOKUP(B123,[4]B!B$1:N$51,13,0),VLOOKUP(B123,[4]C!B$1:N$52,13,0)))","v":0},{"$f":"IFERROR(VLOOKUP(B123,[4]A!B$1:O$48,14,0),IFERROR(VLOOKUP(B123,[4]B!B$1:O$51,14,0),VLOOKUP(B123,[4]C!B$1:O$52,14,0)))","v":0},{"$f":"IFERROR(VLOOKUP(B123,[4]A!B$1:P$48,15,0),IFERROR(VLOOKUP(B123,[4]B!B$1:P$51,15,0),VLOOKUP(B123,[4]C!B$1:P$52,15,0)))","v":0},{"$f":"IFERROR(VLOOKUP(B123,[4]A!B$1:R$48,17,0),IFERROR(VLOOKUP(B123,[4]B!B$1:R$51,17,0),VLOOKUP(B123,[4]C!B$1:R$52,17,0)))","v":0},3,3,null,null,null,null,33,0,0,33,33,100,5,null,9,10,24]
[123,"15BA097",{"$f":"VLOOKUP(B124,[1]C!B$1:K$48,10,0)","v":0},{"$f":"VLOOKUP(B124,[1]C!B$1:L$48,11,0)","v":0},{"$f":"VLOOKUP(B124,[1]C!B$1:N$48,13,0)","v":0},{"$f":"VLOOKUP(B124,[1]C!B$1:O$48,14,0)","v":0},{"$f":"VLOOKUP(B124,[1]C!B$1:P$48,15,0)","v":0},{"$f":"VLOOKUP(B124,[1]C!B$1:R$48,17,0)","v":0},{"$f":"IFERROR(VLOOKUP(B124,[2]A!B$1:K$52,10,0),IFERROR(VLOOKUP(B124,[2]B!B$1:K$51,10,0),VLOOKUP(B124,[2]C!B$1:K$52,10,0)))","v":9},{"$f":"IFERROR(VLOOKUP(B124,[2]A!B$1:L$48,11,0),IFERROR(VLOOKUP(B124,[2]B!B$1:L$51,11,0),VLOOKUP(B124,[2]C!B$1:L$52,11,0)))","v":9},{"$f":"IFERROR(VLOOKUP(B124,[2]A!B$1:N$48,13,0),IFERROR(VLOOKUP(B124,[2]B!B$1:N$51,13,0),VLOOKUP(B124,[2]C!B$1:N$52,13,0)))","v":0},{"$f":"IFERROR(VLOOKUP(B124,[2]A!B$1:O$48,14,0),IFERROR(VLOOKUP(B124,[2]B!B$1:O$51,14,0),VLOOKUP(B124,[2]C!B$1:O$52,14,0)))","v":0},{"$f":"IFERROR(VLOOKUP(B124,[2]A!B$1:P$48,15,0),IFERROR(VLOOKUP(B124,[2]B!B$1:P$48,15,0),VLOOKUP(B124,[2]C!B$1:P$52,15,0)))","v":0},{"$f":"IFERROR(VLOOKUP(B124,[2]A!B$1:R$48,17,0),IFERROR(VLOOKUP(B124,[2]B!B$1:R$51,17,0),VLOOKUP(B124,[2]C!B$1:R$52,17,0)))","v":0},{"$f":"VLOOKUP(B124,[3]C!B$1:I$52,8,0)","v":11},{"$f":"VLOOKUP(B124,[3]C!B$1:J$52,9,0)","v":11},0,0,0,0,10,10,{"$f":"IFERROR(VLOOKUP(B124,[4]A!B$1:N$48,13,0),IFERROR(VLOOKUP(B124,[4]B!B$1:N$51,13,0),VLOOKUP(B124,[4]C!B$1:N$52,13,0)))","v":0},{"$f":"IFERROR(VLOOKUP(B124,[4]A!B$1:O$48,14,0),IFERROR(VLOOKUP(B124,[4]B!B$1:O$51,14,0),VLOOKUP(B124,[4]C!B$1:O$52,14,0)))","v":0},{"$f":"IFERROR(VLOOKUP(B124,[4]A!B$1:P$48,15,0),IFERROR(VLOOKUP(B124,[4]B!B$1:P$51,15,0),VLOOKUP(B124,[4]C!B$1:P$52,15,0)))","v":0},{"$f":"IFERROR(VLOOKUP(B124,[4]A!B$1:R$48,17,0),IFERROR(VLOOKUP(B124,[4]B!B$1:R$51,17,0),VLOOKUP(B124,[4]C!B$1:R$52,17,0)))","v":0},3,3,null,null,null,null,33,0,0,33,33,100,5,null,6,9,20]
[124,"15BA099",{"$f":"VLOOKUP(B125,[1]C!B$1:K$48,10,0)","v":0},{"$f":"VLOOKUP(B125,[1]C!B$1:L$48,11,0)","v":0},{"$f":"VLOOKUP(B125,[1]C!B$1:N$48,13,0)","v":0},{"$f":"VLOOKUP(B125,[1]C!B$1:O$48,14,0)","v":0},{"$f":"VLOOKUP(B125,[1]C!B$1:P$48,15,0)","v":0},{"$f":"VLOOKUP(B125,[1]C!B$1:R$48,17,0)","v":0},{"$f":"IFERROR(VLOOKUP(B125,[2]A!B$1:K$52,10,0),IFERROR(VLOOKUP(B125,[2]B!B$1:K$51,10,0),VLOOKUP(B125,[2]C!B$1:K$52,10,0)))","v":9},{"$f":"IFERROR(VLOOKUP(B125,[2]A!B$1:L$48,11,0),IFERROR(VLOOKUP(B125,[2]B!B$1:L$51,11,0),VLOOKUP(B125,[2]C!B$1:L$52,11,0)))","v":9},{"$f":"IFERROR(VLOOKUP(B125,[2]A!B$1:N$48,13,0),IFERROR(VLOOKUP(B125,[2]B!B$1:N$51,13,0),VLOOKUP(B125,[2]C!B$1:N$52,13,0)))","v":0},{"$f":"IFERROR(VLOOKUP(B125,[2]A!B$1:O$48,14,0),IFERROR(VLOOKUP(B125,[2]B!B$1:O$51,14,0),VLOOKUP(B125,[2]C!B$1:O$52,14,0)))","v":0},{"$f":"IFERROR(VLOOKUP(B125,[2]A!B$1:P$48,15,0),IFERROR(VLOOKUP(B125,[2]B!B$1:P$48,15,0),VLOOKUP(B125,[2]C!B$1:P$52,15,0)))","v":0},{"$f":"IFERROR(VLOOKUP(B125,[2]A!B$1:R$48,17,0),IFERROR(VLOOKUP(B125,[2]B!B$1:R$51,17,0),VLOOKUP(B125,[2]C!B$1:R$52,17,0)))","v":0},{"$f":"VLOOKUP(B125,[3]C!B$1:I$52,8,0)","v":11},{"$f":"VLOOKUP(B125,[3]C!B$1:J$52,9,0)","v":11},0,0,0,0,10,10,{"$f":"IFERROR(VLOOKUP(B125,[4]A!B$1:N$48,13,0),IFERROR(VLOOKUP(B125,[4]B!B$1:N$51,13,0),VLOOKUP(B125,[4]C!B$1:N$52,13,0)))","v":0},{"$f":"IFERROR(VLOOKUP(B125,[4]A!B$1:O$48,14,0),IFERROR(VLOOKUP(B125,[4]B!B$1:O$51,14,0),VLOOKUP(B125,[4]C!B$1:O$52,14,0)))","v":0},{"$f":"IFERROR(VLOOKUP(B125,[4]A!B$1:P$48,15,0),IFERROR(VLOOKUP(B125,[4]B!B$1:P$51,15,0),VLOOKUP(B125,[4]C!B$1:P$52,15,0)))","v":0},{"$f":"IFERROR(VLOOKUP(B125,[4]A!B$1:R$48,17,0),IFERROR(VLOOKUP(B125,[4]B!B$1:R$51,17,0),VLOOKUP(B125,[4]C!B$1:R$52,17,0)))","v":0},3,3,null,null,null,null,33,0,0,33,33,100,5,null,8,10,23]
[125,"15BA102",{"$f":"VLOOKUP(B126,[1]C!B$1:K$48,10,0)","v":0},{"$f":"VLOOKUP(B126,[1]C!B$1:L$48,11,0)","v":0},{"$f":"VLOOKUP(B126,[1]C!B$1:N$48,13,0)","v":0},{"$f":"VLOOKUP(B126,[1]C!B$1:O$48,14,0)","v":0},{"$f":"VLOOKUP(B126,[1]C!B$1:P$48,15,0)","v":0},{"$f":"VLOOKUP(B126,[1]C!B$1:R$48,17,0)","v":0},{"$f":"IFERROR(VLOOKUP(B126,[2]A!B$1:K$52,10,0),IFERROR(VLOOKUP(B126,[2]B!B$1:K$51,10,0),VLOOKUP(B126,[2]C!B$1:K$52,10,0)))","v":9},{"$f":"IFERROR(VLOOKUP(B126,[2]A!B$1:L$48,11,0),IFERROR(VLOOKUP(B126,[2]B!B$1:L$51,11,0),VLOOKUP(B126,[2]C!B$1:L$52,11,0)))","v":9},{"$f":"IFERROR(VLOOKUP(B126,[2]A!B$1:N$48,13,0),IFERROR(VLOOKUP(B126,[2]B!B$1:N$51,13,0),VLOOKUP(B126,[2]C!B$1:N$52,13,0)))","v":0},{"$f":"IFERROR(VLOOKUP(B126,[2]A!B$1:O$48,14,0),IFERROR(VLOOKUP(B126,[2]B!B$1:O$51,14,0),VLOOKUP(B126,[2]C!B$1:O$52,14,0)))","v":0},{"$f":"IFERROR(VLOOKUP(B126,[2]A!B$1:P$48,15,0),IFERROR(VLOOKUP(B126,[2]B!B$1:P$48,15,0),VLOOKUP(B126,[2]C!B$1:P$52,15,0)))","v":0},{"$f":"IFERROR(VLOOKUP(B126,[2]A!B$1:R$48,17,0),IFERROR(VLOOKUP(B126,[2]B!B$1:R$51,17,0),VLOOKUP(B126,[2]C!B$1:R$52,17,0)))","v":0},{"$f":"VLOOKUP(B126,[3]C!B$1:I$52,8,0)","v":11},{"$f":"VLOOKUP(B126,[3]C!B$1:J$52,9,0)","v":11},0,0,0,0,10,10,{"$f":"IFERROR(VLOOKUP(B126,[4]A!B$1:N$48,13,0),IFERROR(VLOOKUP(B126,[4]B!B$1:N$51,13,0),VLOOKUP(B126,[4]C!B$1:N$52,13,0)))","v":0},{"$f":"IFERROR(VLOOKUP(B126,[4]A!B$1:O$48,14,0),IFERROR(VLOOKUP(B126,[4]B!B$1:O$51,14,0),VLOOKUP(B126,[4]C!B$1:O$52,14,0)))","v":0},{"$f":"IFERROR(VLOOKUP(B126,[4]A!B$1:P$48,15,0),IFERROR(VLOOKUP(B126,[4]B!B$1:P$51,15,0),VLOOKUP(B126,[4]C!B$1:P$52,15,0)))","v":0},{"$f":"IFERROR(VLOOKUP(B126,[4]A!B$1:R$48,17,0),IFERROR(VLOOKUP(B126,[4]B!B$1:R$51,17,0),VLOOKUP(B126,[4]C!B$1:R$52,17,0)))","v":0},3,3,null,null,null,null,33,0,0,33,33,100,5,null,8,10,23]
[126,"15BA103",{"$f":"VLOOKUP(B127,[1]C!B$1:K$48,10,0)","v":0},{"$f":"VLOOKUP(B127,[1]C!B$1:L$48,11,0)","v":0},{"$f":"VLOOKUP(B127,[1]C!B$1:N$48,13,0)","v":0},{"$f":"VLOOKUP(B127,[1]C!B$1:O$48,14,0)","v":0},{"$f":"VLOOKUP(B127,[1]C!B$1:P$48,15,0)","v":0},{"$f":"VLOOKUP(B127,[1]C!B$1:R$48,17,0)","v":0},{"$f":"IFERROR(VLOOKUP(B127,[2]A!B$1:K$52,10,0),IFERROR(VLOOKUP(B127,[2]B!B$1:K$51,10,0),VLOOKUP(B127,[2]C!B$1:K$52,10,0)))","v":9},{"$f":"IFERROR(VLOOKUP(B127,[2]A!B$1:L$48,11,0),IFERROR(VLOOKUP(B127,[2]B!B$1:L$51,11,0),VLOOKUP(B127,[2]C!B$1:L$52,11,0)))","v":9},{"$f":"IFERROR(VLOOKUP(B127,[2]A!B$1:N$48,13,0),IFERROR(VLOOKUP(B127,[2]B!B$1:N$51,13,0),VLOOKUP(B127,[2]C!B$1:N$52,13,0)))","v":0},{"$f":"IFERROR(VLOOKUP(B127,[2]A!B$1:O$48,14,0),IFERROR(VLOOKUP(B127,[2]B!B$1:O$51,14,0),VLOOKUP(B127,[2]C!B$1:O$52,14,0)))","v":0},{"$f":"IFERROR(VLOOKUP(B127,[2]A!B$1:P$48,15,0),IFERROR(VLOOKUP(B127,[2]B!B$1:P$48,15,0),VLOOKUP(B127,[2]C!B$1:P$52,15,0)))","v":0},{"$f":"IFERROR(VLOOKUP(B127,[2]A!B$1:R$48,17,0),IFERROR(VLOOKUP(B127,[2]B!B$1:R$51,17,0),VLOOKUP(B127,[2]C!B$1:R$52,17,0)))","v":0},{"$f":"VLOOKUP(B127,[3]C!B$1:I$52,8,0)","v":11},{"$f":"VLOOKUP(B127,[3]C!B$1:J$52,9,0)","v":11},0,0,0,0,10,10,{"$f":"IFERROR(VLOOKUP(B127,[4]A!B$1:N$48,13,0),IFERROR(VLOOKUP(B127,[4]B!B$1:N$51,13,0),VLOOKUP(B127,[4]C!B$1:N$52,13,0)))","v":0},{"$f":"IFERROR(VLOOKUP(B127,[4]A!B$1:O$48,14,0),IFERROR(VLOOKUP(B127,[4]B!B$1:O$51,14,0),VLOOKUP(B127,[4]C!B$1:O$52,14,0)))","v":0},{"$f":"IFERROR(VLOOKUP(B127,[4]A!B$1:P$48,15,0),IFERROR(VLOOKUP(B127,[4]B!B$1:P$51,15,0),VLOOKUP(B127,[4]C!B$1:P$52,15,0)))","v":0},{"$f":"IFERROR(VLOOKUP(B127,[4]A!B$1:R$48,17,0),IFERROR(VLOOKUP(B127,[4]B!B$1:R$51,17,0),VLOOKUP(B127,[4]C!B$1:R$52,17,0)))","v":0},3,3,null,null,null,null,33,0,0,33,33,100,5,null,0,9,14]
[127,"15BA104",{"$f":"VLOOKUP(B128,[1]C!B$1:K$48,10,0)","v":0},{"$f":"VLOOKUP(B128,[1]C!B$1:L$48,11,0)","v":0},{"$f":"VLOOKUP(B128,[1]C!B$1:N$48,13,0)","v":0},{"$f":"VLOOKUP(B128,[1]C!B$1:O$48,14,0)","v":0},{"$f":"VLOOKUP(B128,[1]C!B$1:P$48,15,0)","v":0},{"$f":"VLOOKUP(B128,[1]C!B$1:R$48,17,0)","v":0},{"$f":"IFERROR(VLOOKUP(B128,[2]A!B$1:K$52,10,0),IFERROR(VLOOKUP(B128,[2]B!B$1:K$51,10,0),VLOOKUP(B128,[2]C!B$1:K$52,10,0)))","v":9},{"$f":"IFERROR(VLOOKUP(B128,[2]A!B$1:L$48,11,0),IFERROR(VLOOKUP(B128,[2]B!B$1:L$51,11,0),VLOOKUP(B128,[2]C!B$1:L$52,11,0)))","v":9},{"$f":"IFERROR(VLOOKUP(B128,[2]A!B$1:N$48,13,0),IFERROR(VLOOKUP(B128,[2]B!B$1:N$51,13,0),VLOOKUP(B128,[2]C!B$1:N$52,13,0)))","v":0},{"$f":"IFERROR(VLOOKUP(B128,[2]A!B$1:O$48,14,0),IFERROR(VLOOKUP(B128,[2]B!B$1:O$51,14,0),VLOOKUP(B128,[2]C!B$1:O$52,14,0)))","v":0},{"$f":"IFERROR(VLOOKUP(B128,[2]A!B$1:P$48,15,0),IFERROR(VLOOKUP(B128,[2]B!B$1:P$48,15,0),VLOOKUP(B128,[2]C!B$1:P$52,15,0)))","v":0},{"$f":"IFERROR(VLOOKUP(B128,[2]A!B$1:R$48,17,0),IFERROR(VLOOKUP(B128,[2]B!B$1:R$51,17,0),VLOOKUP(B128,[2]C!B$1:R$52,17,0)))","v":0},{"$f":"VLOOKUP(B128,[3]C!B$1:I$52,8,0)","v":11},{"$f":"VLOOKUP(B128,[3]C!B$1:J$52,9,0)","v":11},0,0,0,0,10,10,{"$f":"IFERROR(VLOOKUP(B128,[4]A!B$1:N$48,13,0),IFERROR(VLOOKUP(B128,[4]B!B$1:N$51,13,0),VLOOKUP(B128,[4]C!B$1:N$52,13,0)))","v":0},{"$f":"IFERROR(VLOOKUP(B128,[4]A!B$1:O$48,14,0),IFERROR(VLOOKUP(B128,[4]B!B$1:O$51,14,0),VLOOKUP(B128,[4]C!B$1:O$52,14,0)))","v":0},{"$f":"IFERROR(VLOOKUP(B128,[4]A!B$1:P$48,15,0),IFERROR(VLOOKUP(B128,[4]B!B$1:P$51,15,0),VLOOKUP(B128,[4]C!B$1:P$52,15,0)))","v":0},{"$f":"IFERROR(VLOOKUP(B128,[4]A!B$1:R$48,17,0),IFERROR(VLOOKUP(B128,[4]B!B$1:R$51,17,0),VLOOKUP(B128,[4]C!B$1:R$52,17,0)))","v":0},3,3,null,null,null,null,33,0,0,33,33,100,5,null,0,0,5]
[128,"15BA109",{"$f":"VLOOKUP(B129,[1]C!B$1:K$48,10,0)","v":0},{"$f":"VLOOKUP(B129,[1]C!B$1:L$48,11,0)","v":0},{"$f":"VLOOKUP(B129,[1]C!B$1:N$48,13,0)","v":0},{"$f":"VLOOKUP(B129,[1]C!B$1:O$48,14,0)","v":0},{"$f":"VLOOKUP(B129,[1]C!B$1:P$48,15,0)","v":0},{"$f":"VLOOKUP(B129,[1]C!B$1:R$48,17,0)","v":0},{"$f":"IFERROR(VLOOKUP(B129,[2]A!B$1:K$52,10,0),IFERROR(VLOOKUP(B129,[2]B!B$1:K$51,10,0),VLOOKUP(B129,[2]C!B$1:K$52,10,0)))","v":9},{"$f":"IFERROR(VLOOKUP(B129,[2]A!B$1:L$48,11,0),IFERROR(VLOOKUP(B129,[2]B!B$1:L$51,11,0),VLOOKUP(B129,[2]C!B$1:L$52,11,0)))","v":9},{"$f":"IFERROR(VLOOKUP(B129,[2]A!B$1:N$48,13,0),IFERROR(VLOOKUP(B129,[2]B!B$1:N$51,13,0),VLOOKUP(B129,[2]C!B$1:N$52,13,0)))","v":0},{"$f":"IFERROR(VLOOKUP(B129,[2]A!B$1:O$48,14,0),IFERROR(VLOOKUP(B129,[2]B!B$1:O$51,14,0),VLOOKUP(B129,[2]C!B$1:O$52,14,0)))","v":0},{"$f":"IFERROR(VLOOKUP(B129,[2]A!B$1:P$48,15,0),IFERROR(VLOOKUP(B129,[2]B!B$1:P$48,15,0),VLOOKUP(B129,[2]C!B$1:P$52,15,0)))","v":0},{"$f":"IFERROR(VLOOKUP(B129,[2]A!B$1:R$48,17,0),IFERROR(VLOOKUP(B129,[2]B!B$1:R$51,17,0),VLOOKUP(B129,[2]C!B$1:R$52,17,0)))","v":0},{"$f":"VLOOKUP(B129,[3]C!B$1:I$52,8,0)","v":11},{"$f":"VLOOKUP(B129,[3]C!B$1:J$52,9,0)","v":11},0,0,0,0,10,10,{"$f":"IFERROR(VLOOKUP(B129,[4]A!B$1:N$48,13,0),IFERROR(VLOOKUP(B129,[4]B!B$1:N$51,13,0),VLOOKUP(B129,[4]C!B$1:N$52,13,0)))","v":0},{"$f":"IFERROR(VLOOKUP(B129,[4]A!B$1:O$48,14,0),IFERROR(VLOOKUP(B129,[4]B!B$1:O$51,14,0),VLOOKUP(B129,[4]C!B$1:O$52,14,0)))","v":0},{"$f":"IFERROR(VLOOKUP(B129,[4]A!B$1:P$48,15,0),IFERROR(VLOOKUP(B129,[4]B!B$1:P$51,15,0),VLOOKUP(B129,[4]C!B$1:P$52,15,0)))","v":0},{"$f":"IFERROR(VLOOKUP(B129,[4]A!B$1:R$48,17,0),IFERROR(VLOOKUP(B129,[4]B!B$1:R$51,17,0),VLOOKUP(B129,[4]C!B$1:R$52,17,0)))","v":0},3,3,null,null,null,null,33,0,0,33,33,100,5,null,9,10,24]
[129,"15BA114",{"$f":"VLOOKUP(B130,[1]C!B$1:K$48,10,0)","v":0},{"$f":"VLOOKUP(B130,[1]C!B$1:L$48,11,0)","v":0},{"$f":"VLOOKUP(B130,[1]C!B$1:N$48,13,0)","v":0},{"$f":"VLOOKUP(B130,[1]C!B$1:O$48,14,0)","v":0},{"$f":"VLOOKUP(B130,[1]C!B$1:P$48,15,0)","v":0},{"$f":"VLOOKUP(B130,[1]C!B$1:R$48,17,0)","v":0},{"$f":"IFERROR(VLOOKUP(B130,[2]A!B$1:K$52,10,0),IFERROR(VLOOKUP(B130,[2]B!B$1:K$51,10,0),VLOOKUP(B130,[2]C!B$1:K$52,10,0)))","v":9},{"$f":"IFERROR(VLOOKUP(B130,[2]A!B$1:L$48,11,0),IFERROR(VLOOKUP(B130,[2]B!B$1:L$51,11,0),VLOOKUP(B130,[2]C!B$1:L$52,11,0)))","v":9},{"$f":"IFERROR(VLOOKUP(B130,[2]A!B$1:N$48,13,0),IFERROR(VLOOKUP(B130,[2]B!B$1:N$51,13,0),VLOOKUP(B130,[2]C!B$1:N$52,13,0)))","v":0},{"$f":"IFERROR(VLOOKUP(B130,[2]A!B$1:O$48,14,0),IFERROR(VLOOKUP(B130,[2]B!B$1:O$51,14,0),VLOOKUP(B130,[2]C!B$1:O$52,14,0)))","v":0},{"$f":"IFERROR(VLOOKUP(B130,[2]A!B$1:P$48,15,0),IFERROR(VLOOKUP(B130,[2]B!B$1:P$48,15,0),VLOOKUP(B130,[2]C!B$1:P$52,15,0)))","v":0},{"$f":"IFERROR(VLOOKUP(B130,[2]A!B$1:R$48,17,0),IFERROR(VLOOKUP(B130,[2]B!B$1:R$51,17,0),VLOOKUP(B130,[2]C!B$1:R$52,17,0)))","v":0},{"$f":"VLOOKUP(B130,[3]C!B$1:I$52,8,0)","v":11},{"$f":"VLOOKUP(B130,[3]C!B$1:J$52,9,0)","v":11},0,0,0,0,10,10,{"$f":"IFERROR(VLOOKUP(B130,[4]A!B$1:N$48,13,0),IFERROR(VLOOKUP(B130,[4]B!B$1:N$51,13,0),VLOOKUP(B130,[4]C!B$1:N$52,13,0)))","v":0},{"$f":"IFERROR(VLOOKUP(B130,[4]A!B$1:O$48,14,0),IFERROR(VLOOKUP(B130,[4]B!B$1:O$51,14,0),VLOOKUP(B130,[4]C!B$1:O$52,14,0)))","v":0},{"$f":"IFERROR(VLOOKUP(B130,[4]A!B$1:P$48,15,0),IFERROR(VLOOKUP(B130,[4]B!B$1:P$51,15,0),VLOOKUP(B130,[4]C!B$1:P$52,15,0)))","v":0},{"$f":"IFERROR(VLOOKUP(B130,[4]A!B$1:R$48,17,0),IFERROR(VLOOKUP(B130,[4]B!B$1:R$51,17,0),VLOOKUP(B130,[4]C!B$1:R$52,17,0)))","v":0},3,3,null,null,null,null,{"$f":"SUM(D130,G130,J130,M130,P130,S130,V130,Y130,AB130,AE130)","v":33},{"$f":"SUM(E130,H130,K130,N130,Q130,T130,W130,Z130,AC130,AF130)","v":0},{"$f":"FLOOR(IF(AH130<(1/3*(AG130)),AH130,(1/3*(AG130))),1)","v":0},{"$f":"SUM(C130,F130,I130,L130,O130,R130,U130,X130,AA130,AD130)","v":33},{"$f":"IF(SUM(AJ130,AI130)>AG130,AG130,SUM(AJ130,AI130))","v":33},{"$f":"(AK130/AG130)*100","v":100},{"$f":"IF(AL130>=85,5,(IF(AND(AL130>=80,AL130<85),4,(IF(AND(AL130>=75,AL130<80),3,(IF(AND(AL130>=70,AL130<75),2,(IF(AND(AL130>67,AL130<70),1,0)))))))))","v":5},null,8,8,{"$f":"SUM(AM130,AO130,AP130)","v":21}]
[130,"15BA118",{"$f":"VLOOKUP(B131,[1]C!B$1:K$48,10,0)","v":0},{"$f":"VLOOKUP(B131,[1]C!B$1:L$48,11,0)","v":0},{"$f":"VLOOKUP(B131,[1]C!B$1:N$48,13,0)","v":0},{"$f":"VLOOKUP(B131,[1]C!B$1:O$48,14,0)","v":0},{"$f":"VLOOKUP(B131,[1]C!B$1:P$48,15,0)","v":0},{"$f":"VLOOKUP(B131,[1]C!B$1:R$48,17,0)","v":0},{"$f":"IFERROR(VLOOKUP(B131,[2]A!B$1:K$52,10,0),IFERROR(VLOOKUP(B131,[2]B!B$1:K$51,10,0),VLOOKUP(B131,[2]C!B$1:K$52,10,0)))","v":9},{"$f":"IFERROR(VLOOKUP(B131,[2]A!B$1:L$48,11,0),IFERROR(VLOOKUP(B131,[2]B!B$1:L$51,11,0),VLOOKUP(B131,[2]C!B$1:L$52,11,0)))","v":9},{"$f":"IFERROR(VLOOKUP(B131,[2]A!B$1:N$48,13,0),IFERROR(VLOOKUP(B131,[2]B!B$1:N$51,13,0),VLOOKUP(B131,[2]C!B$1:N$52,13,0)))","v":0},{"$f":"IFERROR(VLOOKUP(B131,[2]A!B$1:O$48,14,0),IFERROR(VLOOKUP(B131,[2]B!B$1:O$51,14,0),VLOOKUP(B131,[2]C!B$1:O$52,14,0)))","v":0},{"$f":"IFERROR(VLOOKUP(B131,[2]A!B$1:P$48,15,0),IFERROR(VLOOKUP(B131,[2]B!B$1:P$48,15,0),VLOOKUP(B131,[2]C!B$1:P$52,15,0)))","v":0},{"$f":"IFERROR(VLOOKUP(B131,[2]A!B$1:R$48,17,0),IFERROR(VLOOKUP(B131,[2]B!B$1:R$51,17,0),VLOOKUP(B131,[2]C!B$1:R$52,17,0)))","v":0},{"$f":"VLOOKUP(B131,[3]C!B$1:I$52,8,0)","v":11},{"$f":"VLOOKUP(B131,[3]C!B$1:J$52,9,0)","v":11},0,0,0,0,10,10,{"$f":"IFERROR(VLOOKUP(B131,[4]A!B$1:N$48,13,0),IFERROR(VLOOKUP(B131,[4]B!B$1:N$51,13,0),VLOOKUP(B131,[4]C!B$1:N$52,13,0)))","v":0},{"$f":"IFERROR(VLOOKUP(B131,[4]A!B$1:O$48,14,0),IFERROR(VLOOKUP(B131,[4]B!B$1:O$51,14,0),VLOOKUP(B131,[4]C!B$1:O$52,14,0)))","v":0},{"$f":"IFERROR(VLOOKUP(B131,[4]A!B$1:P$48,15,0),IFERROR(VLOOKUP(B131,[4]B!B$1:P$51,15,0),VLOOKUP(B131,[4]C!B$1:P$52,15,0)))","v":0},{"$f":"IFERROR(VLOOKUP(B131,[4]A!B$1:R$48,17,0),IFERROR(VLOOKUP(B131,[4]B!B$1:R$51,17,0),VLOOKUP(B131,[4]C!B$1:R$52,17,0)))","v":0},3,3,null,null,null,null,33,0,0,33,33,100,5,null,6,9,20]
[131,"15BA121",{"$f":"VLOOKUP(B132,[1]C!B$1:K$48,10,0)","v":0},{"$f":"VLOOKUP(B132,[1]C!B$1:L$48,11,0)","v":0},{"$f":"VLOOKUP(B132,[1]C!B$1:N$48,13,0)","v":0},{"$f":"VLOOKUP(B132,[1]C!B$1:O$48,14,0)","v":0},{"$f":"VLOOKUP(B132,[1]C!B$1:P$48,15,0)","v":0},{"$f":"VLOOKUP(B132,[1]C!B$1:R$48,17,0)","v":0},{"$f":"IFERROR(VLOOKUP(B132,[2]A!B$1:K$52,10,0),IFERROR(VLOOKUP(B132,[2]B!B$1:K$51,10,0),VLOOKUP(B132,[2]C!B$1:K$52,10,0)))","v":9},{"$f":"IFERROR(VLOOKUP(B132,[2]A!B$1:L$48,11,0),IFERROR(VLOOKUP(B132,[2]B!B$1:L$51,11,0),VLOOKUP(B132,[2]C!B$1:L$52,11,0)))","v":9},{"$f":"IFERROR(VLOOKUP(B132,[2]A!B$1:N$48,13,0),IFERROR(VLOOKUP(B132,[2]B!B$1:N$51,13,0),VLOOKUP(B132,[2]C!B$1:N$52,13,0)))","v":0},{"$f":"IFERROR(VLOOKUP(B132,[2]A!B$1:O$48,14,0),IFERROR(VLOOKUP(B132,[2]B!B$1:O$51,14,0),VLOOKUP(B132,[2]C!B$1:O$52,14,0)))","v":0},{"$f":"IFERROR(VLOOKUP(B132,[2]A!B$1:P$48,15,0),IFERROR(VLOOKUP(B132,[2]B!B$1:P$48,15,0),VLOOKUP(B132,[2]C!B$1:P$52,15,0)))","v":0},{"$f":"IFERROR(VLOOKUP(B132,[2]A!B$1:R$48,17,0),IFERROR(VLOOKUP(B132,[2]B!B$1:R$51,17,0),VLOOKUP(B132,[2]C!B$1:R$52,17,0)))","v":0},{"$f":"VLOOKUP(B132,[3]C!B$1:I$52,8,0)","v":11},{"$f":"VLOOKUP(B132,[3]C!B$1:J$52,9,0)","v":11},0,0,0,0,10,10,{"$f":"IFERROR(VLOOKUP(B132,[4]A!B$1:N$48,13,0),IFERROR(VLOOKUP(B132,[4]B!B$1:N$51,13,0),VLOOKUP(B132,[4]C!B$1:N$52,13,0)))","v":0},{"$f":"IFERROR(VLOOKUP(B132,[4]A!B$1:O$48,14,0),IFERROR(VLOOKUP(B132,[4]B!B$1:O$51,14,0),VLOOKUP(B132,[4]C!B$1:O$52,14,0)))","v":0},{"$f":"IFERROR(VLOOKUP(B132,[4]A!B$1:P$48,15,0),IFERROR(VLOOKUP(B132,[4]B!B$1:P$51,15,0),VLOOKUP(B132,[4]C!B$1:P$52,15,0)))","v":0},{"$f":"IFERROR(VLOOKUP(B132,[4]A!B$1:R$48,17,0),IFERROR(VLOOKUP(B132,[4]B!B$1:R$51,17,0),VLOOKUP(B132,[4]C!B$1:R$52,17,0)))","v":0},3,3,null,null,null,null,33,0,0,33,33,100,5,null,7,10,22]
[132,"15BA122",{"$f":"VLOOKUP(B133,[1]C!B$1:K$48,10,0)","v":0},{"$f":"VLOOKUP(B133,[1]C!B$1:L$48,11,0)","v":0},{"$f":"VLOOKUP(B133,[1]C!B$1:N$48,13,0)","v":0},{"$f":"VLOOKUP(B133,[1]C!B$1:O$48,14,0)","v":0},{"$f":"VLOOKUP(B133,[1]C!B$1:P$48,15,0)","v":0},{"$f":"VLOOKUP(B133,[1]C!B$1:R$48,17,0)","v":0},{"$f":"IFERROR(VLOOKUP(B133,[2]A!B$1:K$52,10,0),IFERROR(VLOOKUP(B133,[2]B!B$1:K$51,10,0),VLOOKUP(B133,[2]C!B$1:K$52,10,0)))","v":9},{"$f":"IFERROR(VLOOKUP(B133,[2]A!B$1:L$48,11,0),IFERROR(VLOOKUP(B133,[2]B!B$1:L$51,11,0),VLOOKUP(B133,[2]C!B$1:L$52,11,0)))","v":9},{"$f":"IFERROR(VLOOKUP(B133,[2]A!B$1:N$48,13,0),IFERROR(VLOOKUP(B133,[2]B!B$1:N$51,13,0),VLOOKUP(B133,[2]C!B$1:N$52,13,0)))","v":0},{"$f":"IFERROR(VLOOKUP(B133,[2]A!B$1:O$48,14,0),IFERROR(VLOOKUP(B133,[2]B!B$1:O$51,14,0),VLOOKUP(B133,[2]C!B$1:O$52,14,0)))","v":0},{"$f":"IFERROR(VLOOKUP(B133,[2]A!B$1:P$48,15,0),IFERROR(VLOOKUP(B133,[2]B!B$1:P$48,15,0),VLOOKUP(B133,[2]C!B$1:P$52,15,0)))","v":0},{"$f":"IFERROR(VLOOKUP(B133,[2]A!B$1:R$48,17,0),IFERROR(VLOOKUP(B133,[2]B!B$1:R$51,17,0),VLOOKUP(B133,[2]C!B$1:R$52,17,0)))","v":0},{"$f":"VLOOKUP(B133,[3]C!B$1:I$52,8,0)","v":11},{"$f":"VLOOKUP(B133,[3]C!B$1:J$52,9,0)","v":11},0,0,0,0,10,10,{"$f":"IFERROR(VLOOKUP(B133,[4]A!B$1:N$48,13,0),IFERROR(VLOOKUP(B133,[4]B!B$1:N$51,13,0),VLOOKUP(B133,[4]C!B$1:N$52,13,0)))","v":0},{"$f":"IFERROR(VLOOKUP(B133,[4]A!B$1:O$48,14,0),IFERROR(VLOOKUP(B133,[4]B!B$1:O$51,14,0),VLOOKUP(B133,[4]C!B$1:O$52,14,0)))","v":0},{"$f":"IFERROR(VLOOKUP(B133,[4]A!B$1:P$48,15,0),IFERROR(VLOOKUP(B133,[4]B!B$1:P$51,15,0),VLOOKUP(B133,[4]C!B$1:P$52,15,0)))","v":0},{"$f":"IFERROR(VLOOKUP(B133,[4]A!B$1:R$48,17,0),IFERROR(VLOOKUP(B133,[4]B!B$1:R$51,17,0),VLOOKUP(B133,[4]C!B$1:R$52,17,0)))","v":0},3,3,null,null,null,null,33,0,0,33,33,100,5,null,7,10,22]
[133,"15BA125",{"$f":"VLOOKUP(B134,[1]C!B$1:K$48,10,0)","v":0},{"$f":"VLOOKUP(B134,[1]C!B$1:L$48,11,0)","v":0},{"$f":"VLOOKUP(B134,[1]C!B$1:N$48,13,0)","v":0},{"$f":"VLOOKUP(B134,[1]C!B$1:O$48,14,0)","v":0},{"$f":"VLOOKUP(B134,[1]C!B$1:P$48,15,0)","v":0},{"$f":"VLOOKUP(B134,[1]C!B$1:R$48,17,0)","v":0},{"$f":"IFERROR(VLOOKUP(B134,[2]A!B$1:K$52,10,0),IFERROR(VLOOKUP(B134,[2]B!B$1:K$51,10,0),VLOOKUP(B134,[2]C!B$1:K$52,10,0)))","v":9},{"$f":"IFERROR(VLOOKUP(B134,[2]A!B$1:L$48,11,0),IFERROR(VLOOKUP(B134,[2]B!B$1:L$51,11,0),VLOOKUP(B134,[2]C!B$1:L$52,11,0)))","v":9},{"$f":"IFERROR(VLOOKUP(B134,[2]A!B$1:N$48,13,0),IFERROR(VLOOKUP(B134,[2]B!B$1:N$51,13,0),VLOOKUP(B134,[2]C!B$1:N$52,13,0)))","v":0},{"$f":"IFERROR(VLOOKUP(B134,[2]A!B$1:O$48,14,0),IFERROR(VLOOKUP(B134,[2]B!B$1:O$51,14,0),VLOOKUP(B134,[2]C!B$1:O$52,14,0)))","v":0},{"$f":"IFERROR(VLOOKUP(B134,[2]A!B$1:P$48,15,0),IFERROR(VLOOKUP(B134,[2]B!B$1:P$48,15,0),VLOOKUP(B134,[2]C!B$1:P$52,15,0)))","v":0},{"$f":"IFERROR(VLOOKUP(B134,[2]A!B$1:R$48,17,0),IFERROR(VLOOKUP(B134,[2]B!B$1:R$51,17,0),VLOOKUP(B134,[2]C!B$1:R$52,17,0)))","v":0},{"$f":"VLOOKUP(B134,[3]C!B$1:I$52,8,0)","v":11},{"$f":"VLOOKUP(B134,[3]C!B$1:J$52,9,0)","v":11},0,0,0,0,10,10,{"$f":"IFERROR(VLOOKUP(B134,[4]A!B$1:N$48,13,0),IFERROR(VLOOKUP(B134,[4]B!B$1:N$51,13,0),VLOOKUP(B134,[4]C!B$1:N$52,13,0)))","v":0},{"$f":"IFERROR(VLOOKUP(B134,[4]A!B$1:O$48,14,0),IFERROR(VLOOKUP(B134,[4]B!B$1:O$51,14,0),VLOOKUP(B134,[4]C!B$1:O$52,14,0)))","v":0},{"$f":"IFERROR(VLOOKUP(B134,[4]A!B$1:P$48,15,0),IFERROR(VLOOKUP(B134,[4]B!B$1:P$51,15,0),VLOOKUP(B134,[4]C!B$1:P$52,15,0)))","v":0},{"$f":"IFERROR(VLOOKUP(B134,[4]A!B$1:R$48,17,0),IFERROR(VLOOKUP(B134,[4]B!B$1:R$51,17,0),VLOOKUP(B134,[4]C!B$1:R$52,17,0)))","v":0},3,3,null,null,null,null,33,0,0,33,33,100,5,null,6,10,21]
[134,"15BA131",{"$f":"VLOOKUP(B135,[1]C!B$1:K$48,10,0)","v":0},{"$f":"VLOOKUP(B135,[1]C!B$1:L$48,11,0)","v":0},{"$f":"VLOOKUP(B135,[1]C!B$1:N$48,13,0)","v":0},{"$f":"VLOOKUP(B135,[1]C!B$1:O$48,14,0)","v":0},{"$f":"VLOOKUP(B135,[1]C!B$1:P$48,15,0)","v":0},{"$f":"VLOOKUP(B135,[1]C!B$1:R$48,17,0)","v":0},{"$f":"IFERROR(VLOOKUP(B135,[2]A!B$1:K$52,10,0),IFERROR(VLOOKUP(B135,[2]B!B$1:K$51,10,0),VLOOKUP(B135,[2]C!B$1:K$52,10,0)))","v":9},{"$f":"IFERROR(VLOOKUP(B135,[2]A!B$1:L$48,11,0),IFERROR(VLOOKUP(B135,[2]B!B$1:L$51,11,0),VLOOKUP(B135,[2]C!B$1:L$52,11,0)))","v":9},{"$f":"IFERROR(VLOOKUP(B135,[2]A!B$1:N$48,13,0),IFERROR(VLOOKUP(B135,[2]B!B$1:N$51,13,0),VLOOKUP(B135,[2]C!B$1:N$52,13,0)))","v":0},{"$f":"IFERROR(VLOOKUP(B135,[2]A!B$1:O$48,14,0),IFERROR(VLOOKUP(B135,[2]B!B$1:O$51,14,0),VLOOKUP(B135,[2]C!B$1:O$52,14,0)))","v":0},{"$f":"IFERROR(VLOOKUP(B135,[2]A!B$1:P$48,15,0),IFERROR(VLOOKUP(B135,[2]B!B$1:P$48,15,0),VLOOKUP(B135,[2]C!B$1:P$52,15,0)))","v":0},{"$f":"IFERROR(VLOOKUP(B135,[2]A!B$1:R$48,17,0),IFERROR(VLOOKUP(B135,[2]B!B$1:R$51,17,0),VLOOKUP(B135,[2]C!B$1:R$52,17,0)))","v":0},{"$f":"VLOOKUP(B135,[3]C!B$1:I$52,8,0)","v":11},{"$f":"VLOOKUP(B135,[3]C!B$1:J$52,9,0)","v":11},0,0,0,0,10,10,{"$f":"IFERROR(VLOOKUP(B135,[4]A!B$1:N$48,13,0),IFERROR(VLOOKUP(B135,[4]B!B$1:N$51,13,0),VLOOKUP(B135,[4]C!B$1:N$52,13,0)))","v":0},{"$f":"IFERROR(VLOOKUP(B135,[4]A!B$1:O$48,14,0),IFERROR(VLOOKUP(B135,[4]B!B$1:O$51,14,0),VLOOKUP(B135,[4]C!B$1:O$52,14,0)))","v":0},{"$f":"IFERROR(VLOOKUP(B135,[4]A!B$1:P$48,15,0),IFERROR(VLOOKUP(B135,[4]B!B$1:P$51,15,0),VLOOKUP(B135,[4]C!B$1:P$52,15,0)))","v":0},{"$f":"IFERROR(VLOOKUP(B135,[4]A!B$1:R$48,17,0),IFERROR(VLOOKUP(B135,[4]B!B$1:R$51,17,0),VLOOKUP(B135,[4]C!B$1:R$52,17,0)))","v":0},3,3,null,null,null,null,33,0,0,33,33,100,5,null,0,9,14]
[135,"15BA132",{"$f":"VLOOKUP(B136,[1]C!B$1:K$48,10,0)","v":0},{"$f":"VLOOKUP(B136,[1]C!B$1:L$48,11,0)","v":0},{"$f":"VLOOKUP(B136,[1]C!B$1:N$48,13,0)","v":0},{"$f":"VLOOKUP(B136,[1]C!B$1:O$48,14,0)","v":0},{"$f":"VLOOKUP(B136,[1]C!B$1:P$48,15,0)","v":0},{"$f":"VLOOKUP(B136,[1]C!B$1:R$48,17,0)","v":0},{"$f":"IFERROR(VLOOKUP(B136,[2]A!B$1:K$52,10,0),IFERROR(VLOOKUP(B136,[2]B!B$1:K$51,10,0),VLOOKUP(B136,[2]C!B$1:K$52,10,0)))","v":9},{"$f":"IFERROR(VLOOKUP(B136,[2]A!B$1:L$48,11,0),IFERROR(VLOOKUP(B136,[2]B!B$1:L$51,11,0),VLOOKUP(B136,[2]C!B$1:L$52,11,0)))","v":9},{"$f":"IFERROR(VLOOKUP(B136,[2]A!B$1:N$48,13,0),IFERROR(VLOOKUP(B136,[2]B!B$1:N$51,13,0),VLOOKUP(B136,[2]C!B$1:N$52,13,0)))","v":0},{"$f":"IFERROR(VLOOKUP(B136,[2]A!B$1:O$48,14,0),IFERROR(VLOOKUP(B136,[2]B!B$1:O$51,14,0),VLOOKUP(B136,[2]C!B$1:O$52,14,0)))","v":0},{"$f":"IFERROR(VLOOKUP(B136,[2]A!B$1:P$48,15,0),IFERROR(VLOOKUP(B136,[2]B!B$1:P$48,15,0),VLOOKUP(B136,[2]C!B$1:P$52,15,0)))","v":0},{"$f":"IFERROR(VLOOKUP(B136,[2]A!B$1:R$48,17,0),IFERROR(VLOOKUP(B136,[2]B!B$1:R$51,17,0),VLOOKUP(B136,[2]C!B$1:R$52,17,0)))","v":0},{"$f":"VLOOKUP(B136,[3]C!B$1:I$52,8,0)","v":11},{"$f":"VLOOKUP(B136,[3]C!B$1:J$52,9,0)","v":11},0,0,0,0,10,10,{"$f":"IFERROR(VLOOKUP(B136,[4]A!B$1:N$48,13,0),IFERROR(VLOOKUP(B136,[4]B!B$1:N$51,13,0),VLOOKUP(B136,[4]C!B$1:N$52,13,0)))","v":0},{"$f":"IFERROR(VLOOKUP(B136,[4]A!B$1:O$48,14,0),IFERROR(VLOOKUP(B136,[4]B!B$1:O$51,14,0),VLOOKUP(B136,[4]C!B$1:O$52,14,0)))","v":0},{"$f":"IFERROR(VLOOKUP(B136,[4]A!B$1:P$48,15,0),IFERROR(VLOOKUP(B136,[4]B!B$1:P$51,15,0),VLOOKUP(B136,[4]C!B$1:P$52,15,0)))","v":0},{"$f":"IFERROR(VLOOKUP(B136,[4]A!B$1:R$48,17,0),IFERROR(VLOOKUP(B136,[4]B!B$1:R$51,17,0),VLOOKUP(B136,[4]C!B$1:R$52,17,0)))","v":0},3,3,null,null,null,null,33,0,0,33,33,100,5,null,4,5,14]
[136,"15BA136",{"$f":"VLOOKUP(B137,[1]C!B$1:K$48,10,0)","v":0},{"$f":"VLOOKUP(B137,[1]C!B$1:L$48,11,0)","v":0},{"$f":"VLOOKUP(B137,[1]C!B$1:N$48,13,0)","v":0},{"$f":"VLOOKUP(B137,[1]C!B$1:O$48,14,0)","v":0},{"$f":"VLOOKUP(B137,[1]C!B$1:P$48,15,0)","v":0},{"$f":"VLOOKUP(B137,[1]C!B$1:R$48,17,0)","v":0},{"$f":"IFERROR(VLOOKUP(B137,[2]A!B$1:K$52,10,0),IFERROR(VLOOKUP(B137,[2]B!B$1:K$51,10,0),VLOOKUP(B137,[2]C!B$1:K$52,10,0)))","v":0},{"$f":"IFERROR(VLOOKUP(B137,[2]A!B$1:L$48,11,0),IFERROR(VLOOKUP(B137,[2]B!B$1:L$51,11,0),VLOOKUP(B137,[2]C!B$1:L$52,11,0)))","v":9},{"$f":"IFERROR(VLOOKUP(B137,[2]A!B$1:N$48,13,0),IFERROR(VLOOKUP(B137,[2]B!B$1:N$51,13,0),VLOOKUP(B137,[2]C!B$1:N$52,13,0)))","v":0},{"$f":"IFERROR(VLOOKUP(B137,[2]A!B$1:O$48,14,0),IFERROR(VLOOKUP(B137,[2]B!B$1:O$51,14,0),VLOOKUP(B137,[2]C!B$1:O$52,14,0)))","v":0},{"$f":"IFERROR(VLOOKUP(B137,[2]A!B$1:P$48,15,0),IFERROR(VLOOKUP(B137,[2]B!B$1:P$48,15,0),VLOOKUP(B137,[2]C!B$1:P$52,15,0)))","v":0},{"$f":"IFERROR(VLOOKUP(B137,[2]A!B$1:R$48,17,0),IFERROR(VLOOKUP(B137,[2]B!B$1:R$51,17,0),VLOOKUP(B137,[2]C!B$1:R$52,17,0)))","v":0},{"$f":"VLOOKUP(B137,[3]C!B$1:I$52,8,0)","v":11},{"$f":"VLOOKUP(B137,[3]C!B$1:J$52,9,0)","v":11},0,0,0,0,10,10,{"$f":"IFERROR(VLOOKUP(B137,[4]A!B$1:N$48,13,0),IFERROR(VLOOKUP(B137,[4]B!B$1:N$51,13,0),VLOOKUP(B137,[4]C!B$1:N$52,13,0)))","v":0},{"$f":"IFERROR(VLOOKUP(B137,[4]A!B$1:O$48,14,0),IFERROR(VLOOKUP(B137,[4]B!B$1:O$51,14,0),VLOOKUP(B137,[4]C!B$1:O$52,14,0)))","v":0},{"$f":"IFERROR(VLOOKUP(B137,[4]A!B$1:P$48,15,0),IFERROR(VLOOKUP(B137,[4]B!B$1:P$51,15,0),VLOOKUP(B137,[4]C!B$1:P$52,15,0)))","v":0},{"$f":"IFERROR(VLOOKUP(B137,[4]A!B$1:R$48,17,0),IFERROR(VLOOKUP(B137,[4]B!B$1:R$51,17,0),VLOOKUP(B137,[4]C!B$1:R$52,17,0)))","v":0},3,3,null,null,null,null,33,0,0,24,24,72.727272727272734,2,null,6,10,18]
[137,"15BA137",{"$f":"VLOOKUP(B138,[1]C!B$1:K$48,10,0)","v":0},{"$f":"VLOOKUP(B138,[1]C!B$1:L$48,11,0)","v":0},{"$f":"VLOOKUP(B138,[1]C!B$1:N$48,13,0)","v":0},{"$f":"VLOOKUP(B138,[1]C!B$1:O$48,14,0)","v":0},{"$f":"VLOOKUP(B138,[1]C!B$1:P$48,15,0)","v":0},{"$f":"VLOOKUP(B138,[1]C!B$1:R$48,17,0)","v":0},{"$f":"IFERROR(VLOOKUP(B138,[2]A!B$1:K$52,10,0),IFERROR(VLOOKUP(B138,[2]B!B$1:K$51,10,0),VLOOKUP(B138,[2]C!B$1:K$52,10,0)))","v":9},{"$f":"IFERROR(VLOOKUP(B138,[2]A!B$1:L$48,11,0),IFERROR(VLOOKUP(B138,[2]B!B$1:L$51,11,0),VLOOKUP(B138,[2]C!B$1:L$52,11,0)))","v":9},{"$f":"IFERROR(VLOOKUP(B138,[2]A!B$1:N$48,13,0),IFERROR(VLOOKUP(B138,[2]B!B$1:N$51,13,0),VLOOKUP(B138,[2]C!B$1:N$52,13,0)))","v":0},{"$f":"IFERROR(VLOOKUP(B138,[2]A!B$1:O$48,14,0),IFERROR(VLOOKUP(B138,[2]B!B$1:O$51,14,0),VLOOKUP(B138,[2]C!B$1:O$52,14,0)))","v":0},{"$f":"IFERROR(VLOOKUP(B138,[2]A!B$1:P$48,15,0),IFERROR(VLOOKUP(B138,[2]B!B$1:P$48,15,0),VLOOKUP(B138,[2]C!B$1:P$52,15,0)))","v":0},{"$f":"IFERROR(VLOOKUP(B138,[2]A!B$1:R$48,17,0),IFERROR(VLOOKUP(B138,[2]B!B$1:R$51,17,0),VLOOKUP(B138,[2]C!B$1:R$52,17,0)))","v":0},{"$f":"VLOOKUP(B138,[3]C!B$1:I$52,8,0)","v":11},{"$f":"VLOOKUP(B138,[3]C!B$1:J$52,9,0)","v":11},0,0,0,0,10,10,{"$f":"IFERROR(VLOOKUP(B138,[4]A!B$1:N$48,13,0),IFERROR(VLOOKUP(B138,[4]B!B$1:N$51,13,0),VLOOKUP(B138,[4]C!B$1:N$52,13,0)))","v":0},{"$f":"IFERROR(VLOOKUP(B138,[4]A!B$1:O$48,14,0),IFERROR(VLOOKUP(B138,[4]B!B$1:O$51,14,0),VLOOKUP(B138,[4]C!B$1:O$52,14,0)))","v":0},{"$f":"IFERROR(VLOOKUP(B138,[4]A!B$1:P$48,15,0),IFERROR(VLOOKUP(B138,[4]B!B$1:P$51,15,0),VLOOKUP(B138,[4]C!B$1:P$52,15,0)))","v":0},{"$f":"IFERROR(VLOOKUP(B138,[4]A!B$1:R$48,17,0),IFERROR(VLOOKUP(B138,[4]B!B$1:R$51,17,0),VLOOKUP(B138,[4]C!B$1:R$52,17,0)))","v":0},3,3,null,null,null,null,33,0,0,33,33,100,5,null,5,9,19]
[138,"15BA142",{"$f":"VLOOKUP(B139,[1]C!B$1:K$48,10,0)","v":0},{"$f":"VLOOKUP(B139,[1]C!B$1:L$48,11,0)","v":0},{"$f":"VLOOKUP(B139,[1]C!B$1:N$48,13,0)","v":0},{"$f":"VLOOKUP(B139,[1]C!B$1:O$48,14,0)","v":0},{"$f":"VLOOKUP(B139,[1]C!B$1:P$48,15,0)","v":0},{"$f":"VLOOKUP(B139,[1]C!B$1:R$48,17,0)","v":0},{"$f":"IFERROR(VLOOKUP(B139,[2]A!B$1:K$52,10,0),IFERROR(VLOOKUP(B139,[2]B!B$1:K$51,10,0),VLOOKUP(B139,[2]C!B$1:K$52,10,0)))","v":9},{"$f":"IFERROR(VLOOKUP(B139,[2]A!B$1:L$48,11,0),IFERROR(VLOOKUP(B139,[2]B!B$1:L$51,11,0),VLOOKUP(B139,[2]C!B$1:L$52,11,0)))","v":9},{"$f":"IFERROR(VLOOKUP(B139,[2]A!B$1:N$48,13,0),IFERROR(VLOOKUP(B139,[2]B!B$1:N$51,13,0),VLOOKUP(B139,[2]C!B$1:N$52,13,0)))","v":0},{"$f":"IFERROR(VLOOKUP(B139,[2]A!B$1:O$48,14,0),IFERROR(VLOOKUP(B139,[2]B!B$1:O$51,14,0),VLOOKUP(B139,[2]C!B$1:O$52,14,0)))","v":0},{"$f":"IFERROR(VLOOKUP(B139,[2]A!B$1:P$48,15,0),IFERROR(VLOOKUP(B139,[2]B!B$1:P$48,15,0),VLOOKUP(B139,[2]C!B$1:P$52,15,0)))","v":0},{"$f":"IFERROR(VLOOKUP(B139,[2]A!B$1:R$48,17,0),IFERROR(VLOOKUP(B139,[2]B!B$1:R$51,17,0),VLOOKUP(B139,[2]C!B$1:R$52,17,0)))","v":0},{"$f":"VLOOKUP(B139,[3]C!B$1:I$52,8,0)","v":11},{"$f":"VLOOKUP(B139,[3]C!B$1:J$52,9,0)","v":11},0,0,0,0,10,10,{"$f":"IFERROR(VLOOKUP(B139,[4]A!B$1:N$48,13,0),IFERROR(VLOOKUP(B139,[4]B!B$1:N$51,13,0),VLOOKUP(B139,[4]C!B$1:N$52,13,0)))","v":0},{"$f":"IFERROR(VLOOKUP(B139,[4]A!B$1:O$48,14,0),IFERROR(VLOOKUP(B139,[4]B!B$1:O$51,14,0),VLOOKUP(B139,[4]C!B$1:O$52,14,0)))","v":0},{"$f":"IFERROR(VLOOKUP(B139,[4]A!B$1:P$48,15,0),IFERROR(VLOOKUP(B139,[4]B!B$1:P$51,15,0),VLOOKUP(B139,[4]C!B$1:P$52,15,0)))","v":0},{"$f":"IFERROR(VLOOKUP(B139,[4]A!B$1:R$48,17,0),IFERROR(VLOOKUP(B139,[4]B!B$1:R$51,17,0),VLOOKUP(B139,[4]C!B$1:R$52,17,0)))","v":0},3,3,null,null,null,null,33,0,0,33,33,100,5,null,0,10,15]
[139,"15BA145",{"$f":"VLOOKUP(B140,[1]C!B$1:K$48,10,0)","v":0},{"$f":"VLOOKUP(B140,[1]C!B$1:L$48,11,0)","v":0},{"$f":"VLOOKUP(B140,[1]C!B$1:N$48,13,0)","v":0},{"$f":"VLOOKUP(B140,[1]C!B$1:O$48,14,0)","v":0},{"$f":"VLOOKUP(B140,[1]C!B$1:P$48,15,0)","v":0},{"$f":"VLOOKUP(B140,[1]C!B$1:R$48,17,0)","v":0},{"$f":"IFERROR(VLOOKUP(B140,[2]A!B$1:K$52,10,0),IFERROR(VLOOKUP(B140,[2]B!B$1:K$51,10,0),VLOOKUP(B140,[2]C!B$1:K$52,10,0)))","v":9},{"$f":"IFERROR(VLOOKUP(B140,[2]A!B$1:L$48,11,0),IFERROR(VLOOKUP(B140,[2]B!B$1:L$51,11,0),VLOOKUP(B140,[2]C!B$1:L$52,11,0)))","v":9},{"$f":"IFERROR(VLOOKUP(B140,[2]A!B$1:N$48,13,0),IFERROR(VLOOKUP(B140,[2]B!B$1:N$51,13,0),VLOOKUP(B140,[2]C!B$1:N$52,13,0)))","v":0},{"$f":"IFERROR(VLOOKUP(B140,[2]A!B$1:O$48,14,0),IFERROR(VLOOKUP(B140,[2]B!B$1:O$51,14,0),VLOOKUP(B140,[2]C!B$1:O$52,14,0)))","v":0},{"$f":"IFERROR(VLOOKUP(B140,[2]A!B$1:P$48,15,0),IFERROR(VLOOKUP(B140,[2]B!B$1:P$48,15,0),VLOOKUP(B140,[2]C!B$1:P$52,15,0)))","v":0},{"$f":"IFERROR(VLOOKUP(B140,[2]A!B$1:R$48,17,0),IFERROR(VLOOKUP(B140,[2]B!B$1:R$51,17,0),VLOOKUP(B140,[2]C!B$1:R$52,17,0)))","v":0},{"$f":"VLOOKUP(B140,[3]C!B$1:I$52,8,0)","v":11},{"$f":"VLOOKUP(B140,[3]C!B$1:J$52,9,0)","v":11},0,0,0,0,10,10,{"$f":"IFERROR(VLOOKUP(B140,[4]A!B$1:N$48,13,0),IFERROR(VLOOKUP(B140,[4]B!B$1:N$51,13,0),VLOOKUP(B140,[4]C!B$1:N$52,13,0)))","v":0},{"$f":"IFERROR(VLOOKUP(B140,[4]A!B$1:O$48,14,0),IFERROR(VLOOKUP(B140,[4]B!B$1:O$51,14,0),VLOOKUP(B140,[4]C!B$1:O$52,14,0)))","v":0},{"$f":"IFERROR(VLOOKUP(B140,[4]A!B$1:P$48,15,0),IFERROR(VLOOKUP(B140,[4]B!B$1:P$51,15,0),VLOOKUP(B140,[4]C!B$1:P$52,15,0)))","v":0},{"$f":"IFERROR(VLOOKUP(B140,[4]A!B$1:R$48,17,0),IFERROR(VLOOKUP(B140,[4]B!B$1:R$51,17,0),VLOOKUP(B140,[4]C!B$1:R$52,17,0)))","v":0},3,3,null,null,null,null,33,0,0,33,33,100,5,null,0,10,15]
[140,"15BA146",{"$f":"VLOOKUP(B141,[1]C!B$1:K$48,10,0)","v":0},{"$f":"VLOOKUP(B141,[1]C!B$1:L$48,11,0)","v":0},{"$f":"VLOOKUP(B141,[1]C!B$1:N$48,13,0)","v":0},{"$f":"VLOOKUP(B141,[1]C!B$1:O$48,14,0)","v":0},{"$f":"VLOOKUP(B141,[1]C!B$1:P$48,15,0)","v":0},{"$f":"VLOOKUP(B141,[1]C!B$1:R$48,17,0)","v":0},{"$f":"IFERROR(VLOOKUP(B141,[2]A!B$1:K$52,10,0),IFERROR(VLOOKUP(B141,[2]B!B$1:K$51,10,0),VLOOKUP(B141,[2]C!B$1:K$52,10,0)))","v":9},{"$f":"IFERROR(VLOOKUP(B141,[2]A!B$1:L$48,11,0),IFERROR(VLOOKUP(B141,[2]B!B$1:L$51,11,0),VLOOKUP(B141,[2]C!B$1:L$52,11,0)))","v":9},{"$f":"IFERROR(VLOOKUP(B141,[2]A!B$1:N$48,13,0),IFERROR(VLOOKUP(B141,[2]B!B$1:N$51,13,0),VLOOKUP(B141,[2]C!B$1:N$52,13,0)))","v":0},{"$f":"IFERROR(VLOOKUP(B141,[2]A!B$1:O$48,14,0),IFERROR(VLOOKUP(B141,[2]B!B$1:O$51,14,0),VLOOKUP(B141,[2]C!B$1:O$52,14,0)))","v":0},{"$f":"IFERROR(VLOOKUP(B141,[2]A!B$1:P$48,15,0),IFERROR(VLOOKUP(B141,[2]B!B$1:P$48,15,0),VLOOKUP(B141,[2]C!B$1:P$52,15,0)))","v":0},{"$f":"IFERROR(VLOOKUP(B141,[2]A!B$1:R$48,17,0),IFERROR(VLOOKUP(B141,[2]B!B$1:R$51,17,0),VLOOKUP(B141,[2]C!B$1:R$52,17,0)))","v":0},{"$f":"VLOOKUP(B141,[3]C!B$1:I$52,8,0)","v":11},{"$f":"VLOOKUP(B141,[3]C!B$1:J$52,9,0)","v":11},0,0,0,0,10,10,{"$f":"IFERROR(VLOOKUP(B141,[4]A!B$1:N$48,13,0),IFERROR(VLOOKUP(B141,[4]B!B$1:N$51,13,0),VLOOKUP(B141,[4]C!B$1:N$52,13,0)))","v":0},{"$f":"IFERROR(VLOOKUP(B141,[4]A!B$1:O$48,14,0),IFERROR(VLOOKUP(B141,[4]B!B$1:O$51,14,0),VLOOKUP(B141,[4]C!B$1:O$52,14,0)))","v":0},{"$f":"IFERROR(VLOOKUP(B141,[4]A!B$1:P$48,15,0),IFERROR(VLOOKUP(B141,[4]B!B$1:P$51,15,0),VLOOKUP(B141,[4]C!B$1:P$52,15,0)))","v":0},{"$f":"IFERROR(VLOOKUP(B141,[4]A!B$1:R$48,17,0),IFERROR(VLOOKUP(B141,[4]B!B$1:R$51,17,0),VLOOKUP(B141,[4]C!B$1:R$52,17,0)))","v":0},3,3,null,null,null,null,33,0,0,33,33,100,5,null,7,8,20]
[141,"15BA147",{"$f":"VLOOKUP(B142,[1]C!B$1:K$48,10,0)","v":0},{"$f":"VLOOKUP(B142,[1]C!B$1:L$48,11,0)","v":0},{"$f":"VLOOKUP(B142,[1]C!B$1:N$48,13,0)","v":0},{"$f":"VLOOKUP(B142,[1]C!B$1:O$48,14,0)","v":0},{"$f":"VLOOKUP(B142,[1]C!B$1:P$48,15,0)","v":0},{"$f":"VLOOKUP(B142,[1]C!B$1:R$48,17,0)","v":0},{"$f":"IFERROR(VLOOKUP(B142,[2]A!B$1:K$52,10,0),IFERROR(VLOOKUP(B142,[2]B!B$1:K$51,10,0),VLOOKUP(B142,[2]C!B$1:K$52,10,0)))","v":9},{"$f":"IFERROR(VLOOKUP(B142,[2]A!B$1:L$48,11,0),IFERROR(VLOOKUP(B142,[2]B!B$1:L$51,11,0),VLOOKUP(B142,[2]C!B$1:L$52,11,0)))","v":9},{"$f":"IFERROR(VLOOKUP(B142,[2]A!B$1:N$48,13,0),IFERROR(VLOOKUP(B142,[2]B!B$1:N$51,13,0),VLOOKUP(B142,[2]C!B$1:N$52,13,0)))","v":0},{"$f":"IFERROR(VLOOKUP(B142,[2]A!B$1:O$48,14,0),IFERROR(VLOOKUP(B142,[2]B!B$1:O$51,14,0),VLOOKUP(B142,[2]C!B$1:O$52,14,0)))","v":0},{"$f":"IFERROR(VLOOKUP(B142,[2]A!B$1:P$48,15,0),IFERROR(VLOOKUP(B142,[2]B!B$1:P$48,15,0),VLOOKUP(B142,[2]C!B$1:P$52,15,0)))","v":0},{"$f":"IFERROR(VLOOKUP(B142,[2]A!B$1:R$48,17,0),IFERROR(VLOOKUP(B142,[2]B!B$1:R$51,17,0),VLOOKUP(B142,[2]C!B$1:R$52,17,0)))","v":0},{"$f":"VLOOKUP(B142,[3]C!B$1:I$52,8,0)","v":11},{"$f":"VLOOKUP(B142,[3]C!B$1:J$52,9,0)","v":11},0,0,0,0,10,10,{"$f":"IFERROR(VLOOKUP(B142,[4]A!B$1:N$48,13,0),IFERROR(VLOOKUP(B142,[4]B!B$1:N$51,13,0),VLOOKUP(B142,[4]C!B$1:N$52,13,0)))","v":0},{"$f":"IFERROR(VLOOKUP(B142,[4]A!B$1:O$48,14,0),IFERROR(VLOOKUP(B142,[4]B!B$1:O$51,14,0),VLOOKUP(B142,[4]C!B$1:O$52,14,0)))","v":0},{"$f":"IFERROR(VLOOKUP(B142,[4]A!B$1:P$48,15,0),IFERROR(VLOOKUP(B142,[4]B!B$1:P$51,15,0),VLOOKUP(B142,[4]C!B$1:P$52,15,0)))","v":0},{"$f":"IFERROR(VLOOKUP(B142,[4]A!B$1:R$48,17,0),IFERROR(VLOOKUP(B142,[4]B!B$1:R$51,17,0),VLOOKUP(B142,[4]C!B$1:R$52,17,0)))","v":0},3,3,null,null,null,null,33,0,0,33,33,100,5,null,8,0,13]
[142,"15BA148",{"$f":"VLOOKUP(B143,[1]C!B$1:K$48,10,0)","v":0},{"$f":"VLOOKUP(B143,[1]C!B$1:L$48,11,0)","v":0},{"$f":"VLOOKUP(B143,[1]C!B$1:N$48,13,0)","v":0},{"$f":"VLOOKUP(B143,[1]C!B$1:O$48,14,0)","v":0},{"$f":"VLOOKUP(B143,[1]C!B$1:P$48,15,0)","v":0},{"$f":"VLOOKUP(B143,[1]C!B$1:R$48,17,0)","v":0},{"$f":"IFERROR(VLOOKUP(B143,[2]A!B$1:K$52,10,0),IFERROR(VLOOKUP(B143,[2]B!B$1:K$51,10,0),VLOOKUP(B143,[2]C!B$1:K$52,10,0)))","v":9},{"$f":"IFERROR(VLOOKUP(B143,[2]A!B$1:L$48,11,0),IFERROR(VLOOKUP(B143,[2]B!B$1:L$51,11,0),VLOOKUP(B143,[2]C!B$1:L$52,11,0)))","v":9},{"$f":"IFERROR(VLOOKUP(B143,[2]A!B$1:N$48,13,0),IFERROR(VLOOKUP(B143,[2]B!B$1:N$51,13,0),VLOOKUP(B143,[2]C!B$1:N$52,13,0)))","v":0},{"$f":"IFERROR(VLOOKUP(B143,[2]A!B$1:O$48,14,0),IFERROR(VLOOKUP(B143,[2]B!B$1:O$51,14,0),VLOOKUP(B143,[2]C!B$1:O$52,14,0)))","v":0},{"$f":"IFERROR(VLOOKUP(B143,[2]A!B$1:P$48,15,0),IFERROR(VLOOKUP(B143,[2]B!B$1:P$48,15,0),VLOOKUP(B143,[2]C!B$1:P$52,15,0)))","v":0},{"$f":"IFERROR(VLOOKUP(B143,[2]A!B$1:R$48,17,0),IFERROR(VLOOKUP(B143,[2]B!B$1:R$51,17,0),VLOOKUP(B143,[2]C!B$1:R$52,17,0)))","v":0},{"$f":"VLOOKUP(B143,[3]C!B$1:I$52,8,0)","v":11},{"$f":"VLOOKUP(B143,[3]C!B$1:J$52,9,0)","v":11},0,0,0,0,10,10,{"$f":"IFERROR(VLOOKUP(B143,[4]A!B$1:N$48,13,0),IFERROR(VLOOKUP(B143,[4]B!B$1:N$51,13,0),VLOOKUP(B143,[4]C!B$1:N$52,13,0)))","v":0},{"$f":"IFERROR(VLOOKUP(B143,[4]A!B$1:O$48,14,0),IFERROR(VLOOKUP(B143,[4]B!B$1:O$51,14,0),VLOOKUP(B143,[4]C!B$1:O$52,14,0)))","v":0},{"$f":"IFERROR(VLOOKUP(B143,[4]A!B$1:P$48,15,0),IFERROR(VLOOKUP(B143,[4]B!B$1:P$51,15,0),VLOOKUP(B143,[4]C!B$1:P$52,15,0)))","v":0},{"$f":"IFERROR(VLOOKUP(B143,[4]A!B$1:R$48,17,0),IFERROR(VLOOKUP(B143,[4]B!B$1:R$51,17,0),VLOOKUP(B143,[4]C!B$1:R$52,17,0)))","v":0},3,3,null,null,null,null,33,0,0,33,33,100,5,null,8,10,23]
[143,"15BA150",{"$f":"VLOOKUP(B144,[1]C!B$1:K$48,10,0)","v":0},{"$f":"VLOOKUP(B144,[1]C!B$1:L$48,11,0)","v":0},{"$f":"VLOOKUP(B144,[1]C!B$1:N$48,13,0)","v":0},{"$f":"VLOOKUP(B144,[1]C!B$1:O$48,14,0)","v":0},{"$f":"VLOOKUP(B144,[1]C!B$1:P$48,15,0)","v":0},{"$f":"VLOOKUP(B144,[1]C!B$1:R$48,17,0)","v":0},9,9,{"$f":"IFERROR(VLOOKUP(B144,[2]A!B$1:N$48,13,0),IFERROR(VLOOKUP(B144,[2]B!B$1:N$51,13,0),VLOOKUP(B144,[2]C!B$1:N$52,13,0)))","v":0},{"$f":"IFERROR(VLOOKUP(B144,[2]A!B$1:O$48,14,0),IFERROR(VLOOKUP(B144,[2]B!B$1:O$51,14,0),VLOOKUP(B144,[2]C!B$1:O$52,14,0)))","v":0},{"$f":"IFERROR(VLOOKUP(B144,[2]A!B$1:P$48,15,0),IFERROR(VLOOKUP(B144,[2]B!B$1:P$48,15,0),VLOOKUP(B144,[2]C!B$1:P$52,15,0)))","v":0},{"$f":"IFERROR(VLOOKUP(B144,[2]A!B$1:R$48,17,0),IFERROR(VLOOKUP(B144,[2]B!B$1:R$51,17,0),VLOOKUP(B144,[2]C!B$1:R$52,17,0)))","v":0},{"$f":"VLOOKUP(B144,[3]C!B$1:I$52,8,0)","v":11},{"$f":"VLOOKUP(B144,[3]C!B$1:J$52,9,0)","v":11},0,0,0,0,10,10,0,{"$f":"IFERROR(VLOOKUP(B144,[4]A!B$1:O$48,14,0),IFERROR(VLOOKUP(B144,[4]B!B$1:O$51,14,0),VLOOKUP(B144,[4]C!B$1:O$52,14,0)))","v":0},{"$f":"IFERROR(VLOOKUP(B144,[4]A!B$1:P$48,15,0),IFERROR(VLOOKUP(B144,[4]B!B$1:P$51,15,0),VLOOKUP(B144,[4]C!B$1:P$52,15,0)))","v":0},{"$f":"IFERROR(VLOOKUP(B144,[4]A!B$1:R$48,17,0),IFERROR(VLOOKUP(B144,[4]B!B$1:R$51,17,0),VLOOKUP(B144,[4]C!B$1:R$52,17,0)))","v":0},3,3,null,null,null,null,33,0,0,33,33,100,5,null,9,10,24]
[144,"15BA152",0,0,0,0,0,0,{"$f":"IFERROR(VLOOKUP(B145,[2]A!B$1:K$52,10,0),IFERROR(VLOOKUP(B145,[2]B!B$1:K$51,10,0),VLOOKUP(B145,[2]C!B$1:K$52,10,0)))","v":9},{"$f":"IFERROR(VLOOKUP(B145,[2]A!B$1:L$48,11,0),IFERROR(VLOOKUP(B145,[2]B!B$1:L$51,11,0),VLOOKUP(B145,[2]C!B$1:L$52,11,0)))","v":9},{"$f":"IFERROR(VLOOKUP(B145,[2]A!B$1:N$48,13,0),IFERROR(VLOOKUP(B145,[2]B!B$1:N$51,13,0),VLOOKUP(B145,[2]C!B$1:N$52,13,0)))","v":0},{"$f":"IFERROR(VLOOKUP(B145,[2]A!B$1:O$48,14,0),IFERROR(VLOOKUP(B145,[2]B!B$1:O$51,14,0),VLOOKUP(B145,[2]C!B$1:O$52,14,0)))","v":0},{"$f":"IFERROR(VLOOKUP(B145,[2]A!B$1:P$48,15,0),IFERROR(VLOOKUP(B145,[2]B!B$1:P$48,15,0),VLOOKUP(B145,[2]C!B$1:P$52,15,0)))","v":0},{"$f":"IFERROR(VLOOKUP(B145,[2]A!B$1:R$48,17,0),IFERROR(VLOOKUP(B145,[2]B!B$1:R$51,17,0),VLOOKUP(B145,[2]C!B$1:R$52,17,0)))","v":0},{"$f":"VLOOKUP(B145,[3]C!B$1:I$52,8,0)","v":11},{"$f":"VLOOKUP(B145,[3]C!B$1:J$52,9,0)","v":11},0,0,0,0,10,10,{"$f":"IFERROR(VLOOKUP(B145,[4]A!B$1:N$48,13,0),IFERROR(VLOOKUP(B145,[4]B!B$1:N$51,13,0),VLOOKUP(B145,[4]C!B$1:N$52,13,0)))","v":0},{"$f":"IFERROR(VLOOKUP(B145,[4]A!B$1:O$48,14,0),IFERROR(VLOOKUP(B145,[4]B!B$1:O$51,14,0),VLOOKUP(B145,[4]C!B$1:O$52,14,0)))","v":0},{"$f":"IFERROR(VLOOKUP(B145,[4]A!B$1:P$48,15,0),IFERROR(VLOOKUP(B145,[4]B!B$1:P$51,15,0),VLOOKUP(B145,[4]C!B$1:P$52,15,0)))","v":0},{"$f":"IFERROR(VLOOKUP(B145,[4]A!B$1:R$48,17,0),IFERROR(VLOOKUP(B145,[4]B!B$1:R$51,17,0),VLOOKUP(B145,[4]C!B$1:R$52,17,0)))","v":0},3,3,null,null,null,null,33,0,0,33,33,100,5,null,9,10,24]
[145,"15BA154",0,0,0,0,0,0,{"$f":"IFERROR(VLOOKUP(B146,[2]A!B$1:K$52,10,0),IFERROR(VLOOKUP(B146,[2]B!B$1:K$51,10,0),VLOOKUP(B146,[2]C!B$1:K$52,10,0)))","v":9},{"$f":"IFERROR(VLOOKUP(B146,[2]A!B$1:L$48,11,0),IFERROR(VLOOKUP(B146,[2]B!B$1:L$51,11,0),VLOOKUP(B146,[2]C!B$1:L$52,11,0)))","v":9},{"$f":"IFERROR(VLOOKUP(B146,[2]A!B$1:N$48,13,0),IFERROR(VLOOKUP(B146,[2]B!B$1:N$51,13,0),VLOOKUP(B146,[2]C!B$1:N$52,13,0)))","v":0},{"$f":"IFERROR(VLOOKUP(B146,[2]A!B$1:O$48,14,0),IFERROR(VLOOKUP(B146,[2]B!B$1:O$51,14,0),VLOOKUP(B146,[2]C!B$1:O$52,14,0)))","v":0},{"$f":"IFERROR(VLOOKUP(B146,[2]A!B$1:P$48,15,0),IFERROR(VLOOKUP(B146,[2]B!B$1:P$48,15,0),VLOOKUP(B146,[2]C!B$1:P$52,15,0)))","v":0},{"$f":"IFERROR(VLOOKUP(B146,[2]A!B$1:R$48,17,0),IFERROR(VLOOKUP(B146,[2]B!B$1:R$51,17,0),VLOOKUP(B146,[2]C!B$1:R$52,17,0)))","v":0},{"$f":"VLOOKUP(B146,[3]C!B$1:I$52,8,0)","v":11},{"$f":"VLOOKUP(B146,[3]C!B$1:J$52,9,0)","v":11},0,0,0,0,10,10,{"$f":"IFERROR(VLOOKUP(B146,[4]A!B$1:N$48,13,0),IFERROR(VLOOKUP(B146,[4]B!B$1:N$51,13,0),VLOOKUP(B146,[4]C!B$1:N$52,13,0)))","v":0},{"$f":"IFERROR(VLOOKUP(B146,[4]A!B$1:O$48,14,0),IFERROR(VLOOKUP(B146,[4]B!B$1:O$51,14,0),VLOOKUP(B146,[4]C!B$1:O$52,14,0)))","v":0},{"$f":"IFERROR(VLOOKUP(B146,[4]A!B$1:P$48,15,0),IFERROR(VLOOKUP(B146,[4]B!B$1:P$51,15,0),VLOOKUP(B146,[4]C!B$1:P$52,15,0)))","v":0},{"$f":"IFERROR(VLOOKUP(B146,[4]A!B$1:R$48,17,0),IFERROR(VLOOKUP(B146,[4]B!B$1:R$51,17,0),VLOOKUP(B146,[4]C!B$1:R$52,17,0)))","v":0},3,3,null,null,null,null,33,0,0,33,33,100,5,null,9,9,23]
[146,"15BA157",0,0,0,0,0,0,{"$f":"IFERROR(VLOOKUP(B147,[2]A!B$1:K$52,10,0),IFERROR(VLOOKUP(B147,[2]B!B$1:K$51,10,0),VLOOKUP(B147,[2]C!B$1:K$52,10,0)))","v":9},{"$f":"IFERROR(VLOOKUP(B147,[2]A!B$1:L$48,11,0),IFERROR(VLOOKUP(B147,[2]B!B$1:L$51,11,0),VLOOKUP(B147,[2]C!B$1:L$52,11,0)))","v":9},{"$f":"IFERROR(VLOOKUP(B147,[2]A!B$1:N$48,13,0),IFERROR(VLOOKUP(B147,[2]B!B$1:N$51,13,0),VLOOKUP(B147,[2]C!B$1:N$52,13,0)))","v":0},{"$f":"IFERROR(VLOOKUP(B147,[2]A!B$1:O$48,14,0),IFERROR(VLOOKUP(B147,[2]B!B$1:O$51,14,0),VLOOKUP(B147,[2]C!B$1:O$52,14,0)))","v":0},{"$f":"IFERROR(VLOOKUP(B147,[2]A!B$1:P$48,15,0),IFERROR(VLOOKUP(B147,[2]B!B$1:P$48,15,0),VLOOKUP(B147,[2]C!B$1:P$52,15,0)))","v":0},{"$f":"IFERROR(VLOOKUP(B147,[2]A!B$1:R$48,17,0),IFERROR(VLOOKUP(B147,[2]B!B$1:R$51,17,0),VLOOKUP(B147,[2]C!B$1:R$52,17,0)))","v":0},{"$f":"VLOOKUP(B147,[3]C!B$1:I$52,8,0)","v":11},{"$f":"VLOOKUP(B147,[3]C!B$1:J$52,9,0)","v":11},0,0,0,0,10,10,{"$f":"IFERROR(VLOOKUP(B147,[4]A!B$1:N$48,13,0),IFERROR(VLOOKUP(B147,[4]B!B$1:N$51,13,0),VLOOKUP(B147,[4]C!B$1:N$52,13,0)))","v":0},{"$f":"IFERROR(VLOOKUP(B147,[4]A!B$1:O$48,14,0),IFERROR(VLOOKUP(B147,[4]B!B$1:O$51,14,0),VLOOKUP(B147,[4]C!B$1:O$52,14,0)))","v":0},{"$f":"IFERROR(VLOOKUP(B147,[4]A!B$1:P$48,15,0),IFERROR(VLOOKUP(B147,[4]B!B$1:P$51,15,0),VLOOKUP(B147,[4]C!B$1:P$52,15,0)))","v":0},{"$f":"IFERROR(VLOOKUP(B147,[4]A!B$1:R$48,17,0),IFERROR(VLOOKUP(B147,[4]B!B$1:R$51,17,0),VLOOKUP(B147,[4]C!B$1:R$52,17,0)))","v":0},3,3,null,null,null,null,33,0,0,33,33,100,5,null,8,10,23]
[147,"15BA158",0,0,0,0,0,0,{"$f":"IFERROR(VLOOKUP(B148,[2]A!B$1:K$52,10,0),IFERROR(VLOOKUP(B148,[2]B!B$1:K$51,10,0),VLOOKUP(B148,[2]C!B$1:K$52,10,0)))","v":9},{"$f":"IFERROR(VLOOKUP(B148,[2]A!B$1:L$48,11,0),IFERROR(VLOOKUP(B148,[2]B!B$1:L$51,11,0),VLOOKUP(B148,[2]C!B$1:L$52,11,0)))","v":9},{"$f":"IFERROR(VLOOKUP(B148,[2]A!B$1:N$48,13,0),IFERROR(VLOOKUP(B148,[2]B!B$1:N$51,13,0),VLOOKUP(B148,[2]C!B$1:N$52,13,0)))","v":0},{"$f":"IFERROR(VLOOKUP(B148,[2]A!B$1:O$48,14,0),IFERROR(VLOOKUP(B148,[2]B!B$1:O$51,14,0),VLOOKUP(B148,[2]C!B$1:O$52,14,0)))","v":0},{"$f":"IFERROR(VLOOKUP(B148,[2]A!B$1:P$48,15,0),IFERROR(VLOOKUP(B148,[2]B!B$1:P$48,15,0),VLOOKUP(B148,[2]C!B$1:P$52,15,0)))","v":0},{"$f":"IFERROR(VLOOKUP(B148,[2]A!B$1:R$48,17,0),IFERROR(VLOOKUP(B148,[2]B!B$1:R$51,17,0),VLOOKUP(B148,[2]C!B$1:R$52,17,0)))","v":0},{"$f":"VLOOKUP(B148,[3]C!B$1:I$52,8,0)","v":11},{"$f":"VLOOKUP(B148,[3]C!B$1:J$52,9,0)","v":11},0,0,0,0,10,10,{"$f":"IFERROR(VLOOKUP(B148,[4]A!B$1:N$48,13,0),IFERROR(VLOOKUP(B148,[4]B!B$1:N$51,13,0),VLOOKUP(B148,[4]C!B$1:N$52,13,0)))","v":0},{"$f":"IFERROR(VLOOKUP(B148,[4]A!B$1:O$48,14,0),IFERROR(VLOOKUP(B148,[4]B!B$1:O$51,14,0),VLOOKUP(B148,[4]C!B$1:O$52,14,0)))","v":0},{"$f":"IFERROR(VLOOKUP(B148,[4]A!B$1:P$48,15,0),IFERROR(VLOOKUP(B148,[4]B!B$1:P$51,15,0),VLOOKUP(B148,[4]C!B$1:P$52,15,0)))","v":0},{"$f":"IFERROR(VLOOKUP(B148,[4]A!B$1:R$48,17,0),IFERROR(VLOOKUP(B148,[4]B!B$1:R$51,17,0),VLOOKUP(B148,[4]C!B$1:R$52,17,0)))","v":0},3,3,null,null,null,null,33,0,0,33,33,100,5,null,5,10,20]

{"sheet":"EVS","index":2,"n_rows":148,"n_cols":39,"rows_kept":148,"cut":false,"hidden":false,"merged":[]}
["Sr. No.","Roll No.","July  Th ClassesAttended","July  Th Classes Held","July Final Calculated Benefits ","July  Tut ClassesAttended","July  Tut Classes Held","July Tut Final Calculated Benefits ","Aug  Th ClassesAttended","Aug  Th Classes Held","Aug Final Calculated Benefits ","Aug  Tut ClassesAttended","Aug  Tut Classes Held","Aug Tut Final Calculated Benefits ","Sep  Th ClassesAttended","Sep  Th Classes Held","Sep Final Calculated Benefits ","Sep  Tut ClassesAttended","Sep  Tut Classes Held","Sep Tut Final Calculated Benefits ","Oct  Th ClassesAttended","Oct  Th Classes Held","Oct Final Calculated Benefits ","Oct  Tut ClassesAttended","Oct  Tut Classes Held","Oct Tut Final Calculated Benefits ","nOV  Th ClassesAttended","Nov  Th Classes Held","Nov Final Calculated Benefits ","Nov  Tut ClassesAttended","Nov  Tut Classes Held","Nov Tut Final Calculated Benefits ","Total Classes Held in Semester","Total Benefits initially given in the semester","Final Benefits given to the student","Total Classes Attended by the student","Total classes attended + attendance benefits","Attendance Percentage","Final Marks Out of 25"]
[1,"15BA001",{"$f":"VLOOKUP(B2,[1]A!B$1:S$48,18,0)","v":5},{"$f":"VLOOKUP(B2,[1]A!B$1:T$48,19,0)","v":7},{"$f":"VLOOKUP(B2,[1]A!B$1:V$48,21,0)","v":0},{"$f":"VLOOKUP(B2,[1]A!B$1:W$48,22,0)","v":0},{"$f":"VLOOKUP(B2,[1]A!B$1:X$48,23,0)","v":0},{"$f":"VLOOKUP(B2,[1]A!B$1:Z$48,25,0)","v":0},{"$f":"IFERROR(VLOOKUP(B2,[2]A!B$1:S$48,18,0),IFERROR(VLOOKUP(B2,[2]B!B$1:S$51,18,0),VLOOKUP(B2,[2]C!B$1:S$52,18,0)))","v":13},{"$f":"IFERROR(VLOOKUP(B2,[2]A!B$1:T$48,19,0),IFERROR(VLOOKUP(B2,[2]B!B$1:T$51,19,0),VLOOKUP(B2,[2]C!B$1:T$52,19,0)))","v":15},{"$f":"IFERROR(VLOOKUP(B2,[2]A!B$1:V$48,21,0),IFERROR(VLOOKUP(B2,[2]B!B$1:V$51,21,0),VLOOKUP(B2,[2]C!B$1:V$52,21,0)))","v":0},{"$f":"IFERROR(VLOOKUP(B2,[2]A!B$1:W$48,22,0),IFERROR(VLOOKUP(B2,[2]B!B$1:W$51,22,0),VLOOKUP(B2,[2]C!B$1:W$52,22,0)))","v":0},0,0,{"$f":"IFERROR(VLOOKUP(B2,[3]A!B$1:M$48,12,0),IFERROR(VLOOKUP(B2,[3]B!B$1:M$51,12,0),VLOOKUP(B2,[3]C!B$1:M$52,12,0)))","v":12},{"$f":"IFERROR(VLOOKUP(B2,[3]A!B$1:N$48,13,0),IFERROR(VLOOKUP(B2,[3]B!B$1:N$51,13,0),VLOOKUP(B2,[3]C!B$1:N$52,13,0)))","v":12},0,0,0,0,{"$f":"IFERROR(VLOOKUP(B2,[4]A!B$1:S$48,18,0),IFERROR(VLOOKUP(B2,[4]B!B$1:S$51,18,0),VLOOKUP(B2,[4]C!B$1:S$52,18,0)))","v":7},{"$f":"IFERROR(VLOOKUP(B2,[4]A!B$1:T$48,19,0),IFERROR(VLOOKUP(B2,[4]B!B$1:T$51,19,0),VLOOKUP(B2,[4]C!B$1:T$52,19,0)))","v":13},{"$f":"IFERROR(VLOOKUP(B2,[4]A!B$1:V$48,21,0),IFERROR(VLOOKUP(B2,[4]B!B$1:V$51,21,0),VLOOKUP(B2,[4]C!B$1:V$52,21,0)))","v":0},{"$f":"IFERROR(VLOOKUP(B2,[4]A!B$1:W$48,22,0),IFERROR(VLOOKUP(B2,[4]B!B$1:W$51,22,0),VLOOKUP(B2,[4]C!B$1:W$52,22,0)))","v":0},{"$f":"IFERROR(VLOOKUP(B2,[4]A!B$1:X$48,23,0),IFERROR(VLOOKUP(B2,[4]B!B$1:X$51,23,0),VLOOKUP(B2,[4]C!B$1:X$52,23,0)))","v":0},{"$f":"IFERROR(VLOOKUP(B2,[4]A!B$1:Z$48,25,0),IFERROR(VLOOKUP(B2,[4]B!B$1:Z$51,25,0),VLOOKUP(B2,[4]C!B$1:Z$52,25,0)))","v":0},1,4,null,null,null,null,{"$f":"SUM(D2,G2,J2,M2,P2,S2,V2,Y2,AB2,AE2)","v":51},{"$f":"SUM(E2,H2,K2,N2,Q2,T2,W2,Z2,AC2,AF2)","v":0},{"$f":"FLOOR(IF(AH2<(1/3*(AG2)),AH2,(1/3*(AG2))),1)","v":0},{"$f":"SUM(C2,F2,I2,L2,O2,R2,U2,X2,AA2,AD2)","v":38},{"$f":"IF(SUM(AJ2,AI2)>AG2,AG2,SUM(AJ2,AI2))","v":38},{"$f":"(AK2/AG2)*100","v":74.509803921568633},20]
[2,"15BA002",{"$f":"VLOOKUP(B3,[1]A!B$1:S$48,18,0)","v":4},{"$f":"VLOOKUP(B3,[1]A!B$1:T$48,19,0)","v":7},{"$f":"VLOOKUP(B3,[1]A!B$1:V$48,21,0)","v":0},{"$f":"VLOOKUP(B3,[1]A!B$1:W$48,22,0)","v":0},{"$f":"VLOOKUP(B3,[1]A!B$1:X$48,23,0)","v":0},{"$f":"VLOOKUP(B3,[1]A!B$1:Z$48,25,0)","v":0},{"$f":"IFERROR(VLOOKUP(B3,[2]A!B$1:S$48,18,0),IFERROR(VLOOKUP(B3,[2]B!B$1:S$51,18,0),VLOOKUP(B3,[2]C!B$1:S$52,18,0)))","v":14},{"$f":"IFERROR(VLOOKUP(B3,[2]A!B$1:T$48,19,0),IFERROR(VLOOKUP(B3,[2]B!B$1:T$51,19,0),VLOOKUP(B3,[2]C!B$1:T$52,19,0)))","v":15},{"$f":"IFERROR(VLOOKUP(B3,[2]A!B$1:V$48,21,0),IFERROR(VLOOKUP(B3,[2]B!B$1:V$51,21,0),VLOOKUP(B3,[2]C!B$1:V$52,21,0)))","v":0},{"$f":"IFERROR(VLOOKUP(B3,[2]A!B$1:W$48,22,0),IFERROR(VLOOKUP(B3,[2]B!B$1:W$51,22,0),VLOOKUP(B3,[2]C!B$1:W$52,22,0)))","v":0},0,0,{"$f":"IFERROR(VLOOKUP(B3,[3]A!B$1:M$48,12,0),IFERROR(VLOOKUP(B3,[3]B!B$1:M$51,12,0),VLOOKUP(B3,[3]C!B$1:M$52,12,0)))","v":10},{"$f":"IFERROR(VLOOKUP(B3,[3]A!B$1:N$48,13,0),IFERROR(VLOOKUP(B3,[3]B!B$1:N$51,13,0),VLOOKUP(B3,[3]C!B$1:N$52,13,0)))","v":12},0,0,0,0,{"$f":"IFERROR(VLOOKUP(B3,[4]A!B$1:S$48,18,0),IFERROR(VLOOKUP(B3,[4]B!B$1:S$51,18,0),VLOOKUP(B3,[4]C!B$1:S$52,18,0)))","v":10},{"$f":"IFERROR(VLOOKUP(B3,[4]A!B$1:T$48,19,0),IFERROR(VLOOKUP(B3,[4]B!B$1:T$51,19,0),VLOOKUP(B3,[4]C!B$1:T$52,19,0)))","v":13},{"$f":"IFERROR(VLOOKUP(B3,[4]A!B$1:V$48,21,0),IFERROR(VLOOKUP(B3,[4]B!B$1:V$51,21,0),VLOOKUP(B3,[4]C!B$1:V$52,21,0)))","v":0},{"$f":"IFERROR(VLOOKUP(B3,[4]A!B$1:W$48,22,0),IFERROR(VLOOKUP(B3,[4]B!B$1:W$51,22,0),VLOOKUP(B3,[4]C!B$1:W$52,22,0)))","v":0},{"$f":"IFERROR(VLOOKUP(B3,[4]A!B$1:X$48,23,0),IFERROR(VLOOKUP(B3,[4]B!B$1:X$51,23,0),VLOOKUP(B3,[4]C!B$1:X$52,23,0)))","v":0},{"$f":"IFERROR(VLOOKUP(B3,[4]A!B$1:Z$48,25,0),IFERROR(VLOOKUP(B3,[4]B!B$1:Z$51,25,0),VLOOKUP(B3,[4]C!B$1:Z$52,25,0)))","v":0},3,4,null,null,null,null,{"$f":"SUM(D3,G3,J3,M3,P3,S3,V3,Y3,AB3,AE3)","v":51},{"$f":"SUM(E3,H3,K3,N3,Q3,T3,W3,Z3,AC3,AF3)","v":0},{"$f":"FLOOR(IF(AH3<(1/3*(AG3)),AH3,(1/3*(AG3))),1)","v":0},{"$f":"SUM(C3,F3,I3,L3,O3,R3,U3,X3,AA3,AD3)","v":41},{"$f":"IF(SUM(AJ3,AI3)>AG3,AG3,SUM(AJ3,AI3))","v":41},{"$f":"(AK3/AG3)*100","v":80.392156862745097},20]
[3,"15BA003",{"$f":"VLOOKUP(B4,[1]A!B$1:S$48,18,0)","v":4},{"$f":"VLOOKUP(B4,[1]A!B$1:T$48,19,0)","v":7},{"$f":"VLOOKUP(B4,[1]A!B$1:V$48,21,0)","v":0},{"$f":"VLOOKUP(B4,[1]A!B$1:W$48,22,0)","v":0},{"$f":"VLOOKUP(B4,[1]A!B$1:X$48,23,0)","v":0},{"$f":"VLOOKUP(B4,[1]A!B$1:Z$48,25,0)","v":0},{"$f":"IFERROR(VLOOKUP(B4,[2]A!B$1:S$48,18,0),IFERROR(VLOOKUP(B4,[2]B!B$1:S$51,18,0),VLOOKUP(B4,[2]C!B$1:S$52,18,0)))","v":10},{"$f":"IFERROR(VLOOKUP(B4,[2]A!B$1:T$48,19,0),IFERROR(VLOOKUP(B4,[2]B!B$1:T$51,19,0),VLOOKUP(B4,[2]C!B$1:T$52,19,0)))","v":15},{"$f":"IFERROR(VLOOKUP(B4,[2]A!B$1:V$48,21,0),IFERROR(VLOOKUP(B4,[2]B!B$1:V$51,21,0),VLOOKUP(B4,[2]C!B$1:V$52,21,0)))","v":0},{"$f":"IFERROR(VLOOKUP(B4,[2]A!B$1:W$48,22,0),IFERROR(VLOOKUP(B4,[2]B!B$1:W$51,22,0),VLOOKUP(B4,[2]C!B$1:W$52,22,0)))","v":0},0,0,{"$f":"IFERROR(VLOOKUP(B4,[3]A!B$1:M$48,12,0),IFERROR(VLOOKUP(B4,[3]B!B$1:M$51,12,0),VLOOKUP(B4,[3]C!B$1:M$52,12,0)))","v":10},{"$f":"IFERROR(VLOOKUP(B4,[3]A!B$1:N$48,13,0),IFERROR(VLOOKUP(B4,[3]B!B$1:N$51,13,0),VLOOKUP(B4,[3]C!B$1:N$52,13,0)))","v":12},0,0,0,0,{"$f":"IFERROR(VLOOKUP(B4,[4]A!B$1:S$48,18,0),IFERROR(VLOOKUP(B4,[4]B!B$1:S$51,18,0),VLOOKUP(B4,[4]C!B$1:S$52,18,0)))","v":6},{"$f":"IFERROR(VLOOKUP(B4,[4]A!B$1:T$48,19,0),IFERROR(VLOOKUP(B4,[4]B!B$1:T$51,19,0),VLOOKUP(B4,[4]C!B$1:T$52,19,0)))","v":13},{"$f":"IFERROR(VLOOKUP(B4,[4]A!B$1:V$48,21,0),IFERROR(VLOOKUP(B4,[4]B!B$1:V$51,21,0),VLOOKUP(B4,[4]C!B$1:V$52,21,0)))","v":0},{"$f":"IFERROR(VLOOKUP(B4,[4]A!B$1:W$48,22,0),IFERROR(VLOOKUP(B4,[4]B!B$1:W$51,22,0),VLOOKUP(B4,[4]C!B$1:W$52,22,0)))","v":0},{"$f":"IFERROR(VLOOKUP(B4,[4]A!B$1:X$48,23,0),IFERROR(VLOOKUP(B4,[4]B!B$1:X$51,23,0),VLOOKUP(B4,[4]C!B$1:X$52,23,0)))","v":0},{"$f":"IFERROR(VLOOKUP(B4,[4]A!B$1:Z$48,25,0),IFERROR(VLOOKUP(B4,[4]B!B$1:Z$51,25,0),VLOOKUP(B4,[4]C!B$1:Z$52,25,0)))","v":0},1,4,null,null,null,null,51,0,0,31,31,60.784313725490193,20]
[4,"15BA006",{"$f":"VLOOKUP(B5,[1]A!B$1:S$48,18,0)","v":6},{"$f":"VLOOKUP(B5,[1]A!B$1:T$48,19,0)","v":7},{"$f":"VLOOKUP(B5,[1]A!B$1:V$48,21,0)","v":0},{"$f":"VLOOKUP(B5,[1]A!B$1:W$48,22,0)","v":0},{"$f":"VLOOKUP(B5,[1]A!B$1:X$48,23,0)","v":0},{"$f":"VLOOKUP(B5,[1]A!B$1:Z$48,25,0)","v":0},{"$f":"IFERROR(VLOOKUP(B5,[2]A!B$1:S$48,18,0),IFERROR(VLOOKUP(B5,[2]B!B$1:S$51,18,0),VLOOKUP(B5,[2]C!B$1:S$52,18,0)))","v":14},{"$f":"IFERROR(VLOOKUP(B5,[2]A!B$1:T$48,19,0),IFERROR(VLOOKUP(B5,[2]B!B$1:T$51,19,0),VLOOKUP(B5,[2]C!B$1:T$52,19,0)))","v":15},{"$f":"IFERROR(VLOOKUP(B5,[2]A!B$1:V$48,21,0),IFERROR(VLOOKUP(B5,[2]B!B$1:V$51,21,0),VLOOKUP(B5,[2]C!B$1:V$52,21,0)))","v":0},{"$f":"IFERROR(VLOOKUP(B5,[2]A!B$1:W$48,22,0),IFERROR(VLOOKUP(B5,[2]B!B$1:W$51,22,0),VLOOKUP(B5,[2]C!B$1:W$52,22,0)))","v":0},0,0,{"$f":"IFERROR(VLOOKUP(B5,[3]A!B$1:M$48,12,0),IFERROR(VLOOKUP(B5,[3]B!B$1:M$51,12,0),VLOOKUP(B5,[3]C!B$1:M$52,12,0)))","v":11},{"$f":"IFERROR(VLOOKUP(B5,[3]A!B$1:N$48,13,0),IFERROR(VLOOKUP(B5,[3]B!B$1:N$51,13,0),VLOOKUP(B5,[3]C!B$1:N$52,13,0)))","v":12},0,0,0,0,{"$f":"IFERROR(VLOOKUP(B5,[4]A!B$1:S$48,18,0),IFERROR(VLOOKUP(B5,[4]B!B$1:S$51,18,0),VLOOKUP(B5,[4]C!B$1:S$52,18,0)))","v":13},{"$f":"IFERROR(VLOOKUP(B5,[4]A!B$1:T$48,19,0),IFERROR(VLOOKUP(B5,[4]B!B$1:T$51,19,0),VLOOKUP(B5,[4]C!B$1:T$52,19,0)))","v":13},{"$f":"IFERROR(VLOOKUP(B5,[4]A!B$1:V$48,21,0),IFERROR(VLOOKUP(B5,[4]B!B$1:V$51,21,0),VLOOKUP(B5,[4]C!B$1:V$52,21,0)))","v":0},{"$f":"IFERROR(VLOOKUP(B5,[4]A!B$1:W$48,22,0),IFERROR(VLOOKUP(B5,[4]B!B$1:W$51,22,0),VLOOKUP(B5,[4]C!B$1:W$52,22,0)))","v":0},{"$f":"IFERROR(VLOOKUP(B5,[4]A!B$1:X$48,23,0),IFERROR(VLOOKUP(B5,[4]B!B$1:X$51,23,0),VLOOKUP(B5,[4]C!B$1:X$52,23,0)))","v":0},{"$f":"IFERROR(VLOOKUP(B5,[4]A!B$1:Z$48,25,0),IFERROR(VLOOKUP(B5,[4]B!B$1:Z$51,25,0),VLOOKUP(B5,[4]C!B$1:Z$52,25,0)))","v":0},3,4,null,null,null,null,51,0,0,47,47,92.156862745098039,22]
[5,"15BA007",{"$f":"VLOOKUP(B6,[1]A!B$1:S$48,18,0)","v":4},{"$f":"VLOOKUP(B6,[1]A!B$1:T$48,19,0)","v":7},{"$f":"VLOOKUP(B6,[1]A!B$1:V$48,21,0)","v":0},{"$f":"VLOOKUP(B6,[1]A!B$1:W$48,22,0)","v":0},{"$f":"VLOOKUP(B6,[1]A!B$1:X$48,23,0)","v":0},{"$f":"VLOOKUP(B6,[1]A!B$1:Z$48,25,0)","v":0},{"$f":"IFERROR(VLOOKUP(B6,[2]A!B$1:S$48,18,0),IFERROR(VLOOKUP(B6,[2]B!B$1:S$51,18,0),VLOOKUP(B6,[2]C!B$1:S$52,18,0)))","v":12},{"$f":"IFERROR(VLOOKUP(B6,[2]A!B$1:T$48,19,0),IFERROR(VLOOKUP(B6,[2]B!B$1:T$51,19,0),VLOOKUP(B6,[2]C!B$1:T$52,19,0)))","v":15},{"$f":"IFERROR(VLOOKUP(B6,[2]A!B$1:V$48,21,0),IFERROR(VLOOKUP(B6,[2]B!B$1:V$51,21,0),VLOOKUP(B6,[2]C!B$1:V$52,21,0)))","v":0},{"$f":"IFERROR(VLOOKUP(B6,[2]A!B$1:W$48,22,0),IFERROR(VLOOKUP(B6,[2]B!B$1:W$51,22,0),VLOOKUP(B6,[2]C!B$1:W$52,22,0)))","v":0},0,0,{"$f":"IFERROR(VLOOKUP(B6,[3]A!B$1:M$48,12,0),IFERROR(VLOOKUP(B6,[3]B!B$1:M$51,12,0),VLOOKUP(B6,[3]C!B$1:M$52,12,0)))","v":10},{"$f":"IFERROR(VLOOKUP(B6,[3]A!B$1:N$48,13,0),IFERROR(VLOOKUP(B6,[3]B!B$1:N$51,13,0),VLOOKUP(B6,[3]C!B$1:N$52,13,0)))","v":12},0,0,0,0,{"$f":"IFERROR(VLOOKUP(B6,[4]A!B$1:S$48,18,0),IFERROR(VLOOKUP(B6,[4]B!B$1:S$51,18,0),VLOOKUP(B6,[4]C!B$1:S$52,18,0)))","v":8},{"$f":"IFERROR(VLOOKUP(B6,[4]A!B$1:T$48,19,0),IFERROR(VLOOKUP(B6,[4]B!B$1:T$51,19,0),VLOOKUP(B6,[4]C!B$1:T$52,19,0)))","v":13},{"$f":"IFERROR(VLOOKUP(B6,[4]A!B$1:V$48,21,0),IFERROR(VLOOKUP(B6,[4]B!B$1:V$51,21,0),VLOOKUP(B6,[4]C!B$1:V$52,21,0)))","v":0},{"$f":"IFERROR(VLOOKUP(B6,[4]A!B$1:W$48,22,0),IFERROR(VLOOKUP(B6,[4]B!B$1:W$51,22,0),VLOOKUP(B6,[4]C!B$1:W$52,22,0)))","v":0},{"$f":"IFERROR(VLOOKUP(B6,[4]A!B$1:X$48,23,0),IFERROR(VLOOKUP(B6,[4]B!B$1:X$51,23,0),VLOOKUP(B6,[4]C!B$1:X$52,23,0)))","v":0},{"$f":"IFERROR(VLOOKUP(B6,[4]A!B$1:Z$48,25,0),IFERROR(VLOOKUP(B6,[4]B!B$1:Z$51,25,0),VLOOKUP(B6,[4]C!B$1:Z$52,25,0)))","v":0},1,4,null,null,null,null,51,0,0,35,35,68.627450980392155,20]
[6,"15BA011",{"$f":"VLOOKUP(B7,[1]A!B$1:S$48,18,0)","v":4},{"$f":"VLOOKUP(B7,[1]A!B$1:T$48,19,0)","v":7},{"$f":"VLOOKUP(B7,[1]A!B$1:V$48,21,0)","v":0},{"$f":"VLOOKUP(B7,[1]A!B$1:W$48,22,0)","v":0},{"$f":"VLOOKUP(B7,[1]A!B$1:X$48,23,0)","v":0},{"$f":"VLOOKUP(B7,[1]A!B$1:Z$48,25,0)","v":0},{"$f":"IFERROR(VLOOKUP(B7,[2]A!B$1:S$48,18,0),IFERROR(VLOOKUP(B7,[2]B!B$1:S$51,18,0),VLOOKUP(B7,[2]C!B$1:S$52,18,0)))","v":15},{"$f":"IFERROR(VLOOKUP(B7,[2]A!B$1:T$48,19,0),IFERROR(VLOOKUP(B7,[2]B!B$1:T$51,19,0),VLOOKUP(B7,[2]C!B$1:T$52,19,0)))","v":15},{"$f":"IFERROR(VLOOKUP(B7,[2]A!B$1:V$48,21,0),IFERROR(VLOOKUP(B7,[2]B!B$1:V$51,21,0),VLOOKUP(B7,[2]C!B$1:V$52,21,0)))","v":0},{"$f":"IFERROR(VLOOKUP(B7,[2]A!B$1:W$48,22,0),IFERROR(VLOOKUP(B7,[2]B!B$1:W$51,22,0),VLOOKUP(B7,[2]C!B$1:W$52,22,0)))","v":0},0,0,{"$f":"IFERROR(VLOOKUP(B7,[3]A!B$1:M$48,12,0),IFERROR(VLOOKUP(B7,[3]B!B$1:M$51,12,0),VLOOKUP(B7,[3]C!B$1:M$52,12,0)))","v":11},{"$f":"IFERROR(VLOOKUP(B7,[3]A!B$1:N$48,13,0),IFERROR(VLOOKUP(B7,[3]B!B$1:N$51,13,0),VLOOKUP(B7,[3]C!B$1:N$52,13,0)))","v":12},0,0,0,0,{"$f":"IFERROR(VLOOKUP(B7,[4]A!B$1:S$48,18,0),IFERROR(VLOOKUP(B7,[4]B!B$1:S$51,18,0),VLOOKUP(B7,[4]C!B$1:S$52,18,0)))","v":13},{"$f":"IFERROR(VLOOKUP(B7,[4]A!B$1:T$48,19,0),IFERROR(VLOOKUP(B7,[4]B!B$1:T$51,19,0),VLOOKUP(B7,[4]C!B$1:T$52,19,0)))","v":13},{"$f":"IFERROR(VLOOKUP(B7,[4]A!B$1:V$48,21,0),IFERROR(VLOOKUP(B7,[4]B!B$1:V$51,21,0),VLOOKUP(B7,[4]C!B$1:V$52,21,0)))","v":0},{"$f":"IFERROR(VLOOKUP(B7,[4]A!B$1:W$48,22,0),IFERROR(VLOOKUP(B7,[4]B!B$1:W$51,22,0),VLOOKUP(B7,[4]C!B$1:W$52,22,0)))","v":0},{"$f":"IFERROR(VLOOKUP(B7,[4]A!B$1:X$48,23,0),IFERROR(VLOOKUP(B7,[4]B!B$1:X$51,23,0),VLOOKUP(B7,[4]C!B$1:X$52,23,0)))","v":0},{"$f":"IFERROR(VLOOKUP(B7,[4]A!B$1:Z$48,25,0),IFERROR(VLOOKUP(B7,[4]B!B$1:Z$51,25,0),VLOOKUP(B7,[4]C!B$1:Z$52,25,0)))","v":0},2,4,null,null,null,null,51,0,0,45,45,88.235294117647058,23]
[7,"15BA015",{"$f":"VLOOKUP(B8,[1]A!B$1:S$48,18,0)","v":4},{"$f":"VLOOKUP(B8,[1]A!B$1:T$48,19,0)","v":7},{"$f":"VLOOKUP(B8,[1]A!B$1:V$48,21,0)","v":0},{"$f":"VLOOKUP(B8,[1]A!B$1:W$48,22,0)","v":0},{"$f":"VLOOKUP(B8,[1]A!B$1:X$48,23,0)","v":0},{"$f":"VLOOKUP(B8,[1]A!B$1:Z$48,25,0)","v":0},{"$f":"IFERROR(VLOOKUP(B8,[2]A!B$1:S$48,18,0),IFERROR(VLOOKUP(B8,[2]B!B$1:S$51,18,0),VLOOKUP(B8,[2]C!B$1:S$52,18,0)))","v":12},{"$f":"IFERROR(VLOOKUP(B8,[2]A!B$1:T$48,19,0),IFERROR(VLOOKUP(B8,[2]B!B$1:T$51,19,0),VLOOKUP(B8,[2]C!B$1:T$52,19,0)))","v":15},{"$f":"IFERROR(VLOOKUP(B8,[2]A!B$1:V$48,21,0),IFERROR(VLOOKUP(B8,[2]B!B$1:V$51,21,0),VLOOKUP(B8,[2]C!B$1:V$52,21,0)))","v":0},{"$f":"IFERROR(VLOOKUP(B8,[2]A!B$1:W$48,22,0),IFERROR(VLOOKUP(B8,[2]B!B$1:W$51,22,0),VLOOKUP(B8,[2]C!B$1:W$52,22,0)))","v":0},0,0,{"$f":"IFERROR(VLOOKUP(B8,[3]A!B$1:M$48,12,0),IFERROR(VLOOKUP(B8,[3]B!B$1:M$51,12,0),VLOOKUP(B8,[3]C!B$1:M$52,12,0)))","v":9},{"$f":"IFERROR(VLOOKUP(B8,[3]A!B$1:N$48,13,0),IFERROR(VLOOKUP(B8,[3]B!B$1:N$51,13,0),VLOOKUP(B8,[3]C!B$1:N$52,13,0)))","v":12},0,0,0,0,{"$f":"IFERROR(VLOOKUP(B8,[4]A!B$1:S$48,18,0),IFERROR(VLOOKUP(B8,[4]B!B$1:S$51,18,0),VLOOKUP(B8,[4]C!B$1:S$52,18,0)))","v":8},{"$f":"IFERROR(VLOOKUP(B8,[4]A!B$1:T$48,19,0),IFERROR(VLOOKUP(B8,[4]B!B$1:T$51,19,0),VLOOKUP(B8,[4]C!B$1:T$52,19,0)))","v":13},{"$f":"IFERROR(VLOOKUP(B8,[4]A!B$1:V$48,21,0),IFERROR(VLOOKUP(B8,[4]B!B$1:V$51,21,0),VLOOKUP(B8,[4]C!B$1:V$52,21,0)))","v":0},{"$f":"IFERROR(VLOOKUP(B8,[4]A!B$1:W$48,22,0),IFERROR(VLOOKUP(B8,[4]B!B$1:W$51,22,0),VLOOKUP(B8,[4]C!B$1:W$52,22,0)))","v":0},{"$f":"IFERROR(VLOOKUP(B8,[4]A!B$1:X$48,23,0),IFERROR(VLOOKUP(B8,[4]B!B$1:X$51,23,0),VLOOKUP(B8,[4]C!B$1:X$52,23,0)))","v":0},{"$f":"IFERROR(VLOOKUP(B8,[4]A!B$1:Z$48,25,0),IFERROR(VLOOKUP(B8,[4]B!B$1:Z$51,25,0),VLOOKUP(B8,[4]C!B$1:Z$52,25,0)))","v":0},2,4,null,null,null,null,51,0,0,35,35,68.627450980392155,20]
[8,"15BA019",{"$f":"VLOOKUP(B9,[1]A!B$1:S$48,18,0)","v":6},{"$f":"VLOOKUP(B9,[1]A!B$1:T$48,19,0)","v":7},{"$f":"VLOOKUP(B9,[1]A!B$1:V$48,21,0)","v":0},{"$f":"VLOOKUP(B9,[1]A!B$1:W$48,22,0)","v":0},{"$f":"VLOOKUP(B9,[1]A!B$1:X$48,23,0)","v":0},{"$f":"VLOOKUP(B9,[1]A!B$1:Z$48,25,0)","v":0},{"$f":"IFERROR(VLOOKUP(B9,[2]A!B$1:S$48,18,0),IFERROR(VLOOKUP(B9,[2]B!B$1:S$51,18,0),VLOOKUP(B9,[2]C!B$1:S$52,18,0)))","v":14},{"$f":"IFERROR(VLOOKUP(B9,[2]A!B$1:T$48,19,0),IFERROR(VLOOKUP(B9,[2]B!B$1:T$51,19,0),VLOOKUP(B9,[2]C!B$1:T$52,19,0)))","v":15},{"$f":"IFERROR(VLOOKUP(B9,[2]A!B$1:V$48,21,0),IFERROR(VLOOKUP(B9,[2]B!B$1:V$51,21,0),VLOOKUP(B9,[2]C!B$1:V$52,21,0)))","v":0},{"$f":"IFERROR(VLOOKUP(B9,[2]A!B$1:W$48,22,0),IFERROR(VLOOKUP(B9,[2]B!B$1:W$51,22,0),VLOOKUP(B9,[2]C!B$1:W$52,22,0)))","v":0},0,0,{"$f":"IFERROR(VLOOKUP(B9,[3]A!B$1:M$48,12,0),IFERROR(VLOOKUP(B9,[3]B!B$1:M$51,12,0),VLOOKUP(B9,[3]C!B$1:M$52,12,0)))","v":11},{"$f":"IFERROR(VLOOKUP(B9,[3]A!B$1:N$48,13,0),IFERROR(VLOOKUP(B9,[3]B!B$1:N$51,13,0),VLOOKUP(B9,[3]C!B$1:N$52,13,0)))","v":12},0,0,0,0,{"$f":"IFERROR(VLOOKUP(B9,[4]A!B$1:S$48,18,0),IFERROR(VLOOKUP(B9,[4]B!B$1:S$51,18,0),VLOOKUP(B9,[4]C!B$1:S$52,18,0)))","v":11},{"$f":"IFERROR(VLOOKUP(B9,[4]A!B$1:T$48,19,0),IFERROR(VLOOKUP(B9,[4]B!B$1:T$51,19,0),VLOOKUP(B9,[4]C!B$1:T$52,19,0)))","v":13},{"$f":"IFERROR(VLOOKUP(B9,[4]A!B$1:V$48,21,0),IFERROR(VLOOKUP(B9,[4]B!B$1:V$51,21,0),VLOOKUP(B9,[4]C!B$1:V$52,21,0)))","v":2},{"$f":"IFERROR(VLOOKUP(B9,[4]A!B$1:W$48,22,0),IFERROR(VLOOKUP(B9,[4]B!B$1:W$51,22,0),VLOOKUP(B9,[4]C!B$1:W$52,22,0)))","v":0},{"$f":"IFERROR(VLOOKUP(B9,[4]A!B$1:X$48,23,0),IFERROR(VLOOKUP(B9,[4]B!B$1:X$51,23,0),VLOOKUP(B9,[4]C!B$1:X$52,23,0)))","v":0},{"$f":"IFERROR(VLOOKUP(B9,[4]A!B$1:Z$48,25,0),IFERROR(VLOOKUP(B9,[4]B!B$1:Z$51,25,0),VLOOKUP(B9,[4]C!B$1:Z$52,25,0)))","v":0},4,4,null,null,null,null,51,2,2,46,48,94.117647058823522,24]
[9,"15BA023",{"$f":"VLOOKUP(B10,[1]A!B$1:S$48,18,0)","v":7},{"$f":"VLOOKUP(B10,[1]A!B$1:T$48,19,0)","v":7},{"$f":"VLOOKUP(B10,[1]A!B$1:V$48,21,0)","v":0},{"$f":"VLOOKUP(B10,[1]A!B$1:W$48,22,0)","v":0},{"$f":"VLOOKUP(B10,[1]A!B$1:X$48,23,0)","v":0},{"$f":"VLOOKUP(B10,[1]A!B$1:Z$48,25,0)","v":0},{"$f":"IFERROR(VLOOKUP(B10,[2]A!B$1:S$48,18,0),IFERROR(VLOOKUP(B10,[2]B!B$1:S$51,18,0),VLOOKUP(B10,[2]C!B$1:S$52,18,0)))","v":14},{"$f":"IFERROR(VLOOKUP(B10,[2]A!B$1:T$48,19,0),IFERROR(VLOOKUP(B10,[2]B!B$1:T$51,19,0),VLOOKUP(B10,[2]C!B$1:T$52,19,0)))","v":15},{"$f":"IFERROR(VLOOKUP(B10,[2]A!B$1:V$48,21,0),IFERROR(VLOOKUP(B10,[2]B!B$1:V$51,21,0),VLOOKUP(B10,[2]C!B$1:V$52,21,0)))","v":0},{"$f":"IFERROR(VLOOKUP(B10,[2]A!B$1:W$48,22,0),IFERROR(VLOOKUP(B10,[2]B!B$1:W$51,22,0),VLOOKUP(B10,[2]C!B$1:W$52,22,0)))","v":0},0,0,{"$f":"IFERROR(VLOOKUP(B10,[3]A!B$1:M$48,12,0),IFERROR(VLOOKUP(B10,[3]B!B$1:M$51,12,0),VLOOKUP(B10,[3]C!B$1:M$52,12,0)))","v":11},{"$f":"IFERROR(VLOOKUP(B10,[3]A!B$1:N$48,13,0),IFERROR(VLOOKUP(B10,[3]B!B$1:N$51,13,0),VLOOKUP(B10,[3]C!B$1:N$52,13,0)))","v":12},0,0,0,0,{"$f":"IFERROR(VLOOKUP(B10,[4]A!B$1:S$48,18,0),IFERROR(VLOOKUP(B10,[4]B!B$1:S$51,18,0),VLOOKUP(B10,[4]C!B$1:S$52,18,0)))","v":10},{"$f":"IFERROR(VLOOKUP(B10,[4]A!B$1:T$48,19,0),IFERROR(VLOOKUP(B10,[4]B!B$1:T$51,19,0),VLOOKUP(B10,[4]C!B$1:T$52,19,0)))","v":13},{"$f":"IFERROR(VLOOKUP(B10,[4]A!B$1:V$48,21,0),IFERROR(VLOOKUP(B10,[4]B!B$1:V$51,21,0),VLOOKUP(B10,[4]C!B$1:V$52,21,0)))","v":0},{"$f":"IFERROR(VLOOKUP(B10,[4]A!B$1:W$48,22,0),IFERROR(VLOOKUP(B10,[4]B!B$1:W$51,22,0),VLOOKUP(B10,[4]C!B$1:W$52,22,0)))","v":0},{"$f":"IFERROR(VLOOKUP(B10,[4]A!B$1:X$48,23,0),IFERROR(VLOOKUP(B10,[4]B!B$1:X$51,23,0),VLOOKUP(B10,[4]C!B$1:X$52,23,0)))","v":0},{"$f":"IFERROR(VLOOKUP(B10,[4]A!B$1:Z$48,25,0),IFERROR(VLOOKUP(B10,[4]B!B$1:Z$51,25,0),VLOOKUP(B10,[4]C!B$1:Z$52,25,0)))","v":0},4,4,null,null,null,null,51,0,0,46,46,90.196078431372555,23]
[10,"15BA026",{"$f":"VLOOKUP(B11,[1]A!B$1:S$48,18,0)","v":7},{"$f":"VLOOKUP(B11,[1]A!B$1:T$48,19,0)","v":7},{"$f":"VLOOKUP(B11,[1]A!B$1:V$48,21,0)","v":0},{"$f":"VLOOKUP(B11,[1]A!B$1:W$48,22,0)","v":0},{"$f":"VLOOKUP(B11,[1]A!B$1:X$48,23,0)","v":0},{"$f":"VLOOKUP(B11,[1]A!B$1:Z$48,25,0)","v":0},{"$f":"IFERROR(VLOOKUP(B11,[2]A!B$1:S$48,18,0),IFERROR(VLOOKUP(B11,[2]B!B$1:S$51,18,0),VLOOKUP(B11,[2]C!B$1:S$52,18,0)))","v":13},{"$f":"IFERROR(VLOOKUP(B11,[2]A!B$1:T$48,19,0),IFERROR(VLOOKUP(B11,[2]B!B$1:T$51,19,0),VLOOKUP(B11,[2]C!B$1:T$52,19,0)))","v":15},{"$f":"IFERROR(VLOOKUP(B11,[2]A!B$1:V$48,21,0),IFERROR(VLOOKUP(B11,[2]B!B$1:V$51,21,0),VLOOKUP(B11,[2]C!B$1:V$52,21,0)))","v":0},{"$f":"IFERROR(VLOOKUP(B11,[2]A!B$1:W$48,22,0),IFERROR(VLOOKUP(B11,[2]B!B$1:W$51,22,0),VLOOKUP(B11,[2]C!B$1:W$52,22,0)))","v":0},0,0,{"$f":"IFERROR(VLOOKUP(B11,[3]A!B$1:M$48,12,0),IFERROR(VLOOKUP(B11,[3]B!B$1:M$51,12,0),VLOOKUP(B11,[3]C!B$1:M$52,12,0)))","v":12},{"$f":"IFERROR(VLOOKUP(B11,[3]A!B$1:N$48,13,0),IFERROR(VLOOKUP(B11,[3]B!B$1:N$51,13,0),VLOOKUP(B11,[3]C!B$1:N$52,13,0)))","v":12},0,0,0,0,{"$f":"IFERROR(VLOOKUP(B11,[4]A!B$1:S$48,18,0),IFERROR(VLOOKUP(B11,[4]B!B$1:S$51,18,0),VLOOKUP(B11,[4]C!B$1:S$52,18,0)))","v":11},{"$f":"IFERROR(VLOOKUP(B11,[4]A!B$1:T$48,19,0),IFERROR(VLOOKUP(B11,[4]B!B$1:T$51,19,0),VLOOKUP(B11,[4]C!B$1:T$52,19,0)))","v":13},{"$f":"IFERROR(VLOOKUP(B11,[4]A!B$1:V$48,21,0),IFERROR(VLOOKUP(B11,[4]B!B$1:V$51,21,0),VLOOKUP(B11,[4]C!B$1:V$52,21,0)))","v":0},{"$f":"IFERROR(VLOOKUP(B11,[4]A!B$1:W$48,22,0),IFERROR(VLOOKUP(B11,[4]B!B$1:W$51,22,0),VLOOKUP(B11,[4]C!B$1:W$52,22,0)))","v":0},{"$f":"IFERROR(VLOOKUP(B11,[4]A!B$1:X$48,23,0),IFERROR(VLOOKUP(B11,[4]B!B$1:X$51,23,0),VLOOKUP(B11,[4]C!B$1:X$52,23,0)))","v":0},{"$f":"IFERROR(VLOOKUP(B11,[4]A!B$1:Z$48,25,0),IFERROR(VLOOKUP(B11,[4]B!B$1:Z$51,25,0),VLOOKUP(B11,[4]C!B$1:Z$52,25,0)))","v":0},4,4,null,null,null,null,51,0,0,47,47,92.156862745098039,22]
[11,"15BA033",{"$f":"VLOOKUP(B12,[1]A!B$1:S$48,18,0)","v":7},{"$f":"VLOOKUP(B12,[1]A!B$1:T$48,19,0)","v":7},{"$f":"VLOOKUP(B12,[1]A!B$1:V$48,21,0)","v":0},{"$f":"VLOOKUP(B12,[1]A!B$1:W$48,22,0)","v":0},{"$f":"VLOOKUP(B12,[1]A!B$1:X$48,23,0)","v":0},{"$f":"VLOOKUP(B12,[1]A!B$1:Z$48,25,0)","v":0},{"$f":"IFERROR(VLOOKUP(B12,[2]A!B$1:S$48,18,0),IFERROR(VLOOKUP(B12,[2]B!B$1:S$51,18,0),VLOOKUP(B12,[2]C!B$1:S$52,18,0)))","v":11},{"$f":"IFERROR(VLOOKUP(B12,[2]A!B$1:T$48,19,0),IFERROR(VLOOKUP(B12,[2]B!B$1:T$51,19,0),VLOOKUP(B12,[2]C!B$1:T$52,19,0)))","v":15},{"$f":"IFERROR(VLOOKUP(B12,[2]A!B$1:V$48,21,0),IFERROR(VLOOKUP(B12,[2]B!B$1:V$51,21,0),VLOOKUP(B12,[2]C!B$1:V$52,21,0)))","v":2},{"$f":"IFERROR(VLOOKUP(B12,[2]A!B$1:W$48,22,0),IFERROR(VLOOKUP(B12,[2]B!B$1:W$51,22,0),VLOOKUP(B12,[2]C!B$1:W$52,22,0)))","v":0},0,0,{"$f":"IFERROR(VLOOKUP(B12,[3]A!B$1:M$48,12,0),IFERROR(VLOOKUP(B12,[3]B!B$1:M$51,12,0),VLOOKUP(B12,[3]C!B$1:M$52,12,0)))","v":10},{"$f":"IFERROR(VLOOKUP(B12,[3]A!B$1:N$48,13,0),IFERROR(VLOOKUP(B12,[3]B!B$1:N$51,13,0),VLOOKUP(B12,[3]C!B$1:N$52,13,0)))","v":12},0,0,0,0,{"$f":"IFERROR(VLOOKUP(B12,[4]A!B$1:S$48,18,0),IFERROR(VLOOKUP(B12,[4]B!B$1:S$51,18,0),VLOOKUP(B12,[4]C!B$1:S$52,18,0)))","v":13},{"$f":"IFERROR(VLOOKUP(B12,[4]A!B$1:T$48,19,0),IFERROR(VLOOKUP(B12,[4]B!B$1:T$51,19,0),VLOOKUP(B12,[4]C!B$1:T$52,19,0)))","v":13},{"$f":"IFERROR(VLOOKUP(B12,[4]A!B$1:V$48,21,0),IFERROR(VLOOKUP(B12,[4]B!B$1:V$51,21,0),VLOOKUP(B12,[4]C!B$1:V$52,21,0)))","v":0},{"$f":"IFERROR(VLOOKUP(B12,[4]A!B$1:W$48,22,0),IFERROR(VLOOKUP(B12,[4]B!B$1:W$51,22,0),VLOOKUP(B12,[4]C!B$1:W$52,22,0)))","v":0},{"$f":"IFERROR(VLOOKUP(B12,[4]A!B$1:X$48,23,0),IFERROR(VLOOKUP(B12,[4]B!B$1:X$51,23,0),VLOOKUP(B12,[4]C!B$1:X$52,23,0)))","v":0},{"$f":"IFERROR(VLOOKUP(B12,[4]A!B$1:Z$48,25,0),IFERROR(VLOOKUP(B12,[4]B!B$1:Z$51,25,0),VLOOKUP(B12,[4]C!B$1:Z$52,25,0)))","v":0},2,4,null,null,null,null,51,2,2,43,45,88.235294117647058,24]
[12,"15BA035",{"$f":"VLOOKUP(B13,[1]A!B$1:S$48,18,0)","v":7},{"$f":"VLOOKUP(B13,[1]A!B$1:T$48,19,0)","v":7},{"$f":"VLOOKUP(B13,[1]A!B$1:V$48,21,0)","v":0},{"$f":"VLOOKUP(B13,[1]A!B$1:W$48,22,0)","v":0},{"$f":"VLOOKUP(B13,[1]A!B$1:X$48,23,0)","v":0},{"$f":"VLOOKUP(B13,[1]A!B$1:Z$48,25,0)","v":0},{"$f":"IFERROR(VLOOKUP(B13,[2]A!B$1:S$48,18,0),IFERROR(VLOOKUP(B13,[2]B!B$1:S$51,18,0),VLOOKUP(B13,[2]C!B$1:S$52,18,0)))","v":14},{"$f":"IFERROR(VLOOKUP(B13,[2]A!B$1:T$48,19,0),IFERROR(VLOOKUP(B13,[2]B!B$1:T$51,19,0),VLOOKUP(B13,[2]C!B$1:T$52,19,0)))","v":15},{"$f":"IFERROR(VLOOKUP(B13,[2]A!B$1:V$48,21,0),IFERROR(VLOOKUP(B13,[2]B!B$1:V$51,21,0),VLOOKUP(B13,[2]C!B$1:V$52,21,0)))","v":0},{"$f":"IFERROR(VLOOKUP(B13,[2]A!B$1:W$48,22,0),IFERROR(VLOOKUP(B13,[2]B!B$1:W$51,22,0),VLOOKUP(B13,[2]C!B$1:W$52,22,0)))","v":0},0,0,{"$f":"IFERROR(VLOOKUP(B13,[3]A!B$1:M$48,12,0),IFERROR(VLOOKUP(B13,[3]B!B$1:M$51,12,0),VLOOKUP(B13,[3]C!B$1:M$52,12,0)))","v":11},{"$f":"IFERROR(VLOOKUP(B13,[3]A!B$1:N$48,13,0),IFERROR(VLOOKUP(B13,[3]B!B$1:N$51,13,0),VLOOKUP(B13,[3]C!B$1:N$52,13,0)))","v":12},0,0,0,0,{"$f":"IFERROR(VLOOKUP(B13,[4]A!B$1:S$48,18,0),IFERROR(VLOOKUP(B13,[4]B!B$1:S$51,18,0),VLOOKUP(B13,[4]C!B$1:S$52,18,0)))","v":12},{"$f":"IFERROR(VLOOKUP(B13,[4]A!B$1:T$48,19,0),IFERROR(VLOOKUP(B13,[4]B!B$1:T$51,19,0),VLOOKUP(B13,[4]C!B$1:T$52,19,0)))","v":13},{"$f":"IFERROR(VLOOKUP(B13,[4]A!B$1:V$48,21,0),IFERROR(VLOOKUP(B13,[4]B!B$1:V$51,21,0),VLOOKUP(B13,[4]C!B$1:V$52,21,0)))","v":0},{"$f":"IFERROR(VLOOKUP(B13,[4]A!B$1:W$48,22,0),IFERROR(VLOOKUP(B13,[4]B!B$1:W$51,22,0),VLOOKUP(B13,[4]C!B$1:W$52,22,0)))","v":0},{"$f":"IFERROR(VLOOKUP(B13,[4]A!B$1:X$48,23,0),IFERROR(VLOOKUP(B13,[4]B!B$1:X$51,23,0),VLOOKUP(B13,[4]C!B$1:X$52,23,0)))","v":0},{"$f":"IFERROR(VLOOKUP(B13,[4]A!B$1:Z$48,25,0),IFERROR(VLOOKUP(B13,[4]B!B$1:Z$51,25,0),VLOOKUP(B13,[4]C!B$1:Z$52,25,0)))","v":0},4,4,null,null,null,null,51,0,0,48,48,94.117647058823522,23]
[13,"15BA038",{"$f":"VLOOKUP(B14,[1]A!B$1:S$48,18,0)","v":5},{"$f":"VLOOKUP(B14,[1]A!B$1:T$48,19,0)","v":7},{"$f":"VLOOKUP(B14,[1]A!B$1:V$48,21,0)","v":0},{"$f":"VLOOKUP(B14,[1]A!B$1:W$48,22,0)","v":0},{"$f":"VLOOKUP(B14,[1]A!B$1:X$48,23,0)","v":0},{"$f":"VLOOKUP(B14,[1]A!B$1:Z$48,25,0)","v":0},{"$f":"IFERROR(VLOOKUP(B14,[2]A!B$1:S$48,18,0),IFERROR(VLOOKUP(B14,[2]B!B$1:S$51,18,0),VLOOKUP(B14,[2]C!B$1:S$52,18,0)))","v":13},{"$f":"IFERROR(VLOOKUP(B14,[2]A!B$1:T$48,19,0),IFERROR(VLOOKUP(B14,[2]B!B$1:T$51,19,0),VLOOKUP(B14,[2]C!B$1:T$52,19,0)))","v":15},{"$f":"IFERROR(VLOOKUP(B14,[2]A!B$1:V$48,21,0),IFERROR(VLOOKUP(B14,[2]B!B$1:V$51,21,0),VLOOKUP(B14,[2]C!B$1:V$52,21,0)))","v":0},{"$f":"IFERROR(VLOOKUP(B14,[2]A!B$1:W$48,22,0),IFERROR(VLOOKUP(B14,[2]B!B$1:W$51,22,0),VLOOKUP(B14,[2]C!B$1:W$52,22,0)))","v":0},0,0,{"$f":"IFERROR(VLOOKUP(B14,[3]A!B$1:M$48,12,0),IFERROR(VLOOKUP(B14,[3]B!B$1:M$51,12,0),VLOOKUP(B14,[3]C!B$1:M$52,12,0)))","v":12},{"$f":"IFERROR(VLOOKUP(B14,[3]A!B$1:N$48,13,0),IFERROR(VLOOKUP(B14,[3]B!B$1:N$51,13,0),VLOOKUP(B14,[3]C!B$1:N$52,13,0)))","v":12},0,0,0,0,{"$f":"IFERROR(VLOOKUP(B14,[4]A!B$1:S$48,18,0),IFERROR(VLOOKUP(B14,[4]B!B$1:S$51,18,0),VLOOKUP(B14,[4]C!B$1:S$52,18,0)))","v":6},{"$f":"IFERROR(VLOOKUP(B14,[4]A!B$1:T$48,19,0),IFERROR(VLOOKUP(B14,[4]B!B$1:T$51,19,0),VLOOKUP(B14,[4]C!B$1:T$52,19,0)))","v":13},{"$f":"IFERROR(VLOOKUP(B14,[4]A!B$1:V$48,21,0),IFERROR(VLOOKUP(B14,[4]B!B$1:V$51,21,0),VLOOKUP(B14,[4]C!B$1:V$52,21,0)))","v":0},{"$f":"IFERROR(VLOOKUP(B14,[4]A!B$1:W$48,22,0),IFERROR(VLOOKUP(B14,[4]B!B$1:W$51,22,0),VLOOKUP(B14,[4]C!B$1:W$52,22,0)))","v":0},{"$f":"IFERROR(VLOOKUP(B14,[4]A!B$1:X$48,23,0),IFERROR(VLOOKUP(B14,[4]B!B$1:X$51,23,0),VLOOKUP(B14,[4]C!B$1:X$52,23,0)))","v":0},{"$f":"IFERROR(VLOOKUP(B14,[4]A!B$1:Z$48,25,0),IFERROR(VLOOKUP(B14,[4]B!B$1:Z$51,25,0),VLOOKUP(B14,[4]C!B$1:Z$52,25,0)))","v":0},1,4,null,null,null,null,51,0,0,37,37,72.549019607843135,20]
[14,"15BA042",{"$f":"VLOOKUP(B15,[1]A!B$1:S$48,18,0)","v":7},{"$f":"VLOOKUP(B15,[1]A!B$1:T$48,19,0)","v":7},{"$f":"VLOOKUP(B15,[1]A!B$1:V$48,21,0)","v":0},{"$f":"VLOOKUP(B15,[1]A!B$1:W$48,22,0)","v":0},{"$f":"VLOOKUP(B15,[1]A!B$1:X$48,23,0)","v":0},{"$f":"VLOOKUP(B15,[1]A!B$1:Z$48,25,0)","v":0},{"$f":"IFERROR(VLOOKUP(B15,[2]A!B$1:S$48,18,0),IFERROR(VLOOKUP(B15,[2]B!B$1:S$51,18,0),VLOOKUP(B15,[2]C!B$1:S$52,18,0)))","v":12},{"$f":"IFERROR(VLOOKUP(B15,[2]A!B$1:T$48,19,0),IFERROR(VLOOKUP(B15,[2]B!B$1:T$51,19,0),VLOOKUP(B15,[2]C!B$1:T$52,19,0)))","v":15},{"$f":"IFERROR(VLOOKUP(B15,[2]A!B$1:V$48,21,0),IFERROR(VLOOKUP(B15,[2]B!B$1:V$51,21,0),VLOOKUP(B15,[2]C!B$1:V$52,21,0)))","v":0},{"$f":"IFERROR(VLOOKUP(B15,[2]A!B$1:W$48,22,0),IFERROR(VLOOKUP(B15,[2]B!B$1:W$51,22,0),VLOOKUP(B15,[2]C!B$1:W$52,22,0)))","v":0},0,0,{"$f":"IFERROR(VLOOKUP(B15,[3]A!B$1:M$48,12,0),IFERROR(VLOOKUP(B15,[3]B!B$1:M$51,12,0),VLOOKUP(B15,[3]C!B$1:M$52,12,0)))","v":10},{"$f":"IFERROR(VLOOKUP(B15,[3]A!B$1:N$48,13,0),IFERROR(VLOOKUP(B15,[3]B!B$1:N$51,13,0),VLOOKUP(B15,[3]C!B$1:N$52,13,0)))","v":12},0,0,0,0,{"$f":"IFERROR(VLOOKUP(B15,[4]A!B$1:S$48,18,0),IFERROR(VLOOKUP(B15,[4]B!B$1:S$51,18,0),VLOOKUP(B15,[4]C!B$1:S$52,18,0)))","v":4},{"$f":"IFERROR(VLOOKUP(B15,[4]A!B$1:T$48,19,0),IFERROR(VLOOKUP(B15,[4]B!B$1:T$51,19,0),VLOOKUP(B15,[4]C!B$1:T$52,19,0)))","v":13},{"$f":"IFERROR(VLOOKUP(B15,[4]A!B$1:V$48,21,0),IFERROR(VLOOKUP(B15,[4]B!B$1:V$51,21,0),VLOOKUP(B15,[4]C!B$1:V$52,21,0)))","v":6},{"$f":"IFERROR(VLOOKUP(B15,[4]A!B$1:W$48,22,0),IFERROR(VLOOKUP(B15,[4]B!B$1:W$51,22,0),VLOOKUP(B15,[4]C!B$1:W$52,22,0)))","v":0},{"$f":"IFERROR(VLOOKUP(B15,[4]A!B$1:X$48,23,0),IFERROR(VLOOKUP(B15,[4]B!B$1:X$51,23,0),VLOOKUP(B15,[4]C!B$1:X$52,23,0)))","v":0},{"$f":"IFERROR(VLOOKUP(B15,[4]A!B$1:Z$48,25,0),IFERROR(VLOOKUP(B15,[4]B!B$1:Z$51,25,0),VLOOKUP(B15,[4]C!B$1:Z$52,25,0)))","v":0},1,4,null,null,null,null,51,6,6,34,40,78.431372549019613,20]
[15,"15BA043",{"$f":"VLOOKUP(B16,[1]A!B$1:S$48,18,0)","v":7},{"$f":"VLOOKUP(B16,[1]A!B$1:T$48,19,0)","v":7},{"$f":"VLOOKUP(B16,[1]A!B$1:V$48,21,0)","v":0},{"$f":"VLOOKUP(B16,[1]A!B$1:W$48,22,0)","v":0},{"$f":"VLOOKUP(B16,[1]A!B$1:X$48,23,0)","v":0},{"$f":"VLOOKUP(B16,[1]A!B$1:Z$48,25,0)","v":0},{"$f":"IFERROR(VLOOKUP(B16,[2]A!B$1:S$48,18,0),IFERROR(VLOOKUP(B16,[2]B!B$1:S$51,18,0),VLOOKUP(B16,[2]C!B$1:S$52,18,0)))","v":15},{"$f":"IFERROR(VLOOKUP(B16,[2]A!B$1:T$48,19,0),IFERROR(VLOOKUP(B16,[2]B!B$1:T$51,19,0),VLOOKUP(B16,[2]C!B$1:T$52,19,0)))","v":15},{"$f":"IFERROR(VLOOKUP(B16,[2]A!B$1:V$48,21,0),IFERROR(VLOOKUP(B16,[2]B!B$1:V$51,21,0),VLOOKUP(B16,[2]C!B$1:V$52,21,0)))","v":0},{"$f":"IFERROR(VLOOKUP(B16,[2]A!B$1:W$48,22,0),IFERROR(VLOOKUP(B16,[2]B!B$1:W$51,22,0),VLOOKUP(B16,[2]C!B$1:W$52,22,0)))","v":0},0,0,{"$f":"IFERROR(VLOOKUP(B16,[3]A!B$1:M$48,12,0),IFERROR(VLOOKUP(B16,[3]B!B$1:M$51,12,0),VLOOKUP(B16,[3]C!B$1:M$52,12,0)))","v":10},{"$f":"IFERROR(VLOOKUP(B16,[3]A!B$1:N$48,13,0),IFERROR(VLOOKUP(B16,[3]B!B$1:N$51,13,0),VLOOKUP(B16,[3]C!B$1:N$52,13,0)))","v":12},0,0,0,0,{"$f":"IFERROR(VLOOKUP(B16,[4]A!B$1:S$48,18,0),IFERROR(VLOOKUP(B16,[4]B!B$1:S$51,18,0),VLOOKUP(B16,[4]C!B$1:S$52,18,0)))","v":13},{"$f":"IFERROR(VLOOKUP(B16,[4]A!B$1:T$48,19,0),IFERROR(VLOOKUP(B16,[4]B!B$1:T$51,19,0),VLOOKUP(B16,[4]C!B$1:T$52,19,0)))","v":13},{"$f":"IFERROR(VLOOKUP(B16,[4]A!B$1:V$48,21,0),IFERROR(VLOOKUP(B16,[4]B!B$1:V$51,21,0),VLOOKUP(B16,[4]C!B$1:V$52,21,0)))","v":0},{"$f":"IFERROR(VLOOKUP(B16,[4]A!B$1:W$48,22,0),IFERROR(VLOOKUP(B16,[4]B!B$1:W$51,22,0),VLOOKUP(B16,[4]C!B$1:W$52,22,0)))","v":0},{"$f":"IFERROR(VLOOKUP(B16,[4]A!B$1:X$48,23,0),IFERROR(VLOOKUP(B16,[4]B!B$1:X$51,23,0),VLOOKUP(B16,[4]C!B$1:X$52,23,0)))","v":0},{"$f":"IFERROR(VLOOKUP(B16,[4]A!B$1:Z$48,25,0),IFERROR(VLOOKUP(B16,[4]B!B$1:Z$51,25,0),VLOOKUP(B16,[4]C!B$1:Z$52,25,0)))","v":0},3,4,null,null,null,null,51,0,0,48,48,94.117647058823522,23]
[16,"15BA048",{"$f":"VLOOKUP(B17,[1]A!B$1:S$48,18,0)","v":7},{"$f":"VLOOKUP(B17,[1]A!B$1:T$48,19,0)","v":7},{"$f":"VLOOKUP(B17,[1]A!B$1:V$48,21,0)","v":0},{"$f":"VLOOKUP(B17,[1]A!B$1:W$48,22,0)","v":0},{"$f":"VLOOKUP(B17,[1]A!B$1:X$48,23,0)","v":0},{"$f":"VLOOKUP(B17,[1]A!B$1:Z$48,25,0)","v":0},{"$f":"IFERROR(VLOOKUP(B17,[2]A!B$1:S$48,18,0),IFERROR(VLOOKUP(B17,[2]B!B$1:S$51,18,0),VLOOKUP(B17,[2]C!B$1:S$52,18,0)))","v":15},{"$f":"IFERROR(VLOOKUP(B17,[2]A!B$1:T$48,19,0),IFERROR(VLOOKUP(B17,[2]B!B$1:T$51,19,0),VLOOKUP(B17,[2]C!B$1:T$52,19,0)))","v":15},{"$f":"IFERROR(VLOOKUP(B17,[2]A!B$1:V$48,21,0),IFERROR(VLOOKUP(B17,[2]B!B$1:V$51,21,0),VLOOKUP(B17,[2]C!B$1:V$52,21,0)))","v":0},{"$f":"IFERROR(VLOOKUP(B17,[2]A!B$1:W$48,22,0),IFERROR(VLOOKUP(B17,[2]B!B$1:W$51,22,0),VLOOKUP(B17,[2]C!B$1:W$52,22,0)))","v":0},0,0,{"$f":"IFERROR(VLOOKUP(B17,[3]A!B$1:M$48,12,0),IFERROR(VLOOKUP(B17,[3]B!B$1:M$51,12,0),VLOOKUP(B17,[3]C!B$1:M$52,12,0)))","v":12},{"$f":"IFERROR(VLOOKUP(B17,[3]A!B$1:N$48,13,0),IFERROR(VLOOKUP(B17,[3]B!B$1:N$51,13,0),VLOOKUP(B17,[3]C!B$1:N$52,13,0)))","v":12},0,0,0,0,{"$f":"IFERROR(VLOOKUP(B17,[4]A!B$1:S$48,18,0),IFERROR(VLOOKUP(B17,[4]B!B$1:S$51,18,0),VLOOKUP(B17,[4]C!B$1:S$52,18,0)))","v":13},{"$f":"IFERROR(VLOOKUP(B17,[4]A!B$1:T$48,19,0),IFERROR(VLOOKUP(B17,[4]B!B$1:T$51,19,0),VLOOKUP(B17,[4]C!B$1:T$52,19,0)))","v":13},{"$f":"IFERROR(VLOOKUP(B17,[4]A!B$1:V$48,21,0),IFERROR(VLOOKUP(B17,[4]B!B$1:V$51,21,0),VLOOKUP(B17,[4]C!B$1:V$52,21,0)))","v":0},{"$f":"IFERROR(VLOOKUP(B17,[4]A!B$1:W$48,22,0),IFERROR(VLOOKUP(B17,[4]B!B$1:W$51,22,0),VLOOKUP(B17,[4]C!B$1:W$52,22,0)))","v":0},{"$f":"IFERROR(VLOOKUP(B17,[4]A!B$1:X$48,23,0),IFERROR(VLOOKUP(B17,[4]B!B$1:X$51,23,0),VLOOKUP(B17,[4]C!B$1:X$52,23,0)))","v":0},{"$f":"IFERROR(VLOOKUP(B17,[4]A!B$1:Z$48,25,0),IFERROR(VLOOKUP(B17,[4]B!B$1:Z$51,25,0),VLOOKUP(B17,[4]C!B$1:Z$52,25,0)))","v":0},3,4,null,null,null,null,51,0,0,50,50,98.039215686274503,23]
[17,"15BA053",{"$f":"VLOOKUP(B18,[1]A!B$1:S$48,18,0)","v":6},{"$f":"VLOOKUP(B18,[1]A!B$1:T$48,19,0)","v":7},{"$f":"VLOOKUP(B18,[1]A!B$1:V$48,21,0)","v":0},{"$f":"VLOOKUP(B18,[1]A!B$1:W$48,22,0)","v":0},{"$f":"VLOOKUP(B18,[1]A!B$1:X$48,23,0)","v":0},{"$f":"VLOOKUP(B18,[1]A!B$1:Z$48,25,0)","v":0},{"$f":"IFERROR(VLOOKUP(B18,[2]A!B$1:S$48,18,0),IFERROR(VLOOKUP(B18,[2]B!B$1:S$51,18,0),VLOOKUP(B18,[2]C!B$1:S$52,18,0)))","v":10},{"$f":"IFERROR(VLOOKUP(B18,[2]A!B$1:T$48,19,0),IFERROR(VLOOKUP(B18,[2]B!B$1:T$51,19,0),VLOOKUP(B18,[2]C!B$1:T$52,19,0)))","v":15},{"$f":"IFERROR(VLOOKUP(B18,[2]A!B$1:V$48,21,0),IFERROR(VLOOKUP(B18,[2]B!B$1:V$51,21,0),VLOOKUP(B18,[2]C!B$1:V$52,21,0)))","v":2},{"$f":"IFERROR(VLOOKUP(B18,[2]A!B$1:W$48,22,0),IFERROR(VLOOKUP(B18,[2]B!B$1:W$51,22,0),VLOOKUP(B18,[2]C!B$1:W$52,22,0)))","v":0},0,0,{"$f":"IFERROR(VLOOKUP(B18,[3]A!B$1:M$48,12,0),IFERROR(VLOOKUP(B18,[3]B!B$1:M$51,12,0),VLOOKUP(B18,[3]C!B$1:M$52,12,0)))","v":9},{"$f":"IFERROR(VLOOKUP(B18,[3]A!B$1:N$48,13,0),IFERROR(VLOOKUP(B18,[3]B!B$1:N$51,13,0),VLOOKUP(B18,[3]C!B$1:N$52,13,0)))","v":12},0,0,0,0,{"$f":"IFERROR(VLOOKUP(B18,[4]A!B$1:S$48,18,0),IFERROR(VLOOKUP(B18,[4]B!B$1:S$51,18,0),VLOOKUP(B18,[4]C!B$1:S$52,18,0)))","v":10},{"$f":"IFERROR(VLOOKUP(B18,[4]A!B$1:T$48,19,0),IFERROR(VLOOKUP(B18,[4]B!B$1:T$51,19,0),VLOOKUP(B18,[4]C!B$1:T$52,19,0)))","v":13},{"$f":"IFERROR(VLOOKUP(B18,[4]A!B$1:V$48,21,0),IFERROR(VLOOKUP(B18,[4]B!B$1:V$51,21,0),VLOOKUP(B18,[4]C!B$1:V$52,21,0)))","v":1},{"$f":"IFERROR(VLOOKUP(B18,[4]A!B$1:W$48,22,0),IFERROR(VLOOKUP(B18,[4]B!B$1:W$51,22,0),VLOOKUP(B18,[4]C!B$1:W$52,22,0)))","v":0},{"$f":"IFERROR(VLOOKUP(B18,[4]A!B$1:X$48,23,0),IFERROR(VLOOKUP(B18,[4]B!B$1:X$51,23,0),VLOOKUP(B18,[4]C!B$1:X$52,23,0)))","v":0},{"$f":"IFERROR(VLOOKUP(B18,[4]A!B$1:Z$48,25,0),IFERROR(VLOOKUP(B18,[4]B!B$1:Z$51,25,0),VLOOKUP(B18,[4]C!B$1:Z$52,25,0)))","v":0},3,4,1,null,null,null,51,4,4,38,42,82.35294117647058,23]
[18,"15BA060",{"$f":"VLOOKUP(B19,[1]A!B$1:S$48,18,0)","v":5},{"$f":"VLOOKUP(B19,[1]A!B$1:T$48,19,0)","v":7},{"$f":"VLOOKUP(B19,[1]A!B$1:V$48,21,0)","v":0},{"$f":"VLOOKUP(B19,[1]A!B$1:W$48,22,0)","v":0},{"$f":"VLOOKUP(B19,[1]A!B$1:X$48,23,0)","v":0},{"$f":"VLOOKUP(B19,[1]A!B$1:Z$48,25,0)","v":0},{"$f":"IFERROR(VLOOKUP(B19,[2]A!B$1:S$48,18,0),IFERROR(VLOOKUP(B19,[2]B!B$1:S$51,18,0),VLOOKUP(B19,[2]C!B$1:S$52,18,0)))","v":12},{"$f":"IFERROR(VLOOKUP(B19,[2]A!B$1:T$48,19,0),IFERROR(VLOOKUP(B19,[2]B!B$1:T$51,19,0),VLOOKUP(B19,[2]C!B$1:T$52,19,0)))","v":15},{"$f":"IFERROR(VLOOKUP(B19,[2]A!B$1:V$48,21,0),IFERROR(VLOOKUP(B19,[2]B!B$1:V$51,21,0),VLOOKUP(B19,[2]C!B$1:V$52,21,0)))","v":0},{"$f":"IFERROR(VLOOKUP(B19,[2]A!B$1:W$48,22,0),IFERROR(VLOOKUP(B19,[2]B!B$1:W$51,22,0),VLOOKUP(B19,[2]C!B$1:W$52,22,0)))","v":0},0,0,{"$f":"IFERROR(VLOOKUP(B19,[3]A!B$1:M$48,12,0),IFERROR(VLOOKUP(B19,[3]B!B$1:M$51,12,0),VLOOKUP(B19,[3]C!B$1:M$52,12,0)))","v":11},{"$f":"IFERROR(VLOOKUP(B19,[3]A!B$1:N$48,13,0),IFERROR(VLOOKUP(B19,[3]B!B$1:N$51,13,0),VLOOKUP(B19,[3]C!B$1:N$52,13,0)))","v":12},0,0,0,0,{"$f":"IFERROR(VLOOKUP(B19,[4]A!B$1:S$48,18,0),IFERROR(VLOOKUP(B19,[4]B!B$1:S$51,18,0),VLOOKUP(B19,[4]C!B$1:S$52,18,0)))","v":10},{"$f":"IFERROR(VLOOKUP(B19,[4]A!B$1:T$48,19,0),IFERROR(VLOOKUP(B19,[4]B!B$1:T$51,19,0),VLOOKUP(B19,[4]C!B$1:T$52,19,0)))","v":13},{"$f":"IFERROR(VLOOKUP(B19,[4]A!B$1:V$48,21,0),IFERROR(VLOOKUP(B19,[4]B!B$1:V$51,21,0),VLOOKUP(B19,[4]C!B$1:V$52,21,0)))","v":0},{"$f":"IFERROR(VLOOKUP(B19,[4]A!B$1:W$48,22,0),IFERROR(VLOOKUP(B19,[4]B!B$1:W$51,22,0),VLOOKUP(B19,[4]C!B$1:W$52,22,0)))","v":0},{"$f":"IFERROR(VLOOKUP(B19,[4]A!B$1:X$48,23,0),IFERROR(VLOOKUP(B19,[4]B!B$1:X$51,23,0),VLOOKUP(B19,[4]C!B$1:X$52,23,0)))","v":0},{"$f":"IFERROR(VLOOKUP(B19,[4]A!B$1:Z$48,25,0),IFERROR(VLOOKUP(B19,[4]B!B$1:Z$51,25,0),VLOOKUP(B19,[4]C!B$1:Z$52,25,0)))","v":0},3,4,null,null,null,null,51,0,0,41,41,80.392156862745097,22]
[19,"15BA062",{"$f":"VLOOKUP(B20,[1]A!B$1:S$48,18,0)","v":5},{"$f":"VLOOKUP(B20,[1]A!B$1:T$48,19,0)","v":7},{"$f":"VLOOKUP(B20,[1]A!B$1:V$48,21,0)","v":0},{"$f":"VLOOKUP(B20,[1]A!B$1:W$48,22,0)","v":0},{"$f":"VLOOKUP(B20,[1]A!B$1:X$48,23,0)","v":0},{"$f":"VLOOKUP(B20,[1]A!B$1:Z$48,25,0)","v":0},{"$f":"IFERROR(VLOOKUP(B20,[2]A!B$1:S$48,18,0),IFERROR(VLOOKUP(B20,[2]B!B$1:S$51,18,0),VLOOKUP(B20,[2]C!B$1:S$52,18,0)))","v":12},{"$f":"IFERROR(VLOOKUP(B20,[2]A!B$1:T$48,19,0),IFERROR(VLOOKUP(B20,[2]B!B$1:T$51,19,0),VLOOKUP(B20,[2]C!B$1:T$52,19,0)))","v":15},{"$f":"IFERROR(VLOOKUP(B20,[2]A!B$1:V$48,21,0),IFERROR(VLOOKUP(B20,[2]B!B$1:V$51,21,0),VLOOKUP(B20,[2]C!B$1:V$52,21,0)))","v":0},{"$f":"IFERROR(VLOOKUP(B20,[2]A!B$1:W$48,22,0),IFERROR(VLOOKUP(B20,[2]B!B$1:W$51,22,0),VLOOKUP(B20,[2]C!B$1:W$52,22,0)))","v":0},0,0,{"$f":"IFERROR(VLOOKUP(B20,[3]A!B$1:M$48,12,0),IFERROR(VLOOKUP(B20,[3]B!B$1:M$51,12,0),VLOOKUP(B20,[3]C!B$1:M$52,12,0)))","v":9},{"$f":"IFERROR(VLOOKUP(B20,[3]A!B$1:N$48,13,0),IFERROR(VLOOKUP(B20,[3]B!B$1:N$51,13,0),VLOOKUP(B20,[3]C!B$1:N$52,13,0)))","v":12},0,0,0,0,{"$f":"IFERROR(VLOOKUP(B20,[4]A!B$1:S$48,18,0),IFERROR(VLOOKUP(B20,[4]B!B$1:S$51,18,0),VLOOKUP(B20,[4]C!B$1:S$52,18,0)))","v":6},{"$f":"IFERROR(VLOOKUP(B20,[4]A!B$1:T$48,19,0),IFERROR(VLOOKUP(B20,[4]B!B$1:T$51,19,0),VLOOKUP(B20,[4]C!B$1:T$52,19,0)))","v":13},{"$f":"IFERROR(VLOOKUP(B20,[4]A!B$1:V$48,21,0),IFERROR(VLOOKUP(B20,[4]B!B$1:V$51,21,0),VLOOKUP(B20,[4]C!B$1:V$52,21,0)))","v":0},{"$f":"IFERROR(VLOOKUP(B20,[4]A!B$1:W$48,22,0),IFERROR(VLOOKUP(B20,[4]B!B$1:W$51,22,0),VLOOKUP(B20,[4]C!B$1:W$52,22,0)))","v":0},{"$f":"IFERROR(VLOOKUP(B20,[4]A!B$1:X$48,23,0),IFERROR(VLOOKUP(B20,[4]B!B$1:X$51,23,0),VLOOKUP(B20,[4]C!B$1:X$52,23,0)))","v":0},{"$f":"IFERROR(VLOOKUP(B20,[4]A!B$1:Z$48,25,0),IFERROR(VLOOKUP(B20,[4]B!B$1:Z$51,25,0),VLOOKUP(B20,[4]C!B$1:Z$52,25,0)))","v":0},2,4,null,null,null,null,51,0,0,34,34,66.666666666666657,23]
[20,"15BA064",{"$f":"VLOOKUP(B21,[1]A!B$1:S$48,18,0)","v":6},{"$f":"VLOOKUP(B21,[1]A!B$1:T$48,19,0)","v":7},{"$f":"VLOOKUP(B21,[1]A!B$1:V$48,21,0)","v":0},{"$f":"VLOOKUP(B21,[1]A!B$1:W$48,22,0)","v":0},{"$f":"VLOOKUP(B21,[1]A!B$1:X$48,23,0)","v":0},{"$f":"VLOOKUP(B21,[1]A!B$1:Z$48,25,0)","v":0},{"$f":"IFERROR(VLOOKUP(B21,[2]A!B$1:S$48,18,0),IFERROR(VLOOKUP(B21,[2]B!B$1:S$51,18,0),VLOOKUP(B21,[2]C!B$1:S$52,18,0)))","v":13},{"$f":"IFERROR(VLOOKUP(B21,[2]A!B$1:T$48,19,0),IFERROR(VLOOKUP(B21,[2]B!B$1:T$51,19,0),VLOOKUP(B21,[2]C!B$1:T$52,19,0)))","v":15},{"$f":"IFERROR(VLOOKUP(B21,[2]A!B$1:V$48,21,0),IFERROR(VLOOKUP(B21,[2]B!B$1:V$51,21,0),VLOOKUP(B21,[2]C!B$1:V$52,21,0)))","v":0},{"$f":"IFERROR(VLOOKUP(B21,[2]A!B$1:W$48,22,0),IFERROR(VLOOKUP(B21,[2]B!B$1:W$51,22,0),VLOOKUP(B21,[2]C!B$1:W$52,22,0)))","v":0},0,0,{"$f":"IFERROR(VLOOKUP(B21,[3]A!B$1:M$48,12,0),IFERROR(VLOOKUP(B21,[3]B!B$1:M$51,12,0),VLOOKUP(B21,[3]C!B$1:M$52,12,0)))","v":11},{"$f":"IFERROR(VLOOKUP(B21,[3]A!B$1:N$48,13,0),IFERROR(VLOOKUP(B21,[3]B!B$1:N$51,13,0),VLOOKUP(B21,[3]C!B$1:N$52,13,0)))","v":12},0,0,0,0,{"$f":"IFERROR(VLOOKUP(B21,[4]A!B$1:S$48,18,0),IFERROR(VLOOKUP(B21,[4]B!B$1:S$51,18,0),VLOOKUP(B21,[4]C!B$1:S$52,18,0)))","v":10},{"$f":"IFERROR(VLOOKUP(B21,[4]A!B$1:T$48,19,0),IFERROR(VLOOKUP(B21,[4]B!B$1:T$51,19,0),VLOOKUP(B21,[4]C!B$1:T$52,19,0)))","v":13},{"$f":"IFERROR(VLOOKUP(B21,[4]A!B$1:V$48,21,0),IFERROR(VLOOKUP(B21,[4]B!B$1:V$51,21,0),VLOOKUP(B21,[4]C!B$1:V$52,21,0)))","v":0},{"$f":"IFERROR(VLOOKUP(B21,[4]A!B$1:W$48,22,0),IFERROR(VLOOKUP(B21,[4]B!B$1:W$51,22,0),VLOOKUP(B21,[4]C!B$1:W$52,22,0)))","v":0},{"$f":"IFERROR(VLOOKUP(B21,[4]A!B$1:X$48,23,0),IFERROR(VLOOKUP(B21,[4]B!B$1:X$51,23,0),VLOOKUP(B21,[4]C!B$1:X$52,23,0)))","v":0},{"$f":"IFERROR(VLOOKUP(B21,[4]A!B$1:Z$48,25,0),IFERROR(VLOOKUP(B21,[4]B!B$1:Z$51,25,0),VLOOKUP(B21,[4]C!B$1:Z$52,25,0)))","v":0},3,4,null,null,null,null,51,0,0,43,43,84.313725490196077,19]
[21,"15BA065",{"$f":"VLOOKUP(B22,[1]A!B$1:S$48,18,0)","v":7},{"$f":"VLOOKUP(B22,[1]A!B$1:T$48,19,0)","v":7},{"$f":"VLOOKUP(B22,[1]A!B$1:V$48,21,0)","v":0},{"$f":"VLOOKUP(B22,[1]A!B$1:W$48,22,0)","v":0},{"$f":"VLOOKUP(B22,[1]A!B$1:X$48,23,0)","v":0},{"$f":"VLOOKUP(B22,[1]A!B$1:Z$48,25,0)","v":0},{"$f":"IFERROR(VLOOKUP(B22,[2]A!B$1:S$48,18,0),IFERROR(VLOOKUP(B22,[2]B!B$1:S$51,18,0),VLOOKUP(B22,[2]C!B$1:S$52,18,0)))","v":14},{"$f":"IFERROR(VLOOKUP(B22,[2]A!B$1:T$48,19,0),IFERROR(VLOOKUP(B22,[2]B!B$1:T$51,19,0),VLOOKUP(B22,[2]C!B$1:T$52,19,0)))","v":15},{"$f":"IFERROR(VLOOKUP(B22,[2]A!B$1:V$48,21,0),IFERROR(VLOOKUP(B22,[2]B!B$1:V$51,21,0),VLOOKUP(B22,[2]C!B$1:V$52,21,0)))","v":0},{"$f":"IFERROR(VLOOKUP(B22,[2]A!B$1:W$48,22,0),IFERROR(VLOOKUP(B22,[2]B!B$1:W$51,22,0),VLOOKUP(B22,[2]C!B$1:W$52,22,0)))","v":0},0,0,{"$f":"IFERROR(VLOOKUP(B22,[3]A!B$1:M$48,12,0),IFERROR(VLOOKUP(B22,[3]B!B$1:M$51,12,0),VLOOKUP(B22,[3]C!B$1:M$52,12,0)))","v":11},{"$f":"IFERROR(VLOOKUP(B22,[3]A!B$1:N$48,13,0),IFERROR(VLOOKUP(B22,[3]B!B$1:N$51,13,0),VLOOKUP(B22,[3]C!B$1:N$52,13,0)))","v":12},0,0,0,0,{"$f":"IFERROR(VLOOKUP(B22,[4]A!B$1:S$48,18,0),IFERROR(VLOOKUP(B22,[4]B!B$1:S$51,18,0),VLOOKUP(B22,[4]C!B$1:S$52,18,0)))","v":10},{"$f":"IFERROR(VLOOKUP(B22,[4]A!B$1:T$48,19,0),IFERROR(VLOOKUP(B22,[4]B!B$1:T$51,19,0),VLOOKUP(B22,[4]C!B$1:T$52,19,0)))","v":13},{"$f":"IFERROR(VLOOKUP(B22,[4]A!B$1:V$48,21,0),IFERROR(VLOOKUP(B22,[4]B!B$1:V$51,21,0),VLOOKUP(B22,[4]C!B$1:V$52,21,0)))","v":1},{"$f":"IFERROR(VLOOKUP(B22,[4]A!B$1:W$48,22,0),IFERROR(VLOOKUP(B22,[4]B!B$1:W$51,22,0),VLOOKUP(B22,[4]C!B$1:W$52,22,0)))","v":0},{"$f":"IFERROR(VLOOKUP(B22,[4]A!B$1:X$48,23,0),IFERROR(VLOOKUP(B22,[4]B!B$1:X$51,23,0),VLOOKUP(B22,[4]C!B$1:X$52,23,0)))","v":0},{"$f":"IFERROR(VLOOKUP(B22,[4]A!B$1:Z$48,25,0),IFERROR(VLOOKUP(B22,[4]B!B$1:Z$51,25,0),VLOOKUP(B22,[4]C!B$1:Z$52,25,0)))","v":0},3,4,null,null,null,null,51,1,1,45,46,90.196078431372555,23]
[22,"15BA068",{"$f":"VLOOKUP(B23,[1]A!B$1:S$48,18,0)","v":7},{"$f":"VLOOKUP(B23,[1]A!B$1:T$48,19,0)","v":7},{"$f":"VLOOKUP(B23,[1]A!B$1:V$48,21,0)","v":0},{"$f":"VLOOKUP(B23,[1]A!B$1:W$48,22,0)","v":0},{"$f":"VLOOKUP(B23,[1]A!B$1:X$48,23,0)","v":0},{"$f":"VLOOKUP(B23,[1]A!B$1:Z$48,25,0)","v":0},{"$f":"IFERROR(VLOOKUP(B23,[2]A!B$1:S$48,18,0),IFERROR(VLOOKUP(B23,[2]B!B$1:S$51,18,0),VLOOKUP(B23,[2]C!B$1:S$52,18,0)))","v":13},{"$f":"IFERROR(VLOOKUP(B23,[2]A!B$1:T$48,19,0),IFERROR(VLOOKUP(B23,[2]B!B$1:T$51,19,0),VLOOKUP(B23,[2]C!B$1:T$52,19,0)))","v":15},{"$f":"IFERROR(VLOOKUP(B23,[2]A!B$1:V$48,21,0),IFERROR(VLOOKUP(B23,[2]B!B$1:V$51,21,0),VLOOKUP(B23,[2]C!B$1:V$52,21,0)))","v":0},{"$f":"IFERROR(VLOOKUP(B23,[2]A!B$1:W$48,22,0),IFERROR(VLOOKUP(B23,[2]B!B$1:W$51,22,0),VLOOKUP(B23,[2]C!B$1:W$52,22,0)))","v":0},0,0,{"$f":"IFERROR(VLOOKUP(B23,[3]A!B$1:M$48,12,0),IFERROR(VLOOKUP(B23,[3]B!B$1:M$51,12,0),VLOOKUP(B23,[3]C!B$1:M$52,12,0)))","v":10},{"$f":"IFERROR(VLOOKUP(B23,[3]A!B$1:N$48,13,0),IFERROR(VLOOKUP(B23,[3]B!B$1:N$51,13,0),VLOOKUP(B23,[3]C!B$1:N$52,13,0)))","v":12},0,0,0,0,{"$f":"IFERROR(VLOOKUP(B23,[4]A!B$1:S$48,18,0),IFERROR(VLOOKUP(B23,[4]B!B$1:S$51,18,0),VLOOKUP(B23,[4]C!B$1:S$52,18,0)))","v":10},{"$f":"IFERROR(VLOOKUP(B23,[4]A!B$1:T$48,19,0),IFERROR(VLOOKUP(B23,[4]B!B$1:T$51,19,0),VLOOKUP(B23,[4]C!B$1:T$52,19,0)))","v":13},{"$f":"IFERROR(VLOOKUP(B23,[4]A!B$1:V$48,21,0),IFERROR(VLOOKUP(B23,[4]B!B$1:V$51,21,0),VLOOKUP(B23,[4]C!B$1:V$52,21,0)))","v":0},{"$f":"IFERROR(VLOOKUP(B23,[4]A!B$1:W$48,22,0),IFERROR(VLOOKUP(B23,[4]B!B$1:W$51,22,0),VLOOKUP(B23,[4]C!B$1:W$52,22,0)))","v":0},{"$f":"IFERROR(VLOOKUP(B23,[4]A!B$1:X$48,23,0),IFERROR(VLOOKUP(B23,[4]B!B$1:X$51,23,0),VLOOKUP(B23,[4]C!B$1:X$52,23,0)))","v":0},{"$f":"IFERROR(VLOOKUP(B23,[4]A!B$1:Z$48,25,0),IFERROR(VLOOKUP(B23,[4]B!B$1:Z$51,25,0),VLOOKUP(B23,[4]C!B$1:Z$52,25,0)))","v":0},2,4,null,null,null,null,51,0,0,42,42,82.35294117647058,22]
[23,"15BA071",{"$f":"VLOOKUP(B24,[1]A!B$1:S$48,18,0)","v":7},{"$f":"VLOOKUP(B24,[1]A!B$1:T$48,19,0)","v":7},{"$f":"VLOOKUP(B24,[1]A!B$1:V$48,21,0)","v":0},{"$f":"VLOOKUP(B24,[1]A!B$1:W$48,22,0)","v":0},{"$f":"VLOOKUP(B24,[1]A!B$1:X$48,23,0)","v":0},{"$f":"VLOOKUP(B24,[1]A!B$1:Z$48,25,0)","v":0},{"$f":"IFERROR(VLOOKUP(B24,[2]A!B$1:S$48,18,0),IFERROR(VLOOKUP(B24,[2]B!B$1:S$51,18,0),VLOOKUP(B24,[2]C!B$1:S$52,18,0)))","v":13},{"$f":"IFERROR(VLOOKUP(B24,[2]A!B$1:T$48,19,0),IFERROR(VLOOKUP(B24,[2]B!B$1:T$51,19,0),VLOOKUP(B24,[2]C!B$1:T$52,19,0)))","v":15},{"$f":"IFERROR(VLOOKUP(B24,[2]A!B$1:V$48,21,0),IFERROR(VLOOKUP(B24,[2]B!B$1:V$51,21,0),VLOOKUP(B24,[2]C!B$1:V$52,21,0)))","v":0},{"$f":"IFERROR(VLOOKUP(B24,[2]A!B$1:W$48,22,0),IFERROR(VLOOKUP(B24,[2]B!B$1:W$51,22,0),VLOOKUP(B24,[2]C!B$1:W$52,22,0)))","v":0},0,0,{"$f":"IFERROR(VLOOKUP(B24,[3]A!B$1:M$48,12,0),IFERROR(VLOOKUP(B24,[3]B!B$1:M$51,12,0),VLOOKUP(B24,[3]C!B$1:M$52,12,0)))","v":10},{"$f":"IFERROR(VLOOKUP(B24,[3]A!B$1:N$48,13,0),IFERROR(VLOOKUP(B24,[3]B!B$1:N$51,13,0),VLOOKUP(B24,[3]C!B$1:N$52,13,0)))","v":12},0,0,0,0,{"$f":"IFERROR(VLOOKUP(B24,[4]A!B$1:S$48,18,0),IFERROR(VLOOKUP(B24,[4]B!B$1:S$51,18,0),VLOOKUP(B24,[4]C!B$1:S$52,18,0)))","v":11},{"$f":"IFERROR(VLOOKUP(B24,[4]A!B$1:T$48,19,0),IFERROR(VLOOKUP(B24,[4]B!B$1:T$51,19,0),VLOOKUP(B24,[4]C!B$1:T$52,19,0)))","v":13},{"$f":"IFERROR(VLOOKUP(B24,[4]A!B$1:V$48,21,0),IFERROR(VLOOKUP(B24,[4]B!B$1:V$51,21,0),VLOOKUP(B24,[4]C!B$1:V$52,21,0)))","v":0},{"$f":"IFERROR(VLOOKUP(B24,[4]A!B$1:W$48,22,0),IFERROR(VLOOKUP(B24,[4]B!B$1:W$51,22,0),VLOOKUP(B24,[4]C!B$1:W$52,22,0)))","v":0},{"$f":"IFERROR(VLOOKUP(B24,[4]A!B$1:X$48,23,0),IFERROR(VLOOKUP(B24,[4]B!B$1:X$51,23,0),VLOOKUP(B24,[4]C!B$1:X$52,23,0)))","v":0},{"$f":"IFERROR(VLOOKUP(B24,[4]A!B$1:Z$48,25,0),IFERROR(VLOOKUP(B24,[4]B!B$1:Z$51,25,0),VLOOKUP(B24,[4]C!B$1:Z$52,25,0)))","v":0},3,4,null,null,null,null,51,0,0,44,44,86.274509803921575,22]
[24,"15BA078",{"$f":"VLOOKUP(B25,[1]A!B$1:S$48,18,0)","v":7},{"$f":"VLOOKUP(B25,[1]A!B$1:T$48,19,0)","v":7},{"$f":"VLOOKUP(B25,[1]A!B$1:V$48,21,0)","v":0},{"$f":"VLOOKUP(B25,[1]A!B$1:W$48,22,0)","v":0},{"$f":"VLOOKUP(B25,[1]A!B$1:X$48,23,0)","v":0},{"$f":"VLOOKUP(B25,[1]A!B$1:Z$48,25,0)","v":0},{"$f":"IFERROR(VLOOKUP(B25,[2]A!B$1:S$48,18,0),IFERROR(VLOOKUP(B25,[2]B!B$1:S$51,18,0),VLOOKUP(B25,[2]C!B$1:S$52,18,0)))","v":14},{"$f":"IFERROR(VLOOKUP(B25,[2]A!B$1:T$48,19,0),IFERROR(VLOOKUP(B25,[2]B!B$1:T$51,19,0),VLOOKUP(B25,[2]C!B$1:T$52,19,0)))","v":15},{"$f":"IFERROR(VLOOKUP(B25,[2]A!B$1:V$48,21,0),IFERROR(VLOOKUP(B25,[2]B!B$1:V$51,21,0),VLOOKUP(B25,[2]C!B$1:V$52,21,0)))","v":0},{"$f":"IFERROR(VLOOKUP(B25,[2]A!B$1:W$48,22,0),IFERROR(VLOOKUP(B25,[2]B!B$1:W$51,22,0),VLOOKUP(B25,[2]C!B$1:W$52,22,0)))","v":0},0,0,{"$f":"IFERROR(VLOOKUP(B25,[3]A!B$1:M$48,12,0),IFERROR(VLOOKUP(B25,[3]B!B$1:M$51,12,0),VLOOKUP(B25,[3]C!B$1:M$52,12,0)))","v":9},{"$f":"IFERROR(VLOOKUP(B25,[3]A!B$1:N$48,13,0),IFERROR(VLOOKUP(B25,[3]B!B$1:N$51,13,0),VLOOKUP(B25,[3]C!B$1:N$52,13,0)))","v":12},0,0,0,0,{"$f":"IFERROR(VLOOKUP(B25,[4]A!B$1:S$48,18,0),IFERROR(VLOOKUP(B25,[4]B!B$1:S$51,18,0),VLOOKUP(B25,[4]C!B$1:S$52,18,0)))","v":10},{"$f":"IFERROR(VLOOKUP(B25,[4]A!B$1:T$48,19,0),IFERROR(VLOOKUP(B25,[4]B!B$1:T$51,19,0),VLOOKUP(B25,[4]C!B$1:T$52,19,0)))","v":13},{"$f":"IFERROR(VLOOKUP(B25,[4]A!B$1:V$48,21,0),IFERROR(VLOOKUP(B25,[4]B!B$1:V$51,21,0),VLOOKUP(B25,[4]C!B$1:V$52,21,0)))","v":0},{"$f":"IFERROR(VLOOKUP(B25,[4]A!B$1:W$48,22,0),IFERROR(VLOOKUP(B25,[4]B!B$1:W$51,22,0),VLOOKUP(B25,[4]C!B$1:W$52,22,0)))","v":0},{"$f":"IFERROR(VLOOKUP(B25,[4]A!B$1:X$48,23,0),IFERROR(VLOOKUP(B25,[4]B!B$1:X$51,23,0),VLOOKUP(B25,[4]C!B$1:X$52,23,0)))","v":0},{"$f":"IFERROR(VLOOKUP(B25,[4]A!B$1:Z$48,25,0),IFERROR(VLOOKUP(B25,[4]B!B$1:Z$51,25,0),VLOOKUP(B25,[4]C!B$1:Z$52,25,0)))","v":0},2,4,null,null,null,null,51,0,0,42,42,82.35294117647058,23]
[25,"15BA080",{"$f":"VLOOKUP(B26,[1]A!B$1:S$48,18,0)","v":6},{"$f":"VLOOKUP(B26,[1]A!B$1:T$48,19,0)","v":7},{"$f":"VLOOKUP(B26,[1]A!B$1:V$48,21,0)","v":0},{"$f":"VLOOKUP(B26,[1]A!B$1:W$48,22,0)","v":0},{"$f":"VLOOKUP(B26,[1]A!B$1:X$48,23,0)","v":0},{"$f":"VLOOKUP(B26,[1]A!B$1:Z$48,25,0)","v":0},{"$f":"IFERROR(VLOOKUP(B26,[2]A!B$1:S$48,18,0),IFERROR(VLOOKUP(B26,[2]B!B$1:S$51,18,0),VLOOKUP(B26,[2]C!B$1:S$52,18,0)))","v":14},{"$f":"IFERROR(VLOOKUP(B26,[2]A!B$1:T$48,19,0),IFERROR(VLOOKUP(B26,[2]B!B$1:T$51,19,0),VLOOKUP(B26,[2]C!B$1:T$52,19,0)))","v":15},{"$f":"IFERROR(VLOOKUP(B26,[2]A!B$1:V$48,21,0),IFERROR(VLOOKUP(B26,[2]B!B$1:V$51,21,0),VLOOKUP(B26,[2]C!B$1:V$52,21,0)))","v":0},{"$f":"IFERROR(VLOOKUP(B26,[2]A!B$1:W$48,22,0),IFERROR(VLOOKUP(B26,[2]B!B$1:W$51,22,0),VLOOKUP(B26,[2]C!B$1:W$52,22,0)))","v":0},0,0,{"$f":"IFERROR(VLOOKUP(B26,[3]A!B$1:M$48,12,0),IFERROR(VLOOKUP(B26,[3]B!B$1:M$51,12,0),VLOOKUP(B26,[3]C!B$1:M$52,12,0)))","v":10},{"$f":"IFERROR(VLOOKUP(B26,[3]A!B$1:N$48,13,0),IFERROR(VLOOKUP(B26,[3]B!B$1:N$51,13,0),VLOOKUP(B26,[3]C!B$1:N$52,13,0)))","v":12},0,0,0,0,{"$f":"IFERROR(VLOOKUP(B26,[4]A!B$1:S$48,18,0),IFERROR(VLOOKUP(B26,[4]B!B$1:S$51,18,0),VLOOKUP(B26,[4]C!B$1:S$52,18,0)))","v":13},{"$f":"IFERROR(VLOOKUP(B26,[4]A!B$1:T$48,19,0),IFERROR(VLOOKUP(B26,[4]B!B$1:T$51,19,0),VLOOKUP(B26,[4]C!B$1:T$52,19,0)))","v":13},{"$f":"IFERROR(VLOOKUP(B26,[4]A!B$1:V$48,21,0),IFERROR(VLOOKUP(B26,[4]B!B$1:V$51,21,0),VLOOKUP(B26,[4]C!B$1:V$52,21,0)))","v":0},{"$f":"IFERROR(VLOOKUP(B26,[4]A!B$1:W$48,22,0),IFERROR(VLOOKUP(B26,[4]B!B$1:W$51,22,0),VLOOKUP(B26,[4]C!B$1:W$52,22,0)))","v":0},{"$f":"IFERROR(VLOOKUP(B26,[4]A!B$1:X$48,23,0),IFERROR(VLOOKUP(B26,[4]B!B$1:X$51,23,0),VLOOKUP(B26,[4]C!B$1:X$52,23,0)))","v":0},{"$f":"IFERROR(VLOOKUP(B26,[4]A!B$1:Z$48,25,0),IFERROR(VLOOKUP(B26,[4]B!B$1:Z$51,25,0),VLOOKUP(B26,[4]C!B$1:Z$52,25,0)))","v":0},3,4,null,null,null,null,51,0,0,46,46,90.196078431372555,20]
[26,"15BA083",{"$f":"VLOOKUP(B27,[1]A!B$1:S$48,18,0)","v":7},{"$f":"VLOOKUP(B27,[1]A!B$1:T$48,19,0)","v":7},{"$f":"VLOOKUP(B27,[1]A!B$1:V$48,21,0)","v":0},{"$f":"VLOOKUP(B27,[1]A!B$1:W$48,22,0)","v":0},{"$f":"VLOOKUP(B27,[1]A!B$1:X$48,23,0)","v":0},{"$f":"VLOOKUP(B27,[1]A!B$1:Z$48,25,0)","v":0},{"$f":"IFERROR(VLOOKUP(B27,[2]A!B$1:S$48,18,0),IFERROR(VLOOKUP(B27,[2]B!B$1:S$51,18,0),VLOOKUP(B27,[2]C!B$1:S$52,18,0)))","v":13},{"$f":"IFERROR(VLOOKUP(B27,[2]A!B$1:T$48,19,0),IFERROR(VLOOKUP(B27,[2]B!B$1:T$51,19,0),VLOOKUP(B27,[2]C!B$1:T$52,19,0)))","v":15},{"$f":"IFERROR(VLOOKUP(B27,[2]A!B$1:V$48,21,0),IFERROR(VLOOKUP(B27,[2]B!B$1:V$51,21,0),VLOOKUP(B27,[2]C!B$1:V$52,21,0)))","v":0},{"$f":"IFERROR(VLOOKUP(B27,[2]A!B$1:W$48,22,0),IFERROR(VLOOKUP(B27,[2]B!B$1:W$51,22,0),VLOOKUP(B27,[2]C!B$1:W$52,22,0)))","v":0},0,0,{"$f":"IFERROR(VLOOKUP(B27,[3]A!B$1:M$48,12,0),IFERROR(VLOOKUP(B27,[3]B!B$1:M$51,12,0),VLOOKUP(B27,[3]C!B$1:M$52,12,0)))","v":11},{"$f":"IFERROR(VLOOKUP(B27,[3]A!B$1:N$48,13,0),IFERROR(VLOOKUP(B27,[3]B!B$1:N$51,13,0),VLOOKUP(B27,[3]C!B$1:N$52,13,0)))","v":12},0,0,0,0,{"$f":"IFERROR(VLOOKUP(B27,[4]A!B$1:S$48,18,0),IFERROR(VLOOKUP(B27,[4]B!B$1:S$51,18,0),VLOOKUP(B27,[4]C!B$1:S$52,18,0)))","v":13},{"$f":"IFERROR(VLOOKUP(B27,[4]A!B$1:T$48,19,0),IFERROR(VLOOKUP(B27,[4]B!B$1:T$51,19,0),VLOOKUP(B27,[4]C!B$1:T$52,19,0)))","v":13},{"$f":"IFERROR(VLOOKUP(B27,[4]A!B$1:V$48,21,0),IFERROR(VLOOKUP(B27,[4]B!B$1:V$51,21,0),VLOOKUP(B27,[4]C!B$1:V$52,21,0)))","v":0},{"$f":"IFERROR(VLOOKUP(B27,[4]A!B$1:W$48,22,0),IFERROR(VLOOKUP(B27,[4]B!B$1:W$51,22,0),VLOOKUP(B27,[4]C!B$1:W$52,22,0)))","v":0},{"$f":"IFERROR(VLOOKUP(B27,[4]A!B$1:X$48,23,0),IFERROR(VLOOKUP(B27,[4]B!B$1:X$51,23,0),VLOOKUP(B27,[4]C!B$1:X$52,23,0)))","v":0},{"$f":"IFERROR(VLOOKUP(B27,[4]A!B$1:Z$48,25,0),IFERROR(VLOOKUP(B27,[4]B!B$1:Z$51,25,0),VLOOKUP(B27,[4]C!B$1:Z$52,25,0)))","v":0},3,4,null,null,null,null,51,0,0,47,47,92.156862745098039,22]
[27,"15BA084",{"$f":"VLOOKUP(B28,[1]A!B$1:S$48,18,0)","v":7},{"$f":"VLOOKUP(B28,[1]A!B$1:T$48,19,0)","v":7},{"$f":"VLOOKUP(B28,[1]A!B$1:V$48,21,0)","v":0},{"$f":"VLOOKUP(B28,[1]A!B$1:W$48,22,0)","v":0},{"$f":"VLOOKUP(B28,[1]A!B$1:X$48,23,0)","v":0},{"$f":"VLOOKUP(B28,[1]A!B$1:Z$48,25,0)","v":0},{"$f":"IFERROR(VLOOKUP(B28,[2]A!B$1:S$48,18,0),IFERROR(VLOOKUP(B28,[2]B!B$1:S$51,18,0),VLOOKUP(B28,[2]C!B$1:S$52,18,0)))","v":13},{"$f":"IFERROR(VLOOKUP(B28,[2]A!B$1:T$48,19,0),IFERROR(VLOOKUP(B28,[2]B!B$1:T$51,19,0),VLOOKUP(B28,[2]C!B$1:T$52,19,0)))","v":15},{"$f":"IFERROR(VLOOKUP(B28,[2]A!B$1:V$48,21,0),IFERROR(VLOOKUP(B28,[2]B!B$1:V$51,21,0),VLOOKUP(B28,[2]C!B$1:V$52,21,0)))","v":0},{"$f":"IFERROR(VLOOKUP(B28,[2]A!B$1:W$48,22,0),IFERROR(VLOOKUP(B28,[2]B!B$1:W$51,22,0),VLOOKUP(B28,[2]C!B$1:W$52,22,0)))","v":0},0,0,{"$f":"IFERROR(VLOOKUP(B28,[3]A!B$1:M$48,12,0),IFERROR(VLOOKUP(B28,[3]B!B$1:M$51,12,0),VLOOKUP(B28,[3]C!B$1:M$52,12,0)))","v":11},{"$f":"IFERROR(VLOOKUP(B28,[3]A!B$1:N$48,13,0),IFERROR(VLOOKUP(B28,[3]B!B$1:N$51,13,0),VLOOKUP(B28,[3]C!B$1:N$52,13,0)))","v":12},0,0,0,0,{"$f":"IFERROR(VLOOKUP(B28,[4]A!B$1:S$48,18,0),IFERROR(VLOOKUP(B28,[4]B!B$1:S$51,18,0),VLOOKUP(B28,[4]C!B$1:S$52,18,0)))","v":13},{"$f":"IFERROR(VLOOKUP(B28,[4]A!B$1:T$48,19,0),IFERROR(VLOOKUP(B28,[4]B!B$1:T$51,19,0),VLOOKUP(B28,[4]C!B$1:T$52,19,0)))","v":13},{"$f":"IFERROR(VLOOKUP(B28,[4]A!B$1:V$48,21,0),IFERROR(VLOOKUP(B28,[4]B!B$1:V$51,21,0),VLOOKUP(B28,[4]C!B$1:V$52,21,0)))","v":0},{"$f":"IFERROR(VLOOKUP(B28,[4]A!B$1:W$48,22,0),IFERROR(VLOOKUP(B28,[4]B!B$1:W$51,22,0),VLOOKUP(B28,[4]C!B$1:W$52,22,0)))","v":0},{"$f":"IFERROR(VLOOKUP(B28,[4]A!B$1:X$48,23,0),IFERROR(VLOOKUP(B28,[4]B!B$1:X$51,23,0),VLOOKUP(B28,[4]C!B$1:X$52,23,0)))","v":0},{"$f":"IFERROR(VLOOKUP(B28,[4]A!B$1:Z$48,25,0),IFERROR(VLOOKUP(B28,[4]B!B$1:Z$51,25,0),VLOOKUP(B28,[4]C!B$1:Z$52,25,0)))","v":0},3,4,null,null,null,null,51,0,0,47,47,92.156862745098039,22]
[28,"15BA091",{"$f":"VLOOKUP(B29,[1]A!B$1:S$48,18,0)","v":7},{"$f":"VLOOKUP(B29,[1]A!B$1:T$48,19,0)","v":7},{"$f":"VLOOKUP(B29,[1]A!B$1:V$48,21,0)","v":0},{"$f":"VLOOKUP(B29,[1]A!B$1:W$48,22,0)","v":0},{"$f":"VLOOKUP(B29,[1]A!B$1:X$48,23,0)","v":0},{"$f":"VLOOKUP(B29,[1]A!B$1:Z$48,25,0)","v":0},{"$f":"IFERROR(VLOOKUP(B29,[2]A!B$1:S$48,18,0),IFERROR(VLOOKUP(B29,[2]B!B$1:S$51,18,0),VLOOKUP(B29,[2]C!B$1:S$52,18,0)))","v":14},{"$f":"IFERROR(VLOOKUP(B29,[2]A!B$1:T$48,19,0),IFERROR(VLOOKUP(B29,[2]B!B$1:T$51,19,0),VLOOKUP(B29,[2]C!B$1:T$52,19,0)))","v":15},{"$f":"IFERROR(VLOOKUP(B29,[2]A!B$1:V$48,21,0),IFERROR(VLOOKUP(B29,[2]B!B$1:V$51,21,0),VLOOKUP(B29,[2]C!B$1:V$52,21,0)))","v":0},{"$f":"IFERROR(VLOOKUP(B29,[2]A!B$1:W$48,22,0),IFERROR(VLOOKUP(B29,[2]B!B$1:W$51,22,0),VLOOKUP(B29,[2]C!B$1:W$52,22,0)))","v":0},0,0,{"$f":"IFERROR(VLOOKUP(B29,[3]A!B$1:M$48,12,0),IFERROR(VLOOKUP(B29,[3]B!B$1:M$51,12,0),VLOOKUP(B29,[3]C!B$1:M$52,12,0)))","v":9},{"$f":"IFERROR(VLOOKUP(B29,[3]A!B$1:N$48,13,0),IFERROR(VLOOKUP(B29,[3]B!B$1:N$51,13,0),VLOOKUP(B29,[3]C!B$1:N$52,13,0)))","v":12},0,0,0,0,{"$f":"IFERROR(VLOOKUP(B29,[4]A!B$1:S$48,18,0),IFERROR(VLOOKUP(B29,[4]B!B$1:S$51,18,0),VLOOKUP(B29,[4]C!B$1:S$52,18,0)))","v":9},{"$f":"IFERROR(VLOOKUP(B29,[4]A!B$1:T$48,19,0),IFERROR(VLOOKUP(B29,[4]B!B$1:T$51,19,0),VLOOKUP(B29,[4]C!B$1:T$52,19,0)))","v":13},{"$f":"IFERROR(VLOOKUP(B29,[4]A!B$1:V$48,21,0),IFERROR(VLOOKUP(B29,[4]B!B$1:V$51,21,0),VLOOKUP(B29,[4]C!B$1:V$52,21,0)))","v":0},{"$f":"IFERROR(VLOOKUP(B29,[4]A!B$1:W$48,22,0),IFERROR(VLOOKUP(B29,[4]B!B$1:W$51,22,0),VLOOKUP(B29,[4]C!B$1:W$52,22,0)))","v":0},{"$f":"IFERROR(VLOOKUP(B29,[4]A!B$1:X$48,23,0),IFERROR(VLOOKUP(B29,[4]B!B$1:X$51,23,0),VLOOKUP(B29,[4]C!B$1:X$52,23,0)))","v":0},{"$f":"IFERROR(VLOOKUP(B29,[4]A!B$1:Z$48,25,0),IFERROR(VLOOKUP(B29,[4]B!B$1:Z$51,25,0),VLOOKUP(B29,[4]C!B$1:Z$52,25,0)))","v":0},3,4,null,null,null,null,51,0,0,42,42,82.35294117647058,23]
[29,"15BA095",{"$f":"VLOOKUP(B30,[1]A!B$1:S$48,18,0)","v":4},{"$f":"VLOOKUP(B30,[1]A!B$1:T$48,19,0)","v":7},{"$f":"VLOOKUP(B30,[1]A!B$1:V$48,21,0)","v":0},{"$f":"VLOOKUP(B30,[1]A!B$1:W$48,22,0)","v":0},{"$f":"VLOOKUP(B30,[1]A!B$1:X$48,23,0)","v":0},{"$f":"VLOOKUP(B30,[1]A!B$1:Z$48,25,0)","v":0},{"$f":"IFERROR(VLOOKUP(B30,[2]A!B$1:S$48,18,0),IFERROR(VLOOKUP(B30,[2]B!B$1:S$51,18,0),VLOOKUP(B30,[2]C!B$1:S$52,18,0)))","v":12},{"$f":"IFERROR(VLOOKUP(B30,[2]A!B$1:T$48,19,0),IFERROR(VLOOKUP(B30,[2]B!B$1:T$51,19,0),VLOOKUP(B30,[2]C!B$1:T$52,19,0)))","v":15},{"$f":"IFERROR(VLOOKUP(B30,[2]A!B$1:V$48,21,0),IFERROR(VLOOKUP(B30,[2]B!B$1:V$51,21,0),VLOOKUP(B30,[2]C!B$1:V$52,21,0)))","v":0},{"$f":"IFERROR(VLOOKUP(B30,[2]A!B$1:W$48,22,0),IFERROR(VLOOKUP(B30,[2]B!B$1:W$51,22,0),VLOOKUP(B30,[2]C!B$1:W$52,22,0)))","v":0},0,0,{"$f":"IFERROR(VLOOKUP(B30,[3]A!B$1:M$48,12,0),IFERROR(VLOOKUP(B30,[3]B!B$1:M$51,12,0),VLOOKUP(B30,[3]C!B$1:M$52,12,0)))","v":10},{"$f":"IFERROR(VLOOKUP(B30,[3]A!B$1:N$48,13,0),IFERROR(VLOOKUP(B30,[3]B!B$1:N$51,13,0),VLOOKUP(B30,[3]C!B$1:N$52,13,0)))","v":12},0,0,0,0,{"$f":"IFERROR(VLOOKUP(B30,[4]A!B$1:S$48,18,0),IFERROR(VLOOKUP(B30,[4]B!B$1:S$51,18,0),VLOOKUP(B30,[4]C!B$1:S$52,18,0)))","v":10},{"$f":"IFERROR(VLOOKUP(B30,[4]A!B$1:T$48,19,0),IFERROR(VLOOKUP(B30,[4]B!B$1:T$51,19,0),VLOOKUP(B30,[4]C!B$1:T$52,19,0)))","v":13},{"$f":"IFERROR(VLOOKUP(B30,[4]A!B$1:V$48,21,0),IFERROR(VLOOKUP(B30,[4]B!B$1:V$51,21,0),VLOOKUP(B30,[4]C!B$1:V$52,21,0)))","v":2},{"$f":"IFERROR(VLOOKUP(B30,[4]A!B$1:W$48,22,0),IFERROR(VLOOKUP(B30,[4]B!B$1:W$51,22,0),VLOOKUP(B30,[4]C!B$1:W$52,22,0)))","v":0},{"$f":"IFERROR(VLOOKUP(B30,[4]A!B$1:X$48,23,0),IFERROR(VLOOKUP(B30,[4]B!B$1:X$51,23,0),VLOOKUP(B30,[4]C!B$1:X$52,23,0)))","v":0},{"$f":"IFERROR(VLOOKUP(B30,[4]A!B$1:Z$48,25,0),IFERROR(VLOOKUP(B30,[4]B!B$1:Z$51,25,0),VLOOKUP(B30,[4]C!B$1:Z$52,25,0)))","v":0},2,4,null,null,null,null,51,2,2,38,40,78.431372549019613,23]
[30,"15BA096",{"$f":"VLOOKUP(B31,[1]A!B$1:S$48,18,0)","v":4},{"$f":"VLOOKUP(B31,[1]A!B$1:T$48,19,0)","v":7},{"$f":"VLOOKUP(B31,[1]A!B$1:V$48,21,0)","v":0},{"$f":"VLOOKUP(B31,[1]A!B$1:W$48,22,0)","v":0},{"$f":"VLOOKUP(B31,[1]A!B$1:X$48,23,0)","v":0},{"$f":"VLOOKUP(B31,[1]A!B$1:Z$48,25,0)","v":0},{"$f":"IFERROR(VLOOKUP(B31,[2]A!B$1:S$48,18,0),IFERROR(VLOOKUP(B31,[2]B!B$1:S$51,18,0),VLOOKUP(B31,[2]C!B$1:S$52,18,0)))","v":12},{"$f":"IFERROR(VLOOKUP(B31,[2]A!B$1:T$48,19,0),IFERROR(VLOOKUP(B31,[2]B!B$1:T$51,19,0),VLOOKUP(B31,[2]C!B$1:T$52,19,0)))","v":15},{"$f":"IFERROR(VLOOKUP(B31,[2]A!B$1:V$48,21,0),IFERROR(VLOOKUP(B31,[2]B!B$1:V$51,21,0),VLOOKUP(B31,[2]C!B$1:V$52,21,0)))","v":2},{"$f":"IFERROR(VLOOKUP(B31,[2]A!B$1:W$48,22,0),IFERROR(VLOOKUP(B31,[2]B!B$1:W$51,22,0),VLOOKUP(B31,[2]C!B$1:W$52,22,0)))","v":0},0,0,{"$f":"IFERROR(VLOOKUP(B31,[3]A!B$1:M$48,12,0),IFERROR(VLOOKUP(B31,[3]B!B$1:M$51,12,0),VLOOKUP(B31,[3]C!B$1:M$52,12,0)))","v":10},{"$f":"IFERROR(VLOOKUP(B31,[3]A!B$1:N$48,13,0),IFERROR(VLOOKUP(B31,[3]B!B$1:N$51,13,0),VLOOKUP(B31,[3]C!B$1:N$52,13,0)))","v":12},0,0,0,0,{"$f":"IFERROR(VLOOKUP(B31,[4]A!B$1:S$48,18,0),IFERROR(VLOOKUP(B31,[4]B!B$1:S$51,18,0),VLOOKUP(B31,[4]C!B$1:S$52,18,0)))","v":10},{"$f":"IFERROR(VLOOKUP(B31,[4]A!B$1:T$48,19,0),IFERROR(VLOOKUP(B31,[4]B!B$1:T$51,19,0),VLOOKUP(B31,[4]C!B$1:T$52,19,0)))","v":13},{"$f":"IFERROR(VLOOKUP(B31,[4]A!B$1:V$48,21,0),IFERROR(VLOOKUP(B31,[4]B!B$1:V$51,21,0),VLOOKUP(B31,[4]C!B$1:V$52,21,0)))","v":3},{"$f":"IFERROR(VLOOKUP(B31,[4]A!B$1:W$48,22,0),IFERROR(VLOOKUP(B31,[4]B!B$1:W$51,22,0),VLOOKUP(B31,[4]C!B$1:W$52,22,0)))","v":0},{"$f":"IFERROR(VLOOKUP(B31,[4]A!B$1:X$48,23,0),IFERROR(VLOOKUP(B31,[4]B!B$1:X$51,23,0),VLOOKUP(B31,[4]C!B$1:X$52,23,0)))","v":0},{"$f":"IFERROR(VLOOKUP(B31,[4]A!B$1:Z$48,25,0),IFERROR(VLOOKUP(B31,[4]B!B$1:Z$51,25,0),VLOOKUP(B31,[4]C!B$1:Z$52,25,0)))","v":0},4,4,null,null,null,null,51,5,5,40,45,88.235294117647058,20]
[31,"15BA100",{"$f":"VLOOKUP(B32,[1]A!B$1:S$48,18,0)","v":6},{"$f":"VLOOKUP(B32,[1]A!B$1:T$48,19,0)","v":7},{"$f":"VLOOKUP(B32,[1]A!B$1:V$48,21,0)","v":0},{"$f":"VLOOKUP(B32,[1]A!B$1:W$48,22,0)","v":0},{"$f":"VLOOKUP(B32,[1]A!B$1:X$48,23,0)","v":0},{"$f":"VLOOKUP(B32,[1]A!B$1:Z$48,25,0)","v":0},{"$f":"IFERROR(VLOOKUP(B32,[2]A!B$1:S$48,18,0),IFERROR(VLOOKUP(B32,[2]B!B$1:S$51,18,0),VLOOKUP(B32,[2]C!B$1:S$52,18,0)))","v":12},{"$f":"IFERROR(VLOOKUP(B32,[2]A!B$1:T$48,19,0),IFERROR(VLOOKUP(B32,[2]B!B$1:T$51,19,0),VLOOKUP(B32,[2]C!B$1:T$52,19,0)))","v":15},{"$f":"IFERROR(VLOOKUP(B32,[2]A!B$1:V$48,21,0),IFERROR(VLOOKUP(B32,[2]B!B$1:V$51,21,0),VLOOKUP(B32,[2]C!B$1:V$52,21,0)))","v":0},{"$f":"IFERROR(VLOOKUP(B32,[2]A!B$1:W$48,22,0),IFERROR(VLOOKUP(B32,[2]B!B$1:W$51,22,0),VLOOKUP(B32,[2]C!B$1:W$52,22,0)))","v":0},0,0,{"$f":"IFERROR(VLOOKUP(B32,[3]A!B$1:M$48,12,0),IFERROR(VLOOKUP(B32,[3]B!B$1:M$51,12,0),VLOOKUP(B32,[3]C!B$1:M$52,12,0)))","v":10},{"$f":"IFERROR(VLOOKUP(B32,[3]A!B$1:N$48,13,0),IFERROR(VLOOKUP(B32,[3]B!B$1:N$51,13,0),VLOOKUP(B32,[3]C!B$1:N$52,13,0)))","v":12},0,0,0,0,{"$f":"IFERROR(VLOOKUP(B32,[4]A!B$1:S$48,18,0),IFERROR(VLOOKUP(B32,[4]B!B$1:S$51,18,0),VLOOKUP(B32,[4]C!B$1:S$52,18,0)))","v":7},{"$f":"IFERROR(VLOOKUP(B32,[4]A!B$1:T$48,19,0),IFERROR(VLOOKUP(B32,[4]B!B$1:T$51,19,0),VLOOKUP(B32,[4]C!B$1:T$52,19,0)))","v":13},{"$f":"IFERROR(VLOOKUP(B32,[4]A!B$1:V$48,21,0),IFERROR(VLOOKUP(B32,[4]B!B$1:V$51,21,0),VLOOKUP(B32,[4]C!B$1:V$52,21,0)))","v":0},{"$f":"IFERROR(VLOOKUP(B32,[4]A!B$1:W$48,22,0),IFERROR(VLOOKUP(B32,[4]B!B$1:W$51,22,0),VLOOKUP(B32,[4]C!B$1:W$52,22,0)))","v":0},{"$f":"IFERROR(VLOOKUP(B32,[4]A!B$1:X$48,23,0),IFERROR(VLOOKUP(B32,[4]B!B$1:X$51,23,0),VLOOKUP(B32,[4]C!B$1:X$52,23,0)))","v":0},{"$f":"IFERROR(VLOOKUP(B32,[4]A!B$1:Z$48,25,0),IFERROR(VLOOKUP(B32,[4]B!B$1:Z$51,25,0),VLOOKUP(B32,[4]C!B$1:Z$52,25,0)))","v":0},3,4,null,null,null,null,51,0,0,38,38,74.509803921568633,23]
[32,"15BA105",{"$f":"VLOOKUP(B33,[1]A!B$1:S$48,18,0)","v":4},{"$f":"VLOOKUP(B33,[1]A!B$1:T$48,19,0)","v":7},{"$f":"VLOOKUP(B33,[1]A!B$1:V$48,21,0)","v":0},{"$f":"VLOOKUP(B33,[1]A!B$1:W$48,22,0)","v":0},{"$f":"VLOOKUP(B33,[1]A!B$1:X$48,23,0)","v":0},{"$f":"VLOOKUP(B33,[1]A!B$1:Z$48,25,0)","v":0},{"$f":"IFERROR(VLOOKUP(B33,[2]A!B$1:S$48,18,0),IFERROR(VLOOKUP(B33,[2]B!B$1:S$51,18,0),VLOOKUP(B33,[2]C!B$1:S$52,18,0)))","v":12},{"$f":"IFERROR(VLOOKUP(B33,[2]A!B$1:T$48,19,0),IFERROR(VLOOKUP(B33,[2]B!B$1:T$51,19,0),VLOOKUP(B33,[2]C!B$1:T$52,19,0)))","v":15},{"$f":"IFERROR(VLOOKUP(B33,[2]A!B$1:V$48,21,0),IFERROR(VLOOKUP(B33,[2]B!B$1:V$51,21,0),VLOOKUP(B33,[2]C!B$1:V$52,21,0)))","v":0},{"$f":"IFERROR(VLOOKUP(B33,[2]A!B$1:W$48,22,0),IFERROR(VLOOKUP(B33,[2]B!B$1:W$51,22,0),VLOOKUP(B33,[2]C!B$1:W$52,22,0)))","v":0},0,0,{"$f":"IFERROR(VLOOKUP(B33,[3]A!B$1:M$48,12,0),IFERROR(VLOOKUP(B33,[3]B!B$1:M$51,12,0),VLOOKUP(B33,[3]C!B$1:M$52,12,0)))","v":8},{"$f":"IFERROR(VLOOKUP(B33,[3]A!B$1:N$48,13,0),IFERROR(VLOOKUP(B33,[3]B!B$1:N$51,13,0),VLOOKUP(B33,[3]C!B$1:N$52,13,0)))","v":12},0,0,0,0,{"$f":"IFERROR(VLOOKUP(B33,[4]A!B$1:S$48,18,0),IFERROR(VLOOKUP(B33,[4]B!B$1:S$51,18,0),VLOOKUP(B33,[4]C!B$1:S$52,18,0)))","v":6},{"$f":"IFERROR(VLOOKUP(B33,[4]A!B$1:T$48,19,0),IFERROR(VLOOKUP(B33,[4]B!B$1:T$51,19,0),VLOOKUP(B33,[4]C!B$1:T$52,19,0)))","v":13},{"$f":"IFERROR(VLOOKUP(B33,[4]A!B$1:V$48,21,0),IFERROR(VLOOKUP(B33,[4]B!B$1:V$51,21,0),VLOOKUP(B33,[4]C!B$1:V$52,21,0)))","v":0},{"$f":"IFERROR(VLOOKUP(B33,[4]A!B$1:W$48,22,0),IFERROR(VLOOKUP(B33,[4]B!B$1:W$51,22,0),VLOOKUP(B33,[4]C!B$1:W$52,22,0)))","v":0},{"$f":"IFERROR(VLOOKUP(B33,[4]A!B$1:X$48,23,0),IFERROR(VLOOKUP(B33,[4]B!B$1:X$51,23,0),VLOOKUP(B33,[4]C!B$1:X$52,23,0)))","v":0},{"$f":"IFERROR(VLOOKUP(B33,[4]A!B$1:Z$48,25,0),IFERROR(VLOOKUP(B33,[4]B!B$1:Z$51,25,0),VLOOKUP(B33,[4]C!B$1:Z$52,25,0)))","v":0},3,4,null,null,null,null,51,0,0,33,33,64.705882352941174,20]
[33,"15BA106",{"$f":"VLOOKUP(B34,[1]A!B$1:S$48,18,0)","v":4},{"$f":"VLOOKUP(B34,[1]A!B$1:T$48,19,0)","v":7},{"$f":"VLOOKUP(B34,[1]A!B$1:V$48,21,0)","v":0},{"$f":"VLOOKUP(B34,[1]A!B$1:W$48,22,0)","v":0},{"$f":"VLOOKUP(B34,[1]A!B$1:X$48,23,0)","v":0},{"$f":"VLOOKUP(B34,[1]A!B$1:Z$48,25,0)","v":0},{"$f":"IFERROR(VLOOKUP(B34,[2]A!B$1:S$48,18,0),IFERROR(VLOOKUP(B34,[2]B!B$1:S$51,18,0),VLOOKUP(B34,[2]C!B$1:S$52,18,0)))","v":12},{"$f":"IFERROR(VLOOKUP(B34,[2]A!B$1:T$48,19,0),IFERROR(VLOOKUP(B34,[2]B!B$1:T$51,19,0),VLOOKUP(B34,[2]C!B$1:T$52,19,0)))","v":15},{"$f":"IFERROR(VLOOKUP(B34,[2]A!B$1:V$48,21,0),IFERROR(VLOOKUP(B34,[2]B!B$1:V$51,21,0),VLOOKUP(B34,[2]C!B$1:V$52,21,0)))","v":0},{"$f":"IFERROR(VLOOKUP(B34,[2]A!B$1:W$48,22,0),IFERROR(VLOOKUP(B34,[2]B!B$1:W$51,22,0),VLOOKUP(B34,[2]C!B$1:W$52,22,0)))","v":0},0,0,{"$f":"IFERROR(VLOOKUP(B34,[3]A!B$1:M$48,12,0),IFERROR(VLOOKUP(B34,[3]B!B$1:M$51,12,0),VLOOKUP(B34,[3]C!B$1:M$52,12,0)))","v":11},{"$f":"IFERROR(VLOOKUP(B34,[3]A!B$1:N$48,13,0),IFERROR(VLOOKUP(B34,[3]B!B$1:N$51,13,0),VLOOKUP(B34,[3]C!B$1:N$52,13,0)))","v":12},0,0,0,0,{"$f":"IFERROR(VLOOKUP(B34,[4]A!B$1:S$48,18,0),IFERROR(VLOOKUP(B34,[4]B!B$1:S$51,18,0),VLOOKUP(B34,[4]C!B$1:S$52,18,0)))","v":6},{"$f":"IFERROR(VLOOKUP(B34,[4]A!B$1:T$48,19,0),IFERROR(VLOOKUP(B34,[4]B!B$1:T$51,19,0),VLOOKUP(B34,[4]C!B$1:T$52,19,0)))","v":13},{"$f":"IFERROR(VLOOKUP(B34,[4]A!B$1:V$48,21,0),IFERROR(VLOOKUP(B34,[4]B!B$1:V$51,21,0),VLOOKUP(B34,[4]C!B$1:V$52,21,0)))","v":0},{"$f":"IFERROR(VLOOKUP(B34,[4]A!B$1:W$48,22,0),IFERROR(VLOOKUP(B34,[4]B!B$1:W$51,22,0),VLOOKUP(B34,[4]C!B$1:W$52,22,0)))","v":0},{"$f":"IFERROR(VLOOKUP(B34,[4]A!B$1:X$48,23,0),IFERROR(VLOOKUP(B34,[4]B!B$1:X$51,23,0),VLOOKUP(B34,[4]C!B$1:X$52,23,0)))","v":0},{"$f":"IFERROR(VLOOKUP(B34,[4]A!B$1:Z$48,25,0),IFERROR(VLOOKUP(B34,[4]B!B$1:Z$51,25,0),VLOOKUP(B34,[4]C!B$1:Z$52,25,0)))","v":0},3,4,null,null,null,null,51,0,0,36,36,70.588235294117652,20]
[34,"15BA110",{"$f":"VLOOKUP(B35,[1]A!B$1:S$48,18,0)","v":4},{"$f":"VLOOKUP(B35,[1]A!B$1:T$48,19,0)","v":7},{"$f":"VLOOKUP(B35,[1]A!B$1:V$48,21,0)","v":0},{"$f":"VLOOKUP(B35,[1]A!B$1:W$48,22,0)","v":0},{"$f":"VLOOKUP(B35,[1]A!B$1:X$48,23,0)","v":0},{"$f":"VLOOKUP(B35,[1]A!B$1:Z$48,25,0)","v":0},{"$f":"IFERROR(VLOOKUP(B35,[2]A!B$1:S$48,18,0),IFERROR(VLOOKUP(B35,[2]B!B$1:S$51,18,0),VLOOKUP(B35,[2]C!B$1:S$52,18,0)))","v":12},{"$f":"IFERROR(VLOOKUP(B35,[2]A!B$1:T$48,19,0),IFERROR(VLOOKUP(B35,[2]B!B$1:T$51,19,0),VLOOKUP(B35,[2]C!B$1:T$52,19,0)))","v":15},{"$f":"IFERROR(VLOOKUP(B35,[2]A!B$1:V$48,21,0),IFERROR(VLOOKUP(B35,[2]B!B$1:V$51,21,0),VLOOKUP(B35,[2]C!B$1:V$52,21,0)))","v":0},{"$f":"IFERROR(VLOOKUP(B35,[2]A!B$1:W$48,22,0),IFERROR(VLOOKUP(B35,[2]B!B$1:W$51,22,0),VLOOKUP(B35,[2]C!B$1:W$52,22,0)))","v":0},0,0,{"$f":"IFERROR(VLOOKUP(B35,[3]A!B$1:M$48,12,0),IFERROR(VLOOKUP(B35,[3]B!B$1:M$51,12,0),VLOOKUP(B35,[3]C!B$1:M$52,12,0)))","v":10},{"$f":"IFERROR(VLOOKUP(B35,[3]A!B$1:N$48,13,0),IFERROR(VLOOKUP(B35,[3]B!B$1:N$51,13,0),VLOOKUP(B35,[3]C!B$1:N$52,13,0)))","v":12},0,0,0,0,{"$f":"IFERROR(VLOOKUP(B35,[4]A!B$1:S$48,18,0),IFERROR(VLOOKUP(B35,[4]B!B$1:S$51,18,0),VLOOKUP(B35,[4]C!B$1:S$52,18,0)))","v":9},{"$f":"IFERROR(VLOOKUP(B35,[4]A!B$1:T$48,19,0),IFERROR(VLOOKUP(B35,[4]B!B$1:T$51,19,0),VLOOKUP(B35,[4]C!B$1:T$52,19,0)))","v":13},{"$f":"IFERROR(VLOOKUP(B35,[4]A!B$1:V$48,21,0),IFERROR(VLOOKUP(B35,[4]B!B$1:V$51,21,0),VLOOKUP(B35,[4]C!B$1:V$52,21,0)))","v":0},{"$f":"IFERROR(VLOOKUP(B35,[4]A!B$1:W$48,22,0),IFERROR(VLOOKUP(B35,[4]B!B$1:W$51,22,0),VLOOKUP(B35,[4]C!B$1:W$52,22,0)))","v":0},{"$f":"IFERROR(VLOOKUP(B35,[4]A!B$1:X$48,23,0),IFERROR(VLOOKUP(B35,[4]B!B$1:X$51,23,0),VLOOKUP(B35,[4]C!B$1:X$52,23,0)))","v":0},{"$f":"IFERROR(VLOOKUP(B35,[4]A!B$1:Z$48,25,0),IFERROR(VLOOKUP(B35,[4]B!B$1:Z$51,25,0),VLOOKUP(B35,[4]C!B$1:Z$52,25,0)))","v":0},1,4,null,null,null,null,51,0,0,36,36,70.588235294117652,20]
[35,"15BA112",{"$f":"VLOOKUP(B36,[1]A!B$1:S$48,18,0)","v":6},{"$f":"VLOOKUP(B36,[1]A!B$1:T$48,19,0)","v":7},{"$f":"VLOOKUP(B36,[1]A!B$1:V$48,21,0)","v":0},{"$f":"VLOOKUP(B36,[1]A!B$1:W$48,22,0)","v":0},{"$f":"VLOOKUP(B36,[1]A!B$1:X$48,23,0)","v":0},{"$f":"VLOOKUP(B36,[1]A!B$1:Z$48,25,0)","v":0},{"$f":"IFERROR(VLOOKUP(B36,[2]A!B$1:S$48,18,0),IFERROR(VLOOKUP(B36,[2]B!B$1:S$51,18,0),VLOOKUP(B36,[2]C!B$1:S$52,18,0)))","v":13},{"$f":"IFERROR(VLOOKUP(B36,[2]A!B$1:T$48,19,0),IFERROR(VLOOKUP(B36,[2]B!B$1:T$51,19,0),VLOOKUP(B36,[2]C!B$1:T$52,19,0)))","v":15},{"$f":"IFERROR(VLOOKUP(B36,[2]A!B$1:V$48,21,0),IFERROR(VLOOKUP(B36,[2]B!B$1:V$51,21,0),VLOOKUP(B36,[2]C!B$1:V$52,21,0)))","v":0},{"$f":"IFERROR(VLOOKUP(B36,[2]A!B$1:W$48,22,0),IFERROR(VLOOKUP(B36,[2]B!B$1:W$51,22,0),VLOOKUP(B36,[2]C!B$1:W$52,22,0)))","v":0},0,0,{"$f":"IFERROR(VLOOKUP(B36,[3]A!B$1:M$48,12,0),IFERROR(VLOOKUP(B36,[3]B!B$1:M$51,12,0),VLOOKUP(B36,[3]C!B$1:M$52,12,0)))","v":9},{"$f":"IFERROR(VLOOKUP(B36,[3]A!B$1:N$48,13,0),IFERROR(VLOOKUP(B36,[3]B!B$1:N$51,13,0),VLOOKUP(B36,[3]C!B$1:N$52,13,0)))","v":12},0,0,0,0,{"$f":"IFERROR(VLOOKUP(B36,[4]A!B$1:S$48,18,0),IFERROR(VLOOKUP(B36,[4]B!B$1:S$51,18,0),VLOOKUP(B36,[4]C!B$1:S$52,18,0)))","v":13},{"$f":"IFERROR(VLOOKUP(B36,[4]A!B$1:T$48,19,0),IFERROR(VLOOKUP(B36,[4]B!B$1:T$51,19,0),VLOOKUP(B36,[4]C!B$1:T$52,19,0)))","v":13},{"$f":"IFERROR(VLOOKUP(B36,[4]A!B$1:V$48,21,0),IFERROR(VLOOKUP(B36,[4]B!B$1:V$51,21,0),VLOOKUP(B36,[4]C!B$1:V$52,21,0)))","v":0},{"$f":"IFERROR(VLOOKUP(B36,[4]A!B$1:W$48,22,0),IFERROR(VLOOKUP(B36,[4]B!B$1:W$51,22,0),VLOOKUP(B36,[4]C!B$1:W$52,22,0)))","v":0},{"$f":"IFERROR(VLOOKUP(B36,[4]A!B$1:X$48,23,0),IFERROR(VLOOKUP(B36,[4]B!B$1:X$51,23,0),VLOOKUP(B36,[4]C!B$1:X$52,23,0)))","v":0},{"$f":"IFERROR(VLOOKUP(B36,[4]A!B$1:Z$48,25,0),IFERROR(VLOOKUP(B36,[4]B!B$1:Z$51,25,0),VLOOKUP(B36,[4]C!B$1:Z$52,25,0)))","v":0},3,4,null,null,null,null,51,0,0,44,44,86.274509803921575,22]
[36,"15BA115",{"$f":"VLOOKUP(B37,[1]A!B$1:S$48,18,0)","v":4},{"$f":"VLOOKUP(B37,[1]A!B$1:T$48,19,0)","v":7},{"$f":"VLOOKUP(B37,[1]A!B$1:V$48,21,0)","v":0},{"$f":"VLOOKUP(B37,[1]A!B$1:W$48,22,0)","v":0},{"$f":"VLOOKUP(B37,[1]A!B$1:X$48,23,0)","v":0},{"$f":"VLOOKUP(B37,[1]A!B$1:Z$48,25,0)","v":0},{"$f":"IFERROR(VLOOKUP(B37,[2]A!B$1:S$48,18,0),IFERROR(VLOOKUP(B37,[2]B!B$1:S$51,18,0),VLOOKUP(B37,[2]C!B$1:S$52,18,0)))","v":12},{"$f":"IFERROR(VLOOKUP(B37,[2]A!B$1:T$48,19,0),IFERROR(VLOOKUP(B37,[2]B!B$1:T$51,19,0),VLOOKUP(B37,[2]C!B$1:T$52,19,0)))","v":15},{"$f":"IFERROR(VLOOKUP(B37,[2]A!B$1:V$48,21,0),IFERROR(VLOOKUP(B37,[2]B!B$1:V$51,21,0),VLOOKUP(B37,[2]C!B$1:V$52,21,0)))","v":0},{"$f":"IFERROR(VLOOKUP(B37,[2]A!B$1:W$48,22,0),IFERROR(VLOOKUP(B37,[2]B!B$1:W$51,22,0),VLOOKUP(B37,[2]C!B$1:W$52,22,0)))","v":0},0,0,{"$f":"IFERROR(VLOOKUP(B37,[3]A!B$1:M$48,12,0),IFERROR(VLOOKUP(B37,[3]B!B$1:M$51,12,0),VLOOKUP(B37,[3]C!B$1:M$52,12,0)))","v":9},{"$f":"IFERROR(VLOOKUP(B37,[3]A!B$1:N$48,13,0),IFERROR(VLOOKUP(B37,[3]B!B$1:N$51,13,0),VLOOKUP(B37,[3]C!B$1:N$52,13,0)))","v":12},1,0,0,0,{"$f":"IFERROR(VLOOKUP(B37,[4]A!B$1:S$48,18,0),IFERROR(VLOOKUP(B37,[4]B!B$1:S$51,18,0),VLOOKUP(B37,[4]C!B$1:S$52,18,0)))","v":13},{"$f":"IFERROR(VLOOKUP(B37,[4]A!B$1:T$48,19,0),IFERROR(VLOOKUP(B37,[4]B!B$1:T$51,19,0),VLOOKUP(B37,[4]C!B$1:T$52,19,0)))","v":13},{"$f":"IFERROR(VLOOKUP(B37,[4]A!B$1:V$48,21,0),IFERROR(VLOOKUP(B37,[4]B!B$1:V$51,21,0),VLOOKUP(B37,[4]C!B$1:V$52,21,0)))","v":0},{"$f":"IFERROR(VLOOKUP(B37,[4]A!B$1:W$48,22,0),IFERROR(VLOOKUP(B37,[4]B!B$1:W$51,22,0),VLOOKUP(B37,[4]C!B$1:W$52,22,0)))","v":0},{"$f":"IFERROR(VLOOKUP(B37,[4]A!B$1:X$48,23,0),IFERROR(VLOOKUP(B37,[4]B!B$1:X$51,23,0),VLOOKUP(B37,[4]C!B$1:X$52,23,0)))","v":0},{"$f":"IFERROR(VLOOKUP(B37,[4]A!B$1:Z$48,25,0),IFERROR(VLOOKUP(B37,[4]B!B$1:Z$51,25,0),VLOOKUP(B37,[4]C!B$1:Z$52,25,0)))","v":0},2,4,null,null,null,null,51,1,1,40,41,80.392156862745097,22]
[37,"15BA116",{"$f":"VLOOKUP(B38,[1]A!B$1:S$48,18,0)","v":5},{"$f":"VLOOKUP(B38,[1]A!B$1:T$48,19,0)","v":7},{"$f":"VLOOKUP(B38,[1]A!B$1:V$48,21,0)","v":0},{"$f":"VLOOKUP(B38,[1]A!B$1:W$48,22,0)","v":0},{"$f":"VLOOKUP(B38,[1]A!B$1:X$48,23,0)","v":0},{"$f":"VLOOKUP(B38,[1]A!B$1:Z$48,25,0)","v":0},{"$f":"IFERROR(VLOOKUP(B38,[2]A!B$1:S$48,18,0),IFERROR(VLOOKUP(B38,[2]B!B$1:S$51,18,0),VLOOKUP(B38,[2]C!B$1:S$52,18,0)))","v":14},{"$f":"IFERROR(VLOOKUP(B38,[2]A!B$1:T$48,19,0),IFERROR(VLOOKUP(B38,[2]B!B$1:T$51,19,0),VLOOKUP(B38,[2]C!B$1:T$52,19,0)))","v":15},{"$f":"IFERROR(VLOOKUP(B38,[2]A!B$1:V$48,21,0),IFERROR(VLOOKUP(B38,[2]B!B$1:V$51,21,0),VLOOKUP(B38,[2]C!B$1:V$52,21,0)))","v":1},{"$f":"IFERROR(VLOOKUP(B38,[2]A!B$1:W$48,22,0),IFERROR(VLOOKUP(B38,[2]B!B$1:W$51,22,0),VLOOKUP(B38,[2]C!B$1:W$52,22,0)))","v":0},0,0,{"$f":"IFERROR(VLOOKUP(B38,[3]A!B$1:M$48,12,0),IFERROR(VLOOKUP(B38,[3]B!B$1:M$51,12,0),VLOOKUP(B38,[3]C!B$1:M$52,12,0)))","v":7},{"$f":"IFERROR(VLOOKUP(B38,[3]A!B$1:N$48,13,0),IFERROR(VLOOKUP(B38,[3]B!B$1:N$51,13,0),VLOOKUP(B38,[3]C!B$1:N$52,13,0)))","v":12},2,0,0,0,{"$f":"IFERROR(VLOOKUP(B38,[4]A!B$1:S$48,18,0),IFERROR(VLOOKUP(B38,[4]B!B$1:S$51,18,0),VLOOKUP(B38,[4]C!B$1:S$52,18,0)))","v":10},{"$f":"IFERROR(VLOOKUP(B38,[4]A!B$1:T$48,19,0),IFERROR(VLOOKUP(B38,[4]B!B$1:T$51,19,0),VLOOKUP(B38,[4]C!B$1:T$52,19,0)))","v":13},{"$f":"IFERROR(VLOOKUP(B38,[4]A!B$1:V$48,21,0),IFERROR(VLOOKUP(B38,[4]B!B$1:V$51,21,0),VLOOKUP(B38,[4]C!B$1:V$52,21,0)))","v":0},{"$f":"IFERROR(VLOOKUP(B38,[4]A!B$1:W$48,22,0),IFERROR(VLOOKUP(B38,[4]B!B$1:W$51,22,0),VLOOKUP(B38,[4]C!B$1:W$52,22,0)))","v":0},{"$f":"IFERROR(VLOOKUP(B38,[4]A!B$1:X$48,23,0),IFERROR(VLOOKUP(B38,[4]B!B$1:X$51,23,0),VLOOKUP(B38,[4]C!B$1:X$52,23,0)))","v":0},{"$f":"IFERROR(VLOOKUP(B38,[4]A!B$1:Z$48,25,0),IFERROR(VLOOKUP(B38,[4]B!B$1:Z$51,25,0),VLOOKUP(B38,[4]C!B$1:Z$52,25,0)))","v":0},3,4,null,null,null,null,51,3,3,39,42,82.35294117647058,20]
[38,"15BA119",{"$f":"VLOOKUP(B39,[1]A!B$1:S$48,18,0)","v":4},{"$f":"VLOOKUP(B39,[1]A!B$1:T$48,19,0)","v":7},{"$f":"VLOOKUP(B39,[1]A!B$1:V$48,21,0)","v":0},{"$f":"VLOOKUP(B39,[1]A!B$1:W$48,22,0)","v":0},{"$f":"VLOOKUP(B39,[1]A!B$1:X$48,23,0)","v":0},{"$f":"VLOOKUP(B39,[1]A!B$1:Z$48,25,0)","v":0},{"$f":"IFERROR(VLOOKUP(B39,[2]A!B$1:S$48,18,0),IFERROR(VLOOKUP(B39,[2]B!B$1:S$51,18,0),VLOOKUP(B39,[2]C!B$1:S$52,18,0)))","v":13},{"$f":"IFERROR(VLOOKUP(B39,[2]A!B$1:T$48,19,0),IFERROR(VLOOKUP(B39,[2]B!B$1:T$51,19,0),VLOOKUP(B39,[2]C!B$1:T$52,19,0)))","v":15},{"$f":"IFERROR(VLOOKUP(B39,[2]A!B$1:V$48,21,0),IFERROR(VLOOKUP(B39,[2]B!B$1:V$51,21,0),VLOOKUP(B39,[2]C!B$1:V$52,21,0)))","v":0},{"$f":"IFERROR(VLOOKUP(B39,[2]A!B$1:W$48,22,0),IFERROR(VLOOKUP(B39,[2]B!B$1:W$51,22,0),VLOOKUP(B39,[2]C!B$1:W$52,22,0)))","v":0},0,0,{"$f":"IFERROR(VLOOKUP(B39,[3]A!B$1:M$48,12,0),IFERROR(VLOOKUP(B39,[3]B!B$1:M$51,12,0),VLOOKUP(B39,[3]C!B$1:M$52,12,0)))","v":8},{"$f":"IFERROR(VLOOKUP(B39,[3]A!B$1:N$48,13,0),IFERROR(VLOOKUP(B39,[3]B!B$1:N$51,13,0),VLOOKUP(B39,[3]C!B$1:N$52,13,0)))","v":12},0,0,0,0,{"$f":"IFERROR(VLOOKUP(B39,[4]A!B$1:S$48,18,0),IFERROR(VLOOKUP(B39,[4]B!B$1:S$51,18,0),VLOOKUP(B39,[4]C!B$1:S$52,18,0)))","v":5},{"$f":"IFERROR(VLOOKUP(B39,[4]A!B$1:T$48,19,0),IFERROR(VLOOKUP(B39,[4]B!B$1:T$51,19,0),VLOOKUP(B39,[4]C!B$1:T$52,19,0)))","v":13},{"$f":"IFERROR(VLOOKUP(B39,[4]A!B$1:V$48,21,0),IFERROR(VLOOKUP(B39,[4]B!B$1:V$51,21,0),VLOOKUP(B39,[4]C!B$1:V$52,21,0)))","v":0},{"$f":"IFERROR(VLOOKUP(B39,[4]A!B$1:W$48,22,0),IFERROR(VLOOKUP(B39,[4]B!B$1:W$51,22,0),VLOOKUP(B39,[4]C!B$1:W$52,22,0)))","v":0},{"$f":"IFERROR(VLOOKUP(B39,[4]A!B$1:X$48,23,0),IFERROR(VLOOKUP(B39,[4]B!B$1:X$51,23,0),VLOOKUP(B39,[4]C!B$1:X$52,23,0)))","v":0},{"$f":"IFERROR(VLOOKUP(B39,[4]A!B$1:Z$48,25,0),IFERROR(VLOOKUP(B39,[4]B!B$1:Z$51,25,0),VLOOKUP(B39,[4]C!B$1:Z$52,25,0)))","v":0},2,4,2,null,null,null,51,2,2,32,34,66.666666666666657,22]
[39,"15BA123",{"$f":"VLOOKUP(B40,[1]A!B$1:S$48,18,0)","v":5},{"$f":"VLOOKUP(B40,[1]A!B$1:T$48,19,0)","v":7},{"$f":"VLOOKUP(B40,[1]A!B$1:V$48,21,0)","v":0},{"$f":"VLOOKUP(B40,[1]A!B$1:W$48,22,0)","v":0},{"$f":"VLOOKUP(B40,[1]A!B$1:X$48,23,0)","v":0},{"$f":"VLOOKUP(B40,[1]A!B$1:Z$48,25,0)","v":0},{"$f":"IFERROR(VLOOKUP(B40,[2]A!B$1:S$48,18,0),IFERROR(VLOOKUP(B40,[2]B!B$1:S$51,18,0),VLOOKUP(B40,[2]C!B$1:S$52,18,0)))","v":14},{"$f":"IFERROR(VLOOKUP(B40,[2]A!B$1:T$48,19,0),IFERROR(VLOOKUP(B40,[2]B!B$1:T$51,19,0),VLOOKUP(B40,[2]C!B$1:T$52,19,0)))","v":15},{"$f":"IFERROR(VLOOKUP(B40,[2]A!B$1:V$48,21,0),IFERROR(VLOOKUP(B40,[2]B!B$1:V$51,21,0),VLOOKUP(B40,[2]C!B$1:V$52,21,0)))","v":0},{"$f":"IFERROR(VLOOKUP(B40,[2]A!B$1:W$48,22,0),IFERROR(VLOOKUP(B40,[2]B!B$1:W$51,22,0),VLOOKUP(B40,[2]C!B$1:W$52,22,0)))","v":0},0,0,{"$f":"IFERROR(VLOOKUP(B40,[3]A!B$1:M$48,12,0),IFERROR(VLOOKUP(B40,[3]B!B$1:M$51,12,0),VLOOKUP(B40,[3]C!B$1:M$52,12,0)))","v":9},{"$f":"IFERROR(VLOOKUP(B40,[3]A!B$1:N$48,13,0),IFERROR(VLOOKUP(B40,[3]B!B$1:N$51,13,0),VLOOKUP(B40,[3]C!B$1:N$52,13,0)))","v":12},0,0,0,0,{"$f":"IFERROR(VLOOKUP(B40,[4]A!B$1:S$48,18,0),IFERROR(VLOOKUP(B40,[4]B!B$1:S$51,18,0),VLOOKUP(B40,[4]C!B$1:S$52,18,0)))","v":7},{"$f":"IFERROR(VLOOKUP(B40,[4]A!B$1:T$48,19,0),IFERROR(VLOOKUP(B40,[4]B!B$1:T$51,19,0),VLOOKUP(B40,[4]C!B$1:T$52,19,0)))","v":13},{"$f":"IFERROR(VLOOKUP(B40,[4]A!B$1:V$48,21,0),IFERROR(VLOOKUP(B40,[4]B!B$1:V$51,21,0),VLOOKUP(B40,[4]C!B$1:V$52,21,0)))","v":5},{"$f":"IFERROR(VLOOKUP(B40,[4]A!B$1:W$48,22,0),IFERROR(VLOOKUP(B40,[4]B!B$1:W$51,22,0),VLOOKUP(B40,[4]C!B$1:W$52,22,0)))","v":0},{"$f":"IFERROR(VLOOKUP(B40,[4]A!B$1:X$48,23,0),IFERROR(VLOOKUP(B40,[4]B!B$1:X$51,23,0),VLOOKUP(B40,[4]C!B$1:X$52,23,0)))","v":0},{"$f":"IFERROR(VLOOKUP(B40,[4]A!B$1:Z$48,25,0),IFERROR(VLOOKUP(B40,[4]B!B$1:Z$51,25,0),VLOOKUP(B40,[4]C!B$1:Z$52,25,0)))","v":0},2,4,null,null,null,null,51,5,5,37,42,82.35294117647058,20]
[40,"15BA126",{"$f":"VLOOKUP(B41,[1]A!B$1:S$48,18,0)","v":4},{"$f":"VLOOKUP(B41,[1]A!B$1:T$48,19,0)","v":7},{"$f":"VLOOKUP(B41,[1]A!B$1:V$48,21,0)","v":0},{"$f":"VLOOKUP(B41,[1]A!B$1:W$48,22,0)","v":0},{"$f":"VLOOKUP(B41,[1]A!B$1:X$48,23,0)","v":0},{"$f":"VLOOKUP(B41,[1]A!B$1:Z$48,25,0)","v":0},{"$f":"IFERROR(VLOOKUP(B41,[2]A!B$1:S$48,18,0),IFERROR(VLOOKUP(B41,[2]B!B$1:S$51,18,0),VLOOKUP(B41,[2]C!B$1:S$52,18,0)))","v":13},{"$f":"IFERROR(VLOOKUP(B41,[2]A!B$1:T$48,19,0),IFERROR(VLOOKUP(B41,[2]B!B$1:T$51,19,0),VLOOKUP(B41,[2]C!B$1:T$52,19,0)))","v":15},{"$f":"IFERROR(VLOOKUP(B41,[2]A!B$1:V$48,21,0),IFERROR(VLOOKUP(B41,[2]B!B$1:V$51,21,0),VLOOKUP(B41,[2]C!B$1:V$52,21,0)))","v":0},{"$f":"IFERROR(VLOOKUP(B41,[2]A!B$1:W$48,22,0),IFERROR(VLOOKUP(B41,[2]B!B$1:W$51,22,0),VLOOKUP(B41,[2]C!B$1:W$52,22,0)))","v":0},0,0,{"$f":"IFERROR(VLOOKUP(B41,[3]A!B$1:M$48,12,0),IFERROR(VLOOKUP(B41,[3]B!B$1:M$51,12,0),VLOOKUP(B41,[3]C!B$1:M$52,12,0)))","v":8},{"$f":"IFERROR(VLOOKUP(B41,[3]A!B$1:N$48,13,0),IFERROR(VLOOKUP(B41,[3]B!B$1:N$51,13,0),VLOOKUP(B41,[3]C!B$1:N$52,13,0)))","v":12},0,0,0,0,{"$f":"IFERROR(VLOOKUP(B41,[4]A!B$1:S$48,18,0),IFERROR(VLOOKUP(B41,[4]B!B$1:S$51,18,0),VLOOKUP(B41,[4]C!B$1:S$52,18,0)))","v":9},{"$f":"IFERROR(VLOOKUP(B41,[4]A!B$1:T$48,19,0),IFERROR(VLOOKUP(B41,[4]B!B$1:T$51,19,0),VLOOKUP(B41,[4]C!B$1:T$52,19,0)))","v":13},{"$f":"IFERROR(VLOOKUP(B41,[4]A!B$1:V$48,21,0),IFERROR(VLOOKUP(B41,[4]B!B$1:V$51,21,0),VLOOKUP(B41,[4]C!B$1:V$52,21,0)))","v":0},{"$f":"IFERROR(VLOOKUP(B41,[4]A!B$1:W$48,22,0),IFERROR(VLOOKUP(B41,[4]B!B$1:W$51,22,0),VLOOKUP(B41,[4]C!B$1:W$52,22,0)))","v":0},{"$f":"IFERROR(VLOOKUP(B41,[4]A!B$1:X$48,23,0),IFERROR(VLOOKUP(B41,[4]B!B$1:X$51,23,0),VLOOKUP(B41,[4]C!B$1:X$52,23,0)))","v":0},{"$f":"IFERROR(VLOOKUP(B41,[4]A!B$1:Z$48,25,0),IFERROR(VLOOKUP(B41,[4]B!B$1:Z$51,25,0),VLOOKUP(B41,[4]C!B$1:Z$52,25,0)))","v":0},2,4,null,null,null,null,51,0,0,36,36,70.588235294117652,22]
[41,"15BA128",{"$f":"VLOOKUP(B42,[1]A!B$1:S$48,18,0)","v":6},{"$f":"VLOOKUP(B42,[1]A!B$1:T$48,19,0)","v":7},{"$f":"VLOOKUP(B42,[1]A!B$1:V$48,21,0)","v":0},{"$f":"VLOOKUP(B42,[1]A!B$1:W$48,22,0)","v":0},{"$f":"VLOOKUP(B42,[1]A!B$1:X$48,23,0)","v":0},{"$f":"VLOOKUP(B42,[1]A!B$1:Z$48,25,0)","v":0},{"$f":"IFERROR(VLOOKUP(B42,[2]A!B$1:S$48,18,0),IFERROR(VLOOKUP(B42,[2]B!B$1:S$51,18,0),VLOOKUP(B42,[2]C!B$1:S$52,18,0)))","v":13},{"$f":"IFERROR(VLOOKUP(B42,[2]A!B$1:T$48,19,0),IFERROR(VLOOKUP(B42,[2]B!B$1:T$51,19,0),VLOOKUP(B42,[2]C!B$1:T$52,19,0)))","v":15},{"$f":"IFERROR(VLOOKUP(B42,[2]A!B$1:V$48,21,0),IFERROR(VLOOKUP(B42,[2]B!B$1:V$51,21,0),VLOOKUP(B42,[2]C!B$1:V$52,21,0)))","v":0},{"$f":"IFERROR(VLOOKUP(B42,[2]A!B$1:W$48,22,0),IFERROR(VLOOKUP(B42,[2]B!B$1:W$51,22,0),VLOOKUP(B42,[2]C!B$1:W$52,22,0)))","v":0},0,0,{"$f":"IFERROR(VLOOKUP(B42,[3]A!B$1:M$48,12,0),IFERROR(VLOOKUP(B42,[3]B!B$1:M$51,12,0),VLOOKUP(B42,[3]C!B$1:M$52,12,0)))","v":8},{"$f":"IFERROR(VLOOKUP(B42,[3]A!B$1:N$48,13,0),IFERROR(VLOOKUP(B42,[3]B!B$1:N$51,13,0),VLOOKUP(B42,[3]C!B$1:N$52,13,0)))","v":12},0,0,0,0,{"$f":"IFERROR(VLOOKUP(B42,[4]A!B$1:S$48,18,0),IFERROR(VLOOKUP(B42,[4]B!B$1:S$51,18,0),VLOOKUP(B42,[4]C!B$1:S$52,18,0)))","v":13},{"$f":"IFERROR(VLOOKUP(B42,[4]A!B$1:T$48,19,0),IFERROR(VLOOKUP(B42,[4]B!B$1:T$51,19,0),VLOOKUP(B42,[4]C!B$1:T$52,19,0)))","v":13},{"$f":"IFERROR(VLOOKUP(B42,[4]A!B$1:V$48,21,0),IFERROR(VLOOKUP(B42,[4]B!B$1:V$51,21,0),VLOOKUP(B42,[4]C!B$1:V$52,21,0)))","v":0},{"$f":"IFERROR(VLOOKUP(B42,[4]A!B$1:W$48,22,0),IFERROR(VLOOKUP(B42,[4]B!B$1:W$51,22,0),VLOOKUP(B42,[4]C!B$1:W$52,22,0)))","v":0},{"$f":"IFERROR(VLOOKUP(B42,[4]A!B$1:X$48,23,0),IFERROR(VLOOKUP(B42,[4]B!B$1:X$51,23,0),VLOOKUP(B42,[4]C!B$1:X$52,23,0)))","v":0},{"$f":"IFERROR(VLOOKUP(B42,[4]A!B$1:Z$48,25,0),IFERROR(VLOOKUP(B42,[4]B!B$1:Z$51,25,0),VLOOKUP(B42,[4]C!B$1:Z$52,25,0)))","v":0},1,4,null,null,null,null,51,0,0,41,41,80.392156862745097,20]
[42,"15BA133",{"$f":"VLOOKUP(B43,[1]A!B$1:S$48,18,0)","v":6},{"$f":"VLOOKUP(B43,[1]A!B$1:T$48,19,0)","v":7},{"$f":"VLOOKUP(B43,[1]A!B$1:V$48,21,0)","v":0},{"$f":"VLOOKUP(B43,[1]A!B$1:W$48,22,0)","v":0},{"$f":"VLOOKUP(B43,[1]A!B$1:X$48,23,0)","v":0},{"$f":"VLOOKUP(B43,[1]A!B$1:Z$48,25,0)","v":0},{"$f":"IFERROR(VLOOKUP(B43,[2]A!B$1:S$48,18,0),IFERROR(VLOOKUP(B43,[2]B!B$1:S$51,18,0),VLOOKUP(B43,[2]C!B$1:S$52,18,0)))","v":15},{"$f":"IFERROR(VLOOKUP(B43,[2]A!B$1:T$48,19,0),IFERROR(VLOOKUP(B43,[2]B!B$1:T$51,19,0),VLOOKUP(B43,[2]C!B$1:T$52,19,0)))","v":15},{"$f":"IFERROR(VLOOKUP(B43,[2]A!B$1:V$48,21,0),IFERROR(VLOOKUP(B43,[2]B!B$1:V$51,21,0),VLOOKUP(B43,[2]C!B$1:V$52,21,0)))","v":0},{"$f":"IFERROR(VLOOKUP(B43,[2]A!B$1:W$48,22,0),IFERROR(VLOOKUP(B43,[2]B!B$1:W$51,22,0),VLOOKUP(B43,[2]C!B$1:W$52,22,0)))","v":0},0,0,{"$f":"IFERROR(VLOOKUP(B43,[3]A!B$1:M$48,12,0),IFERROR(VLOOKUP(B43,[3]B!B$1:M$51,12,0),VLOOKUP(B43,[3]C!B$1:M$52,12,0)))","v":10},{"$f":"IFERROR(VLOOKUP(B43,[3]A!B$1:N$48,13,0),IFERROR(VLOOKUP(B43,[3]B!B$1:N$51,13,0),VLOOKUP(B43,[3]C!B$1:N$52,13,0)))","v":12},0,0,0,0,{"$f":"IFERROR(VLOOKUP(B43,[4]A!B$1:S$48,18,0),IFERROR(VLOOKUP(B43,[4]B!B$1:S$51,18,0),VLOOKUP(B43,[4]C!B$1:S$52,18,0)))","v":10},{"$f":"IFERROR(VLOOKUP(B43,[4]A!B$1:T$48,19,0),IFERROR(VLOOKUP(B43,[4]B!B$1:T$51,19,0),VLOOKUP(B43,[4]C!B$1:T$52,19,0)))","v":13},{"$f":"IFERROR(VLOOKUP(B43,[4]A!B$1:V$48,21,0),IFERROR(VLOOKUP(B43,[4]B!B$1:V$51,21,0),VLOOKUP(B43,[4]C!B$1:V$52,21,0)))","v":0},{"$f":"IFERROR(VLOOKUP(B43,[4]A!B$1:W$48,22,0),IFERROR(VLOOKUP(B43,[4]B!B$1:W$51,22,0),VLOOKUP(B43,[4]C!B$1:W$52,22,0)))","v":0},{"$f":"IFERROR(VLOOKUP(B43,[4]A!B$1:X$48,23,0),IFERROR(VLOOKUP(B43,[4]B!B$1:X$51,23,0),VLOOKUP(B43,[4]C!B$1:X$52,23,0)))","v":0},{"$f":"IFERROR(VLOOKUP(B43,[4]A!B$1:Z$48,25,0),IFERROR(VLOOKUP(B43,[4]B!B$1:Z$51,25,0),VLOOKUP(B43,[4]C!B$1:Z$52,25,0)))","v":0},2,4,null,null,null,null,51,0,0,43,43,84.313725490196077,20]
[43,"15BA138",{"$f":"VLOOKUP(B44,[1]A!B$1:S$48,18,0)","v":5},{"$f":"VLOOKUP(B44,[1]A!B$1:T$48,19,0)","v":7},{"$f":"VLOOKUP(B44,[1]A!B$1:V$48,21,0)","v":0},{"$f":"VLOOKUP(B44,[1]A!B$1:W$48,22,0)","v":0},{"$f":"VLOOKUP(B44,[1]A!B$1:X$48,23,0)","v":0},{"$f":"VLOOKUP(B44,[1]A!B$1:Z$48,25,0)","v":0},{"$f":"IFERROR(VLOOKUP(B44,[2]A!B$1:S$48,18,0),IFERROR(VLOOKUP(B44,[2]B!B$1:S$51,18,0),VLOOKUP(B44,[2]C!B$1:S$52,18,0)))","v":12},{"$f":"IFERROR(VLOOKUP(B44,[2]A!B$1:T$48,19,0),IFERROR(VLOOKUP(B44,[2]B!B$1:T$51,19,0),VLOOKUP(B44,[2]C!B$1:T$52,19,0)))","v":15},{"$f":"IFERROR(VLOOKUP(B44,[2]A!B$1:V$48,21,0),IFERROR(VLOOKUP(B44,[2]B!B$1:V$51,21,0),VLOOKUP(B44,[2]C!B$1:V$52,21,0)))","v":2},{"$f":"IFERROR(VLOOKUP(B44,[2]A!B$1:W$48,22,0),IFERROR(VLOOKUP(B44,[2]B!B$1:W$51,22,0),VLOOKUP(B44,[2]C!B$1:W$52,22,0)))","v":0},0,0,{"$f":"IFERROR(VLOOKUP(B44,[3]A!B$1:M$48,12,0),IFERROR(VLOOKUP(B44,[3]B!B$1:M$51,12,0),VLOOKUP(B44,[3]C!B$1:M$52,12,0)))","v":10},{"$f":"IFERROR(VLOOKUP(B44,[3]A!B$1:N$48,13,0),IFERROR(VLOOKUP(B44,[3]B!B$1:N$51,13,0),VLOOKUP(B44,[3]C!B$1:N$52,13,0)))","v":12},0,0,0,0,{"$f":"IFERROR(VLOOKUP(B44,[4]A!B$1:S$48,18,0),IFERROR(VLOOKUP(B44,[4]B!B$1:S$51,18,0),VLOOKUP(B44,[4]C!B$1:S$52,18,0)))","v":12},{"$f":"IFERROR(VLOOKUP(B44,[4]A!B$1:T$48,19,0),IFERROR(VLOOKUP(B44,[4]B!B$1:T$51,19,0),VLOOKUP(B44,[4]C!B$1:T$52,19,0)))","v":13},{"$f":"IFERROR(VLOOKUP(B44,[4]A!B$1:V$48,21,0),IFERROR(VLOOKUP(B44,[4]B!B$1:V$51,21,0),VLOOKUP(B44,[4]C!B$1:V$52,21,0)))","v":0},{"$f":"IFERROR(VLOOKUP(B44,[4]A!B$1:W$48,22,0),IFERROR(VLOOKUP(B44,[4]B!B$1:W$51,22,0),VLOOKUP(B44,[4]C!B$1:W$52,22,0)))","v":0},{"$f":"IFERROR(VLOOKUP(B44,[4]A!B$1:X$48,23,0),IFERROR(VLOOKUP(B44,[4]B!B$1:X$51,23,0),VLOOKUP(B44,[4]C!B$1:X$52,23,0)))","v":0},{"$f":"IFERROR(VLOOKUP(B44,[4]A!B$1:Z$48,25,0),IFERROR(VLOOKUP(B44,[4]B!B$1:Z$51,25,0),VLOOKUP(B44,[4]C!B$1:Z$52,25,0)))","v":0},2,4,null,null,null,null,51,2,2,41,43,84.313725490196077,22]
[44,"15BA139",{"$f":"VLOOKUP(B45,[1]A!B$1:S$48,18,0)","v":1},{"$f":"VLOOKUP(B45,[1]A!B$1:T$48,19,0)","v":7},{"$f":"VLOOKUP(B45,[1]A!B$1:V$48,21,0)","v":0},{"$f":"VLOOKUP(B45,[1]A!B$1:W$48,22,0)","v":0},{"$f":"VLOOKUP(B45,[1]A!B$1:X$48,23,0)","v":0},{"$f":"VLOOKUP(B45,[1]A!B$1:Z$48,25,0)","v":0},{"$f":"IFERROR(VLOOKUP(B45,[2]A!B$1:S$48,18,0),IFERROR(VLOOKUP(B45,[2]B!B$1:S$51,18,0),VLOOKUP(B45,[2]C!B$1:S$52,18,0)))","v":12},{"$f":"IFERROR(VLOOKUP(B45,[2]A!B$1:T$48,19,0),IFERROR(VLOOKUP(B45,[2]B!B$1:T$51,19,0),VLOOKUP(B45,[2]C!B$1:T$52,19,0)))","v":15},{"$f":"IFERROR(VLOOKUP(B45,[2]A!B$1:V$48,21,0),IFERROR(VLOOKUP(B45,[2]B!B$1:V$51,21,0),VLOOKUP(B45,[2]C!B$1:V$52,21,0)))","v":0},{"$f":"IFERROR(VLOOKUP(B45,[2]A!B$1:W$48,22,0),IFERROR(VLOOKUP(B45,[2]B!B$1:W$51,22,0),VLOOKUP(B45,[2]C!B$1:W$52,22,0)))","v":0},0,0,{"$f":"IFERROR(VLOOKUP(B45,[3]A!B$1:M$48,12,0),IFERROR(VLOOKUP(B45,[3]B!B$1:M$51,12,0),VLOOKUP(B45,[3]C!B$1:M$52,12,0)))","v":10},{"$f":"IFERROR(VLOOKUP(B45,[3]A!B$1:N$48,13,0),IFERROR(VLOOKUP(B45,[3]B!B$1:N$51,13,0),VLOOKUP(B45,[3]C!B$1:N$52,13,0)))","v":12},0,0,0,0,{"$f":"IFERROR(VLOOKUP(B45,[4]A!B$1:S$48,18,0),IFERROR(VLOOKUP(B45,[4]B!B$1:S$51,18,0),VLOOKUP(B45,[4]C!B$1:S$52,18,0)))","v":9},{"$f":"IFERROR(VLOOKUP(B45,[4]A!B$1:T$48,19,0),IFERROR(VLOOKUP(B45,[4]B!B$1:T$51,19,0),VLOOKUP(B45,[4]C!B$1:T$52,19,0)))","v":13},{"$f":"IFERROR(VLOOKUP(B45,[4]A!B$1:V$48,21,0),IFERROR(VLOOKUP(B45,[4]B!B$1:V$51,21,0),VLOOKUP(B45,[4]C!B$1:V$52,21,0)))","v":0},{"$f":"IFERROR(VLOOKUP(B45,[4]A!B$1:W$48,22,0),IFERROR(VLOOKUP(B45,[4]B!B$1:W$51,22,0),VLOOKUP(B45,[4]C!B$1:W$52,22,0)))","v":0},{"$f":"IFERROR(VLOOKUP(B45,[4]A!B$1:X$48,23,0),IFERROR(VLOOKUP(B45,[4]B!B$1:X$51,23,0),VLOOKUP(B45,[4]C!B$1:X$52,23,0)))","v":0},{"$f":"IFERROR(VLOOKUP(B45,[4]A!B$1:Z$48,25,0),IFERROR(VLOOKUP(B45,[4]B!B$1:Z$51,25,0),VLOOKUP(B45,[4]C!B$1:Z$52,25,0)))","v":0},3,4,null,null,null,null,51,0,0,35,35,68.627450980392155,20]
[45,"15BA143",{"$f":"VLOOKUP(B46,[1]A!B$1:S$48,18,0)","v":3},{"$f":"VLOOKUP(B46,[1]A!B$1:T$48,19,0)","v":7},{"$f":"VLOOKUP(B46,[1]A!B$1:V$48,21,0)","v":0},{"$f":"VLOOKUP(B46,[1]A!B$1:W$48,22,0)","v":0},{"$f":"VLOOKUP(B46,[1]A!B$1:X$48,23,0)","v":0},{"$f":"VLOOKUP(B46,[1]A!B$1:Z$48,25,0)","v":0},{"$f":"IFERROR(VLOOKUP(B46,[2]A!B$1:S$48,18,0),IFERROR(VLOOKUP(B46,[2]B!B$1:S$51,18,0),VLOOKUP(B46,[2]C!B$1:S$52,18,0)))","v":11},{"$f":"IFERROR(VLOOKUP(B46,[2]A!B$1:T$48,19,0),IFERROR(VLOOKUP(B46,[2]B!B$1:T$51,19,0),VLOOKUP(B46,[2]C!B$1:T$52,19,0)))","v":15},{"$f":"IFERROR(VLOOKUP(B46,[2]A!B$1:V$48,21,0),IFERROR(VLOOKUP(B46,[2]B!B$1:V$51,21,0),VLOOKUP(B46,[2]C!B$1:V$52,21,0)))","v":0},{"$f":"IFERROR(VLOOKUP(B46,[2]A!B$1:W$48,22,0),IFERROR(VLOOKUP(B46,[2]B!B$1:W$51,22,0),VLOOKUP(B46,[2]C!B$1:W$52,22,0)))","v":0},0,0,{"$f":"IFERROR(VLOOKUP(B46,[3]A!B$1:M$48,12,0),IFERROR(VLOOKUP(B46,[3]B!B$1:M$51,12,0),VLOOKUP(B46,[3]C!B$1:M$52,12,0)))","v":9},{"$f":"IFERROR(VLOOKUP(B46,[3]A!B$1:N$48,13,0),IFERROR(VLOOKUP(B46,[3]B!B$1:N$51,13,0),VLOOKUP(B46,[3]C!B$1:N$52,13,0)))","v":12},0,0,0,0,{"$f":"IFERROR(VLOOKUP(B46,[4]A!B$1:S$48,18,0),IFERROR(VLOOKUP(B46,[4]B!B$1:S$51,18,0),VLOOKUP(B46,[4]C!B$1:S$52,18,0)))","v":8},{"$f":"IFERROR(VLOOKUP(B46,[4]A!B$1:T$48,19,0),IFERROR(VLOOKUP(B46,[4]B!B$1:T$51,19,0),VLOOKUP(B46,[4]C!B$1:T$52,19,0)))","v":13},{"$f":"IFERROR(VLOOKUP(B46,[4]A!B$1:V$48,21,0),IFERROR(VLOOKUP(B46,[4]B!B$1:V$51,21,0),VLOOKUP(B46,[4]C!B$1:V$52,21,0)))","v":0},{"$f":"IFERROR(VLOOKUP(B46,[4]A!B$1:W$48,22,0),IFERROR(VLOOKUP(B46,[4]B!B$1:W$51,22,0),VLOOKUP(B46,[4]C!B$1:W$52,22,0)))","v":0},{"$f":"IFERROR(VLOOKUP(B46,[4]A!B$1:X$48,23,0),IFERROR(VLOOKUP(B46,[4]B!B$1:X$51,23,0),VLOOKUP(B46,[4]C!B$1:X$52,23,0)))","v":0},{"$f":"IFERROR(VLOOKUP(B46,[4]A!B$1:Z$48,25,0),IFERROR(VLOOKUP(B46,[4]B!B$1:Z$51,25,0),VLOOKUP(B46,[4]C!B$1:Z$52,25,0)))","v":0},2,4,null,null,null,null,51,0,0,33,33,64.705882352941174,20]
[46,"15BA151",{"$f":"VLOOKUP(B47,[1]A!B$1:S$48,18,0)","v":7},{"$f":"VLOOKUP(B47,[1]A!B$1:T$48,19,0)","v":7},{"$f":"VLOOKUP(B47,[1]A!B$1:V$48,21,0)","v":0},{"$f":"VLOOKUP(B47,[1]A!B$1:W$48,22,0)","v":0},{"$f":"VLOOKUP(B47,[1]A!B$1:X$48,23,0)","v":0},{"$f":"VLOOKUP(B47,[1]A!B$1:Z$48,25,0)","v":0},{"$f":"IFERROR(VLOOKUP(B47,[2]A!B$1:S$48,18,0),IFERROR(VLOOKUP(B47,[2]B!B$1:S$51,18,0),VLOOKUP(B47,[2]C!B$1:S$52,18,0)))","v":12},{"$f":"IFERROR(VLOOKUP(B47,[2]A!B$1:T$48,19,0),IFERROR(VLOOKUP(B47,[2]B!B$1:T$51,19,0),VLOOKUP(B47,[2]C!B$1:T$52,19,0)))","v":15},{"$f":"IFERROR(VLOOKUP(B47,[2]A!B$1:V$48,21,0),IFERROR(VLOOKUP(B47,[2]B!B$1:V$51,21,0),VLOOKUP(B47,[2]C!B$1:V$52,21,0)))","v":0},{"$f":"IFERROR(VLOOKUP(B47,[2]A!B$1:W$48,22,0),IFERROR(VLOOKUP(B47,[2]B!B$1:W$51,22,0),VLOOKUP(B47,[2]C!B$1:W$52,22,0)))","v":0},0,0,{"$f":"IFERROR(VLOOKUP(B47,[3]A!B$1:M$48,12,0),IFERROR(VLOOKUP(B47,[3]B!B$1:M$51,12,0),VLOOKUP(B47,[3]C!B$1:M$52,12,0)))","v":9},{"$f":"IFERROR(VLOOKUP(B47,[3]A!B$1:N$48,13,0),IFERROR(VLOOKUP(B47,[3]B!B$1:N$51,13,0),VLOOKUP(B47,[3]C!B$1:N$52,13,0)))","v":12},0,0,0,0,{"$f":"IFERROR(VLOOKUP(B47,[4]A!B$1:S$48,18,0),IFERROR(VLOOKUP(B47,[4]B!B$1:S$51,18,0),VLOOKUP(B47,[4]C!B$1:S$52,18,0)))","v":10},{"$f":"IFERROR(VLOOKUP(B47,[4]A!B$1:T$48,19,0),IFERROR(VLOOKUP(B47,[4]B!B$1:T$51,19,0),VLOOKUP(B47,[4]C!B$1:T$52,19,0)))","v":13},{"$f":"IFERROR(VLOOKUP(B47,[4]A!B$1:V$48,21,0),IFERROR(VLOOKUP(B47,[4]B!B$1:V$51,21,0),VLOOKUP(B47,[4]C!B$1:V$52,21,0)))","v":0},{"$f":"IFERROR(VLOOKUP(B47,[4]A!B$1:W$48,22,0),IFERROR(VLOOKUP(B47,[4]B!B$1:W$51,22,0),VLOOKUP(B47,[4]C!B$1:W$52,22,0)))","v":0},{"$f":"IFERROR(VLOOKUP(B47,[4]A!B$1:X$48,23,0),IFERROR(VLOOKUP(B47,[4]B!B$1:X$51,23,0),VLOOKUP(B47,[4]C!B$1:X$52,23,0)))","v":0},{"$f":"IFERROR(VLOOKUP(B47,[4]A!B$1:Z$48,25,0),IFERROR(VLOOKUP(B47,[4]B!B$1:Z$51,25,0),VLOOKUP(B47,[4]C!B$1:Z$52,25,0)))","v":0},4,4,null,null,null,null,51,0,0,42,42,82.35294117647058,22]
[47,"15BA153",{"$f":"VLOOKUP(B48,[1]A!B$1:S$48,18,0)","v":7},{"$f":"VLOOKUP(B48,[1]A!B$1:T$48,19,0)","v":7},{"$f":"VLOOKUP(B48,[1]A!B$1:V$48,21,0)","v":0},{"$f":"VLOOKUP(B48,[1]A!B$1:W$48,22,0)","v":0},{"$f":"VLOOKUP(B48,[1]A!B$1:X$48,23,0)","v":0},{"$f":"VLOOKUP(B48,[1]A!B$1:Z$48,25,0)","v":0},{"$f":"IFERROR(VLOOKUP(B48,[2]A!B$1:S$48,18,0),IFERROR(VLOOKUP(B48,[2]B!B$1:S$51,18,0),VLOOKUP(B48,[2]C!B$1:S$52,18,0)))","v":12},{"$f":"IFERROR(VLOOKUP(B48,[2]A!B$1:T$48,19,0),IFERROR(VLOOKUP(B48,[2]B!B$1:T$51,19,0),VLOOKUP(B48,[2]C!B$1:T$52,19,0)))","v":15},{"$f":"IFERROR(VLOOKUP(B48,[2]A!B$1:V$48,21,0),IFERROR(VLOOKUP(B48,[2]B!B$1:V$51,21,0),VLOOKUP(B48,[2]C!B$1:V$52,21,0)))","v":0},{"$f":"IFERROR(VLOOKUP(B48,[2]A!B$1:W$48,22,0),IFERROR(VLOOKUP(B48,[2]B!B$1:W$51,22,0),VLOOKUP(B48,[2]C!B$1:W$52,22,0)))","v":0},0,0,{"$f":"IFERROR(VLOOKUP(B48,[3]A!B$1:M$48,12,0),IFERROR(VLOOKUP(B48,[3]B!B$1:M$51,12,0),VLOOKUP(B48,[3]C!B$1:M$52,12,0)))","v":8},{"$f":"IFERROR(VLOOKUP(B48,[3]A!B$1:N$48,13,0),IFERROR(VLOOKUP(B48,[3]B!B$1:N$51,13,0),VLOOKUP(B48,[3]C!B$1:N$52,13,0)))","v":12},0,0,0,0,{"$f":"IFERROR(VLOOKUP(B48,[4]A!B$1:S$48,18,0),IFERROR(VLOOKUP(B48,[4]B!B$1:S$51,18,0),VLOOKUP(B48,[4]C!B$1:S$52,18,0)))","v":12},{"$f":"IFERROR(VLOOKUP(B48,[4]A!B$1:T$48,19,0),IFERROR(VLOOKUP(B48,[4]B!B$1:T$51,19,0),VLOOKUP(B48,[4]C!B$1:T$52,19,0)))","v":13},{"$f":"IFERROR(VLOOKUP(B48,[4]A!B$1:V$48,21,0),IFERROR(VLOOKUP(B48,[4]B!B$1:V$51,21,0),VLOOKUP(B48,[4]C!B$1:V$52,21,0)))","v":1},{"$f":"IFERROR(VLOOKUP(B48,[4]A!B$1:W$48,22,0),IFERROR(VLOOKUP(B48,[4]B!B$1:W$51,22,0),VLOOKUP(B48,[4]C!B$1:W$52,22,0)))","v":0},{"$f":"IFERROR(VLOOKUP(B48,[4]A!B$1:X$48,23,0),IFERROR(VLOOKUP(B48,[4]B!B$1:X$51,23,0),VLOOKUP(B48,[4]C!B$1:X$52,23,0)))","v":0},{"$f":"IFERROR(VLOOKUP(B48,[4]A!B$1:Z$48,25,0),IFERROR(VLOOKUP(B48,[4]B!B$1:Z$51,25,0),VLOOKUP(B48,[4]C!B$1:Z$52,25,0)))","v":0},4,4,null,null,null,null,51,1,1,43,44,86.274509803921575,22]
[48,"15BA004",6,6,{"$f":"VLOOKUP(B49,[1]B!B$1:V$48,21,0)","v":0},{"$f":"VLOOKUP(B49,[1]B!B$1:W$48,22,0)","v":0},{"$f":"VLOOKUP(B49,[1]B!B$1:X$48,23,0)","v":0},{"$f":"VLOOKUP(B49,[1]B!B$1:Z$48,25,0)","v":0},14,15,{"$f":"IFERROR(VLOOKUP(B49,[2]A!B$1:V$48,21,0),IFERROR(VLOOKUP(B49,[2]B!B$1:V$51,21,0),VLOOKUP(B49,[2]C!B$1:V$52,21,0)))","v":0},{"$f":"IFERROR(VLOOKUP(B49,[2]A!B$1:W$48,22,0),IFERROR(VLOOKUP(B49,[2]B!B$1:W$51,22,0),VLOOKUP(B49,[2]C!B$1:W$52,22,0)))","v":0},0,0,{"$f":"IFERROR(VLOOKUP(B49,[3]A!B$1:M$48,12,0),IFERROR(VLOOKUP(B49,[3]B!B$1:M$51,12,0),VLOOKUP(B49,[3]C!B$1:M$52,12,0)))","v":0},{"$f":"IFERROR(VLOOKUP(B49,[3]A!B$1:N$48,13,0),IFERROR(VLOOKUP(B49,[3]B!B$1:N$51,13,0),VLOOKUP(B49,[3]C!B$1:N$52,13,0)))","v":0},0,0,0,0,8,10,{"$f":"IFERROR(VLOOKUP(B49,[4]A!B$1:V$48,21,0),IFERROR(VLOOKUP(B49,[4]B!B$1:V$51,21,0),VLOOKUP(B49,[4]C!B$1:V$52,21,0)))","v":0},{"$f":"IFERROR(VLOOKUP(B49,[4]A!B$1:W$48,22,0),IFERROR(VLOOKUP(B49,[4]B!B$1:W$51,22,0),VLOOKUP(B49,[4]C!B$1:W$52,22,0)))","v":0},{"$f":"IFERROR(VLOOKUP(B49,[4]A!B$1:X$48,23,0),IFERROR(VLOOKUP(B49,[4]B!B$1:X$51,23,0),VLOOKUP(B49,[4]C!B$1:X$52,23,0)))","v":0},{"$f":"IFERROR(VLOOKUP(B49,[4]A!B$1:Z$48,25,0),IFERROR(VLOOKUP(B49,[4]B!B$1:Z$51,25,0),VLOOKUP(B49,[4]C!B$1:Z$52,25,0)))","v":0},3,4,null,null,null,null,35,0,0,31,31,88.571428571428569,20]
[49,"15BA008",5,6,{"$f":"VLOOKUP(B50,[1]B!B$1:V$48,21,0)","v":0},{"$f":"VLOOKUP(B50,[1]B!B$1:W$48,22,0)","v":0},{"$f":"VLOOKUP(B50,[1]B!B$1:X$48,23,0)","v":0},{"$f":"VLOOKUP(B50,[1]B!B$1:Z$48,25,0)","v":0},12,15,{"$f":"IFERROR(VLOOKUP(B50,[2]A!B$1:V$48,21,0),IFERROR(VLOOKUP(B50,[2]B!B$1:V$51,21,0),VLOOKUP(B50,[2]C!B$1:V$52,21,0)))","v":0},{"$f":"IFERROR(VLOOKUP(B50,[2]A!B$1:W$48,22,0),IFERROR(VLOOKUP(B50,[2]B!B$1:W$51,22,0),VLOOKUP(B50,[2]C!B$1:W$52,22,0)))","v":0},0,0,{"$f":"IFERROR(VLOOKUP(B50,[3]A!B$1:M$48,12,0),IFERROR(VLOOKUP(B50,[3]B!B$1:M$51,12,0),VLOOKUP(B50,[3]C!B$1:M$52,12,0)))","v":0},{"$f":"IFERROR(VLOOKUP(B50,[3]A!B$1:N$48,13,0),IFERROR(VLOOKUP(B50,[3]B!B$1:N$51,13,0),VLOOKUP(B50,[3]C!B$1:N$52,13,0)))","v":0},0,0,0,0,5,10,{"$f":"IFERROR(VLOOKUP(B50,[4]A!B$1:V$48,21,0),IFERROR(VLOOKUP(B50,[4]B!B$1:V$51,21,0),VLOOKUP(B50,[4]C!B$1:V$52,21,0)))","v":0},{"$f":"IFERROR(VLOOKUP(B50,[4]A!B$1:W$48,22,0),IFERROR(VLOOKUP(B50,[4]B!B$1:W$51,22,0),VLOOKUP(B50,[4]C!B$1:W$52,22,0)))","v":0},{"$f":"IFERROR(VLOOKUP(B50,[4]A!B$1:X$48,23,0),IFERROR(VLOOKUP(B50,[4]B!B$1:X$51,23,0),VLOOKUP(B50,[4]C!B$1:X$52,23,0)))","v":0},{"$f":"IFERROR(VLOOKUP(B50,[4]A!B$1:Z$48,25,0),IFERROR(VLOOKUP(B50,[4]B!B$1:Z$51,25,0),VLOOKUP(B50,[4]C!B$1:Z$52,25,0)))","v":0},2,4,null,null,null,null,35,0,0,24,24,68.571428571428569,14]
[50,"15BA009",5,6,{"$f":"VLOOKUP(B51,[1]B!B$1:V$48,21,0)","v":0},{"$f":"VLOOKUP(B51,[1]B!B$1:W$48,22,0)","v":0},{"$f":"VLOOKUP(B51,[1]B!B$1:X$48,23,0)","v":0},{"$f":"VLOOKUP(B51,[1]B!B$1:Z$48,25,0)","v":0},12,15,{"$f":"IFERROR(VLOOKUP(B51,[2]A!B$1:V$48,21,0),IFERROR(VLOOKUP(B51,[2]B!B$1:V$51,21,0),VLOOKUP(B51,[2]C!B$1:V$52,21,0)))","v":0},{"$f":"IFERROR(VLOOKUP(B51,[2]A!B$1:W$48,22,0),IFERROR(VLOOKUP(B51,[2]B!B$1:W$51,22,0),VLOOKUP(B51,[2]C!B$1:W$52,22,0)))","v":0},0,0,{"$f":"IFERROR(VLOOKUP(B51,[3]A!B$1:M$48,12,0),IFERROR(VLOOKUP(B51,[3]B!B$1:M$51,12,0),VLOOKUP(B51,[3]C!B$1:M$52,12,0)))","v":0},{"$f":"IFERROR(VLOOKUP(B51,[3]A!B$1:N$48,13,0),IFERROR(VLOOKUP(B51,[3]B!B$1:N$51,13,0),VLOOKUP(B51,[3]C!B$1:N$52,13,0)))","v":0},0,0,0,0,6,10,{"$f":"IFERROR(VLOOKUP(B51,[4]A!B$1:V$48,21,0),IFERROR(VLOOKUP(B51,[4]B!B$1:V$51,21,0),VLOOKUP(B51,[4]C!B$1:V$52,21,0)))","v":0},{"$f":"IFERROR(VLOOKUP(B51,[4]A!B$1:W$48,22,0),IFERROR(VLOOKUP(B51,[4]B!B$1:W$51,22,0),VLOOKUP(B51,[4]C!B$1:W$52,22,0)))","v":0},{"$f":"IFERROR(VLOOKUP(B51,[4]A!B$1:X$48,23,0),IFERROR(VLOOKUP(B51,[4]B!B$1:X$51,23,0),VLOOKUP(B51,[4]C!B$1:X$52,23,0)))","v":0},{"$f":"IFERROR(VLOOKUP(B51,[4]A!B$1:Z$48,25,0),IFERROR(VLOOKUP(B51,[4]B!B$1:Z$51,25,0),VLOOKUP(B51,[4]C!B$1:Z$52,25,0)))","v":0},4,4,null,null,null,null,35,0,0,27,27,77.142857142857153,15]
[51,"15BA012",5,6,{"$f":"VLOOKUP(B52,[1]B!B$1:V$48,21,0)","v":0},{"$f":"VLOOKUP(B52,[1]B!B$1:W$48,22,0)","v":0},{"$f":"VLOOKUP(B52,[1]B!B$1:X$48,23,0)","v":0},{"$f":"VLOOKUP(B52,[1]B!B$1:Z$48,25,0)","v":0},10,15,{"$f":"IFERROR(VLOOKUP(B52,[2]A!B$1:V$48,21,0),IFERROR(VLOOKUP(B52,[2]B!B$1:V$51,21,0),VLOOKUP(B52,[2]C!B$1:V$52,21,0)))","v":0},{"$f":"IFERROR(VLOOKUP(B52,[2]A!B$1:W$48,22,0),IFERROR(VLOOKUP(B52,[2]B!B$1:W$51,22,0),VLOOKUP(B52,[2]C!B$1:W$52,22,0)))","v":0},0,0,{"$f":"IFERROR(VLOOKUP(B52,[3]A!B$1:M$48,12,0),IFERROR(VLOOKUP(B52,[3]B!B$1:M$51,12,0),VLOOKUP(B52,[3]C!B$1:M$52,12,0)))","v":0},{"$f":"IFERROR(VLOOKUP(B52,[3]A!B$1:N$48,13,0),IFERROR(VLOOKUP(B52,[3]B!B$1:N$51,13,0),VLOOKUP(B52,[3]C!B$1:N$52,13,0)))","v":0},0,0,0,0,6,10,{"$f":"IFERROR(VLOOKUP(B52,[4]A!B$1:V$48,21,0),IFERROR(VLOOKUP(B52,[4]B!B$1:V$51,21,0),VLOOKUP(B52,[4]C!B$1:V$52,21,0)))","v":0},{"$f":"IFERROR(VLOOKUP(B52,[4]A!B$1:W$48,22,0),IFERROR(VLOOKUP(B52,[4]B!B$1:W$51,22,0),VLOOKUP(B52,[4]C!B$1:W$52,22,0)))","v":0},{"$f":"IFERROR(VLOOKUP(B52,[4]A!B$1:X$48,23,0),IFERROR(VLOOKUP(B52,[4]B!B$1:X$51,23,0),VLOOKUP(B52,[4]C!B$1:X$52,23,0)))","v":0},{"$f":"IFERROR(VLOOKUP(B52,[4]A!B$1:Z$48,25,0),IFERROR(VLOOKUP(B52,[4]B!B$1:Z$51,25,0),VLOOKUP(B52,[4]C!B$1:Z$52,25,0)))","v":0},2,4,null,null,null,null,35,0,0,23,23,65.714285714285708]
[52,"15BA014",6,6,{"$f":"VLOOKUP(B53,[1]B!B$1:V$48,21,0)","v":0},{"$f":"VLOOKUP(B53,[1]B!B$1:W$48,22,0)","v":0},{"$f":"VLOOKUP(B53,[1]B!B$1:X$48,23,0)","v":0},{"$f":"VLOOKUP(B53,[1]B!B$1:Z$48,25,0)","v":0},15,15,{"$f":"IFERROR(VLOOKUP(B53,[2]A!B$1:V$48,21,0),IFERROR(VLOOKUP(B53,[2]B!B$1:V$51,21,0),VLOOKUP(B53,[2]C!B$1:V$52,21,0)))","v":0},{"$f":"IFERROR(VLOOKUP(B53,[2]A!B$1:W$48,22,0),IFERROR(VLOOKUP(B53,[2]B!B$1:W$51,22,0),VLOOKUP(B53,[2]C!B$1:W$52,22,0)))","v":0},0,0,{"$f":"IFERROR(VLOOKUP(B53,[3]A!B$1:M$48,12,0),IFERROR(VLOOKUP(B53,[3]B!B$1:M$51,12,0),VLOOKUP(B53,[3]C!B$1:M$52,12,0)))","v":0},{"$f":"IFERROR(VLOOKUP(B53,[3]A!B$1:N$48,13,0),IFERROR(VLOOKUP(B53,[3]B!B$1:N$51,13,0),VLOOKUP(B53,[3]C!B$1:N$52,13,0)))","v":0},0,0,0,0,7,10,{"$f":"IFERROR(VLOOKUP(B53,[4]A!B$1:V$48,21,0),IFERROR(VLOOKUP(B53,[4]B!B$1:V$51,21,0),VLOOKUP(B53,[4]C!B$1:V$52,21,0)))","v":0},{"$f":"IFERROR(VLOOKUP(B53,[4]A!B$1:W$48,22,0),IFERROR(VLOOKUP(B53,[4]B!B$1:W$51,22,0),VLOOKUP(B53,[4]C!B$1:W$52,22,0)))","v":0},{"$f":"IFERROR(VLOOKUP(B53,[4]A!B$1:X$48,23,0),IFERROR(VLOOKUP(B53,[4]B!B$1:X$51,23,0),VLOOKUP(B53,[4]C!B$1:X$52,23,0)))","v":0},{"$f":"IFERROR(VLOOKUP(B53,[4]A!B$1:Z$48,25,0),IFERROR(VLOOKUP(B53,[4]B!B$1:Z$51,25,0),VLOOKUP(B53,[4]C!B$1:Z$52,25,0)))","v":0},4,4,null,null,null,null,35,0,0,32,32,91.428571428571431,21]
[53,"15BA016",6,6,{"$f":"VLOOKUP(B54,[1]B!B$1:V$48,21,0)","v":0},{"$f":"VLOOKUP(B54,[1]B!B$1:W$48,22,0)","v":0},{"$f":"VLOOKUP(B54,[1]B!B$1:X$48,23,0)","v":0},{"$f":"VLOOKUP(B54,[1]B!B$1:Z$48,25,0)","v":0},10,15,{"$f":"IFERROR(VLOOKUP(B54,[2]A!B$1:V$48,21,0),IFERROR(VLOOKUP(B54,[2]B!B$1:V$51,21,0),VLOOKUP(B54,[2]C!B$1:V$52,21,0)))","v":0},{"$f":"IFERROR(VLOOKUP(B54,[2]A!B$1:W$48,22,0),IFERROR(VLOOKUP(B54,[2]B!B$1:W$51,22,0),VLOOKUP(B54,[2]C!B$1:W$52,22,0)))","v":0},0,0,{"$f":"IFERROR(VLOOKUP(B54,[3]A!B$1:M$48,12,0),IFERROR(VLOOKUP(B54,[3]B!B$1:M$51,12,0),VLOOKUP(B54,[3]C!B$1:M$52,12,0)))","v":0},{"$f":"IFERROR(VLOOKUP(B54,[3]A!B$1:N$48,13,0),IFERROR(VLOOKUP(B54,[3]B!B$1:N$51,13,0),VLOOKUP(B54,[3]C!B$1:N$52,13,0)))","v":0},0,0,0,0,6,10,{"$f":"IFERROR(VLOOKUP(B54,[4]A!B$1:V$48,21,0),IFERROR(VLOOKUP(B54,[4]B!B$1:V$51,21,0),VLOOKUP(B54,[4]C!B$1:V$52,21,0)))","v":0},{"$f":"IFERROR(VLOOKUP(B54,[4]A!B$1:W$48,22,0),IFERROR(VLOOKUP(B54,[4]B!B$1:W$51,22,0),VLOOKUP(B54,[4]C!B$1:W$52,22,0)))","v":0},{"$f":"IFERROR(VLOOKUP(B54,[4]A!B$1:X$48,23,0),IFERROR(VLOOKUP(B54,[4]B!B$1:X$51,23,0),VLOOKUP(B54,[4]C!B$1:X$52,23,0)))","v":0},{"$f":"IFERROR(VLOOKUP(B54,[4]A!B$1:Z$48,25,0),IFERROR(VLOOKUP(B54,[4]B!B$1:Z$51,25,0),VLOOKUP(B54,[4]C!B$1:Z$52,25,0)))","v":0},3,4,null,null,null,null,35,0,0,25,25,71.428571428571431,11]
[54,"15BA017",6,6,{"$f":"VLOOKUP(B55,[1]B!B$1:V$48,21,0)","v":0},{"$f":"VLOOKUP(B55,[1]B!B$1:W$48,22,0)","v":0},{"$f":"VLOOKUP(B55,[1]B!B$1:X$48,23,0)","v":0},{"$f":"VLOOKUP(B55,[1]B!B$1:Z$48,25,0)","v":0},12,15,2,{"$f":"IFERROR(VLOOKUP(B55,[2]A!B$1:W$48,22,0),IFERROR(VLOOKUP(B55,[2]B!B$1:W$51,22,0),VLOOKUP(B55,[2]C!B$1:W$52,22,0)))","v":0},0,0,{"$f":"IFERROR(VLOOKUP(B55,[3]A!B$1:M$48,12,0),IFERROR(VLOOKUP(B55,[3]B!B$1:M$51,12,0),VLOOKUP(B55,[3]C!B$1:M$52,12,0)))","v":0},{"$f":"IFERROR(VLOOKUP(B55,[3]A!B$1:N$48,13,0),IFERROR(VLOOKUP(B55,[3]B!B$1:N$51,13,0),VLOOKUP(B55,[3]C!B$1:N$52,13,0)))","v":0},0,0,0,0,8,10,1,{"$f":"IFERROR(VLOOKUP(B55,[4]A!B$1:W$48,22,0),IFERROR(VLOOKUP(B55,[4]B!B$1:W$51,22,0),VLOOKUP(B55,[4]C!B$1:W$52,22,0)))","v":0},{"$f":"IFERROR(VLOOKUP(B55,[4]A!B$1:X$48,23,0),IFERROR(VLOOKUP(B55,[4]B!B$1:X$51,23,0),VLOOKUP(B55,[4]C!B$1:X$52,23,0)))","v":0},{"$f":"IFERROR(VLOOKUP(B55,[4]A!B$1:Z$48,25,0),IFERROR(VLOOKUP(B55,[4]B!B$1:Z$51,25,0),VLOOKUP(B55,[4]C!B$1:Z$52,25,0)))","v":0},4,4,1,null,null,null,35,4,4,30,34,97.142857142857139,19]
[55,"15BA021",6,6,{"$f":"VLOOKUP(B56,[1]B!B$1:V$48,21,0)","v":0},{"$f":"VLOOKUP(B56,[1]B!B$1:W$48,22,0)","v":0},{"$f":"VLOOKUP(B56,[1]B!B$1:X$48,23,0)","v":0},{"$f":"VLOOKUP(B56,[1]B!B$1:Z$48,25,0)","v":0},13,15,{"$f":"IFERROR(VLOOKUP(B56,[2]A!B$1:V$48,21,0),IFERROR(VLOOKUP(B56,[2]B!B$1:V$51,21,0),VLOOKUP(B56,[2]C!B$1:V$52,21,0)))","v":0},{"$f":"IFERROR(VLOOKUP(B56,[2]A!B$1:W$48,22,0),IFERROR(VLOOKUP(B56,[2]B!B$1:W$51,22,0),VLOOKUP(B56,[2]C!B$1:W$52,22,0)))","v":0},0,0,{"$f":"IFERROR(VLOOKUP(B56,[3]A!B$1:M$48,12,0),IFERROR(VLOOKUP(B56,[3]B!B$1:M$51,12,0),VLOOKUP(B56,[3]C!B$1:M$52,12,0)))","v":0},{"$f":"IFERROR(VLOOKUP(B56,[3]A!B$1:N$48,13,0),IFERROR(VLOOKUP(B56,[3]B!B$1:N$51,13,0),VLOOKUP(B56,[3]C!B$1:N$52,13,0)))","v":0},0,0,0,0,7,10,{"$f":"IFERROR(VLOOKUP(B56,[4]A!B$1:V$48,21,0),IFERROR(VLOOKUP(B56,[4]B!B$1:V$51,21,0),VLOOKUP(B56,[4]C!B$1:V$52,21,0)))","v":0},{"$f":"IFERROR(VLOOKUP(B56,[4]A!B$1:W$48,22,0),IFERROR(VLOOKUP(B56,[4]B!B$1:W$51,22,0),VLOOKUP(B56,[4]C!B$1:W$52,22,0)))","v":0},{"$f":"IFERROR(VLOOKUP(B56,[4]A!B$1:X$48,23,0),IFERROR(VLOOKUP(B56,[4]B!B$1:X$51,23,0),VLOOKUP(B56,[4]C!B$1:X$52,23,0)))","v":0},{"$f":"IFERROR(VLOOKUP(B56,[4]A!B$1:Z$48,25,0),IFERROR(VLOOKUP(B56,[4]B!B$1:Z$51,25,0),VLOOKUP(B56,[4]C!B$1:Z$52,25,0)))","v":0},4,4,null,null,null,null,35,0,0,30,30,85.714285714285708,18]
[56,"15BA024",6,6,{"$f":"VLOOKUP(B57,[1]B!B$1:V$48,21,0)","v":0},{"$f":"VLOOKUP(B57,[1]B!B$1:W$48,22,0)","v":0},{"$f":"VLOOKUP(B57,[1]B!B$1:X$48,23,0)","v":0},{"$f":"VLOOKUP(B57,[1]B!B$1:Z$48,25,0)","v":0},11,15,{"$f":"IFERROR(VLOOKUP(B57,[2]A!B$1:V$48,21,0),IFERROR(VLOOKUP(B57,[2]B!B$1:V$51,21,0),VLOOKUP(B57,[2]C!B$1:V$52,21,0)))","v":0},{"$f":"IFERROR(VLOOKUP(B57,[2]A!B$1:W$48,22,0),IFERROR(VLOOKUP(B57,[2]B!B$1:W$51,22,0),VLOOKUP(B57,[2]C!B$1:W$52,22,0)))","v":0},0,0,{"$f":"IFERROR(VLOOKUP(B57,[3]A!B$1:M$48,12,0),IFERROR(VLOOKUP(B57,[3]B!B$1:M$51,12,0),VLOOKUP(B57,[3]C!B$1:M$52,12,0)))","v":0},{"$f":"IFERROR(VLOOKUP(B57,[3]A!B$1:N$48,13,0),IFERROR(VLOOKUP(B57,[3]B!B$1:N$51,13,0),VLOOKUP(B57,[3]C!B$1:N$52,13,0)))","v":0},0,0,0,0,6,10,{"$f":"IFERROR(VLOOKUP(B57,[4]A!B$1:V$48,21,0),IFERROR(VLOOKUP(B57,[4]B!B$1:V$51,21,0),VLOOKUP(B57,[4]C!B$1:V$52,21,0)))","v":0},{"$f":"IFERROR(VLOOKUP(B57,[4]A!B$1:W$48,22,0),IFERROR(VLOOKUP(B57,[4]B!B$1:W$51,22,0),VLOOKUP(B57,[4]C!B$1:W$52,22,0)))","v":0},{"$f":"IFERROR(VLOOKUP(B57,[4]A!B$1:X$48,23,0),IFERROR(VLOOKUP(B57,[4]B!B$1:X$51,23,0),VLOOKUP(B57,[4]C!B$1:X$52,23,0)))","v":0},{"$f":"IFERROR(VLOOKUP(B57,[4]A!B$1:Z$48,25,0),IFERROR(VLOOKUP(B57,[4]B!B$1:Z$51,25,0),VLOOKUP(B57,[4]C!B$1:Z$52,25,0)))","v":0},4,4,null,null,null,null,35,0,0,27,27,77.142857142857153,19]
[57,"15BA030",5,6,{"$f":"VLOOKUP(B58,[1]B!B$1:V$48,21,0)","v":0},{"$f":"VLOOKUP(B58,[1]B!B$1:W$48,22,0)","v":0},{"$f":"VLOOKUP(B58,[1]B!B$1:X$48,23,0)","v":0},{"$f":"VLOOKUP(B58,[1]B!B$1:Z$48,25,0)","v":0},12,15,{"$f":"IFERROR(VLOOKUP(B58,[2]A!B$1:V$48,21,0),IFERROR(VLOOKUP(B58,[2]B!B$1:V$51,21,0),VLOOKUP(B58,[2]C!B$1:V$52,21,0)))","v":0},{"$f":"IFERROR(VLOOKUP(B58,[2]A!B$1:W$48,22,0),IFERROR(VLOOKUP(B58,[2]B!B$1:W$51,22,0),VLOOKUP(B58,[2]C!B$1:W$52,22,0)))","v":0},0,0,{"$f":"IFERROR(VLOOKUP(B58,[3]A!B$1:M$48,12,0),IFERROR(VLOOKUP(B58,[3]B!B$1:M$51,12,0),VLOOKUP(B58,[3]C!B$1:M$52,12,0)))","v":0},{"$f":"IFERROR(VLOOKUP(B58,[3]A!B$1:N$48,13,0),IFERROR(VLOOKUP(B58,[3]B!B$1:N$51,13,0),VLOOKUP(B58,[3]C!B$1:N$52,13,0)))","v":0},0,0,0,0,4,10,{"$f":"IFERROR(VLOOKUP(B58,[4]A!B$1:V$48,21,0),IFERROR(VLOOKUP(B58,[4]B!B$1:V$51,21,0),VLOOKUP(B58,[4]C!B$1:V$52,21,0)))","v":0},{"$f":"IFERROR(VLOOKUP(B58,[4]A!B$1:W$48,22,0),IFERROR(VLOOKUP(B58,[4]B!B$1:W$51,22,0),VLOOKUP(B58,[4]C!B$1:W$52,22,0)))","v":0},{"$f":"IFERROR(VLOOKUP(B58,[4]A!B$1:X$48,23,0),IFERROR(VLOOKUP(B58,[4]B!B$1:X$51,23,0),VLOOKUP(B58,[4]C!B$1:X$52,23,0)))","v":0},{"$f":"IFERROR(VLOOKUP(B58,[4]A!B$1:Z$48,25,0),IFERROR(VLOOKUP(B58,[4]B!B$1:Z$51,25,0),VLOOKUP(B58,[4]C!B$1:Z$52,25,0)))","v":0},2,4,null,null,null,null,35,0,0,23,23,65.714285714285708]
[58,"15BA036",5,6,{"$f":"VLOOKUP(B59,[1]B!B$1:V$48,21,0)","v":0},{"$f":"VLOOKUP(B59,[1]B!B$1:W$48,22,0)","v":0},{"$f":"VLOOKUP(B59,[1]B!B$1:X$48,23,0)","v":0},{"$f":"VLOOKUP(B59,[1]B!B$1:Z$48,25,0)","v":0},11,15,{"$f":"IFERROR(VLOOKUP(B59,[2]A!B$1:V$48,21,0),IFERROR(VLOOKUP(B59,[2]B!B$1:V$51,21,0),VLOOKUP(B59,[2]C!B$1:V$52,21,0)))","v":0},{"$f":"IFERROR(VLOOKUP(B59,[2]A!B$1:W$48,22,0),IFERROR(VLOOKUP(B59,[2]B!B$1:W$51,22,0),VLOOKUP(B59,[2]C!B$1:W$52,22,0)))","v":0},0,0,{"$f":"IFERROR(VLOOKUP(B59,[3]A!B$1:M$48,12,0),IFERROR(VLOOKUP(B59,[3]B!B$1:M$51,12,0),VLOOKUP(B59,[3]C!B$1:M$52,12,0)))","v":0},{"$f":"IFERROR(VLOOKUP(B59,[3]A!B$1:N$48,13,0),IFERROR(VLOOKUP(B59,[3]B!B$1:N$51,13,0),VLOOKUP(B59,[3]C!B$1:N$52,13,0)))","v":0},0,0,0,0,4,10,{"$f":"IFERROR(VLOOKUP(B59,[4]A!B$1:V$48,21,0),IFERROR(VLOOKUP(B59,[4]B!B$1:V$51,21,0),VLOOKUP(B59,[4]C!B$1:V$52,21,0)))","v":0},{"$f":"IFERROR(VLOOKUP(B59,[4]A!B$1:W$48,22,0),IFERROR(VLOOKUP(B59,[4]B!B$1:W$51,22,0),VLOOKUP(B59,[4]C!B$1:W$52,22,0)))","v":0},{"$f":"IFERROR(VLOOKUP(B59,[4]A!B$1:X$48,23,0),IFERROR(VLOOKUP(B59,[4]B!B$1:X$51,23,0),VLOOKUP(B59,[4]C!B$1:X$52,23,0)))","v":0},{"$f":"IFERROR(VLOOKUP(B59,[4]A!B$1:Z$48,25,0),IFERROR(VLOOKUP(B59,[4]B!B$1:Z$51,25,0),VLOOKUP(B59,[4]C!B$1:Z$52,25,0)))","v":0},3,4,null,null,null,null,35,0,0,23,23,65.714285714285708,14]
[59,"15BA039",5,6,{"$f":"VLOOKUP(B60,[1]B!B$1:V$48,21,0)","v":0},{"$f":"VLOOKUP(B60,[1]B!B$1:W$48,22,0)","v":0},{"$f":"VLOOKUP(B60,[1]B!B$1:X$48,23,0)","v":0},{"$f":"VLOOKUP(B60,[1]B!B$1:Z$48,25,0)","v":0},10,15,{"$f":"IFERROR(VLOOKUP(B60,[2]A!B$1:V$48,21,0),IFERROR(VLOOKUP(B60,[2]B!B$1:V$51,21,0),VLOOKUP(B60,[2]C!B$1:V$52,21,0)))","v":0},{"$f":"IFERROR(VLOOKUP(B60,[2]A!B$1:W$48,22,0),IFERROR(VLOOKUP(B60,[2]B!B$1:W$51,22,0),VLOOKUP(B60,[2]C!B$1:W$52,22,0)))","v":0},0,0,{"$f":"IFERROR(VLOOKUP(B60,[3]A!B$1:M$48,12,0),IFERROR(VLOOKUP(B60,[3]B!B$1:M$51,12,0),VLOOKUP(B60,[3]C!B$1:M$52,12,0)))","v":0},{"$f":"IFERROR(VLOOKUP(B60,[3]A!B$1:N$48,13,0),IFERROR(VLOOKUP(B60,[3]B!B$1:N$51,13,0),VLOOKUP(B60,[3]C!B$1:N$52,13,0)))","v":0},0,0,0,0,4,10,{"$f":"IFERROR(VLOOKUP(B60,[4]A!B$1:V$48,21,0),IFERROR(VLOOKUP(B60,[4]B!B$1:V$51,21,0),VLOOKUP(B60,[4]C!B$1:V$52,21,0)))","v":0},{"$f":"IFERROR(VLOOKUP(B60,[4]A!B$1:W$48,22,0),IFERROR(VLOOKUP(B60,[4]B!B$1:W$51,22,0),VLOOKUP(B60,[4]C!B$1:W$52,22,0)))","v":0},{"$f":"IFERROR(VLOOKUP(B60,[4]A!B$1:X$48,23,0),IFERROR(VLOOKUP(B60,[4]B!B$1:X$51,23,0),VLOOKUP(B60,[4]C!B$1:X$52,23,0)))","v":0},{"$f":"IFERROR(VLOOKUP(B60,[4]A!B$1:Z$48,25,0),IFERROR(VLOOKUP(B60,[4]B!B$1:Z$51,25,0),VLOOKUP(B60,[4]C!B$1:Z$52,25,0)))","v":0},3,4,null,null,null,null,35,0,0,22,22,62.857142857142854,10]
[60,"15BA040",5,6,{"$f":"VLOOKUP(B61,[1]B!B$1:V$48,21,0)","v":0},{"$f":"VLOOKUP(B61,[1]B!B$1:W$48,22,0)","v":0},{"$f":"VLOOKUP(B61,[1]B!B$1:X$48,23,0)","v":0},{"$f":"VLOOKUP(B61,[1]B!B$1:Z$48,25,0)","v":0},11,15,{"$f":"IFERROR(VLOOKUP(B61,[2]A!B$1:V$48,21,0),IFERROR(VLOOKUP(B61,[2]B!B$1:V$51,21,0),VLOOKUP(B61,[2]C!B$1:V$52,21,0)))","v":0},{"$f":"IFERROR(VLOOKUP(B61,[2]A!B$1:W$48,22,0),IFERROR(VLOOKUP(B61,[2]B!B$1:W$51,22,0),VLOOKUP(B61,[2]C!B$1:W$52,22,0)))","v":0},0,0,{"$f":"IFERROR(VLOOKUP(B61,[3]A!B$1:M$48,12,0),IFERROR(VLOOKUP(B61,[3]B!B$1:M$51,12,0),VLOOKUP(B61,[3]C!B$1:M$52,12,0)))","v":0},{"$f":"IFERROR(VLOOKUP(B61,[3]A!B$1:N$48,13,0),IFERROR(VLOOKUP(B61,[3]B!B$1:N$51,13,0),VLOOKUP(B61,[3]C!B$1:N$52,13,0)))","v":0},0,0,0,0,5,10,{"$f":"IFERROR(VLOOKUP(B61,[4]A!B$1:V$48,21,0),IFERROR(VLOOKUP(B61,[4]B!B$1:V$51,21,0),VLOOKUP(B61,[4]C!B$1:V$52,21,0)))","v":0},{"$f":"IFERROR(VLOOKUP(B61,[4]A!B$1:W$48,22,0),IFERROR(VLOOKUP(B61,[4]B!B$1:W$51,22,0),VLOOKUP(B61,[4]C!B$1:W$52,22,0)))","v":0},{"$f":"IFERROR(VLOOKUP(B61,[4]A!B$1:X$48,23,0),IFERROR(VLOOKUP(B61,[4]B!B$1:X$51,23,0),VLOOKUP(B61,[4]C!B$1:X$52,23,0)))","v":0},{"$f":"IFERROR(VLOOKUP(B61,[4]A!B$1:Z$48,25,0),IFERROR(VLOOKUP(B61,[4]B!B$1:Z$51,25,0),VLOOKUP(B61,[4]C!B$1:Z$52,25,0)))","v":0},2,4,null,null,null,null,35,0,0,23,23,65.714285714285708,10]
[61,"15BA050",5,6,{"$f":"VLOOKUP(B62,[1]B!B$1:V$48,21,0)","v":0},{"$f":"VLOOKUP(B62,[1]B!B$1:W$48,22,0)","v":0},{"$f":"VLOOKUP(B62,[1]B!B$1:X$48,23,0)","v":0},{"$f":"VLOOKUP(B62,[1]B!B$1:Z$48,25,0)","v":0},11,15,{"$f":"IFERROR(VLOOKUP(B62,[2]A!B$1:V$48,21,0),IFERROR(VLOOKUP(B62,[2]B!B$1:V$51,21,0),VLOOKUP(B62,[2]C!B$1:V$52,21,0)))","v":0},{"$f":"IFERROR(VLOOKUP(B62,[2]A!B$1:W$48,22,0),IFERROR(VLOOKUP(B62,[2]B!B$1:W$51,22,0),VLOOKUP(B62,[2]C!B$1:W$52,22,0)))","v":0},0,0,{"$f":"IFERROR(VLOOKUP(B62,[3]A!B$1:M$48,12,0),IFERROR(VLOOKUP(B62,[3]B!B$1:M$51,12,0),VLOOKUP(B62,[3]C!B$1:M$52,12,0)))","v":0},{"$f":"IFERROR(VLOOKUP(B62,[3]A!B$1:N$48,13,0),IFERROR(VLOOKUP(B62,[3]B!B$1:N$51,13,0),VLOOKUP(B62,[3]C!B$1:N$52,13,0)))","v":0},0,0,0,0,4,10,{"$f":"IFERROR(VLOOKUP(B62,[4]A!B$1:V$48,21,0),IFERROR(VLOOKUP(B62,[4]B!B$1:V$51,21,0),VLOOKUP(B62,[4]C!B$1:V$52,21,0)))","v":0},{"$f":"IFERROR(VLOOKUP(B62,[4]A!B$1:W$48,22,0),IFERROR(VLOOKUP(B62,[4]B!B$1:W$51,22,0),VLOOKUP(B62,[4]C!B$1:W$52,22,0)))","v":0},{"$f":"IFERROR(VLOOKUP(B62,[4]A!B$1:X$48,23,0),IFERROR(VLOOKUP(B62,[4]B!B$1:X$51,23,0),VLOOKUP(B62,[4]C!B$1:X$52,23,0)))","v":0},{"$f":"IFERROR(VLOOKUP(B62,[4]A!B$1:Z$48,25,0),IFERROR(VLOOKUP(B62,[4]B!B$1:Z$51,25,0),VLOOKUP(B62,[4]C!B$1:Z$52,25,0)))","v":0},2,4,null,null,null,null,35,0,0,22,22,62.857142857142854]
[62,"15BA051",5,6,{"$f":"VLOOKUP(B63,[1]B!B$1:V$48,21,0)","v":0},{"$f":"VLOOKUP(B63,[1]B!B$1:W$48,22,0)","v":0},{"$f":"VLOOKUP(B63,[1]B!B$1:X$48,23,0)","v":0},{"$f":"VLOOKUP(B63,[1]B!B$1:Z$48,25,0)","v":0},10,15,{"$f":"IFERROR(VLOOKUP(B63,[2]A!B$1:V$48,21,0),IFERROR(VLOOKUP(B63,[2]B!B$1:V$51,21,0),VLOOKUP(B63,[2]C!B$1:V$52,21,0)))","v":0},{"$f":"IFERROR(VLOOKUP(B63,[2]A!B$1:W$48,22,0),IFERROR(VLOOKUP(B63,[2]B!B$1:W$51,22,0),VLOOKUP(B63,[2]C!B$1:W$52,22,0)))","v":0},0,0,{"$f":"IFERROR(VLOOKUP(B63,[3]A!B$1:M$48,12,0),IFERROR(VLOOKUP(B63,[3]B!B$1:M$51,12,0),VLOOKUP(B63,[3]C!B$1:M$52,12,0)))","v":0},{"$f":"IFERROR(VLOOKUP(B63,[3]A!B$1:N$48,13,0),IFERROR(VLOOKUP(B63,[3]B!B$1:N$51,13,0),VLOOKUP(B63,[3]C!B$1:N$52,13,0)))","v":0},0,0,0,0,4,10,{"$f":"IFERROR(VLOOKUP(B63,[4]A!B$1:V$48,21,0),IFERROR(VLOOKUP(B63,[4]B!B$1:V$51,21,0),VLOOKUP(B63,[4]C!B$1:V$52,21,0)))","v":0},{"$f":"IFERROR(VLOOKUP(B63,[4]A!B$1:W$48,22,0),IFERROR(VLOOKUP(B63,[4]B!B$1:W$51,22,0),VLOOKUP(B63,[4]C!B$1:W$52,22,0)))","v":0},{"$f":"IFERROR(VLOOKUP(B63,[4]A!B$1:X$48,23,0),IFERROR(VLOOKUP(B63,[4]B!B$1:X$51,23,0),VLOOKUP(B63,[4]C!B$1:X$52,23,0)))","v":0},{"$f":"IFERROR(VLOOKUP(B63,[4]A!B$1:Z$48,25,0),IFERROR(VLOOKUP(B63,[4]B!B$1:Z$51,25,0),VLOOKUP(B63,[4]C!B$1:Z$52,25,0)))","v":0},3,4,null,null,null,null,35,0,0,22,22,62.857142857142854,12]
[63,"15BA054",6,6,{"$f":"VLOOKUP(B64,[1]B!B$1:V$48,21,0)","v":0},{"$f":"VLOOKUP(B64,[1]B!B$1:W$48,22,0)","v":0},{"$f":"VLOOKUP(B64,[1]B!B$1:X$48,23,0)","v":0},{"$f":"VLOOKUP(B64,[1]B!B$1:Z$48,25,0)","v":0},14,15,{"$f":"IFERROR(VLOOKUP(B64,[2]A!B$1:V$48,21,0),IFERROR(VLOOKUP(B64,[2]B!B$1:V$51,21,0),VLOOKUP(B64,[2]C!B$1:V$52,21,0)))","v":0},{"$f":"IFERROR(VLOOKUP(B64,[2]A!B$1:W$48,22,0),IFERROR(VLOOKUP(B64,[2]B!B$1:W$51,22,0),VLOOKUP(B64,[2]C!B$1:W$52,22,0)))","v":0},0,0,{"$f":"IFERROR(VLOOKUP(B64,[3]A!B$1:M$48,12,0),IFERROR(VLOOKUP(B64,[3]B!B$1:M$51,12,0),VLOOKUP(B64,[3]C!B$1:M$52,12,0)))","v":0},{"$f":"IFERROR(VLOOKUP(B64,[3]A!B$1:N$48,13,0),IFERROR(VLOOKUP(B64,[3]B!B$1:N$51,13,0),VLOOKUP(B64,[3]C!B$1:N$52,13,0)))","v":0},0,0,0,0,7,10,{"$f":"IFERROR(VLOOKUP(B64,[4]A!B$1:V$48,21,0),IFERROR(VLOOKUP(B64,[4]B!B$1:V$51,21,0),VLOOKUP(B64,[4]C!B$1:V$52,21,0)))","v":0},{"$f":"IFERROR(VLOOKUP(B64,[4]A!B$1:W$48,22,0),IFERROR(VLOOKUP(B64,[4]B!B$1:W$51,22,0),VLOOKUP(B64,[4]C!B$1:W$52,22,0)))","v":0},{"$f":"IFERROR(VLOOKUP(B64,[4]A!B$1:X$48,23,0),IFERROR(VLOOKUP(B64,[4]B!B$1:X$51,23,0),VLOOKUP(B64,[4]C!B$1:X$52,23,0)))","v":0},{"$f":"IFERROR(VLOOKUP(B64,[4]A!B$1:Z$48,25,0),IFERROR(VLOOKUP(B64,[4]B!B$1:Z$51,25,0),VLOOKUP(B64,[4]C!B$1:Z$52,25,0)))","v":0},4,4,null,null,null,null,35,0,0,31,31,88.571428571428569,20]
[64,"15BA055",6,6,{"$f":"VLOOKUP(B65,[1]B!B$1:V$48,21,0)","v":0},{"$f":"VLOOKUP(B65,[1]B!B$1:W$48,22,0)","v":0},{"$f":"VLOOKUP(B65,[1]B!B$1:X$48,23,0)","v":0},{"$f":"VLOOKUP(B65,[1]B!B$1:Z$48,25,0)","v":0},11,15,{"$f":"IFERROR(VLOOKUP(B65,[2]A!B$1:V$48,21,0),IFERROR(VLOOKUP(B65,[2]B!B$1:V$51,21,0),VLOOKUP(B65,[2]C!B$1:V$52,21,0)))","v":0},{"$f":"IFERROR(VLOOKUP(B65,[2]A!B$1:W$48,22,0),IFERROR(VLOOKUP(B65,[2]B!B$1:W$51,22,0),VLOOKUP(B65,[2]C!B$1:W$52,22,0)))","v":0},0,0,{"$f":"IFERROR(VLOOKUP(B65,[3]A!B$1:M$48,12,0),IFERROR(VLOOKUP(B65,[3]B!B$1:M$51,12,0),VLOOKUP(B65,[3]C!B$1:M$52,12,0)))","v":0},{"$f":"IFERROR(VLOOKUP(B65,[3]A!B$1:N$48,13,0),IFERROR(VLOOKUP(B65,[3]B!B$1:N$51,13,0),VLOOKUP(B65,[3]C!B$1:N$52,13,0)))","v":0},0,0,0,0,3,10,{"$f":"IFERROR(VLOOKUP(B65,[4]A!B$1:V$48,21,0),IFERROR(VLOOKUP(B65,[4]B!B$1:V$51,21,0),VLOOKUP(B65,[4]C!B$1:V$52,21,0)))","v":0},{"$f":"IFERROR(VLOOKUP(B65,[4]A!B$1:W$48,22,0),IFERROR(VLOOKUP(B65,[4]B!B$1:W$51,22,0),VLOOKUP(B65,[4]C!B$1:W$52,22,0)))","v":0},{"$f":"IFERROR(VLOOKUP(B65,[4]A!B$1:X$48,23,0),IFERROR(VLOOKUP(B65,[4]B!B$1:X$51,23,0),VLOOKUP(B65,[4]C!B$1:X$52,23,0)))","v":0},{"$f":"IFERROR(VLOOKUP(B65,[4]A!B$1:Z$48,25,0),IFERROR(VLOOKUP(B65,[4]B!B$1:Z$51,25,0),VLOOKUP(B65,[4]C!B$1:Z$52,25,0)))","v":0},3,4,null,null,null,null,35,0,0,23,23,65.714285714285708,10]
[65,"15BA057",6,6,{"$f":"VLOOKUP(B66,[1]B!B$1:V$48,21,0)","v":0},{"$f":"VLOOKUP(B66,[1]B!B$1:W$48,22,0)","v":0},{"$f":"VLOOKUP(B66,[1]B!B$1:X$48,23,0)","v":0},{"$f":"VLOOKUP(B66,[1]B!B$1:Z$48,25,0)","v":0},14,15,{"$f":"IFERROR(VLOOKUP(B66,[2]A!B$1:V$48,21,0),IFERROR(VLOOKUP(B66,[2]B!B$1:V$51,21,0),VLOOKUP(B66,[2]C!B$1:V$52,21,0)))","v":0},{"$f":"IFERROR(VLOOKUP(B66,[2]A!B$1:W$48,22,0),IFERROR(VLOOKUP(B66,[2]B!B$1:W$51,22,0),VLOOKUP(B66,[2]C!B$1:W$52,22,0)))","v":0},0,0,{"$f":"IFERROR(VLOOKUP(B66,[3]A!B$1:M$48,12,0),IFERROR(VLOOKUP(B66,[3]B!B$1:M$51,12,0),VLOOKUP(B66,[3]C!B$1:M$52,12,0)))","v":0},{"$f":"IFERROR(VLOOKUP(B66,[3]A!B$1:N$48,13,0),IFERROR(VLOOKUP(B66,[3]B!B$1:N$51,13,0),VLOOKUP(B66,[3]C!B$1:N$52,13,0)))","v":0},0,0,0,0,7,10,{"$f":"IFERROR(VLOOKUP(B66,[4]A!B$1:V$48,21,0),IFERROR(VLOOKUP(B66,[4]B!B$1:V$51,21,0),VLOOKUP(B66,[4]C!B$1:V$52,21,0)))","v":0},{"$f":"IFERROR(VLOOKUP(B66,[4]A!B$1:W$48,22,0),IFERROR(VLOOKUP(B66,[4]B!B$1:W$51,22,0),VLOOKUP(B66,[4]C!B$1:W$52,22,0)))","v":0},{"$f":"IFERROR(VLOOKUP(B66,[4]A!B$1:X$48,23,0),IFERROR(VLOOKUP(B66,[4]B!B$1:X$51,23,0),VLOOKUP(B66,[4]C!B$1:X$52,23,0)))","v":0},{"$f":"IFERROR(VLOOKUP(B66,[4]A!B$1:Z$48,25,0),IFERROR(VLOOKUP(B66,[4]B!B$1:Z$51,25,0),VLOOKUP(B66,[4]C!B$1:Z$52,25,0)))","v":0},4,4,null,null,null,null,35,0,0,31,31,88.571428571428569,18]
[66,"15BA061",5,6,{"$f":"VLOOKUP(B67,[1]B!B$1:V$48,21,0)","v":0},{"$f":"VLOOKUP(B67,[1]B!B$1:W$48,22,0)","v":0},{"$f":"VLOOKUP(B67,[1]B!B$1:X$48,23,0)","v":0},{"$f":"VLOOKUP(B67,[1]B!B$1:Z$48,25,0)","v":0},10,15,{"$f":"IFERROR(VLOOKUP(B67,[2]A!B$1:V$48,21,0),IFERROR(VLOOKUP(B67,[2]B!B$1:V$51,21,0),VLOOKUP(B67,[2]C!B$1:V$52,21,0)))","v":0},{"$f":"IFERROR(VLOOKUP(B67,[2]A!B$1:W$48,22,0),IFERROR(VLOOKUP(B67,[2]B!B$1:W$51,22,0),VLOOKUP(B67,[2]C!B$1:W$52,22,0)))","v":0},0,0,{"$f":"IFERROR(VLOOKUP(B67,[3]A!B$1:M$48,12,0),IFERROR(VLOOKUP(B67,[3]B!B$1:M$51,12,0),VLOOKUP(B67,[3]C!B$1:M$52,12,0)))","v":0},{"$f":"IFERROR(VLOOKUP(B67,[3]A!B$1:N$48,13,0),IFERROR(VLOOKUP(B67,[3]B!B$1:N$51,13,0),VLOOKUP(B67,[3]C!B$1:N$52,13,0)))","v":0},0,0,0,0,5,10,{"$f":"IFERROR(VLOOKUP(B67,[4]A!B$1:V$48,21,0),IFERROR(VLOOKUP(B67,[4]B!B$1:V$51,21,0),VLOOKUP(B67,[4]C!B$1:V$52,21,0)))","v":0},{"$f":"IFERROR(VLOOKUP(B67,[4]A!B$1:W$48,22,0),IFERROR(VLOOKUP(B67,[4]B!B$1:W$51,22,0),VLOOKUP(B67,[4]C!B$1:W$52,22,0)))","v":0},{"$f":"IFERROR(VLOOKUP(B67,[4]A!B$1:X$48,23,0),IFERROR(VLOOKUP(B67,[4]B!B$1:X$51,23,0),VLOOKUP(B67,[4]C!B$1:X$52,23,0)))","v":0},{"$f":"IFERROR(VLOOKUP(B67,[4]A!B$1:Z$48,25,0),IFERROR(VLOOKUP(B67,[4]B!B$1:Z$51,25,0),VLOOKUP(B67,[4]C!B$1:Z$52,25,0)))","v":0},3,4,null,null,null,null,{"$f":"SUM(D67,G67,J67,M67,P67,S67,V67,Y67,AB67,AE67)","v":35},{"$f":"SUM(E67,H67,K67,N67,Q67,T67,W67,Z67,AC67,AF67)","v":0},{"$f":"FLOOR(IF(AH67<(1/3*(AG67)),AH67,(1/3*(AG67))),1)","v":0},{"$f":"SUM(C67,F67,I67,L67,O67,R67,U67,X67,AA67,AD67)","v":23},{"$f":"IF(SUM(AJ67,AI67)>AG67,AG67,SUM(AJ67,AI67))","v":23},{"$f":"(AK67/AG67)*100","v":65.714285714285708},13]
[67,"15BA066",6,6,{"$f":"VLOOKUP(B68,[1]B!B$1:V$48,21,0)","v":0},{"$f":"VLOOKUP(B68,[1]B!B$1:W$48,22,0)","v":0},{"$f":"VLOOKUP(B68,[1]B!B$1:X$48,23,0)","v":0},{"$f":"VLOOKUP(B68,[1]B!B$1:Z$48,25,0)","v":0},11,15,{"$f":"IFERROR(VLOOKUP(B68,[2]A!B$1:V$48,21,0),IFERROR(VLOOKUP(B68,[2]B!B$1:V$51,21,0),VLOOKUP(B68,[2]C!B$1:V$52,21,0)))","v":0},{"$f":"IFERROR(VLOOKUP(B68,[2]A!B$1:W$48,22,0),IFERROR(VLOOKUP(B68,[2]B!B$1:W$51,22,0),VLOOKUP(B68,[2]C!B$1:W$52,22,0)))","v":0},0,0,{"$f":"IFERROR(VLOOKUP(B68,[3]A!B$1:M$48,12,0),IFERROR(VLOOKUP(B68,[3]B!B$1:M$51,12,0),VLOOKUP(B68,[3]C!B$1:M$52,12,0)))","v":0},{"$f":"IFERROR(VLOOKUP(B68,[3]A!B$1:N$48,13,0),IFERROR(VLOOKUP(B68,[3]B!B$1:N$51,13,0),VLOOKUP(B68,[3]C!B$1:N$52,13,0)))","v":0},0,0,0,0,6,10,{"$f":"IFERROR(VLOOKUP(B68,[4]A!B$1:V$48,21,0),IFERROR(VLOOKUP(B68,[4]B!B$1:V$51,21,0),VLOOKUP(B68,[4]C!B$1:V$52,21,0)))","v":0},{"$f":"IFERROR(VLOOKUP(B68,[4]A!B$1:W$48,22,0),IFERROR(VLOOKUP(B68,[4]B!B$1:W$51,22,0),VLOOKUP(B68,[4]C!B$1:W$52,22,0)))","v":0},{"$f":"IFERROR(VLOOKUP(B68,[4]A!B$1:X$48,23,0),IFERROR(VLOOKUP(B68,[4]B!B$1:X$51,23,0),VLOOKUP(B68,[4]C!B$1:X$52,23,0)))","v":0},{"$f":"IFERROR(VLOOKUP(B68,[4]A!B$1:Z$48,25,0),IFERROR(VLOOKUP(B68,[4]B!B$1:Z$51,25,0),VLOOKUP(B68,[4]C!B$1:Z$52,25,0)))","v":0},4,4,null,null,null,null,35,0,0,27,27,77.142857142857153,17]
[68,"15BA072",6,6,{"$f":"VLOOKUP(B69,[1]B!B$1:V$48,21,0)","v":0},{"$f":"VLOOKUP(B69,[1]B!B$1:W$48,22,0)","v":0},{"$f":"VLOOKUP(B69,[1]B!B$1:X$48,23,0)","v":0},{"$f":"VLOOKUP(B69,[1]B!B$1:Z$48,25,0)","v":0},14,15,{"$f":"IFERROR(VLOOKUP(B69,[2]A!B$1:V$48,21,0),IFERROR(VLOOKUP(B69,[2]B!B$1:V$51,21,0),VLOOKUP(B69,[2]C!B$1:V$52,21,0)))","v":0},{"$f":"IFERROR(VLOOKUP(B69,[2]A!B$1:W$48,22,0),IFERROR(VLOOKUP(B69,[2]B!B$1:W$51,22,0),VLOOKUP(B69,[2]C!B$1:W$52,22,0)))","v":0},0,0,{"$f":"IFERROR(VLOOKUP(B69,[3]A!B$1:M$48,12,0),IFERROR(VLOOKUP(B69,[3]B!B$1:M$51,12,0),VLOOKUP(B69,[3]C!B$1:M$52,12,0)))","v":0},{"$f":"IFERROR(VLOOKUP(B69,[3]A!B$1:N$48,13,0),IFERROR(VLOOKUP(B69,[3]B!B$1:N$51,13,0),VLOOKUP(B69,[3]C!B$1:N$52,13,0)))","v":0},0,0,0,0,6,10,{"$f":"IFERROR(VLOOKUP(B69,[4]A!B$1:V$48,21,0),IFERROR(VLOOKUP(B69,[4]B!B$1:V$51,21,0),VLOOKUP(B69,[4]C!B$1:V$52,21,0)))","v":0},{"$f":"IFERROR(VLOOKUP(B69,[4]A!B$1:W$48,22,0),IFERROR(VLOOKUP(B69,[4]B!B$1:W$51,22,0),VLOOKUP(B69,[4]C!B$1:W$52,22,0)))","v":0},{"$f":"IFERROR(VLOOKUP(B69,[4]A!B$1:X$48,23,0),IFERROR(VLOOKUP(B69,[4]B!B$1:X$51,23,0),VLOOKUP(B69,[4]C!B$1:X$52,23,0)))","v":0},{"$f":"IFERROR(VLOOKUP(B69,[4]A!B$1:Z$48,25,0),IFERROR(VLOOKUP(B69,[4]B!B$1:Z$51,25,0),VLOOKUP(B69,[4]C!B$1:Z$52,25,0)))","v":0},4,4,null,null,null,null,35,0,0,30,30,85.714285714285708,19]
[69,"15BA074",6,6,{"$f":"VLOOKUP(B70,[1]B!B$1:V$48,21,0)","v":0},{"$f":"VLOOKUP(B70,[1]B!B$1:W$48,22,0)","v":0},{"$f":"VLOOKUP(B70,[1]B!B$1:X$48,23,0)","v":0},{"$f":"VLOOKUP(B70,[1]B!B$1:Z$48,25,0)","v":0},11,15,{"$f":"IFERROR(VLOOKUP(B70,[2]A!B$1:V$48,21,0),IFERROR(VLOOKUP(B70,[2]B!B$1:V$51,21,0),VLOOKUP(B70,[2]C!B$1:V$52,21,0)))","v":0},{"$f":"IFERROR(VLOOKUP(B70,[2]A!B$1:W$48,22,0),IFERROR(VLOOKUP(B70,[2]B!B$1:W$51,22,0),VLOOKUP(B70,[2]C!B$1:W$52,22,0)))","v":0},0,0,{"$f":"IFERROR(VLOOKUP(B70,[3]A!B$1:M$48,12,0),IFERROR(VLOOKUP(B70,[3]B!B$1:M$51,12,0),VLOOKUP(B70,[3]C!B$1:M$52,12,0)))","v":0},{"$f":"IFERROR(VLOOKUP(B70,[3]A!B$1:N$48,13,0),IFERROR(VLOOKUP(B70,[3]B!B$1:N$51,13,0),VLOOKUP(B70,[3]C!B$1:N$52,13,0)))","v":0},0,0,0,0,2,10,{"$f":"IFERROR(VLOOKUP(B70,[4]A!B$1:V$48,21,0),IFERROR(VLOOKUP(B70,[4]B!B$1:V$51,21,0),VLOOKUP(B70,[4]C!B$1:V$52,21,0)))","v":0},{"$f":"IFERROR(VLOOKUP(B70,[4]A!B$1:W$48,22,0),IFERROR(VLOOKUP(B70,[4]B!B$1:W$51,22,0),VLOOKUP(B70,[4]C!B$1:W$52,22,0)))","v":0},{"$f":"IFERROR(VLOOKUP(B70,[4]A!B$1:X$48,23,0),IFERROR(VLOOKUP(B70,[4]B!B$1:X$51,23,0),VLOOKUP(B70,[4]C!B$1:X$52,23,0)))","v":0},{"$f":"IFERROR(VLOOKUP(B70,[4]A!B$1:Z$48,25,0),IFERROR(VLOOKUP(B70,[4]B!B$1:Z$51,25,0),VLOOKUP(B70,[4]C!B$1:Z$52,25,0)))","v":0},4,4,null,null,null,null,35,0,0,23,23,65.714285714285708,18]
[70,"15BA075",5,6,{"$f":"VLOOKUP(B71,[1]B!B$1:V$48,21,0)","v":0},{"$f":"VLOOKUP(B71,[1]B!B$1:W$48,22,0)","v":0},{"$f":"VLOOKUP(B71,[1]B!B$1:X$48,23,0)","v":0},{"$f":"VLOOKUP(B71,[1]B!B$1:Z$48,25,0)","v":0},12,15,{"$f":"IFERROR(VLOOKUP(B71,[2]A!B$1:V$48,21,0),IFERROR(VLOOKUP(B71,[2]B!B$1:V$51,21,0),VLOOKUP(B71,[2]C!B$1:V$52,21,0)))","v":0},{"$f":"IFERROR(VLOOKUP(B71,[2]A!B$1:W$48,22,0),IFERROR(VLOOKUP(B71,[2]B!B$1:W$51,22,0),VLOOKUP(B71,[2]C!B$1:W$52,22,0)))","v":0},0,0,{"$f":"IFERROR(VLOOKUP(B71,[3]A!B$1:M$48,12,0),IFERROR(VLOOKUP(B71,[3]B!B$1:M$51,12,0),VLOOKUP(B71,[3]C!B$1:M$52,12,0)))","v":0},{"$f":"IFERROR(VLOOKUP(B71,[3]A!B$1:N$48,13,0),IFERROR(VLOOKUP(B71,[3]B!B$1:N$51,13,0),VLOOKUP(B71,[3]C!B$1:N$52,13,0)))","v":0},0,0,0,0,6,10,{"$f":"IFERROR(VLOOKUP(B71,[4]A!B$1:V$48,21,0),IFERROR(VLOOKUP(B71,[4]B!B$1:V$51,21,0),VLOOKUP(B71,[4]C!B$1:V$52,21,0)))","v":0},{"$f":"IFERROR(VLOOKUP(B71,[4]A!B$1:W$48,22,0),IFERROR(VLOOKUP(B71,[4]B!B$1:W$51,22,0),VLOOKUP(B71,[4]C!B$1:W$52,22,0)))","v":0},{"$f":"IFERROR(VLOOKUP(B71,[4]A!B$1:X$48,23,0),IFERROR(VLOOKUP(B71,[4]B!B$1:X$51,23,0),VLOOKUP(B71,[4]C!B$1:X$52,23,0)))","v":0},{"$f":"IFERROR(VLOOKUP(B71,[4]A!B$1:Z$48,25,0),IFERROR(VLOOKUP(B71,[4]B!B$1:Z$51,25,0),VLOOKUP(B71,[4]C!B$1:Z$52,25,0)))","v":0},4,4,null,null,null,null,35,0,0,27,27,77.142857142857153,11]
[71,"15BA081",6,6,{"$f":"VLOOKUP(B72,[1]B!B$1:V$48,21,0)","v":0},{"$f":"VLOOKUP(B72,[1]B!B$1:W$48,22,0)","v":0},{"$f":"VLOOKUP(B72,[1]B!B$1:X$48,23,0)","v":0},{"$f":"VLOOKUP(B72,[1]B!B$1:Z$48,25,0)","v":0},14,15,{"$f":"IFERROR(VLOOKUP(B72,[2]A!B$1:V$48,21,0),IFERROR(VLOOKUP(B72,[2]B!B$1:V$51,21,0),VLOOKUP(B72,[2]C!B$1:V$52,21,0)))","v":0},{"$f":"IFERROR(VLOOKUP(B72,[2]A!B$1:W$48,22,0),IFERROR(VLOOKUP(B72,[2]B!B$1:W$51,22,0),VLOOKUP(B72,[2]C!B$1:W$52,22,0)))","v":0},0,0,{"$f":"IFERROR(VLOOKUP(B72,[3]A!B$1:M$48,12,0),IFERROR(VLOOKUP(B72,[3]B!B$1:M$51,12,0),VLOOKUP(B72,[3]C!B$1:M$52,12,0)))","v":0},{"$f":"IFERROR(VLOOKUP(B72,[3]A!B$1:N$48,13,0),IFERROR(VLOOKUP(B72,[3]B!B$1:N$51,13,0),VLOOKUP(B72,[3]C!B$1:N$52,13,0)))","v":0},0,0,0,0,6,10,{"$f":"IFERROR(VLOOKUP(B72,[4]A!B$1:V$48,21,0),IFERROR(VLOOKUP(B72,[4]B!B$1:V$51,21,0),VLOOKUP(B72,[4]C!B$1:V$52,21,0)))","v":0},{"$f":"IFERROR(VLOOKUP(B72,[4]A!B$1:W$48,22,0),IFERROR(VLOOKUP(B72,[4]B!B$1:W$51,22,0),VLOOKUP(B72,[4]C!B$1:W$52,22,0)))","v":0},{"$f":"IFERROR(VLOOKUP(B72,[4]A!B$1:X$48,23,0),IFERROR(VLOOKUP(B72,[4]B!B$1:X$51,23,0),VLOOKUP(B72,[4]C!B$1:X$52,23,0)))","v":0},{"$f":"IFERROR(VLOOKUP(B72,[4]A!B$1:Z$48,25,0),IFERROR(VLOOKUP(B72,[4]B!B$1:Z$51,25,0),VLOOKUP(B72,[4]C!B$1:Z$52,25,0)))","v":0},4,4,null,null,null,null,35,0,0,30,30,85.714285714285708,18]
[72,"15BA085",5,6,{"$f":"VLOOKUP(B73,[1]B!B$1:V$48,21,0)","v":0},{"$f":"VLOOKUP(B73,[1]B!B$1:W$48,22,0)","v":0},{"$f":"VLOOKUP(B73,[1]B!B$1:X$48,23,0)","v":0},{"$f":"VLOOKUP(B73,[1]B!B$1:Z$48,25,0)","v":0},13,15,{"$f":"IFERROR(VLOOKUP(B73,[2]A!B$1:V$48,21,0),IFERROR(VLOOKUP(B73,[2]B!B$1:V$51,21,0),VLOOKUP(B73,[2]C!B$1:V$52,21,0)))","v":0},{"$f":"IFERROR(VLOOKUP(B73,[2]A!B$1:W$48,22,0),IFERROR(VLOOKUP(B73,[2]B!B$1:W$51,22,0),VLOOKUP(B73,[2]C!B$1:W$52,22,0)))","v":0},0,0,{"$f":"IFERROR(VLOOKUP(B73,[3]A!B$1:M$48,12,0),IFERROR(VLOOKUP(B73,[3]B!B$1:M$51,12,0),VLOOKUP(B73,[3]C!B$1:M$52,12,0)))","v":0},{"$f":"IFERROR(VLOOKUP(B73,[3]A!B$1:N$48,13,0),IFERROR(VLOOKUP(B73,[3]B!B$1:N$51,13,0),VLOOKUP(B73,[3]C!B$1:N$52,13,0)))","v":0},0,0,0,0,6,10,{"$f":"IFERROR(VLOOKUP(B73,[4]A!B$1:V$48,21,0),IFERROR(VLOOKUP(B73,[4]B!B$1:V$51,21,0),VLOOKUP(B73,[4]C!B$1:V$52,21,0)))","v":0},{"$f":"IFERROR(VLOOKUP(B73,[4]A!B$1:W$48,22,0),IFERROR(VLOOKUP(B73,[4]B!B$1:W$51,22,0),VLOOKUP(B73,[4]C!B$1:W$52,22,0)))","v":0},{"$f":"IFERROR(VLOOKUP(B73,[4]A!B$1:X$48,23,0),IFERROR(VLOOKUP(B73,[4]B!B$1:X$51,23,0),VLOOKUP(B73,[4]C!B$1:X$52,23,0)))","v":0},{"$f":"IFERROR(VLOOKUP(B73,[4]A!B$1:Z$48,25,0),IFERROR(VLOOKUP(B73,[4]B!B$1:Z$51,25,0),VLOOKUP(B73,[4]C!B$1:Z$52,25,0)))","v":0},4,4,null,null,null,null,35,0,0,28,28,80]
[73,"15BA086",6,6,{"$f":"VLOOKUP(B74,[1]B!B$1:V$48,21,0)","v":0},{"$f":"VLOOKUP(B74,[1]B!B$1:W$48,22,0)","v":0},{"$f":"VLOOKUP(B74,[1]B!B$1:X$48,23,0)","v":0},{"$f":"VLOOKUP(B74,[1]B!B$1:Z$48,25,0)","v":0},15,15,{"$f":"IFERROR(VLOOKUP(B74,[2]A!B$1:V$48,21,0),IFERROR(VLOOKUP(B74,[2]B!B$1:V$51,21,0),VLOOKUP(B74,[2]C!B$1:V$52,21,0)))","v":0},{"$f":"IFERROR(VLOOKUP(B74,[2]A!B$1:W$48,22,0),IFERROR(VLOOKUP(B74,[2]B!B$1:W$51,22,0),VLOOKUP(B74,[2]C!B$1:W$52,22,0)))","v":0},0,0,{"$f":"IFERROR(VLOOKUP(B74,[3]A!B$1:M$48,12,0),IFERROR(VLOOKUP(B74,[3]B!B$1:M$51,12,0),VLOOKUP(B74,[3]C!B$1:M$52,12,0)))","v":0},{"$f":"IFERROR(VLOOKUP(B74,[3]A!B$1:N$48,13,0),IFERROR(VLOOKUP(B74,[3]B!B$1:N$51,13,0),VLOOKUP(B74,[3]C!B$1:N$52,13,0)))","v":0},0,0,0,0,6,10,{"$f":"IFERROR(VLOOKUP(B74,[4]A!B$1:V$48,21,0),IFERROR(VLOOKUP(B74,[4]B!B$1:V$51,21,0),VLOOKUP(B74,[4]C!B$1:V$52,21,0)))","v":0},{"$f":"IFERROR(VLOOKUP(B74,[4]A!B$1:W$48,22,0),IFERROR(VLOOKUP(B74,[4]B!B$1:W$51,22,0),VLOOKUP(B74,[4]C!B$1:W$52,22,0)))","v":0},{"$f":"IFERROR(VLOOKUP(B74,[4]A!B$1:X$48,23,0),IFERROR(VLOOKUP(B74,[4]B!B$1:X$51,23,0),VLOOKUP(B74,[4]C!B$1:X$52,23,0)))","v":0},{"$f":"IFERROR(VLOOKUP(B74,[4]A!B$1:Z$48,25,0),IFERROR(VLOOKUP(B74,[4]B!B$1:Z$51,25,0),VLOOKUP(B74,[4]C!B$1:Z$52,25,0)))","v":0},4,4,null,null,null,null,35,0,0,31,31,88.571428571428569,19]
[74,"15BA088",5,6,{"$f":"VLOOKUP(B75,[1]B!B$1:V$48,21,0)","v":0},{"$f":"VLOOKUP(B75,[1]B!B$1:W$48,22,0)","v":0},{"$f":"VLOOKUP(B75,[1]B!B$1:X$48,23,0)","v":0},{"$f":"VLOOKUP(B75,[1]B!B$1:Z$48,25,0)","v":0},9,15,{"$f":"IFERROR(VLOOKUP(B75,[2]A!B$1:V$48,21,0),IFERROR(VLOOKUP(B75,[2]B!B$1:V$51,21,0),VLOOKUP(B75,[2]C!B$1:V$52,21,0)))","v":0},{"$f":"IFERROR(VLOOKUP(B75,[2]A!B$1:W$48,22,0),IFERROR(VLOOKUP(B75,[2]B!B$1:W$51,22,0),VLOOKUP(B75,[2]C!B$1:W$52,22,0)))","v":0},0,0,{"$f":"IFERROR(VLOOKUP(B75,[3]A!B$1:M$48,12,0),IFERROR(VLOOKUP(B75,[3]B!B$1:M$51,12,0),VLOOKUP(B75,[3]C!B$1:M$52,12,0)))","v":0},{"$f":"IFERROR(VLOOKUP(B75,[3]A!B$1:N$48,13,0),IFERROR(VLOOKUP(B75,[3]B!B$1:N$51,13,0),VLOOKUP(B75,[3]C!B$1:N$52,13,0)))","v":0},0,0,0,0,6,10,{"$f":"IFERROR(VLOOKUP(B75,[4]A!B$1:V$48,21,0),IFERROR(VLOOKUP(B75,[4]B!B$1:V$51,21,0),VLOOKUP(B75,[4]C!B$1:V$52,21,0)))","v":0},{"$f":"IFERROR(VLOOKUP(B75,[4]A!B$1:W$48,22,0),IFERROR(VLOOKUP(B75,[4]B!B$1:W$51,22,0),VLOOKUP(B75,[4]C!B$1:W$52,22,0)))","v":0},{"$f":"IFERROR(VLOOKUP(B75,[4]A!B$1:X$48,23,0),IFERROR(VLOOKUP(B75,[4]B!B$1:X$51,23,0),VLOOKUP(B75,[4]C!B$1:X$52,23,0)))","v":0},{"$f":"IFERROR(VLOOKUP(B75,[4]A!B$1:Z$48,25,0),IFERROR(VLOOKUP(B75,[4]B!B$1:Z$51,25,0),VLOOKUP(B75,[4]C!B$1:Z$52,25,0)))","v":0},2,4,null,null,null,null,35,0,0,22,22,62.857142857142854]
[75,"15BA089",6,6,{"$f":"VLOOKUP(B76,[1]B!B$1:V$48,21,0)","v":0},{"$f":"VLOOKUP(B76,[1]B!B$1:W$48,22,0)","v":0},{"$f":"VLOOKUP(B76,[1]B!B$1:X$48,23,0)","v":0},{"$f":"VLOOKUP(B76,[1]B!B$1:Z$48,25,0)","v":0},13,15,{"$f":"IFERROR(VLOOKUP(B76,[2]A!B$1:V$48,21,0),IFERROR(VLOOKUP(B76,[2]B!B$1:V$51,21,0),VLOOKUP(B76,[2]C!B$1:V$52,21,0)))","v":0},{"$f":"IFERROR(VLOOKUP(B76,[2]A!B$1:W$48,22,0),IFERROR(VLOOKUP(B76,[2]B!B$1:W$51,22,0),VLOOKUP(B76,[2]C!B$1:W$52,22,0)))","v":0},0,0,{"$f":"IFERROR(VLOOKUP(B76,[3]A!B$1:M$48,12,0),IFERROR(VLOOKUP(B76,[3]B!B$1:M$51,12,0),VLOOKUP(B76,[3]C!B$1:M$52,12,0)))","v":0},{"$f":"IFERROR(VLOOKUP(B76,[3]A!B$1:N$48,13,0),IFERROR(VLOOKUP(B76,[3]B!B$1:N$51,13,0),VLOOKUP(B76,[3]C!B$1:N$52,13,0)))","v":0},0,0,0,0,4,10,{"$f":"IFERROR(VLOOKUP(B76,[4]A!B$1:V$48,21,0),IFERROR(VLOOKUP(B76,[4]B!B$1:V$51,21,0),VLOOKUP(B76,[4]C!B$1:V$52,21,0)))","v":0},{"$f":"IFERROR(VLOOKUP(B76,[4]A!B$1:W$48,22,0),IFERROR(VLOOKUP(B76,[4]B!B$1:W$51,22,0),VLOOKUP(B76,[4]C!B$1:W$52,22,0)))","v":0},{"$f":"IFERROR(VLOOKUP(B76,[4]A!B$1:X$48,23,0),IFERROR(VLOOKUP(B76,[4]B!B$1:X$51,23,0),VLOOKUP(B76,[4]C!B$1:X$52,23,0)))","v":0},{"$f":"IFERROR(VLOOKUP(B76,[4]A!B$1:Z$48,25,0),IFERROR(VLOOKUP(B76,[4]B!B$1:Z$51,25,0),VLOOKUP(B76,[4]C!B$1:Z$52,25,0)))","v":0},4,4,null,null,null,null,35,0,0,27,27,77.142857142857153,12]
[76,"15BA090",6,6,{"$f":"VLOOKUP(B77,[1]B!B$1:V$48,21,0)","v":0},{"$f":"VLOOKUP(B77,[1]B!B$1:W$48,22,0)","v":0},{"$f":"VLOOKUP(B77,[1]B!B$1:X$48,23,0)","v":0},{"$f":"VLOOKUP(B77,[1]B!B$1:Z$48,25,0)","v":0},15,15,{"$f":"IFERROR(VLOOKUP(B77,[2]A!B$1:V$48,21,0),IFERROR(VLOOKUP(B77,[2]B!B$1:V$51,21,0),VLOOKUP(B77,[2]C!B$1:V$52,21,0)))","v":0},{"$f":"IFERROR(VLOOKUP(B77,[2]A!B$1:W$48,22,0),IFERROR(VLOOKUP(B77,[2]B!B$1:W$51,22,0),VLOOKUP(B77,[2]C!B$1:W$52,22,0)))","v":0},0,0,{"$f":"IFERROR(VLOOKUP(B77,[3]A!B$1:M$48,12,0),IFERROR(VLOOKUP(B77,[3]B!B$1:M$51,12,0),VLOOKUP(B77,[3]C!B$1:M$52,12,0)))","v":0},{"$f":"IFERROR(VLOOKUP(B77,[3]A!B$1:N$48,13,0),IFERROR(VLOOKUP(B77,[3]B!B$1:N$51,13,0),VLOOKUP(B77,[3]C!B$1:N$52,13,0)))","v":0},0,0,0,0,7,10,{"$f":"IFERROR(VLOOKUP(B77,[4]A!B$1:V$48,21,0),IFERROR(VLOOKUP(B77,[4]B!B$1:V$51,21,0),VLOOKUP(B77,[4]C!B$1:V$52,21,0)))","v":0},{"$f":"IFERROR(VLOOKUP(B77,[4]A!B$1:W$48,22,0),IFERROR(VLOOKUP(B77,[4]B!B$1:W$51,22,0),VLOOKUP(B77,[4]C!B$1:W$52,22,0)))","v":0},{"$f":"IFERROR(VLOOKUP(B77,[4]A!B$1:X$48,23,0),IFERROR(VLOOKUP(B77,[4]B!B$1:X$51,23,0),VLOOKUP(B77,[4]C!B$1:X$52,23,0)))","v":0},{"$f":"IFERROR(VLOOKUP(B77,[4]A!B$1:Z$48,25,0),IFERROR(VLOOKUP(B77,[4]B!B$1:Z$51,25,0),VLOOKUP(B77,[4]C!B$1:Z$52,25,0)))","v":0},4,4,null,null,null,null,35,0,0,32,32,91.428571428571431,21]
[77,"15BA092",5,6,{"$f":"VLOOKUP(B78,[1]B!B$1:V$48,21,0)","v":0},{"$f":"VLOOKUP(B78,[1]B!B$1:W$48,22,0)","v":0},{"$f":"VLOOKUP(B78,[1]B!B$1:X$48,23,0)","v":0},{"$f":"VLOOKUP(B78,[1]B!B$1:Z$48,25,0)","v":0},12,15,{"$f":"IFERROR(VLOOKUP(B78,[2]A!B$1:V$48,21,0),IFERROR(VLOOKUP(B78,[2]B!B$1:V$51,21,0),VLOOKUP(B78,[2]C!B$1:V$52,21,0)))","v":0},{"$f":"IFERROR(VLOOKUP(B78,[2]A!B$1:W$48,22,0),IFERROR(VLOOKUP(B78,[2]B!B$1:W$51,22,0),VLOOKUP(B78,[2]C!B$1:W$52,22,0)))","v":0},0,0,{"$f":"IFERROR(VLOOKUP(B78,[3]A!B$1:M$48,12,0),IFERROR(VLOOKUP(B78,[3]B!B$1:M$51,12,0),VLOOKUP(B78,[3]C!B$1:M$52,12,0)))","v":0},{"$f":"IFERROR(VLOOKUP(B78,[3]A!B$1:N$48,13,0),IFERROR(VLOOKUP(B78,[3]B!B$1:N$51,13,0),VLOOKUP(B78,[3]C!B$1:N$52,13,0)))","v":0},0,0,0,0,6,10,{"$f":"IFERROR(VLOOKUP(B78,[4]A!B$1:V$48,21,0),IFERROR(VLOOKUP(B78,[4]B!B$1:V$51,21,0),VLOOKUP(B78,[4]C!B$1:V$52,21,0)))","v":0},{"$f":"IFERROR(VLOOKUP(B78,[4]A!B$1:W$48,22,0),IFERROR(VLOOKUP(B78,[4]B!B$1:W$51,22,0),VLOOKUP(B78,[4]C!B$1:W$52,22,0)))","v":0},{"$f":"IFERROR(VLOOKUP(B78,[4]A!B$1:X$48,23,0),IFERROR(VLOOKUP(B78,[4]B!B$1:X$51,23,0),VLOOKUP(B78,[4]C!B$1:X$52,23,0)))","v":0},{"$f":"IFERROR(VLOOKUP(B78,[4]A!B$1:Z$48,25,0),IFERROR(VLOOKUP(B78,[4]B!B$1:Z$51,25,0),VLOOKUP(B78,[4]C!B$1:Z$52,25,0)))","v":0},4,4,null,null,null,null,35,0,0,27,27,77.142857142857153,18]
[78,"15BA098",6,6,{"$f":"VLOOKUP(B79,[1]B!B$1:V$48,21,0)","v":0},{"$f":"VLOOKUP(B79,[1]B!B$1:W$48,22,0)","v":0},{"$f":"VLOOKUP(B79,[1]B!B$1:X$48,23,0)","v":0},{"$f":"VLOOKUP(B79,[1]B!B$1:Z$48,25,0)","v":0},15,15,{"$f":"IFERROR(VLOOKUP(B79,[2]A!B$1:V$48,21,0),IFERROR(VLOOKUP(B79,[2]B!B$1:V$51,21,0),VLOOKUP(B79,[2]C!B$1:V$52,21,0)))","v":0},{"$f":"IFERROR(VLOOKUP(B79,[2]A!B$1:W$48,22,0),IFERROR(VLOOKUP(B79,[2]B!B$1:W$51,22,0),VLOOKUP(B79,[2]C!B$1:W$52,22,0)))","v":0},0,0,{"$f":"IFERROR(VLOOKUP(B79,[3]A!B$1:M$48,12,0),IFERROR(VLOOKUP(B79,[3]B!B$1:M$51,12,0),VLOOKUP(B79,[3]C!B$1:M$52,12,0)))","v":0},{"$f":"IFERROR(VLOOKUP(B79,[3]A!B$1:N$48,13,0),IFERROR(VLOOKUP(B79,[3]B!B$1:N$51,13,0),VLOOKUP(B79,[3]C!B$1:N$52,13,0)))","v":0},0,0,0,0,7,10,{"$f":"IFERROR(VLOOKUP(B79,[4]A!B$1:V$48,21,0),IFERROR(VLOOKUP(B79,[4]B!B$1:V$51,21,0),VLOOKUP(B79,[4]C!B$1:V$52,21,0)))","v":0},{"$f":"IFERROR(VLOOKUP(B79,[4]A!B$1:W$48,22,0),IFERROR(VLOOKUP(B79,[4]B!B$1:W$51,22,0),VLOOKUP(B79,[4]C!B$1:W$52,22,0)))","v":0},{"$f":"IFERROR(VLOOKUP(B79,[4]A!B$1:X$48,23,0),IFERROR(VLOOKUP(B79,[4]B!B$1:X$51,23,0),VLOOKUP(B79,[4]C!B$1:X$52,23,0)))","v":0},{"$f":"IFERROR(VLOOKUP(B79,[4]A!B$1:Z$48,25,0),IFERROR(VLOOKUP(B79,[4]B!B$1:Z$51,25,0),VLOOKUP(B79,[4]C!B$1:Z$52,25,0)))","v":0},4,4,null,null,null,null,35,0,0,32,32,91.428571428571431,19]
[79,"15BA101",5,6,{"$f":"VLOOKUP(B80,[1]B!B$1:V$48,21,0)","v":0},{"$f":"VLOOKUP(B80,[1]B!B$1:W$48,22,0)","v":0},{"$f":"VLOOKUP(B80,[1]B!B$1:X$48,23,0)","v":0},{"$f":"VLOOKUP(B80,[1]B!B$1:Z$48,25,0)","v":0},12,15,{"$f":"IFERROR(VLOOKUP(B80,[2]A!B$1:V$48,21,0),IFERROR(VLOOKUP(B80,[2]B!B$1:V$51,21,0),VLOOKUP(B80,[2]C!B$1:V$52,21,0)))","v":0},{"$f":"IFERROR(VLOOKUP(B80,[2]A!B$1:W$48,22,0),IFERROR(VLOOKUP(B80,[2]B!B$1:W$51,22,0),VLOOKUP(B80,[2]C!B$1:W$52,22,0)))","v":0},0,0,{"$f":"IFERROR(VLOOKUP(B80,[3]A!B$1:M$48,12,0),IFERROR(VLOOKUP(B80,[3]B!B$1:M$51,12,0),VLOOKUP(B80,[3]C!B$1:M$52,12,0)))","v":0},{"$f":"IFERROR(VLOOKUP(B80,[3]A!B$1:N$48,13,0),IFERROR(VLOOKUP(B80,[3]B!B$1:N$51,13,0),VLOOKUP(B80,[3]C!B$1:N$52,13,0)))","v":0},0,0,0,0,6,10,{"$f":"IFERROR(VLOOKUP(B80,[4]A!B$1:V$48,21,0),IFERROR(VLOOKUP(B80,[4]B!B$1:V$51,21,0),VLOOKUP(B80,[4]C!B$1:V$52,21,0)))","v":0},{"$f":"IFERROR(VLOOKUP(B80,[4]A!B$1:W$48,22,0),IFERROR(VLOOKUP(B80,[4]B!B$1:W$51,22,0),VLOOKUP(B80,[4]C!B$1:W$52,22,0)))","v":0},{"$f":"IFERROR(VLOOKUP(B80,[4]A!B$1:X$48,23,0),IFERROR(VLOOKUP(B80,[4]B!B$1:X$51,23,0),VLOOKUP(B80,[4]C!B$1:X$52,23,0)))","v":0},{"$f":"IFERROR(VLOOKUP(B80,[4]A!B$1:Z$48,25,0),IFERROR(VLOOKUP(B80,[4]B!B$1:Z$51,25,0),VLOOKUP(B80,[4]C!B$1:Z$52,25,0)))","v":0},3,4,null,null,null,null,35,0,0,26,26,74.285714285714292,13]
[80,"15BA107",5,6,{"$f":"VLOOKUP(B81,[1]B!B$1:V$48,21,0)","v":0},{"$f":"VLOOKUP(B81,[1]B!B$1:W$48,22,0)","v":0},{"$f":"VLOOKUP(B81,[1]B!B$1:X$48,23,0)","v":0},{"$f":"VLOOKUP(B81,[1]B!B$1:Z$48,25,0)","v":0},11,15,{"$f":"IFERROR(VLOOKUP(B81,[2]A!B$1:V$48,21,0),IFERROR(VLOOKUP(B81,[2]B!B$1:V$51,21,0),VLOOKUP(B81,[2]C!B$1:V$52,21,0)))","v":0},{"$f":"IFERROR(VLOOKUP(B81,[2]A!B$1:W$48,22,0),IFERROR(VLOOKUP(B81,[2]B!B$1:W$51,22,0),VLOOKUP(B81,[2]C!B$1:W$52,22,0)))","v":0},0,0,{"$f":"IFERROR(VLOOKUP(B81,[3]A!B$1:M$48,12,0),IFERROR(VLOOKUP(B81,[3]B!B$1:M$51,12,0),VLOOKUP(B81,[3]C!B$1:M$52,12,0)))","v":0},{"$f":"IFERROR(VLOOKUP(B81,[3]A!B$1:N$48,13,0),IFERROR(VLOOKUP(B81,[3]B!B$1:N$51,13,0),VLOOKUP(B81,[3]C!B$1:N$52,13,0)))","v":0},0,0,0,0,0,10,8,{"$f":"IFERROR(VLOOKUP(B81,[4]A!B$1:W$48,22,0),IFERROR(VLOOKUP(B81,[4]B!B$1:W$51,22,0),VLOOKUP(B81,[4]C!B$1:W$52,22,0)))","v":0},{"$f":"IFERROR(VLOOKUP(B81,[4]A!B$1:X$48,23,0),IFERROR(VLOOKUP(B81,[4]B!B$1:X$51,23,0),VLOOKUP(B81,[4]C!B$1:X$52,23,0)))","v":0},{"$f":"IFERROR(VLOOKUP(B81,[4]A!B$1:Z$48,25,0),IFERROR(VLOOKUP(B81,[4]B!B$1:Z$51,25,0),VLOOKUP(B81,[4]C!B$1:Z$52,25,0)))","v":0},3,4,null,null,null,null,35,8,8,19,27,77.142857142857153,22]
[81,"15BA108",6,6,{"$f":"VLOOKUP(B82,[1]B!B$1:V$48,21,0)","v":0},{"$f":"VLOOKUP(B82,[1]B!B$1:W$48,22,0)","v":0},{"$f":"VLOOKUP(B82,[1]B!B$1:X$48,23,0)","v":0},{"$f":"VLOOKUP(B82,[1]B!B$1:Z$48,25,0)","v":0},15,15,{"$f":"IFERROR(VLOOKUP(B82,[2]A!B$1:V$48,21,0),IFERROR(VLOOKUP(B82,[2]B!B$1:V$51,21,0),VLOOKUP(B82,[2]C!B$1:V$52,21,0)))","v":0},{"$f":"IFERROR(VLOOKUP(B82,[2]A!B$1:W$48,22,0),IFERROR(VLOOKUP(B82,[2]B!B$1:W$51,22,0),VLOOKUP(B82,[2]C!B$1:W$52,22,0)))","v":0},0,0,{"$f":"IFERROR(VLOOKUP(B82,[3]A!B$1:M$48,12,0),IFERROR(VLOOKUP(B82,[3]B!B$1:M$51,12,0),VLOOKUP(B82,[3]C!B$1:M$52,12,0)))","v":0},{"$f":"IFERROR(VLOOKUP(B82,[3]A!B$1:N$48,13,0),IFERROR(VLOOKUP(B82,[3]B!B$1:N$51,13,0),VLOOKUP(B82,[3]C!B$1:N$52,13,0)))","v":0},0,0,0,0,7,10,{"$f":"IFERROR(VLOOKUP(B82,[4]A!B$1:V$48,21,0),IFERROR(VLOOKUP(B82,[4]B!B$1:V$51,21,0),VLOOKUP(B82,[4]C!B$1:V$52,21,0)))","v":0},{"$f":"IFERROR(VLOOKUP(B82,[4]A!B$1:W$48,22,0),IFERROR(VLOOKUP(B82,[4]B!B$1:W$51,22,0),VLOOKUP(B82,[4]C!B$1:W$52,22,0)))","v":0},{"$f":"IFERROR(VLOOKUP(B82,[4]A!B$1:X$48,23,0),IFERROR(VLOOKUP(B82,[4]B!B$1:X$51,23,0),VLOOKUP(B82,[4]C!B$1:X$52,23,0)))","v":0},{"$f":"IFERROR(VLOOKUP(B82,[4]A!B$1:Z$48,25,0),IFERROR(VLOOKUP(B82,[4]B!B$1:Z$51,25,0),VLOOKUP(B82,[4]C!B$1:Z$52,25,0)))","v":0},4,4,null,null,null,null,35,0,0,32,32,91.428571428571431,17]
[82,"15BA111",5,6,{"$f":"VLOOKUP(B83,[1]B!B$1:V$48,21,0)","v":0},{"$f":"VLOOKUP(B83,[1]B!B$1:W$48,22,0)","v":0},{"$f":"VLOOKUP(B83,[1]B!B$1:X$48,23,0)","v":0},{"$f":"VLOOKUP(B83,[1]B!B$1:Z$48,25,0)","v":0},11,15,{"$f":"IFERROR(VLOOKUP(B83,[2]A!B$1:V$48,21,0),IFERROR(VLOOKUP(B83,[2]B!B$1:V$51,21,0),VLOOKUP(B83,[2]C!B$1:V$52,21,0)))","v":0},{"$f":"IFERROR(VLOOKUP(B83,[2]A!B$1:W$48,22,0),IFERROR(VLOOKUP(B83,[2]B!B$1:W$51,22,0),VLOOKUP(B83,[2]C!B$1:W$52,22,0)))","v":0},0,0,{"$f":"IFERROR(VLOOKUP(B83,[3]A!B$1:M$48,12,0),IFERROR(VLOOKUP(B83,[3]B!B$1:M$51,12,0),VLOOKUP(B83,[3]C!B$1:M$52,12,0)))","v":0},{"$f":"IFERROR(VLOOKUP(B83,[3]A!B$1:N$48,13,0),IFERROR(VLOOKUP(B83,[3]B!B$1:N$51,13,0),VLOOKUP(B83,[3]C!B$1:N$52,13,0)))","v":0},0,0,0,0,5,10,{"$f":"IFERROR(VLOOKUP(B83,[4]A!B$1:V$48,21,0),IFERROR(VLOOKUP(B83,[4]B!B$1:V$51,21,0),VLOOKUP(B83,[4]C!B$1:V$52,21,0)))","v":0},{"$f":"IFERROR(VLOOKUP(B83,[4]A!B$1:W$48,22,0),IFERROR(VLOOKUP(B83,[4]B!B$1:W$51,22,0),VLOOKUP(B83,[4]C!B$1:W$52,22,0)))","v":0},{"$f":"IFERROR(VLOOKUP(B83,[4]A!B$1:X$48,23,0),IFERROR(VLOOKUP(B83,[4]B!B$1:X$51,23,0),VLOOKUP(B83,[4]C!B$1:X$52,23,0)))","v":0},{"$f":"IFERROR(VLOOKUP(B83,[4]A!B$1:Z$48,25,0),IFERROR(VLOOKUP(B83,[4]B!B$1:Z$51,25,0),VLOOKUP(B83,[4]C!B$1:Z$52,25,0)))","v":0},2,4,null,null,null,null,35,0,0,23,23,65.714285714285708,10]
[83,"15BA113",5,6,{"$f":"VLOOKUP(B84,[1]B!B$1:V$48,21,0)","v":0},{"$f":"VLOOKUP(B84,[1]B!B$1:W$48,22,0)","v":0},{"$f":"VLOOKUP(B84,[1]B!B$1:X$48,23,0)","v":0},{"$f":"VLOOKUP(B84,[1]B!B$1:Z$48,25,0)","v":0},11,15,{"$f":"IFERROR(VLOOKUP(B84,[2]A!B$1:V$48,21,0),IFERROR(VLOOKUP(B84,[2]B!B$1:V$51,21,0),VLOOKUP(B84,[2]C!B$1:V$52,21,0)))","v":0},{"$f":"IFERROR(VLOOKUP(B84,[2]A!B$1:W$48,22,0),IFERROR(VLOOKUP(B84,[2]B!B$1:W$51,22,0),VLOOKUP(B84,[2]C!B$1:W$52,22,0)))","v":0},0,0,{"$f":"IFERROR(VLOOKUP(B84,[3]A!B$1:M$48,12,0),IFERROR(VLOOKUP(B84,[3]B!B$1:M$51,12,0),VLOOKUP(B84,[3]C!B$1:M$52,12,0)))","v":0},{"$f":"IFERROR(VLOOKUP(B84,[3]A!B$1:N$48,13,0),IFERROR(VLOOKUP(B84,[3]B!B$1:N$51,13,0),VLOOKUP(B84,[3]C!B$1:N$52,13,0)))","v":0},0,0,0,0,5,10,{"$f":"IFERROR(VLOOKUP(B84,[4]A!B$1:V$48,21,0),IFERROR(VLOOKUP(B84,[4]B!B$1:V$51,21,0),VLOOKUP(B84,[4]C!B$1:V$52,21,0)))","v":0},{"$f":"IFERROR(VLOOKUP(B84,[4]A!B$1:W$48,22,0),IFERROR(VLOOKUP(B84,[4]B!B$1:W$51,22,0),VLOOKUP(B84,[4]C!B$1:W$52,22,0)))","v":0},{"$f":"IFERROR(VLOOKUP(B84,[4]A!B$1:X$48,23,0),IFERROR(VLOOKUP(B84,[4]B!B$1:X$51,23,0),VLOOKUP(B84,[4]C!B$1:X$52,23,0)))","v":0},{"$f":"IFERROR(VLOOKUP(B84,[4]A!B$1:Z$48,25,0),IFERROR(VLOOKUP(B84,[4]B!B$1:Z$51,25,0),VLOOKUP(B84,[4]C!B$1:Z$52,25,0)))","v":0},2,4,null,null,null,null,35,0,0,23,23,65.714285714285708,18]
[84,"15BA117",5,6,{"$f":"VLOOKUP(B85,[1]B!B$1:V$48,21,0)","v":0},{"$f":"VLOOKUP(B85,[1]B!B$1:W$48,22,0)","v":0},{"$f":"VLOOKUP(B85,[1]B!B$1:X$48,23,0)","v":0},{"$f":"VLOOKUP(B85,[1]B!B$1:Z$48,25,0)","v":0},11,15,{"$f":"IFERROR(VLOOKUP(B85,[2]A!B$1:V$48,21,0),IFERROR(VLOOKUP(B85,[2]B!B$1:V$51,21,0),VLOOKUP(B85,[2]C!B$1:V$52,21,0)))","v":0},{"$f":"IFERROR(VLOOKUP(B85,[2]A!B$1:W$48,22,0),IFERROR(VLOOKUP(B85,[2]B!B$1:W$51,22,0),VLOOKUP(B85,[2]C!B$1:W$52,22,0)))","v":0},0,0,{"$f":"IFERROR(VLOOKUP(B85,[3]A!B$1:M$48,12,0),IFERROR(VLOOKUP(B85,[3]B!B$1:M$51,12,0),VLOOKUP(B85,[3]C!B$1:M$52,12,0)))","v":0},{"$f":"IFERROR(VLOOKUP(B85,[3]A!B$1:N$48,13,0),IFERROR(VLOOKUP(B85,[3]B!B$1:N$51,13,0),VLOOKUP(B85,[3]C!B$1:N$52,13,0)))","v":0},0,0,0,0,4,10,{"$f":"IFERROR(VLOOKUP(B85,[4]A!B$1:V$48,21,0),IFERROR(VLOOKUP(B85,[4]B!B$1:V$51,21,0),VLOOKUP(B85,[4]C!B$1:V$52,21,0)))","v":0},{"$f":"IFERROR(VLOOKUP(B85,[4]A!B$1:W$48,22,0),IFERROR(VLOOKUP(B85,[4]B!B$1:W$51,22,0),VLOOKUP(B85,[4]C!B$1:W$52,22,0)))","v":0},{"$f":"IFERROR(VLOOKUP(B85,[4]A!B$1:X$48,23,0),IFERROR(VLOOKUP(B85,[4]B!B$1:X$51,23,0),VLOOKUP(B85,[4]C!B$1:X$52,23,0)))","v":0},{"$f":"IFERROR(VLOOKUP(B85,[4]A!B$1:Z$48,25,0),IFERROR(VLOOKUP(B85,[4]B!B$1:Z$51,25,0),VLOOKUP(B85,[4]C!B$1:Z$52,25,0)))","v":0},3,4,null,null,null,null,35,0,0,23,23,65.714285714285708]
[85,"15BA120",5,6,{"$f":"VLOOKUP(B86,[1]B!B$1:V$48,21,0)","v":0},{"$f":"VLOOKUP(B86,[1]B!B$1:W$48,22,0)","v":0},{"$f":"VLOOKUP(B86,[1]B!B$1:X$48,23,0)","v":0},{"$f":"VLOOKUP(B86,[1]B!B$1:Z$48,25,0)","v":0},11,15,{"$f":"IFERROR(VLOOKUP(B86,[2]A!B$1:V$48,21,0),IFERROR(VLOOKUP(B86,[2]B!B$1:V$51,21,0),VLOOKUP(B86,[2]C!B$1:V$52,21,0)))","v":0},{"$f":"IFERROR(VLOOKUP(B86,[2]A!B$1:W$48,22,0),IFERROR(VLOOKUP(B86,[2]B!B$1:W$51,22,0),VLOOKUP(B86,[2]C!B$1:W$52,22,0)))","v":0},0,0,{"$f":"IFERROR(VLOOKUP(B86,[3]A!B$1:M$48,12,0),IFERROR(VLOOKUP(B86,[3]B!B$1:M$51,12,0),VLOOKUP(B86,[3]C!B$1:M$52,12,0)))","v":0},{"$f":"IFERROR(VLOOKUP(B86,[3]A!B$1:N$48,13,0),IFERROR(VLOOKUP(B86,[3]B!B$1:N$51,13,0),VLOOKUP(B86,[3]C!B$1:N$52,13,0)))","v":0},0,0,0,0,4,10,{"$f":"IFERROR(VLOOKUP(B86,[4]A!B$1:V$48,21,0),IFERROR(VLOOKUP(B86,[4]B!B$1:V$51,21,0),VLOOKUP(B86,[4]C!B$1:V$52,21,0)))","v":0},{"$f":"IFERROR(VLOOKUP(B86,[4]A!B$1:W$48,22,0),IFERROR(VLOOKUP(B86,[4]B!B$1:W$51,22,0),VLOOKUP(B86,[4]C!B$1:W$52,22,0)))","v":0},{"$f":"IFERROR(VLOOKUP(B86,[4]A!B$1:X$48,23,0),IFERROR(VLOOKUP(B86,[4]B!B$1:X$51,23,0),VLOOKUP(B86,[4]C!B$1:X$52,23,0)))","v":0},{"$f":"IFERROR(VLOOKUP(B86,[4]A!B$1:Z$48,25,0),IFERROR(VLOOKUP(B86,[4]B!B$1:Z$51,25,0),VLOOKUP(B86,[4]C!B$1:Z$52,25,0)))","v":0},2,4,null,null,null,null,35,0,0,22,22,62.857142857142854,10]
[86,"15BA124",5,6,{"$f":"VLOOKUP(B87,[1]B!B$1:V$48,21,0)","v":0},{"$f":"VLOOKUP(B87,[1]B!B$1:W$48,22,0)","v":0},{"$f":"VLOOKUP(B87,[1]B!B$1:X$48,23,0)","v":0},{"$f":"VLOOKUP(B87,[1]B!B$1:Z$48,25,0)","v":0},11,15,{"$f":"IFERROR(VLOOKUP(B87,[2]A!B$1:V$48,21,0),IFERROR(VLOOKUP(B87,[2]B!B$1:V$51,21,0),VLOOKUP(B87,[2]C!B$1:V$52,21,0)))","v":0},{"$f":"IFERROR(VLOOKUP(B87,[2]A!B$1:W$48,22,0),IFERROR(VLOOKUP(B87,[2]B!B$1:W$51,22,0),VLOOKUP(B87,[2]C!B$1:W$52,22,0)))","v":0},0,0,{"$f":"IFERROR(VLOOKUP(B87,[3]A!B$1:M$48,12,0),IFERROR(VLOOKUP(B87,[3]B!B$1:M$51,12,0),VLOOKUP(B87,[3]C!B$1:M$52,12,0)))","v":0},{"$f":"IFERROR(VLOOKUP(B87,[3]A!B$1:N$48,13,0),IFERROR(VLOOKUP(B87,[3]B!B$1:N$51,13,0),VLOOKUP(B87,[3]C!B$1:N$52,13,0)))","v":0},0,0,0,0,3,10,{"$f":"IFERROR(VLOOKUP(B87,[4]A!B$1:V$48,21,0),IFERROR(VLOOKUP(B87,[4]B!B$1:V$51,21,0),VLOOKUP(B87,[4]C!B$1:V$52,21,0)))","v":0},{"$f":"IFERROR(VLOOKUP(B87,[4]A!B$1:W$48,22,0),IFERROR(VLOOKUP(B87,[4]B!B$1:W$51,22,0),VLOOKUP(B87,[4]C!B$1:W$52,22,0)))","v":0},{"$f":"IFERROR(VLOOKUP(B87,[4]A!B$1:X$48,23,0),IFERROR(VLOOKUP(B87,[4]B!B$1:X$51,23,0),VLOOKUP(B87,[4]C!B$1:X$52,23,0)))","v":0},{"$f":"IFERROR(VLOOKUP(B87,[4]A!B$1:Z$48,25,0),IFERROR(VLOOKUP(B87,[4]B!B$1:Z$51,25,0),VLOOKUP(B87,[4]C!B$1:Z$52,25,0)))","v":0},3,4,null,null,null,null,35,0,0,22,22,62.857142857142854,15]
[87,"15BA127",5,6,{"$f":"VLOOKUP(B88,[1]B!B$1:V$48,21,0)","v":0},{"$f":"VLOOKUP(B88,[1]B!B$1:W$48,22,0)","v":0},{"$f":"VLOOKUP(B88,[1]B!B$1:X$48,23,0)","v":0},{"$f":"VLOOKUP(B88,[1]B!B$1:Z$48,25,0)","v":0},10,15,{"$f":"IFERROR(VLOOKUP(B88,[2]A!B$1:V$48,21,0),IFERROR(VLOOKUP(B88,[2]B!B$1:V$51,21,0),VLOOKUP(B88,[2]C!B$1:V$52,21,0)))","v":0},{"$f":"IFERROR(VLOOKUP(B88,[2]A!B$1:W$48,22,0),IFERROR(VLOOKUP(B88,[2]B!B$1:W$51,22,0),VLOOKUP(B88,[2]C!B$1:W$52,22,0)))","v":0},0,0,{"$f":"IFERROR(VLOOKUP(B88,[3]A!B$1:M$48,12,0),IFERROR(VLOOKUP(B88,[3]B!B$1:M$51,12,0),VLOOKUP(B88,[3]C!B$1:M$52,12,0)))","v":0},{"$f":"IFERROR(VLOOKUP(B88,[3]A!B$1:N$48,13,0),IFERROR(VLOOKUP(B88,[3]B!B$1:N$51,13,0),VLOOKUP(B88,[3]C!B$1:N$52,13,0)))","v":0},0,0,0,0,5,10,{"$f":"IFERROR(VLOOKUP(B88,[4]A!B$1:V$48,21,0),IFERROR(VLOOKUP(B88,[4]B!B$1:V$51,21,0),VLOOKUP(B88,[4]C!B$1:V$52,21,0)))","v":0},{"$f":"IFERROR(VLOOKUP(B88,[4]A!B$1:W$48,22,0),IFERROR(VLOOKUP(B88,[4]B!B$1:W$51,22,0),VLOOKUP(B88,[4]C!B$1:W$52,22,0)))","v":0},{"$f":"IFERROR(VLOOKUP(B88,[4]A!B$1:X$48,23,0),IFERROR(VLOOKUP(B88,[4]B!B$1:X$51,23,0),VLOOKUP(B88,[4]C!B$1:X$52,23,0)))","v":0},{"$f":"IFERROR(VLOOKUP(B88,[4]A!B$1:Z$48,25,0),IFERROR(VLOOKUP(B88,[4]B!B$1:Z$51,25,0),VLOOKUP(B88,[4]C!B$1:Z$52,25,0)))","v":0},3,4,null,null,null,null,35,0,0,23,23,65.714285714285708]
[88,"15BA129",5,6,{"$f":"VLOOKUP(B89,[1]B!B$1:V$48,21,0)","v":0},{"$f":"VLOOKUP(B89,[1]B!B$1:W$48,22,0)","v":0},{"$f":"VLOOKUP(B89,[1]B!B$1:X$48,23,0)","v":0},{"$f":"VLOOKUP(B89,[1]B!B$1:Z$48,25,0)","v":0},10,15,{"$f":"IFERROR(VLOOKUP(B89,[2]A!B$1:V$48,21,0),IFERROR(VLOOKUP(B89,[2]B!B$1:V$51,21,0),VLOOKUP(B89,[2]C!B$1:V$52,21,0)))","v":0},{"$f":"IFERROR(VLOOKUP(B89,[2]A!B$1:W$48,22,0),IFERROR(VLOOKUP(B89,[2]B!B$1:W$51,22,0),VLOOKUP(B89,[2]C!B$1:W$52,22,0)))","v":0},0,0,{"$f":"IFERROR(VLOOKUP(B89,[3]A!B$1:M$48,12,0),IFERROR(VLOOKUP(B89,[3]B!B$1:M$51,12,0),VLOOKUP(B89,[3]C!B$1:M$52,12,0)))","v":0},{"$f":"IFERROR(VLOOKUP(B89,[3]A!B$1:N$48,13,0),IFERROR(VLOOKUP(B89,[3]B!B$1:N$51,13,0),VLOOKUP(B89,[3]C!B$1:N$52,13,0)))","v":0},0,0,0,0,5,10,{"$f":"IFERROR(VLOOKUP(B89,[4]A!B$1:V$48,21,0),IFERROR(VLOOKUP(B89,[4]B!B$1:V$51,21,0),VLOOKUP(B89,[4]C!B$1:V$52,21,0)))","v":0},{"$f":"IFERROR(VLOOKUP(B89,[4]A!B$1:W$48,22,0),IFERROR(VLOOKUP(B89,[4]B!B$1:W$51,22,0),VLOOKUP(B89,[4]C!B$1:W$52,22,0)))","v":0},{"$f":"IFERROR(VLOOKUP(B89,[4]A!B$1:X$48,23,0),IFERROR(VLOOKUP(B89,[4]B!B$1:X$51,23,0),VLOOKUP(B89,[4]C!B$1:X$52,23,0)))","v":0},{"$f":"IFERROR(VLOOKUP(B89,[4]A!B$1:Z$48,25,0),IFERROR(VLOOKUP(B89,[4]B!B$1:Z$51,25,0),VLOOKUP(B89,[4]C!B$1:Z$52,25,0)))","v":0},3,4,null,null,null,null,35,0,0,23,23,65.714285714285708,15]
[89,"15BA130",5,6,{"$f":"VLOOKUP(B90,[1]B!B$1:V$48,21,0)","v":0},{"$f":"VLOOKUP(B90,[1]B!B$1:W$48,22,0)","v":0},{"$f":"VLOOKUP(B90,[1]B!B$1:X$48,23,0)","v":0},{"$f":"VLOOKUP(B90,[1]B!B$1:Z$48,25,0)","v":0},11,15,{"$f":"IFERROR(VLOOKUP(B90,[2]A!B$1:V$48,21,0),IFERROR(VLOOKUP(B90,[2]B!B$1:V$51,21,0),VLOOKUP(B90,[2]C!B$1:V$52,21,0)))","v":0},{"$f":"IFERROR(VLOOKUP(B90,[2]A!B$1:W$48,22,0),IFERROR(VLOOKUP(B90,[2]B!B$1:W$51,22,0),VLOOKUP(B90,[2]C!B$1:W$52,22,0)))","v":0},0,0,{"$f":"IFERROR(VLOOKUP(B90,[3]A!B$1:M$48,12,0),IFERROR(VLOOKUP(B90,[3]B!B$1:M$51,12,0),VLOOKUP(B90,[3]C!B$1:M$52,12,0)))","v":0},{"$f":"IFERROR(VLOOKUP(B90,[3]A!B$1:N$48,13,0),IFERROR(VLOOKUP(B90,[3]B!B$1:N$51,13,0),VLOOKUP(B90,[3]C!B$1:N$52,13,0)))","v":0},0,0,0,0,5,10,{"$f":"IFERROR(VLOOKUP(B90,[4]A!B$1:V$48,21,0),IFERROR(VLOOKUP(B90,[4]B!B$1:V$51,21,0),VLOOKUP(B90,[4]C!B$1:V$52,21,0)))","v":0},{"$f":"IFERROR(VLOOKUP(B90,[4]A!B$1:W$48,22,0),IFERROR(VLOOKUP(B90,[4]B!B$1:W$51,22,0),VLOOKUP(B90,[4]C!B$1:W$52,22,0)))","v":0},{"$f":"IFERROR(VLOOKUP(B90,[4]A!B$1:X$48,23,0),IFERROR(VLOOKUP(B90,[4]B!B$1:X$51,23,0),VLOOKUP(B90,[4]C!B$1:X$52,23,0)))","v":0},{"$f":"IFERROR(VLOOKUP(B90,[4]A!B$1:Z$48,25,0),IFERROR(VLOOKUP(B90,[4]B!B$1:Z$51,25,0),VLOOKUP(B90,[4]C!B$1:Z$52,25,0)))","v":0},2,4,null,null,null,null,35,0,0,23,23,65.714285714285708,15]
[90,"15BA134",6,6,{"$f":"VLOOKUP(B91,[1]B!B$1:V$48,21,0)","v":0},{"$f":"VLOOKUP(B91,[1]B!B$1:W$48,22,0)","v":0},{"$f":"VLOOKUP(B91,[1]B!B$1:X$48,23,0)","v":0},{"$f":"VLOOKUP(B91,[1]B!B$1:Z$48,25,0)","v":0},13,15,{"$f":"IFERROR(VLOOKUP(B91,[2]A!B$1:V$48,21,0),IFERROR(VLOOKUP(B91,[2]B!B$1:V$51,21,0),VLOOKUP(B91,[2]C!B$1:V$52,21,0)))","v":0},{"$f":"IFERROR(VLOOKUP(B91,[2]A!B$1:W$48,22,0),IFERROR(VLOOKUP(B91,[2]B!B$1:W$51,22,0),VLOOKUP(B91,[2]C!B$1:W$52,22,0)))","v":0},0,0,{"$f":"IFERROR(VLOOKUP(B91,[3]A!B$1:M$48,12,0),IFERROR(VLOOKUP(B91,[3]B!B$1:M$51,12,0),VLOOKUP(B91,[3]C!B$1:M$52,12,0)))","v":0},{"$f":"IFERROR(VLOOKUP(B91,[3]A!B$1:N$48,13,0),IFERROR(VLOOKUP(B91,[3]B!B$1:N$51,13,0),VLOOKUP(B91,[3]C!B$1:N$52,13,0)))","v":0},0,0,0,0,5,10,{"$f":"IFERROR(VLOOKUP(B91,[4]A!B$1:V$48,21,0),IFERROR(VLOOKUP(B91,[4]B!B$1:V$51,21,0),VLOOKUP(B91,[4]C!B$1:V$52,21,0)))","v":0},{"$f":"IFERROR(VLOOKUP(B91,[4]A!B$1:W$48,22,0),IFERROR(VLOOKUP(B91,[4]B!B$1:W$51,22,0),VLOOKUP(B91,[4]C!B$1:W$52,22,0)))","v":0},{"$f":"IFERROR(VLOOKUP(B91,[4]A!B$1:X$48,23,0),IFERROR(VLOOKUP(B91,[4]B!B$1:X$51,23,0),VLOOKUP(B91,[4]C!B$1:X$52,23,0)))","v":0},{"$f":"IFERROR(VLOOKUP(B91,[4]A!B$1:Z$48,25,0),IFERROR(VLOOKUP(B91,[4]B!B$1:Z$51,25,0),VLOOKUP(B91,[4]C!B$1:Z$52,25,0)))","v":0},4,4,null,null,null,null,35,0,0,28,28,80,14]
[91,"15BA135",5,6,{"$f":"VLOOKUP(B92,[1]B!B$1:V$48,21,0)","v":0},{"$f":"VLOOKUP(B92,[1]B!B$1:W$48,22,0)","v":0},{"$f":"VLOOKUP(B92,[1]B!B$1:X$48,23,0)","v":0},{"$f":"VLOOKUP(B92,[1]B!B$1:Z$48,25,0)","v":0},11,15,{"$f":"IFERROR(VLOOKUP(B92,[2]A!B$1:V$48,21,0),IFERROR(VLOOKUP(B92,[2]B!B$1:V$51,21,0),VLOOKUP(B92,[2]C!B$1:V$52,21,0)))","v":0},{"$f":"IFERROR(VLOOKUP(B92,[2]A!B$1:W$48,22,0),IFERROR(VLOOKUP(B92,[2]B!B$1:W$51,22,0),VLOOKUP(B92,[2]C!B$1:W$52,22,0)))","v":0},0,0,{"$f":"IFERROR(VLOOKUP(B92,[3]A!B$1:M$48,12,0),IFERROR(VLOOKUP(B92,[3]B!B$1:M$51,12,0),VLOOKUP(B92,[3]C!B$1:M$52,12,0)))","v":0},{"$f":"IFERROR(VLOOKUP(B92,[3]A!B$1:N$48,13,0),IFERROR(VLOOKUP(B92,[3]B!B$1:N$51,13,0),VLOOKUP(B92,[3]C!B$1:N$52,13,0)))","v":0},0,0,0,0,3,10,{"$f":"IFERROR(VLOOKUP(B92,[4]A!B$1:V$48,21,0),IFERROR(VLOOKUP(B92,[4]B!B$1:V$51,21,0),VLOOKUP(B92,[4]C!B$1:V$52,21,0)))","v":0},{"$f":"IFERROR(VLOOKUP(B92,[4]A!B$1:W$48,22,0),IFERROR(VLOOKUP(B92,[4]B!B$1:W$51,22,0),VLOOKUP(B92,[4]C!B$1:W$52,22,0)))","v":0},{"$f":"IFERROR(VLOOKUP(B92,[4]A!B$1:X$48,23,0),IFERROR(VLOOKUP(B92,[4]B!B$1:X$51,23,0),VLOOKUP(B92,[4]C!B$1:X$52,23,0)))","v":0},{"$f":"IFERROR(VLOOKUP(B92,[4]A!B$1:Z$48,25,0),IFERROR(VLOOKUP(B92,[4]B!B$1:Z$51,25,0),VLOOKUP(B92,[4]C!B$1:Z$52,25,0)))","v":0},3,4,null,null,null,null,35,0,0,22,22,62.857142857142854,11]
[92,"15BA140",5,6,{"$f":"VLOOKUP(B93,[1]B!B$1:V$48,21,0)","v":0},{"$f":"VLOOKUP(B93,[1]B!B$1:W$48,22,0)","v":0},{"$f":"VLOOKUP(B93,[1]B!B$1:X$48,23,0)","v":0},{"$f":"VLOOKUP(B93,[1]B!B$1:Z$48,25,0)","v":0},10,15,{"$f":"IFERROR(VLOOKUP(B93,[2]A!B$1:V$48,21,0),IFERROR(VLOOKUP(B93,[2]B!B$1:V$51,21,0),VLOOKUP(B93,[2]C!B$1:V$52,21,0)))","v":0},{"$f":"IFERROR(VLOOKUP(B93,[2]A!B$1:W$48,22,0),IFERROR(VLOOKUP(B93,[2]B!B$1:W$51,22,0),VLOOKUP(B93,[2]C!B$1:W$52,22,0)))","v":0},0,0,{"$f":"IFERROR(VLOOKUP(B93,[3]A!B$1:M$48,12,0),IFERROR(VLOOKUP(B93,[3]B!B$1:M$51,12,0),VLOOKUP(B93,[3]C!B$1:M$52,12,0)))","v":0},{"$f":"IFERROR(VLOOKUP(B93,[3]A!B$1:N$48,13,0),IFERROR(VLOOKUP(B93,[3]B!B$1:N$51,13,0),VLOOKUP(B93,[3]C!B$1:N$52,13,0)))","v":0},0,0,0,0,5,10,{"$f":"IFERROR(VLOOKUP(B93,[4]A!B$1:V$48,21,0),IFERROR(VLOOKUP(B93,[4]B!B$1:V$51,21,0),VLOOKUP(B93,[4]C!B$1:V$52,21,0)))","v":0},{"$f":"IFERROR(VLOOKUP(B93,[4]A!B$1:W$48,22,0),IFERROR(VLOOKUP(B93,[4]B!B$1:W$51,22,0),VLOOKUP(B93,[4]C!B$1:W$52,22,0)))","v":0},{"$f":"IFERROR(VLOOKUP(B93,[4]A!B$1:X$48,23,0),IFERROR(VLOOKUP(B93,[4]B!B$1:X$51,23,0),VLOOKUP(B93,[4]C!B$1:X$52,23,0)))","v":0},{"$f":"IFERROR(VLOOKUP(B93,[4]A!B$1:Z$48,25,0),IFERROR(VLOOKUP(B93,[4]B!B$1:Z$51,25,0),VLOOKUP(B93,[4]C!B$1:Z$52,25,0)))","v":0},2,4,null,null,null,null,35,0,0,22,22,62.857142857142854,11]
[93,"15BA141",5,6,{"$f":"VLOOKUP(B94,[1]B!B$1:V$48,21,0)","v":0},{"$f":"VLOOKUP(B94,[1]B!B$1:W$48,22,0)","v":0},{"$f":"VLOOKUP(B94,[1]B!B$1:X$48,23,0)","v":0},{"$f":"VLOOKUP(B94,[1]B!B$1:Z$48,25,0)","v":0},10,15,{"$f":"IFERROR(VLOOKUP(B94,[2]A!B$1:V$48,21,0),IFERROR(VLOOKUP(B94,[2]B!B$1:V$51,21,0),VLOOKUP(B94,[2]C!B$1:V$52,21,0)))","v":0},{"$f":"IFERROR(VLOOKUP(B94,[2]A!B$1:W$48,22,0),IFERROR(VLOOKUP(B94,[2]B!B$1:W$51,22,0),VLOOKUP(B94,[2]C!B$1:W$52,22,0)))","v":0},0,0,{"$f":"IFERROR(VLOOKUP(B94,[3]A!B$1:M$48,12,0),IFERROR(VLOOKUP(B94,[3]B!B$1:M$51,12,0),VLOOKUP(B94,[3]C!B$1:M$52,12,0)))","v":0},{"$f":"IFERROR(VLOOKUP(B94,[3]A!B$1:N$48,13,0),IFERROR(VLOOKUP(B94,[3]B!B$1:N$51,13,0),VLOOKUP(B94,[3]C!B$1:N$52,13,0)))","v":0},0,0,0,0,5,10,{"$f":"IFERROR(VLOOKUP(B94,[4]A!B$1:V$48,21,0),IFERROR(VLOOKUP(B94,[4]B!B$1:V$51,21,0),VLOOKUP(B94,[4]C!B$1:V$52,21,0)))","v":0},{"$f":"IFERROR(VLOOKUP(B94,[4]A!B$1:W$48,22,0),IFERROR(VLOOKUP(B94,[4]B!B$1:W$51,22,0),VLOOKUP(B94,[4]C!B$1:W$52,22,0)))","v":0},{"$f":"IFERROR(VLOOKUP(B94,[4]A!B$1:X$48,23,0),IFERROR(VLOOKUP(B94,[4]B!B$1:X$51,23,0),VLOOKUP(B94,[4]C!B$1:X$52,23,0)))","v":0},{"$f":"IFERROR(VLOOKUP(B94,[4]A!B$1:Z$48,25,0),IFERROR(VLOOKUP(B94,[4]B!B$1:Z$51,25,0),VLOOKUP(B94,[4]C!B$1:Z$52,25,0)))","v":0},3,4,null,null,null,null,35,0,0,23,23,65.714285714285708,12]
[94,"15BA149",5,6,0,0,0,0,11,15,{"$f":"IFERROR(VLOOKUP(B95,[2]A!B$1:V$48,21,0),IFERROR(VLOOKUP(B95,[2]B!B$1:V$51,21,0),VLOOKUP(B95,[2]C!B$1:V$52,21,0)))","v":0},{"$f":"IFERROR(VLOOKUP(B95,[2]A!B$1:W$48,22,0),IFERROR(VLOOKUP(B95,[2]B!B$1:W$51,22,0),VLOOKUP(B95,[2]C!B$1:W$52,22,0)))","v":0},0,0,{"$f":"IFERROR(VLOOKUP(B95,[3]A!B$1:M$48,12,0),IFERROR(VLOOKUP(B95,[3]B!B$1:M$51,12,0),VLOOKUP(B95,[3]C!B$1:M$52,12,0)))","v":0},{"$f":"IFERROR(VLOOKUP(B95,[3]A!B$1:N$48,13,0),IFERROR(VLOOKUP(B95,[3]B!B$1:N$51,13,0),VLOOKUP(B95,[3]C!B$1:N$52,13,0)))","v":0},0,0,0,0,3,10,{"$f":"IFERROR(VLOOKUP(B95,[4]A!B$1:V$48,21,0),IFERROR(VLOOKUP(B95,[4]B!B$1:V$51,21,0),VLOOKUP(B95,[4]C!B$1:V$52,21,0)))","v":0},{"$f":"IFERROR(VLOOKUP(B95,[4]A!B$1:W$48,22,0),IFERROR(VLOOKUP(B95,[4]B!B$1:W$51,22,0),VLOOKUP(B95,[4]C!B$1:W$52,22,0)))","v":0},{"$f":"IFERROR(VLOOKUP(B95,[4]A!B$1:X$48,23,0),IFERROR(VLOOKUP(B95,[4]B!B$1:X$51,23,0),VLOOKUP(B95,[4]C!B$1:X$52,23,0)))","v":0},{"$f":"IFERROR(VLOOKUP(B95,[4]A!B$1:Z$48,25,0),IFERROR(VLOOKUP(B95,[4]B!B$1:Z$51,25,0),VLOOKUP(B95,[4]C!B$1:Z$52,25,0)))","v":0},3,4,null,null,null,null,35,0,0,22,22,62.857142857142854,10]
[95,"15BA150",5,6,0,0,0,0,10,15,{"$f":"IFERROR(VLOOKUP(B96,[2]A!B$1:V$48,21,0),IFERROR(VLOOKUP(B96,[2]B!B$1:V$51,21,0),VLOOKUP(B96,[2]C!B$1:V$52,21,0)))","v":0},{"$f":"IFERROR(VLOOKUP(B96,[2]A!B$1:W$48,22,0),IFERROR(VLOOKUP(B96,[2]B!B$1:W$51,22,0),VLOOKUP(B96,[2]C!B$1:W$52,22,0)))","v":0},0,0,{"$f":"IFERROR(VLOOKUP(B96,[3]A!B$1:M$48,12,0),IFERROR(VLOOKUP(B96,[3]B!B$1:M$51,12,0),VLOOKUP(B96,[3]C!B$1:M$52,12,0)))","v":0},{"$f":"IFERROR(VLOOKUP(B96,[3]A!B$1:N$48,13,0),IFERROR(VLOOKUP(B96,[3]B!B$1:N$51,13,0),VLOOKUP(B96,[3]C!B$1:N$52,13,0)))","v":0},0,0,0,0,6,10,{"$f":"IFERROR(VLOOKUP(B96,[4]A!B$1:V$48,21,0),IFERROR(VLOOKUP(B96,[4]B!B$1:V$51,21,0),VLOOKUP(B96,[4]C!B$1:V$52,21,0)))","v":0},{"$f":"IFERROR(VLOOKUP(B96,[4]A!B$1:W$48,22,0),IFERROR(VLOOKUP(B96,[4]B!B$1:W$51,22,0),VLOOKUP(B96,[4]C!B$1:W$52,22,0)))","v":0},{"$f":"IFERROR(VLOOKUP(B96,[4]A!B$1:X$48,23,0),IFERROR(VLOOKUP(B96,[4]B!B$1:X$51,23,0),VLOOKUP(B96,[4]C!B$1:X$52,23,0)))","v":0},{"$f":"IFERROR(VLOOKUP(B96,[4]A!B$1:Z$48,25,0),IFERROR(VLOOKUP(B96,[4]B!B$1:Z$51,25,0),VLOOKUP(B96,[4]C!B$1:Z$52,25,0)))","v":0},2,4,null,null,null,null,35,0,0,23,23,65.714285714285708]
[96,"15BA155",6,6,0,0,0,0,14,15,{"$f":"IFERROR(VLOOKUP(B97,[2]A!B$1:V$48,21,0),IFERROR(VLOOKUP(B97,[2]B!B$1:V$51,21,0),VLOOKUP(B97,[2]C!B$1:V$52,21,0)))","v":0},{"$f":"IFERROR(VLOOKUP(B97,[2]A!B$1:W$48,22,0),IFERROR(VLOOKUP(B97,[2]B!B$1:W$51,22,0),VLOOKUP(B97,[2]C!B$1:W$52,22,0)))","v":0},0,0,{"$f":"IFERROR(VLOOKUP(B97,[3]A!B$1:M$48,12,0),IFERROR(VLOOKUP(B97,[3]B!B$1:M$51,12,0),VLOOKUP(B97,[3]C!B$1:M$52,12,0)))","v":0},{"$f":"IFERROR(VLOOKUP(B97,[3]A!B$1:N$48,13,0),IFERROR(VLOOKUP(B97,[3]B!B$1:N$51,13,0),VLOOKUP(B97,[3]C!B$1:N$52,13,0)))","v":0},0,0,0,0,6,10,{"$f":"IFERROR(VLOOKUP(B97,[4]A!B$1:V$48,21,0),IFERROR(VLOOKUP(B97,[4]B!B$1:V$51,21,0),VLOOKUP(B97,[4]C!B$1:V$52,21,0)))","v":0},{"$f":"IFERROR(VLOOKUP(B97,[4]A!B$1:W$48,22,0),IFERROR(VLOOKUP(B97,[4]B!B$1:W$51,22,0),VLOOKUP(B97,[4]C!B$1:W$52,22,0)))","v":0},{"$f":"IFERROR(VLOOKUP(B97,[4]A!B$1:X$48,23,0),IFERROR(VLOOKUP(B97,[4]B!B$1:X$51,23,0),VLOOKUP(B97,[4]C!B$1:X$52,23,0)))","v":0},{"$f":"IFERROR(VLOOKUP(B97,[4]A!B$1:Z$48,25,0),IFERROR(VLOOKUP(B97,[4]B!B$1:Z$51,25,0),VLOOKUP(B97,[4]C!B$1:Z$52,25,0)))","v":0},4,4,null,null,null,null,35,0,0,30,30,85.714285714285708,18]
[97,"15BA005"]
[98,"15BA010"]
[99,"15BA013"]
[100,"15BA018"]
[101,"15BA020"]
[102,"15BA025"]
[103,"15BA028"]
[104,"15BA031"]
[105,"15BA032"]
[106,"15BA034"]
[107,"15BA037"]
[108,"15BA045"]
[109,"15BA046"]
[110,"15BA052"]
[111,"15BA056"]
[112,"15BA058"]
[113,"15BA059"]
[114,"15BA063"]
[115,"15BA069"]
[116,"15BA073"]
[117,"15BA076"]
[118,"15BA077"]
[119,"15BA079"]
[120,"15BA082"]
[121,"15BA087"]
[122,"15BA094"]
[123,"15BA097"]
[124,"15BA099"]
[125,"15BA102"]
[126,"15BA103"]
[127,"15BA104"]
[128,"15BA109"]
[129,"15BA114"]
[130,"15BA118"]
[131,"15BA121"]
[132,"15BA122"]
[133,"15BA125"]
[134,"15BA131"]
[135,"15BA132"]
[136,"15BA136"]
[137,"15BA137"]
[138,"15BA142"]
[139,"15BA145"]
[140,"15BA146"]
[141,"15BA147"]
[142,"15BA148"]
[143,"15BA150"]
[144,"15BA152"]
[145,"15BA154"]
[146,"15BA157"]
[147,"15BA158"]

{"sheet":"Intro Micro","index":3,"n_rows":148,"n_cols":43,"rows_kept":148,"cut":false,"hidden":false,"merged":[]}
["Sr. No.","Roll No.","July  Th ClassesAttended","July  Th Classes Held","July Final Calculated Benefits ","July  Tut ClassesAttended","July  Tut Classes Held","July Tut Final Calculated Benefits ","Aug  Th ClassesAttended","Aug  Th Classes Held","Aug Final Calculated Benefits ","Aug  Tut ClassesAttended","Aug  Tut Classes Held","Aug Tut Final Calculated Benefits ","Sep  Th ClassesAttended","Sep  Th Classes Held","Sep Final Calculated Benefits ","Sep  Tut ClassesAttended","Sep  Tut Classes Held","Sep Tut Final Calculated Benefits ","Oct  Th ClassesAttended","Oct  Th Classes Held","Oct Final Calculated Benefits ","Oct  Tut ClassesAttended","Oct  Tut Classes Held","Oct Tut Final Calculated Benefits ","nOV  Th ClassesAttended","Nov  Th Classes Held","Nov Final Calculated Benefits ","Nov  Tut ClassesAttended","Nov  Tut Classes Held","Nov Tut Final Calculated Benefits ","Total Classes Held in Semester","Total Benefits initially given in the semester","Final Benefits given to the student","Total Classes Attended by the student","Total classes attended + attendance benefits","Attendance Percentage","Attendance Marks","Tut Group"," Assignment (tutorial test) marks out of 10","Assignment (class test) marks out of 10","Final Marks Out of 25"]
[1,"15BA001",{"$f":"VLOOKUP(B2,[1]A!B$1:AA$48,26,0)","v":8},{"$f":"VLOOKUP(B2,[1]A!B$1:AB$48,27,0)","v":9},{"$f":"VLOOKUP(B2,[1]A!B$1:AD$48,29,0)","v":0},{"$f":"VLOOKUP(B2,[1]A!B$1:AE$48,30,0)","v":0},{"$f":"VLOOKUP(B2,[1]A!B$1:AF$48,31,0)","v":0},{"$f":"VLOOKUP(B2,[1]A!B$1:AH$48,33,0)","v":0},{"$f":"IFERROR(VLOOKUP(B2,[2]A!B$1:AA$48,26,0),IFERROR(VLOOKUP(B2,[2]B!B$1:AA$51,26,0),VLOOKUP(B2,[2]C!B$1:AA$52,26,0)))","v":20},{"$f":"IFERROR(VLOOKUP(B2,[2]A!B$1:AB$48,27,0),IFERROR(VLOOKUP(B2,[2]B!B$1:AB$51,27,0),VLOOKUP(B2,[2]C!B$1:AB$52,27,0)))","v":21},{"$f":"IFERROR(VLOOKUP(B2,[2]A!B$1:AD$48,29,0),IFERROR(VLOOKUP(B2,[2]B!B$1:AD$51,29,0),VLOOKUP(B2,[2]C!B$1:AD$52,29,0)))","v":0},{"$f":"IFERROR(VLOOKUP(B2,[2]A!B$1:AE$48,30,0),IFERROR(VLOOKUP(B2,[2]B!B$1:AE$51,30,0),VLOOKUP(B2,[2]C!B$1:AE$52,30,0)))","v":3},{"$f":"IFERROR(VLOOKUP(B2,[2]A!B$1:AF$48,31,0),IFERROR(VLOOKUP(B2,[2]B!B$1:AF$51,31,0),VLOOKUP(B2,[2]C!B$1:AF$52,31,0)))","v":4},{"$f":"IFERROR(VLOOKUP(B2,[2]A!B$1:AH$48,33,0),IFERROR(VLOOKUP(B2,[2]B!B$1:AH$51,33,0),VLOOKUP(B2,[2]C!$B$1:$AH$52,33,0)))","v":0},{"$f":"IFERROR(VLOOKUP(B2,[3]A!B$1:S$48,18,0),IFERROR(VLOOKUP(B2,[3]B!B$1:Q$51,16,0),VLOOKUP(B2,[3]C!B$1:Q$52,16,0)))","v":14},{"$f":"IFERROR(VLOOKUP(B2,[3]A!B$1:T$48,19,0),IFERROR(VLOOKUP(B2,[3]B!B$1:R$51,17,0),VLOOKUP(B2,[3]C!B$1:R$52,17,0)))","v":16},{"$f":"IFERROR(VLOOKUP(B2,[3]A!B$1:V$48,21,0),IFERROR(VLOOKUP(B2,[3]B!B$1:T$51,19,0),VLOOKUP(B2,[3]C!B$1:T$52,19,0)))","v":0},{"$f":"IFERROR(VLOOKUP(B2,[3]A!B$1:W$48,22,0),IFERROR(VLOOKUP(B2,[3]B!B$1:U$51,20,0),VLOOKUP(B2,[3]C!B$1:U$52,20,0)))","v":2},{"$f":"IFERROR(VLOOKUP(B2,[3]A!B$1:X$48,23,0),IFERROR(VLOOKUP(B2,[3]B!B$1:V$51,21,0),VLOOKUP(B2,[3]C!B$1:V$52,21,0)))","v":3},0,{"$f":"IFERROR(VLOOKUP(B2,[4]A!B$1:AA$48,26,0),IFERROR(VLOOKUP(B2,[4]B!B$1:AA$51,26,0),VLOOKUP(B2,[4]C!B$1:AA$52,26,0)))","v":15},{"$f":"IFERROR(VLOOKUP(B2,[4]A!B$1:AB$48,27,0),IFERROR(VLOOKUP(B2,[4]B!B$1:AB$51,27,0),VLOOKUP(B2,[4]C!B$1:AB$52,27,0)))","v":17},{"$f":"IFERROR(VLOOKUP(B2,[4]A!B$1:AD$48,29,0),IFERROR(VLOOKUP(B2,[4]B!B$1:AD$51,29,0),VLOOKUP(B2,[4]C!B$1:AD$52,29,0)))","v":0},{"$f":"IFERROR(VLOOKUP(B2,[4]A!B$1:AE$48,30,0),IFERROR(VLOOKUP(B2,[4]B!B$1:AE$51,30,0),VLOOKUP(B2,[4]C!B$1:AE$52,30,0)))","v":2},{"$f":"IFERROR(VLOOKUP(B2,[4]A!B$1:AF$48,31,0),IFERROR(VLOOKUP(B2,[4]B!B$1:AF$51,31,0),VLOOKUP(B2,[4]C!B$1:AF$52,31,0)))","v":3},{"$f":"IFERROR(VLOOKUP(B2,[4]A!B$1:AH$48,33,0),IFERROR(VLOOKUP(B2,[4]B!B$1:AH$51,33,0),VLOOKUP(B2,[4]C!B$1:AH$52,33,0)))","v":0},5,6,null,1,1,null,{"$f":"SUM(D2,G2,J2,M2,P2,S2,V2,Y2,AB2,AE2)","v":80},{"$f":"SUM(E2,H2,K2,N2,Q2,T2,W2,Z2,AC2,AF2)","v":0},{"$f":"FLOOR(IF(AH2<(1/3*(AG2)),AH2,(1/3*(AG2))),1)","v":0},{"$f":"SUM(C2,F2,I2,L2,O2,R2,U2,X2,AA2,AD2)","v":70},{"$f":"IF(SUM(AJ2,AI2)>AG2,AG2,SUM(AJ2,AI2))","v":70},{"$f":"(AK2/AG2)*100","v":87.5},{"$f":"IF(AL2>=85,5,(IF(AND(AL2>=80,AL2<85),4,(IF(AND(AL2>=75,AL2<80),3,(IF(AND(AL2>=70,AL2<75),2,(IF(AND(AL2>67,AL2<70),1,0)))))))))","v":5},"A-1",7,6,{"$f":"SUM(AM2,AO2,AP2,)","v":18}]
[2,"15BA002",{"$f":"VLOOKUP(B3,[1]A!B$1:AA$48,26,0)","v":9},{"$f":"VLOOKUP(B3,[1]A!B$1:AB$48,27,0)","v":9},{"$f":"VLOOKUP(B3,[1]A!B$1:AD$48,29,0)","v":0},{"$f":"VLOOKUP(B3,[1]A!B$1:AE$48,30,0)","v":0},{"$f":"VLOOKUP(B3,[1]A!B$1:AF$48,31,0)","v":0},{"$f":"VLOOKUP(B3,[1]A!B$1:AH$48,33,0)","v":0},{"$f":"IFERROR(VLOOKUP(B3,[2]A!B$1:AA$48,26,0),IFERROR(VLOOKUP(B3,[2]B!B$1:AA$51,26,0),VLOOKUP(B3,[2]C!B$1:AA$52,26,0)))","v":21},{"$f":"IFERROR(VLOOKUP(B3,[2]A!B$1:AB$48,27,0),IFERROR(VLOOKUP(B3,[2]B!B$1:AB$51,27,0),VLOOKUP(B3,[2]C!B$1:AB$52,27,0)))","v":21},{"$f":"IFERROR(VLOOKUP(B3,[2]A!B$1:AD$48,29,0),IFERROR(VLOOKUP(B3,[2]B!B$1:AD$51,29,0),VLOOKUP(B3,[2]C!B$1:AD$52,29,0)))","v":0},{"$f":"IFERROR(VLOOKUP(B3,[2]A!B$1:AE$48,30,0),IFERROR(VLOOKUP(B3,[2]B!B$1:AE$51,30,0),VLOOKUP(B3,[2]C!B$1:AE$52,30,0)))","v":3},{"$f":"IFERROR(VLOOKUP(B3,[2]A!B$1:AF$48,31,0),IFERROR(VLOOKUP(B3,[2]B!B$1:AF$51,31,0),VLOOKUP(B3,[2]C!B$1:AF$52,31,0)))","v":4},{"$f":"IFERROR(VLOOKUP(B3,[2]A!B$1:AH$48,33,0),IFERROR(VLOOKUP(B3,[2]B!B$1:AH$51,33,0),VLOOKUP(B3,[2]C!$B$1:$AH$52,33,0)))","v":0},{"$f":"IFERROR(VLOOKUP(B3,[3]A!B$1:S$48,18,0),IFERROR(VLOOKUP(B3,[3]B!B$1:Q$51,16,0),VLOOKUP(B3,[3]C!B$1:Q$52,16,0)))","v":15},{"$f":"IFERROR(VLOOKUP(B3,[3]A!B$1:T$48,19,0),IFERROR(VLOOKUP(B3,[3]B!B$1:R$51,17,0),VLOOKUP(B3,[3]C!B$1:R$52,17,0)))","v":16},{"$f":"IFERROR(VLOOKUP(B3,[3]A!B$1:V$48,21,0),IFERROR(VLOOKUP(B3,[3]B!B$1:T$51,19,0),VLOOKUP(B3,[3]C!B$1:T$52,19,0)))","v":0},{"$f":"IFERROR(VLOOKUP(B3,[3]A!B$1:W$48,22,0),IFERROR(VLOOKUP(B3,[3]B!B$1:U$51,20,0),VLOOKUP(B3,[3]C!B$1:U$52,20,0)))","v":2},{"$f":"IFERROR(VLOOKUP(B3,[3]A!B$1:X$48,23,0),IFERROR(VLOOKUP(B3,[3]B!B$1:V$51,21,0),VLOOKUP(B3,[3]C!B$1:V$52,21,0)))","v":3},0,{"$f":"IFERROR(VLOOKUP(B3,[4]A!B$1:AA$48,26,0),IFERROR(VLOOKUP(B3,[4]B!B$1:AA$51,26,0),VLOOKUP(B3,[4]C!B$1:AA$52,26,0)))","v":15},{"$f":"IFERROR(VLOOKUP(B3,[4]A!B$1:AB$48,27,0),IFERROR(VLOOKUP(B3,[4]B!B$1:AB$51,27,0),VLOOKUP(B3,[4]C!B$1:AB$52,27,0)))","v":17},{"$f":"IFERROR(VLOOKUP(B3,[4]A!B$1:AD$48,29,0),IFERROR(VLOOKUP(B3,[4]B!B$1:AD$51,29,0),VLOOKUP(B3,[4]C!B$1:AD$52,29,0)))","v":0},{"$f":"IFERROR(VLOOKUP(B3,[4]A!B$1:AE$48,30,0),IFERROR(VLOOKUP(B3,[4]B!B$1:AE$51,30,0),VLOOKUP(B3,[4]C!B$1:AE$52,30,0)))","v":2},{"$f":"IFERROR(VLOOKUP(B3,[4]A!B$1:AF$48,31,0),IFERROR(VLOOKUP(B3,[4]B!B$1:AF$51,31,0),VLOOKUP(B3,[4]C!B$1:AF$52,31,0)))","v":3},{"$f":"IFERROR(VLOOKUP(B3,[4]A!B$1:AH$48,33,0),IFERROR(VLOOKUP(B3,[4]B!B$1:AH$51,33,0),VLOOKUP(B3,[4]C!B$1:AH$52,33,0)))","v":0},5,6,null,1,1,null,{"$f":"SUM(D3,G3,J3,M3,P3,S3,V3,Y3,AB3,AE3)","v":80},{"$f":"SUM(E3,H3,K3,N3,Q3,T3,W3,Z3,AC3,AF3)","v":0},{"$f":"FLOOR(IF(AH3<(1/3*(AG3)),AH3,(1/3*(AG3))),1)","v":0},{"$f":"SUM(C3,F3,I3,L3,O3,R3,U3,X3,AA3,AD3)","v":73},{"$f":"IF(SUM(AJ3,AI3)>AG3,AG3,SUM(AJ3,AI3))","v":73},{"$f":"(AK3/AG3)*100","v":91.25},{"$f":"IF(AL3>=85,5,(IF(AND(AL3>=80,AL3<85),4,(IF(AND(AL3>=75,AL3<80),3,(IF(AND(AL3>=70,AL3<75),2,(IF(AND(AL3>67,AL3<70),1,0)))))))))","v":5},"A-3",7,6,{"$f":"SUM(AM3,AO3,AP3,)","v":18}]
[3,"15BA003",{"$f":"VLOOKUP(B4,[1]A!B$1:AA$48,26,0)","v":8},{"$f":"VLOOKUP(B4,[1]A!B$1:AB$48,27,0)","v":9},{"$f":"VLOOKUP(B4,[1]A!B$1:AD$48,29,0)","v":0},{"$f":"VLOOKUP(B4,[1]A!B$1:AE$48,30,0)","v":0},{"$f":"VLOOKUP(B4,[1]A!B$1:AF$48,31,0)","v":0},{"$f":"VLOOKUP(B4,[1]A!B$1:AH$48,33,0)","v":0},{"$f":"IFERROR(VLOOKUP(B4,[2]A!B$1:AA$48,26,0),IFERROR(VLOOKUP(B4,[2]B!B$1:AA$51,26,0),VLOOKUP(B4,[2]C!B$1:AA$52,26,0)))","v":19},{"$f":"IFERROR(VLOOKUP(B4,[2]A!B$1:AB$48,27,0),IFERROR(VLOOKUP(B4,[2]B!B$1:AB$51,27,0),VLOOKUP(B4,[2]C!B$1:AB$52,27,0)))","v":21},{"$f":"IFERROR(VLOOKUP(B4,[2]A!B$1:AD$48,29,0),IFERROR(VLOOKUP(B4,[2]B!B$1:AD$51,29,0),VLOOKUP(B4,[2]C!B$1:AD$52,29,0)))","v":0},{"$f":"IFERROR(VLOOKUP(B4,[2]A!B$1:AE$48,30,0),IFERROR(VLOOKUP(B4,[2]B!B$1:AE$51,30,0),VLOOKUP(B4,[2]C!B$1:AE$52,30,0)))","v":3},{"$f":"IFERROR(VLOOKUP(B4,[2]A!B$1:AF$48,31,0),IFERROR(VLOOKUP(B4,[2]B!B$1:AF$51,31,0),VLOOKUP(B4,[2]C!B$1:AF$52,31,0)))","v":4},{"$f":"IFERROR(VLOOKUP(B4,[2]A!B$1:AH$48,33,0),IFERROR(VLOOKUP(B4,[2]B!B$1:AH$51,33,0),VLOOKUP(B4,[2]C!$B$1:$AH$52,33,0)))","v":0},{"$f":"IFERROR(VLOOKUP(B4,[3]A!B$1:S$48,18,0),IFERROR(VLOOKUP(B4,[3]B!B$1:Q$51,16,0),VLOOKUP(B4,[3]C!B$1:Q$52,16,0)))","v":14},{"$f":"IFERROR(VLOOKUP(B4,[3]A!B$1:T$48,19,0),IFERROR(VLOOKUP(B4,[3]B!B$1:R$51,17,0),VLOOKUP(B4,[3]C!B$1:R$52,17,0)))","v":16},{"$f":"IFERROR(VLOOKUP(B4,[3]A!B$1:V$48,21,0),IFERROR(VLOOKUP(B4,[3]B!B$1:T$51,19,0),VLOOKUP(B4,[3]C!B$1:T$52,19,0)))","v":0},{"$f":"IFERROR(VLOOKUP(B4,[3]A!B$1:W$48,22,0),IFERROR(VLOOKUP(B4,[3]B!B$1:U$51,20,0),VLOOKUP(B4,[3]C!B$1:U$52,20,0)))","v":2},{"$f":"IFERROR(VLOOKUP(B4,[3]A!B$1:X$48,23,0),IFERROR(VLOOKUP(B4,[3]B!B$1:V$51,21,0),VLOOKUP(B4,[3]C!B$1:V$52,21,0)))","v":3},0,{"$f":"IFERROR(VLOOKUP(B4,[4]A!B$1:AA$48,26,0),IFERROR(VLOOKUP(B4,[4]B!B$1:AA$51,26,0),VLOOKUP(B4,[4]C!B$1:AA$52,26,0)))","v":15},{"$f":"IFERROR(VLOOKUP(B4,[4]A!B$1:AB$48,27,0),IFERROR(VLOOKUP(B4,[4]B!B$1:AB$51,27,0),VLOOKUP(B4,[4]C!B$1:AB$52,27,0)))","v":17},{"$f":"IFERROR(VLOOKUP(B4,[4]A!B$1:AD$48,29,0),IFERROR(VLOOKUP(B4,[4]B!B$1:AD$51,29,0),VLOOKUP(B4,[4]C!B$1:AD$52,29,0)))","v":0},{"$f":"IFERROR(VLOOKUP(B4,[4]A!B$1:AE$48,30,0),IFERROR(VLOOKUP(B4,[4]B!B$1:AE$51,30,0),VLOOKUP(B4,[4]C!B$1:AE$52,30,0)))","v":2},{"$f":"IFERROR(VLOOKUP(B4,[4]A!B$1:AF$48,31,0),IFERROR(VLOOKUP(B4,[4]B!B$1:AF$51,31,0),VLOOKUP(B4,[4]C!B$1:AF$52,31,0)))","v":3},{"$f":"IFERROR(VLOOKUP(B4,[4]A!B$1:AH$48,33,0),IFERROR(VLOOKUP(B4,[4]B!B$1:AH$51,33,0),VLOOKUP(B4,[4]C!B$1:AH$52,33,0)))","v":0},5,6,null,1,1,null,80,0,0,69,69,86.25,5,"A-1",8,6,19]
[4,"15BA006",{"$f":"VLOOKUP(B5,[1]A!B$1:AA$48,26,0)","v":8},{"$f":"VLOOKUP(B5,[1]A!B$1:AB$48,27,0)","v":9},{"$f":"VLOOKUP(B5,[1]A!B$1:AD$48,29,0)","v":0},{"$f":"VLOOKUP(B5,[1]A!B$1:AE$48,30,0)","v":0},{"$f":"VLOOKUP(B5,[1]A!B$1:AF$48,31,0)","v":0},{"$f":"VLOOKUP(B5,[1]A!B$1:AH$48,33,0)","v":0},{"$f":"IFERROR(VLOOKUP(B5,[2]A!B$1:AA$48,26,0),IFERROR(VLOOKUP(B5,[2]B!B$1:AA$51,26,0),VLOOKUP(B5,[2]C!B$1:AA$52,26,0)))","v":19},{"$f":"IFERROR(VLOOKUP(B5,[2]A!B$1:AB$48,27,0),IFERROR(VLOOKUP(B5,[2]B!B$1:AB$51,27,0),VLOOKUP(B5,[2]C!B$1:AB$52,27,0)))","v":21},{"$f":"IFERROR(VLOOKUP(B5,[2]A!B$1:AD$48,29,0),IFERROR(VLOOKUP(B5,[2]B!B$1:AD$51,29,0),VLOOKUP(B5,[2]C!B$1:AD$52,29,0)))","v":0},{"$f":"IFERROR(VLOOKUP(B5,[2]A!B$1:AE$48,30,0),IFERROR(VLOOKUP(B5,[2]B!B$1:AE$51,30,0),VLOOKUP(B5,[2]C!B$1:AE$52,30,0)))","v":3},{"$f":"IFERROR(VLOOKUP(B5,[2]A!B$1:AF$48,31,0),IFERROR(VLOOKUP(B5,[2]B!B$1:AF$51,31,0),VLOOKUP(B5,[2]C!B$1:AF$52,31,0)))","v":4},{"$f":"IFERROR(VLOOKUP(B5,[2]A!B$1:AH$48,33,0),IFERROR(VLOOKUP(B5,[2]B!B$1:AH$51,33,0),VLOOKUP(B5,[2]C!$B$1:$AH$52,33,0)))","v":0},{"$f":"IFERROR(VLOOKUP(B5,[3]A!B$1:S$48,18,0),IFERROR(VLOOKUP(B5,[3]B!B$1:Q$51,16,0),VLOOKUP(B5,[3]C!B$1:Q$52,16,0)))","v":14},{"$f":"IFERROR(VLOOKUP(B5,[3]A!B$1:T$48,19,0),IFERROR(VLOOKUP(B5,[3]B!B$1:R$51,17,0),VLOOKUP(B5,[3]C!B$1:R$52,17,0)))","v":16},{"$f":"IFERROR(VLOOKUP(B5,[3]A!B$1:V$48,21,0),IFERROR(VLOOKUP(B5,[3]B!B$1:T$51,19,0),VLOOKUP(B5,[3]C!B$1:T$52,19,0)))","v":0},{"$f":"IFERROR(VLOOKUP(B5,[3]A!B$1:W$48,22,0),IFERROR(VLOOKUP(B5,[3]B!B$1:U$51,20,0),VLOOKUP(B5,[3]C!B$1:U$52,20,0)))","v":2},{"$f":"IFERROR(VLOOKUP(B5,[3]A!B$1:X$48,23,0),IFERROR(VLOOKUP(B5,[3]B!B$1:V$51,21,0),VLOOKUP(B5,[3]C!B$1:V$52,21,0)))","v":3},0,{"$f":"IFERROR(VLOOKUP(B5,[4]A!B$1:AA$48,26,0),IFERROR(VLOOKUP(B5,[4]B!B$1:AA$51,26,0),VLOOKUP(B5,[4]C!B$1:AA$52,26,0)))","v":16},{"$f":"IFERROR(VLOOKUP(B5,[4]A!B$1:AB$48,27,0),IFERROR(VLOOKUP(B5,[4]B!B$1:AB$51,27,0),VLOOKUP(B5,[4]C!B$1:AB$52,27,0)))","v":17},{"$f":"IFERROR(VLOOKUP(B5,[4]A!B$1:AD$48,29,0),IFERROR(VLOOKUP(B5,[4]B!B$1:AD$51,29,0),VLOOKUP(B5,[4]C!B$1:AD$52,29,0)))","v":0},{"$f":"IFERROR(VLOOKUP(B5,[4]A!B$1:AE$48,30,0),IFERROR(VLOOKUP(B5,[4]B!B$1:AE$51,30,0),VLOOKUP(B5,[4]C!B$1:AE$52,30,0)))","v":3},{"$f":"IFERROR(VLOOKUP(B5,[4]A!B$1:AF$48,31,0),IFERROR(VLOOKUP(B5,[4]B!B$1:AF$51,31,0),VLOOKUP(B5,[4]C!B$1:AF$52,31,0)))","v":3},{"$f":"IFERROR(VLOOKUP(B5,[4]A!B$1:AH$48,33,0),IFERROR(VLOOKUP(B5,[4]B!B$1:AH$51,33,0),VLOOKUP(B5,[4]C!B$1:AH$52,33,0)))","v":0},5,6,null,1,1,null,80,0,0,71,71,88.75,5,"A-1",7,6,18]
[5,"15BA007",{"$f":"VLOOKUP(B6,[1]A!B$1:AA$48,26,0)","v":8},{"$f":"VLOOKUP(B6,[1]A!B$1:AB$48,27,0)","v":9},{"$f":"VLOOKUP(B6,[1]A!B$1:AD$48,29,0)","v":0},{"$f":"VLOOKUP(B6,[1]A!B$1:AE$48,30,0)","v":0},{"$f":"VLOOKUP(B6,[1]A!B$1:AF$48,31,0)","v":0},{"$f":"VLOOKUP(B6,[1]A!B$1:AH$48,33,0)","v":0},{"$f":"IFERROR(VLOOKUP(B6,[2]A!B$1:AA$48,26,0),IFERROR(VLOOKUP(B6,[2]B!B$1:AA$51,26,0),VLOOKUP(B6,[2]C!B$1:AA$52,26,0)))","v":20},{"$f":"IFERROR(VLOOKUP(B6,[2]A!B$1:AB$48,27,0),IFERROR(VLOOKUP(B6,[2]B!B$1:AB$51,27,0),VLOOKUP(B6,[2]C!B$1:AB$52,27,0)))","v":21},{"$f":"IFERROR(VLOOKUP(B6,[2]A!B$1:AD$48,29,0),IFERROR(VLOOKUP(B6,[2]B!B$1:AD$51,29,0),VLOOKUP(B6,[2]C!B$1:AD$52,29,0)))","v":0},{"$f":"IFERROR(VLOOKUP(B6,[2]A!B$1:AE$48,30,0),IFERROR(VLOOKUP(B6,[2]B!B$1:AE$51,30,0),VLOOKUP(B6,[2]C!B$1:AE$52,30,0)))","v":3},{"$f":"IFERROR(VLOOKUP(B6,[2]A!B$1:AF$48,31,0),IFERROR(VLOOKUP(B6,[2]B!B$1:AF$51,31,0),VLOOKUP(B6,[2]C!B$1:AF$52,31,0)))","v":4},{"$f":"IFERROR(VLOOKUP(B6,[2]A!B$1:AH$48,33,0),IFERROR(VLOOKUP(B6,[2]B!B$1:AH$51,33,0),VLOOKUP(B6,[2]C!$B$1:$AH$52,33,0)))","v":0},{"$f":"IFERROR(VLOOKUP(B6,[3]A!B$1:S$48,18,0),IFERROR(VLOOKUP(B6,[3]B!B$1:Q$51,16,0),VLOOKUP(B6,[3]C!B$1:Q$52,16,0)))","v":15},{"$f":"IFERROR(VLOOKUP(B6,[3]A!B$1:T$48,19,0),IFERROR(VLOOKUP(B6,[3]B!B$1:R$51,17,0),VLOOKUP(B6,[3]C!B$1:R$52,17,0)))","v":16},{"$f":"IFERROR(VLOOKUP(B6,[3]A!B$1:V$48,21,0),IFERROR(VLOOKUP(B6,[3]B!B$1:T$51,19,0),VLOOKUP(B6,[3]C!B$1:T$52,19,0)))","v":0},{"$f":"IFERROR(VLOOKUP(B6,[3]A!B$1:W$48,22,0),IFERROR(VLOOKUP(B6,[3]B!B$1:U$51,20,0),VLOOKUP(B6,[3]C!B$1:U$52,20,0)))","v":2},{"$f":"IFERROR(VLOOKUP(B6,[3]A!B$1:X$48,23,0),IFERROR(VLOOKUP(B6,[3]B!B$1:V$51,21,0),VLOOKUP(B6,[3]C!B$1:V$52,21,0)))","v":3},0,{"$f":"IFERROR(VLOOKUP(B6,[4]A!B$1:AA$48,26,0),IFERROR(VLOOKUP(B6,[4]B!B$1:AA$51,26,0),VLOOKUP(B6,[4]C!B$1:AA$52,26,0)))","v":16},{"$f":"IFERROR(VLOOKUP(B6,[4]A!B$1:AB$48,27,0),IFERROR(VLOOKUP(B6,[4]B!B$1:AB$51,27,0),VLOOKUP(B6,[4]C!B$1:AB$52,27,0)))","v":17},{"$f":"IFERROR(VLOOKUP(B6,[4]A!B$1:AD$48,29,0),IFERROR(VLOOKUP(B6,[4]B!B$1:AD$51,29,0),VLOOKUP(B6,[4]C!B$1:AD$52,29,0)))","v":0},{"$f":"IFERROR(VLOOKUP(B6,[4]A!B$1:AE$48,30,0),IFERROR(VLOOKUP(B6,[4]B!B$1:AE$51,30,0),VLOOKUP(B6,[4]C!B$1:AE$52,30,0)))","v":2},{"$f":"IFERROR(VLOOKUP(B6,[4]A!B$1:AF$48,31,0),IFERROR(VLOOKUP(B6,[4]B!B$1:AF$51,31,0),VLOOKUP(B6,[4]C!B$1:AF$52,31,0)))","v":3},{"$f":"IFERROR(VLOOKUP(B6,[4]A!B$1:AH$48,33,0),IFERROR(VLOOKUP(B6,[4]B!B$1:AH$51,33,0),VLOOKUP(B6,[4]C!B$1:AH$52,33,0)))","v":0},5,6,null,1,1,null,80,0,0,72,72,90,5,"A-3",9,8,22]
[6,"15BA011",{"$f":"VLOOKUP(B7,[1]A!B$1:AA$48,26,0)","v":9},{"$f":"VLOOKUP(B7,[1]A!B$1:AB$48,27,0)","v":9},{"$f":"VLOOKUP(B7,[1]A!B$1:AD$48,29,0)","v":0},{"$f":"VLOOKUP(B7,[1]A!B$1:AE$48,30,0)","v":0},{"$f":"VLOOKUP(B7,[1]A!B$1:AF$48,31,0)","v":0},{"$f":"VLOOKUP(B7,[1]A!B$1:AH$48,33,0)","v":0},{"$f":"IFERROR(VLOOKUP(B7,[2]A!B$1:AA$48,26,0),IFERROR(VLOOKUP(B7,[2]B!B$1:AA$51,26,0),VLOOKUP(B7,[2]C!B$1:AA$52,26,0)))","v":21},{"$f":"IFERROR(VLOOKUP(B7,[2]A!B$1:AB$48,27,0),IFERROR(VLOOKUP(B7,[2]B!B$1:AB$51,27,0),VLOOKUP(B7,[2]C!B$1:AB$52,27,0)))","v":21},{"$f":"IFERROR(VLOOKUP(B7,[2]A!B$1:AD$48,29,0),IFERROR(VLOOKUP(B7,[2]B!B$1:AD$51,29,0),VLOOKUP(B7,[2]C!B$1:AD$52,29,0)))","v":0},{"$f":"IFERROR(VLOOKUP(B7,[2]A!B$1:AE$48,30,0),IFERROR(VLOOKUP(B7,[2]B!B$1:AE$51,30,0),VLOOKUP(B7,[2]C!B$1:AE$52,30,0)))","v":4},{"$f":"IFERROR(VLOOKUP(B7,[2]A!B$1:AF$48,31,0),IFERROR(VLOOKUP(B7,[2]B!B$1:AF$51,31,0),VLOOKUP(B7,[2]C!B$1:AF$52,31,0)))","v":4},{"$f":"IFERROR(VLOOKUP(B7,[2]A!B$1:AH$48,33,0),IFERROR(VLOOKUP(B7,[2]B!B$1:AH$51,33,0),VLOOKUP(B7,[2]C!$B$1:$AH$52,33,0)))","v":0},{"$f":"IFERROR(VLOOKUP(B7,[3]A!B$1:S$48,18,0),IFERROR(VLOOKUP(B7,[3]B!B$1:Q$51,16,0),VLOOKUP(B7,[3]C!B$1:Q$52,16,0)))","v":15},{"$f":"IFERROR(VLOOKUP(B7,[3]A!B$1:T$48,19,0),IFERROR(VLOOKUP(B7,[3]B!B$1:R$51,17,0),VLOOKUP(B7,[3]C!B$1:R$52,17,0)))","v":16},{"$f":"IFERROR(VLOOKUP(B7,[3]A!B$1:V$48,21,0),IFERROR(VLOOKUP(B7,[3]B!B$1:T$51,19,0),VLOOKUP(B7,[3]C!B$1:T$52,19,0)))","v":0},{"$f":"IFERROR(VLOOKUP(B7,[3]A!B$1:W$48,22,0),IFERROR(VLOOKUP(B7,[3]B!B$1:U$51,20,0),VLOOKUP(B7,[3]C!B$1:U$52,20,0)))","v":3},{"$f":"IFERROR(VLOOKUP(B7,[3]A!B$1:X$48,23,0),IFERROR(VLOOKUP(B7,[3]B!B$1:V$51,21,0),VLOOKUP(B7,[3]C!B$1:V$52,21,0)))","v":3},0,{"$f":"IFERROR(VLOOKUP(B7,[4]A!B$1:AA$48,26,0),IFERROR(VLOOKUP(B7,[4]B!B$1:AA$51,26,0),VLOOKUP(B7,[4]C!B$1:AA$52,26,0)))","v":15},{"$f":"IFERROR(VLOOKUP(B7,[4]A!B$1:AB$48,27,0),IFERROR(VLOOKUP(B7,[4]B!B$1:AB$51,27,0),VLOOKUP(B7,[4]C!B$1:AB$52,27,0)))","v":17},{"$f":"IFERROR(VLOOKUP(B7,[4]A!B$1:AD$48,29,0),IFERROR(VLOOKUP(B7,[4]B!B$1:AD$51,29,0),VLOOKUP(B7,[4]C!B$1:AD$52,29,0)))","v":0},{"$f":"IFERROR(VLOOKUP(B7,[4]A!B$1:AE$48,30,0),IFERROR(VLOOKUP(B7,[4]B!B$1:AE$51,30,0),VLOOKUP(B7,[4]C!B$1:AE$52,30,0)))","v":3},{"$f":"IFERROR(VLOOKUP(B7,[4]A!B$1:AF$48,31,0),IFERROR(VLOOKUP(B7,[4]B!B$1:AF$51,31,0),VLOOKUP(B7,[4]C!B$1:AF$52,31,0)))","v":3},{"$f":"IFERROR(VLOOKUP(B7,[4]A!B$1:AH$48,33,0),IFERROR(VLOOKUP(B7,[4]B!B$1:AH$51,33,0),VLOOKUP(B7,[4]C!B$1:AH$52,33,0)))","v":0},5,6,null,1,1,null,80,0,0,76,76,95,5,"A-1",9,10,24]
[7,"15BA015",{"$f":"VLOOKUP(B8,[1]A!B$1:AA$48,26,0)","v":8},{"$f":"VLOOKUP(B8,[1]A!B$1:AB$48,27,0)","v":9},{"$f":"VLOOKUP(B8,[1]A!B$1:AD$48,29,0)","v":0},{"$f":"VLOOKUP(B8,[1]A!B$1:AE$48,30,0)","v":0},{"$f":"VLOOKUP(B8,[1]A!B$1:AF$48,31,0)","v":0},{"$f":"VLOOKUP(B8,[1]A!B$1:AH$48,33,0)","v":0},{"$f":"IFERROR(VLOOKUP(B8,[2]A!B$1:AA$48,26,0),IFERROR(VLOOKUP(B8,[2]B!B$1:AA$51,26,0),VLOOKUP(B8,[2]C!B$1:AA$52,26,0)))","v":20},{"$f":"IFERROR(VLOOKUP(B8,[2]A!B$1:AB$48,27,0),IFERROR(VLOOKUP(B8,[2]B!B$1:AB$51,27,0),VLOOKUP(B8,[2]C!B$1:AB$52,27,0)))","v":21},{"$f":"IFERROR(VLOOKUP(B8,[2]A!B$1:AD$48,29,0),IFERROR(VLOOKUP(B8,[2]B!B$1:AD$51,29,0),VLOOKUP(B8,[2]C!B$1:AD$52,29,0)))","v":0},{"$f":"IFERROR(VLOOKUP(B8,[2]A!B$1:AE$48,30,0),IFERROR(VLOOKUP(B8,[2]B!B$1:AE$51,30,0),VLOOKUP(B8,[2]C!B$1:AE$52,30,0)))","v":3},{"$f":"IFERROR(VLOOKUP(B8,[2]A!B$1:AF$48,31,0),IFERROR(VLOOKUP(B8,[2]B!B$1:AF$51,31,0),VLOOKUP(B8,[2]C!B$1:AF$52,31,0)))","v":4},{"$f":"IFERROR(VLOOKUP(B8,[2]A!B$1:AH$48,33,0),IFERROR(VLOOKUP(B8,[2]B!B$1:AH$51,33,0),VLOOKUP(B8,[2]C!$B$1:$AH$52,33,0)))","v":0},{"$f":"IFERROR(VLOOKUP(B8,[3]A!B$1:S$48,18,0),IFERROR(VLOOKUP(B8,[3]B!B$1:Q$51,16,0),VLOOKUP(B8,[3]C!B$1:Q$52,16,0)))","v":14},{"$f":"IFERROR(VLOOKUP(B8,[3]A!B$1:T$48,19,0),IFERROR(VLOOKUP(B8,[3]B!B$1:R$51,17,0),VLOOKUP(B8,[3]C!B$1:R$52,17,0)))","v":16},{"$f":"IFERROR(VLOOKUP(B8,[3]A!B$1:V$48,21,0),IFERROR(VLOOKUP(B8,[3]B!B$1:T$51,19,0),VLOOKUP(B8,[3]C!B$1:T$52,19,0)))","v":0},{"$f":"IFERROR(VLOOKUP(B8,[3]A!B$1:W$48,22,0),IFERROR(VLOOKUP(B8,[3]B!B$1:U$51,20,0),VLOOKUP(B8,[3]C!B$1:U$52,20,0)))","v":2},{"$f":"IFERROR(VLOOKUP(B8,[3]A!B$1:X$48,23,0),IFERROR(VLOOKUP(B8,[3]B!B$1:V$51,21,0),VLOOKUP(B8,[3]C!B$1:V$52,21,0)))","v":3},0,{"$f":"IFERROR(VLOOKUP(B8,[4]A!B$1:AA$48,26,0),IFERROR(VLOOKUP(B8,[4]B!B$1:AA$51,26,0),VLOOKUP(B8,[4]C!B$1:AA$52,26,0)))","v":15},{"$f":"IFERROR(VLOOKUP(B8,[4]A!B$1:AB$48,27,0),IFERROR(VLOOKUP(B8,[4]B!B$1:AB$51,27,0),VLOOKUP(B8,[4]C!B$1:AB$52,27,0)))","v":17},{"$f":"IFERROR(VLOOKUP(B8,[4]A!B$1:AD$48,29,0),IFERROR(VLOOKUP(B8,[4]B!B$1:AD$51,29,0),VLOOKUP(B8,[4]C!B$1:AD$52,29,0)))","v":0},{"$f":"IFERROR(VLOOKUP(B8,[4]A!B$1:AE$48,30,0),IFERROR(VLOOKUP(B8,[4]B!B$1:AE$51,30,0),VLOOKUP(B8,[4]C!B$1:AE$52,30,0)))","v":2},{"$f":"IFERROR(VLOOKUP(B8,[4]A!B$1:AF$48,31,0),IFERROR(VLOOKUP(B8,[4]B!B$1:AF$51,31,0),VLOOKUP(B8,[4]C!B$1:AF$52,31,0)))","v":3},{"$f":"IFERROR(VLOOKUP(B8,[4]A!B$1:AH$48,33,0),IFERROR(VLOOKUP(B8,[4]B!B$1:AH$51,33,0),VLOOKUP(B8,[4]C!B$1:AH$52,33,0)))","v":0},5,6,null,1,1,null,80,0,0,70,70,87.5,5,"A-1",9,9,23]
[8,"15BA019",{"$f":"VLOOKUP(B9,[1]A!B$1:AA$48,26,0)","v":9},{"$f":"VLOOKUP(B9,[1]A!B$1:AB$48,27,0)","v":9},{"$f":"VLOOKUP(B9,[1]A!B$1:AD$48,29,0)","v":0},{"$f":"VLOOKUP(B9,[1]A!B$1:AE$48,30,0)","v":0},{"$f":"VLOOKUP(B9,[1]A!B$1:AF$48,31,0)","v":0},{"$f":"VLOOKUP(B9,[1]A!B$1:AH$48,33,0)","v":0},{"$f":"IFERROR(VLOOKUP(B9,[2]A!B$1:AA$48,26,0),IFERROR(VLOOKUP(B9,[2]B!B$1:AA$51,26,0),VLOOKUP(B9,[2]C!B$1:AA$52,26,0)))","v":21},{"$f":"IFERROR(VLOOKUP(B9,[2]A!B$1:AB$48,27,0),IFERROR(VLOOKUP(B9,[2]B!B$1:AB$51,27,0),VLOOKUP(B9,[2]C!B$1:AB$52,27,0)))","v":21},{"$f":"IFERROR(VLOOKUP(B9,[2]A!B$1:AD$48,29,0),IFERROR(VLOOKUP(B9,[2]B!B$1:AD$51,29,0),VLOOKUP(B9,[2]C!B$1:AD$52,29,0)))","v":0},{"$f":"IFERROR(VLOOKUP(B9,[2]A!B$1:AE$48,30,0),IFERROR(VLOOKUP(B9,[2]B!B$1:AE$51,30,0),VLOOKUP(B9,[2]C!B$1:AE$52,30,0)))","v":4},{"$f":"IFERROR(VLOOKUP(B9,[2]A!B$1:AF$48,31,0),IFERROR(VLOOKUP(B9,[2]B!B$1:AF$51,31,0),VLOOKUP(B9,[2]C!B$1:AF$52,31,0)))","v":4},{"$f":"IFERROR(VLOOKUP(B9,[2]A!B$1:AH$48,33,0),IFERROR(VLOOKUP(B9,[2]B!B$1:AH$51,33,0),VLOOKUP(B9,[2]C!$B$1:$AH$52,33,0)))","v":0},{"$f":"IFERROR(VLOOKUP(B9,[3]A!B$1:S$48,18,0),IFERROR(VLOOKUP(B9,[3]B!B$1:Q$51,16,0),VLOOKUP(B9,[3]C!B$1:Q$52,16,0)))","v":16},{"$f":"IFERROR(VLOOKUP(B9,[3]A!B$1:T$48,19,0),IFERROR(VLOOKUP(B9,[3]B!B$1:R$51,17,0),VLOOKUP(B9,[3]C!B$1:R$52,17,0)))","v":16},{"$f":"IFERROR(VLOOKUP(B9,[3]A!B$1:V$48,21,0),IFERROR(VLOOKUP(B9,[3]B!B$1:T$51,19,0),VLOOKUP(B9,[3]C!B$1:T$52,19,0)))","v":0},{"$f":"IFERROR(VLOOKUP(B9,[3]A!B$1:W$48,22,0),IFERROR(VLOOKUP(B9,[3]B!B$1:U$51,20,0),VLOOKUP(B9,[3]C!B$1:U$52,20,0)))","v":3},{"$f":"IFERROR(VLOOKUP(B9,[3]A!B$1:X$48,23,0),IFERROR(VLOOKUP(B9,[3]B!B$1:V$51,21,0),VLOOKUP(B9,[3]C!B$1:V$52,21,0)))","v":3},0,{"$f":"IFERROR(VLOOKUP(B9,[4]A!B$1:AA$48,26,0),IFERROR(VLOOKUP(B9,[4]B!B$1:AA$51,26,0),VLOOKUP(B9,[4]C!B$1:AA$52,26,0)))","v":17},{"$f":"IFERROR(VLOOKUP(B9,[4]A!B$1:AB$48,27,0),IFERROR(VLOOKUP(B9,[4]B!B$1:AB$51,27,0),VLOOKUP(B9,[4]C!B$1:AB$52,27,0)))","v":17},{"$f":"IFERROR(VLOOKUP(B9,[4]A!B$1:AD$48,29,0),IFERROR(VLOOKUP(B9,[4]B!B$1:AD$51,29,0),VLOOKUP(B9,[4]C!B$1:AD$52,29,0)))","v":0},{"$f":"IFERROR(VLOOKUP(B9,[4]A!B$1:AE$48,30,0),IFERROR(VLOOKUP(B9,[4]B!B$1:AE$51,30,0),VLOOKUP(B9,[4]C!B$1:AE$52,30,0)))","v":3},{"$f":"IFERROR(VLOOKUP(B9,[4]A!B$1:AF$48,31,0),IFERROR(VLOOKUP(B9,[4]B!B$1:AF$51,31,0),VLOOKUP(B9,[4]C!B$1:AF$52,31,0)))","v":3},{"$f":"IFERROR(VLOOKUP(B9,[4]A!B$1:AH$48,33,0),IFERROR(VLOOKUP(B9,[4]B!B$1:AH$51,33,0),VLOOKUP(B9,[4]C!B$1:AH$52,33,0)))","v":0},6,6,null,1,1,null,80,0,0,80,80,100,5,"A-1",10,10,25]
[9,"15BA023",{"$f":"VLOOKUP(B10,[1]A!B$1:AA$48,26,0)","v":9},{"$f":"VLOOKUP(B10,[1]A!B$1:AB$48,27,0)","v":9},{"$f":"VLOOKUP(B10,[1]A!B$1:AD$48,29,0)","v":0},{"$f":"VLOOKUP(B10,[1]A!B$1:AE$48,30,0)","v":0},{"$f":"VLOOKUP(B10,[1]A!B$1:AF$48,31,0)","v":0},{"$f":"VLOOKUP(B10,[1]A!B$1:AH$48,33,0)","v":0},{"$f":"IFERROR(VLOOKUP(B10,[2]A!B$1:AA$48,26,0),IFERROR(VLOOKUP(B10,[2]B!B$1:AA$51,26,0),VLOOKUP(B10,[2]C!B$1:AA$52,26,0)))","v":21},{"$f":"IFERROR(VLOOKUP(B10,[2]A!B$1:AB$48,27,0),IFERROR(VLOOKUP(B10,[2]B!B$1:AB$51,27,0),VLOOKUP(B10,[2]C!B$1:AB$52,27,0)))","v":21},{"$f":"IFERROR(VLOOKUP(B10,[2]A!B$1:AD$48,29,0),IFERROR(VLOOKUP(B10,[2]B!B$1:AD$51,29,0),VLOOKUP(B10,[2]C!B$1:AD$52,29,0)))","v":0},{"$f":"IFERROR(VLOOKUP(B10,[2]A!B$1:AE$48,30,0),IFERROR(VLOOKUP(B10,[2]B!B$1:AE$51,30,0),VLOOKUP(B10,[2]C!B$1:AE$52,30,0)))","v":4},{"$f":"IFERROR(VLOOKUP(B10,[2]A!B$1:AF$48,31,0),IFERROR(VLOOKUP(B10,[2]B!B$1:AF$51,31,0),VLOOKUP(B10,[2]C!B$1:AF$52,31,0)))","v":4},{"$f":"IFERROR(VLOOKUP(B10,[2]A!B$1:AH$48,33,0),IFERROR(VLOOKUP(B10,[2]B!B$1:AH$51,33,0),VLOOKUP(B10,[2]C!$B$1:$AH$52,33,0)))","v":0},{"$f":"IFERROR(VLOOKUP(B10,[3]A!B$1:S$48,18,0),IFERROR(VLOOKUP(B10,[3]B!B$1:Q$51,16,0),VLOOKUP(B10,[3]C!B$1:Q$52,16,0)))","v":16},{"$f":"IFERROR(VLOOKUP(B10,[3]A!B$1:T$48,19,0),IFERROR(VLOOKUP(B10,[3]B!B$1:R$51,17,0),VLOOKUP(B10,[3]C!B$1:R$52,17,0)))","v":16},{"$f":"IFERROR(VLOOKUP(B10,[3]A!B$1:V$48,21,0),IFERROR(VLOOKUP(B10,[3]B!B$1:T$51,19,0),VLOOKUP(B10,[3]C!B$1:T$52,19,0)))","v":0},{"$f":"IFERROR(VLOOKUP(B10,[3]A!B$1:W$48,22,0),IFERROR(VLOOKUP(B10,[3]B!B$1:U$51,20,0),VLOOKUP(B10,[3]C!B$1:U$52,20,0)))","v":3},{"$f":"IFERROR(VLOOKUP(B10,[3]A!B$1:X$48,23,0),IFERROR(VLOOKUP(B10,[3]B!B$1:V$51,21,0),VLOOKUP(B10,[3]C!B$1:V$52,21,0)))","v":3},0,{"$f":"IFERROR(VLOOKUP(B10,[4]A!B$1:AA$48,26,0),IFERROR(VLOOKUP(B10,[4]B!B$1:AA$51,26,0),VLOOKUP(B10,[4]C!B$1:AA$52,26,0)))","v":17},{"$f":"IFERROR(VLOOKUP(B10,[4]A!B$1:AB$48,27,0),IFERROR(VLOOKUP(B10,[4]B!B$1:AB$51,27,0),VLOOKUP(B10,[4]C!B$1:AB$52,27,0)))","v":17},{"$f":"IFERROR(VLOOKUP(B10,[4]A!B$1:AD$48,29,0),IFERROR(VLOOKUP(B10,[4]B!B$1:AD$51,29,0),VLOOKUP(B10,[4]C!B$1:AD$52,29,0)))","v":0},{"$f":"IFERROR(VLOOKUP(B10,[4]A!B$1:AE$48,30,0),IFERROR(VLOOKUP(B10,[4]B!B$1:AE$51,30,0),VLOOKUP(B10,[4]C!B$1:AE$52,30,0)))","v":3},{"$f":"IFERROR(VLOOKUP(B10,[4]A!B$1:AF$48,31,0),IFERROR(VLOOKUP(B10,[4]B!B$1:AF$51,31,0),VLOOKUP(B10,[4]C!B$1:AF$52,31,0)))","v":3},{"$f":"IFERROR(VLOOKUP(B10,[4]A!B$1:AH$48,33,0),IFERROR(VLOOKUP(B10,[4]B!B$1:AH$51,33,0),VLOOKUP(B10,[4]C!B$1:AH$52,33,0)))","v":0},5,6,null,1,1,null,80,0,0,79,79,98.75,5,"A-1",9,6,20]
[10,"15BA026",{"$f":"VLOOKUP(B11,[1]A!B$1:AA$48,26,0)","v":8},{"$f":"VLOOKUP(B11,[1]A!B$1:AB$48,27,0)","v":9},{"$f":"VLOOKUP(B11,[1]A!B$1:AD$48,29,0)","v":0},{"$f":"VLOOKUP(B11,[1]A!B$1:AE$48,30,0)","v":0},{"$f":"VLOOKUP(B11,[1]A!B$1:AF$48,31,0)","v":0},{"$f":"VLOOKUP(B11,[1]A!B$1:AH$48,33,0)","v":0},{"$f":"IFERROR(VLOOKUP(B11,[2]A!B$1:AA$48,26,0),IFERROR(VLOOKUP(B11,[2]B!B$1:AA$51,26,0),VLOOKUP(B11,[2]C!B$1:AA$52,26,0)))","v":20},{"$f":"IFERROR(VLOOKUP(B11,[2]A!B$1:AB$48,27,0),IFERROR(VLOOKUP(B11,[2]B!B$1:AB$51,27,0),VLOOKUP(B11,[2]C!B$1:AB$52,27,0)))","v":21},{"$f":"IFERROR(VLOOKUP(B11,[2]A!B$1:AD$48,29,0),IFERROR(VLOOKUP(B11,[2]B!B$1:AD$51,29,0),VLOOKUP(B11,[2]C!B$1:AD$52,29,0)))","v":0},{"$f":"IFERROR(VLOOKUP(B11,[2]A!B$1:AE$48,30,0),IFERROR(VLOOKUP(B11,[2]B!B$1:AE$51,30,0),VLOOKUP(B11,[2]C!B$1:AE$52,30,0)))","v":3},{"$f":"IFERROR(VLOOKUP(B11,[2]A!B$1:AF$48,31,0),IFERROR(VLOOKUP(B11,[2]B!B$1:AF$51,31,0),VLOOKUP(B11,[2]C!B$1:AF$52,31,0)))","v":4},{"$f":"IFERROR(VLOOKUP(B11,[2]A!B$1:AH$48,33,0),IFERROR(VLOOKUP(B11,[2]B!B$1:AH$51,33,0),VLOOKUP(B11,[2]C!$B$1:$AH$52,33,0)))","v":0},{"$f":"IFERROR(VLOOKUP(B11,[3]A!B$1:S$48,18,0),IFERROR(VLOOKUP(B11,[3]B!B$1:Q$51,16,0),VLOOKUP(B11,[3]C!B$1:Q$52,16,0)))","v":15},{"$f":"IFERROR(VLOOKUP(B11,[3]A!B$1:T$48,19,0),IFERROR(VLOOKUP(B11,[3]B!B$1:R$51,17,0),VLOOKUP(B11,[3]C!B$1:R$52,17,0)))","v":16},{"$f":"IFERROR(VLOOKUP(B11,[3]A!B$1:V$48,21,0),IFERROR(VLOOKUP(B11,[3]B!B$1:T$51,19,0),VLOOKUP(B11,[3]C!B$1:T$52,19,0)))","v":0},{"$f":"IFERROR(VLOOKUP(B11,[3]A!B$1:W$48,22,0),IFERROR(VLOOKUP(B11,[3]B!B$1:U$51,20,0),VLOOKUP(B11,[3]C!B$1:U$52,20,0)))","v":2},{"$f":"IFERROR(VLOOKUP(B11,[3]A!B$1:X$48,23,0),IFERROR(VLOOKUP(B11,[3]B!B$1:V$51,21,0),VLOOKUP(B11,[3]C!B$1:V$52,21,0)))","v":3},0,{"$f":"IFERROR(VLOOKUP(B11,[4]A!B$1:AA$48,26,0),IFERROR(VLOOKUP(B11,[4]B!B$1:AA$51,26,0),VLOOKUP(B11,[4]C!B$1:AA$52,26,0)))","v":15},{"$f":"IFERROR(VLOOKUP(B11,[4]A!B$1:AB$48,27,0),IFERROR(VLOOKUP(B11,[4]B!B$1:AB$51,27,0),VLOOKUP(B11,[4]C!B$1:AB$52,27,0)))","v":17},{"$f":"IFERROR(VLOOKUP(B11,[4]A!B$1:AD$48,29,0),IFERROR(VLOOKUP(B11,[4]B!B$1:AD$51,29,0),VLOOKUP(B11,[4]C!B$1:AD$52,29,0)))","v":0},{"$f":"IFERROR(VLOOKUP(B11,[4]A!B$1:AE$48,30,0),IFERROR(VLOOKUP(B11,[4]B!B$1:AE$51,30,0),VLOOKUP(B11,[4]C!B$1:AE$52,30,0)))","v":2},{"$f":"IFERROR(VLOOKUP(B11,[4]A!B$1:AF$48,31,0),IFERROR(VLOOKUP(B11,[4]B!B$1:AF$51,31,0),VLOOKUP(B11,[4]C!B$1:AF$52,31,0)))","v":3},{"$f":"IFERROR(VLOOKUP(B11,[4]A!B$1:AH$48,33,0),IFERROR(VLOOKUP(B11,[4]B!B$1:AH$51,33,0),VLOOKUP(B11,[4]C!B$1:AH$52,33,0)))","v":0},5,6,null,1,1,null,80,0,0,71,71,88.75,5,"A-3",8,9,22]
[11,"15BA033",{"$f":"VLOOKUP(B12,[1]A!B$1:AA$48,26,0)","v":8},{"$f":"VLOOKUP(B12,[1]A!B$1:AB$48,27,0)","v":9},{"$f":"VLOOKUP(B12,[1]A!B$1:AD$48,29,0)","v":0},{"$f":"VLOOKUP(B12,[1]A!B$1:AE$48,30,0)","v":0},{"$f":"VLOOKUP(B12,[1]A!B$1:AF$48,31,0)","v":0},{"$f":"VLOOKUP(B12,[1]A!B$1:AH$48,33,0)","v":0},{"$f":"IFERROR(VLOOKUP(B12,[2]A!B$1:AA$48,26,0),IFERROR(VLOOKUP(B12,[2]B!B$1:AA$51,26,0),VLOOKUP(B12,[2]C!B$1:AA$52,26,0)))","v":19},{"$f":"IFERROR(VLOOKUP(B12,[2]A!B$1:AB$48,27,0),IFERROR(VLOOKUP(B12,[2]B!B$1:AB$51,27,0),VLOOKUP(B12,[2]C!B$1:AB$52,27,0)))","v":21},{"$f":"IFERROR(VLOOKUP(B12,[2]A!B$1:AD$48,29,0),IFERROR(VLOOKUP(B12,[2]B!B$1:AD$51,29,0),VLOOKUP(B12,[2]C!B$1:AD$52,29,0)))","v":0},{"$f":"IFERROR(VLOOKUP(B12,[2]A!B$1:AE$48,30,0),IFERROR(VLOOKUP(B12,[2]B!B$1:AE$51,30,0),VLOOKUP(B12,[2]C!B$1:AE$52,30,0)))","v":3},{"$f":"IFERROR(VLOOKUP(B12,[2]A!B$1:AF$48,31,0),IFERROR(VLOOKUP(B12,[2]B!B$1:AF$51,31,0),VLOOKUP(B12,[2]C!B$1:AF$52,31,0)))","v":4},{"$f":"IFERROR(VLOOKUP(B12,[2]A!B$1:AH$48,33,0),IFERROR(VLOOKUP(B12,[2]B!B$1:AH$51,33,0),VLOOKUP(B12,[2]C!$B$1:$AH$52,33,0)))","v":0},{"$f":"IFERROR(VLOOKUP(B12,[3]A!B$1:S$48,18,0),IFERROR(VLOOKUP(B12,[3]B!B$1:Q$51,16,0),VLOOKUP(B12,[3]C!B$1:Q$52,16,0)))","v":14},{"$f":"IFERROR(VLOOKUP(B12,[3]A!B$1:T$48,19,0),IFERROR(VLOOKUP(B12,[3]B!B$1:R$51,17,0),VLOOKUP(B12,[3]C!B$1:R$52,17,0)))","v":16},{"$f":"IFERROR(VLOOKUP(B12,[3]A!B$1:V$48,21,0),IFERROR(VLOOKUP(B12,[3]B!B$1:T$51,19,0),VLOOKUP(B12,[3]C!B$1:T$52,19,0)))","v":0},{"$f":"IFERROR(VLOOKUP(B12,[3]A!B$1:W$48,22,0),IFERROR(VLOOKUP(B12,[3]B!B$1:U$51,20,0),VLOOKUP(B12,[3]C!B$1:U$52,20,0)))","v":2},{"$f":"IFERROR(VLOOKUP(B12,[3]A!B$1:X$48,23,0),IFERROR(VLOOKUP(B12,[3]B!B$1:V$51,21,0),VLOOKUP(B12,[3]C!B$1:V$52,21,0)))","v":3},0,{"$f":"IFERROR(VLOOKUP(B12,[4]A!B$1:AA$48,26,0),IFERROR(VLOOKUP(B12,[4]B!B$1:AA$51,26,0),VLOOKUP(B12,[4]C!B$1:AA$52,26,0)))","v":15},{"$f":"IFERROR(VLOOKUP(B12,[4]A!B$1:AB$48,27,0),IFERROR(VLOOKUP(B12,[4]B!B$1:AB$51,27,0),VLOOKUP(B12,[4]C!B$1:AB$52,27,0)))","v":17},{"$f":"IFERROR(VLOOKUP(B12,[4]A!B$1:AD$48,29,0),IFERROR(VLOOKUP(B12,[4]B!B$1:AD$51,29,0),VLOOKUP(B12,[4]C!B$1:AD$52,29,0)))","v":0},{"$f":"IFERROR(VLOOKUP(B12,[4]A!B$1:AE$48,30,0),IFERROR(VLOOKUP(B12,[4]B!B$1:AE$51,30,0),VLOOKUP(B12,[4]C!B$1:AE$52,30,0)))","v":2},{"$f":"IFERROR(VLOOKUP(B12,[4]A!B$1:AF$48,31,0),IFERROR(VLOOKUP(B12,[4]B!B$1:AF$51,31,0),VLOOKUP(B12,[4]C!B$1:AF$52,31,0)))","v":3},{"$f":"IFERROR(VLOOKUP(B12,[4]A!B$1:AH$48,33,0),IFERROR(VLOOKUP(B12,[4]B!B$1:AH$51,33,0),VLOOKUP(B12,[4]C!B$1:AH$52,33,0)))","v":0},5,6,null,1,1,null,80,0,0,69,69,86.25,5,"A-1",7,6,18]
[12,"15BA035",{"$f":"VLOOKUP(B13,[1]A!B$1:AA$48,26,0)","v":9},{"$f":"VLOOKUP(B13,[1]A!B$1:AB$48,27,0)","v":9},{"$f":"VLOOKUP(B13,[1]A!B$1:AD$48,29,0)","v":0},{"$f":"VLOOKUP(B13,[1]A!B$1:AE$48,30,0)","v":0},{"$f":"VLOOKUP(B13,[1]A!B$1:AF$48,31,0)","v":0},{"$f":"VLOOKUP(B13,[1]A!B$1:AH$48,33,0)","v":0},{"$f":"IFERROR(VLOOKUP(B13,[2]A!B$1:AA$48,26,0),IFERROR(VLOOKUP(B13,[2]B!B$1:AA$51,26,0),VLOOKUP(B13,[2]C!B$1:AA$52,26,0)))","v":21},{"$f":"IFERROR(VLOOKUP(B13,[2]A!B$1:AB$48,27,0),IFERROR(VLOOKUP(B13,[2]B!B$1:AB$51,27,0),VLOOKUP(B13,[2]C!B$1:AB$52,27,0)))","v":21},{"$f":"IFERROR(VLOOKUP(B13,[2]A!B$1:AD$48,29,0),IFERROR(VLOOKUP(B13,[2]B!B$1:AD$51,29,0),VLOOKUP(B13,[2]C!B$1:AD$52,29,0)))","v":0},{"$f":"IFERROR(VLOOKUP(B13,[2]A!B$1:AE$48,30,0),IFERROR(VLOOKUP(B13,[2]B!B$1:AE$51,30,0),VLOOKUP(B13,[2]C!B$1:AE$52,30,0)))","v":4},{"$f":"IFERROR(VLOOKUP(B13,[2]A!B$1:AF$48,31,0),IFERROR(VLOOKUP(B13,[2]B!B$1:AF$51,31,0),VLOOKUP(B13,[2]C!B$1:AF$52,31,0)))","v":4},{"$f":"IFERROR(VLOOKUP(B13,[2]A!B$1:AH$48,33,0),IFERROR(VLOOKUP(B13,[2]B!B$1:AH$51,33,0),VLOOKUP(B13,[2]C!$B$1:$AH$52,33,0)))","v":0},{"$f":"IFERROR(VLOOKUP(B13,[3]A!B$1:S$48,18,0),IFERROR(VLOOKUP(B13,[3]B!B$1:Q$51,16,0),VLOOKUP(B13,[3]C!B$1:Q$52,16,0)))","v":16},{"$f":"IFERROR(VLOOKUP(B13,[3]A!B$1:T$48,19,0),IFERROR(VLOOKUP(B13,[3]B!B$1:R$51,17,0),VLOOKUP(B13,[3]C!B$1:R$52,17,0)))","v":16},{"$f":"IFERROR(VLOOKUP(B13,[3]A!B$1:V$48,21,0),IFERROR(VLOOKUP(B13,[3]B!B$1:T$51,19,0),VLOOKUP(B13,[3]C!B$1:T$52,19,0)))","v":0},{"$f":"IFERROR(VLOOKUP(B13,[3]A!B$1:W$48,22,0),IFERROR(VLOOKUP(B13,[3]B!B$1:U$51,20,0),VLOOKUP(B13,[3]C!B$1:U$52,20,0)))","v":3},{"$f":"IFERROR(VLOOKUP(B13,[3]A!B$1:X$48,23,0),IFERROR(VLOOKUP(B13,[3]B!B$1:V$51,21,0),VLOOKUP(B13,[3]C!B$1:V$52,21,0)))","v":3},0,{"$f":"IFERROR(VLOOKUP(B13,[4]A!B$1:AA$48,26,0),IFERROR(VLOOKUP(B13,[4]B!B$1:AA$51,26,0),VLOOKUP(B13,[4]C!B$1:AA$52,26,0)))","v":17},{"$f":"IFERROR(VLOOKUP(B13,[4]A!B$1:AB$48,27,0),IFERROR(VLOOKUP(B13,[4]B!B$1:AB$51,27,0),VLOOKUP(B13,[4]C!B$1:AB$52,27,0)))","v":17},{"$f":"IFERROR(VLOOKUP(B13,[4]A!B$1:AD$48,29,0),IFERROR(VLOOKUP(B13,[4]B!B$1:AD$51,29,0),VLOOKUP(B13,[4]C!B$1:AD$52,29,0)))","v":0},{"$f":"IFERROR(VLOOKUP(B13,[4]A!B$1:AE$48,30,0),IFERROR(VLOOKUP(B13,[4]B!B$1:AE$51,30,0),VLOOKUP(B13,[4]C!B$1:AE$52,30,0)))","v":3},{"$f":"IFERROR(VLOOKUP(B13,[4]A!B$1:AF$48,31,0),IFERROR(VLOOKUP(B13,[4]B!B$1:AF$51,31,0),VLOOKUP(B13,[4]C!B$1:AF$52,31,0)))","v":3},{"$f":"IFERROR(VLOOKUP(B13,[4]A!B$1:AH$48,33,0),IFERROR(VLOOKUP(B13,[4]B!B$1:AH$51,33,0),VLOOKUP(B13,[4]C!B$1:AH$52,33,0)))","v":0},6,6,null,1,1,null,80,0,0,80,80,100,5,"A-3",10,10,25]
[13,"15BA038",{"$f":"VLOOKUP(B14,[1]A!B$1:AA$48,26,0)","v":8},{"$f":"VLOOKUP(B14,[1]A!B$1:AB$48,27,0)","v":9},{"$f":"VLOOKUP(B14,[1]A!B$1:AD$48,29,0)","v":0},{"$f":"VLOOKUP(B14,[1]A!B$1:AE$48,30,0)","v":0},{"$f":"VLOOKUP(B14,[1]A!B$1:AF$48,31,0)","v":0},{"$f":"VLOOKUP(B14,[1]A!B$1:AH$48,33,0)","v":0},{"$f":"IFERROR(VLOOKUP(B14,[2]A!B$1:AA$48,26,0),IFERROR(VLOOKUP(B14,[2]B!B$1:AA$51,26,0),VLOOKUP(B14,[2]C!B$1:AA$52,26,0)))","v":19},{"$f":"IFERROR(VLOOKUP(B14,[2]A!B$1:AB$48,27,0),IFERROR(VLOOKUP(B14,[2]B!B$1:AB$51,27,0),VLOOKUP(B14,[2]C!B$1:AB$52,27,0)))","v":21},{"$f":"IFERROR(VLOOKUP(B14,[2]A!B$1:AD$48,29,0),IFERROR(VLOOKUP(B14,[2]B!B$1:AD$51,29,0),VLOOKUP(B14,[2]C!B$1:AD$52,29,0)))","v":0},{"$f":"IFERROR(VLOOKUP(B14,[2]A!B$1:AE$48,30,0),IFERROR(VLOOKUP(B14,[2]B!B$1:AE$51,30,0),VLOOKUP(B14,[2]C!B$1:AE$52,30,0)))","v":3},{"$f":"IFERROR(VLOOKUP(B14,[2]A!B$1:AF$48,31,0),IFERROR(VLOOKUP(B14,[2]B!B$1:AF$51,31,0),VLOOKUP(B14,[2]C!B$1:AF$52,31,0)))","v":4},{"$f":"IFERROR(VLOOKUP(B14,[2]A!B$1:AH$48,33,0),IFERROR(VLOOKUP(B14,[2]B!B$1:AH$51,33,0),VLOOKUP(B14,[2]C!$B$1:$AH$52,33,0)))","v":0},{"$f":"IFERROR(VLOOKUP(B14,[3]A!B$1:S$48,18,0),IFERROR(VLOOKUP(B14,[3]B!B$1:Q$51,16,0),VLOOKUP(B14,[3]C!B$1:Q$52,16,0)))","v":14},{"$f":"IFERROR(VLOOKUP(B14,[3]A!B$1:T$48,19,0),IFERROR(VLOOKUP(B14,[3]B!B$1:R$51,17,0),VLOOKUP(B14,[3]C!B$1:R$52,17,0)))","v":16},{"$f":"IFERROR(VLOOKUP(B14,[3]A!B$1:V$48,21,0),IFERROR(VLOOKUP(B14,[3]B!B$1:T$51,19,0),VLOOKUP(B14,[3]C!B$1:T$52,19,0)))","v":0},{"$f":"IFERROR(VLOOKUP(B14,[3]A!B$1:W$48,22,0),IFERROR(VLOOKUP(B14,[3]B!B$1:U$51,20,0),VLOOKUP(B14,[3]C!B$1:U$52,20,0)))","v":2},{"$f":"IFERROR(VLOOKUP(B14,[3]A!B$1:X$48,23,0),IFERROR(VLOOKUP(B14,[3]B!B$1:V$51,21,0),VLOOKUP(B14,[3]C!B$1:V$52,21,0)))","v":3},0,{"$f":"IFERROR(VLOOKUP(B14,[4]A!B$1:AA$48,26,0),IFERROR(VLOOKUP(B14,[4]B!B$1:AA$51,26,0),VLOOKUP(B14,[4]C!B$1:AA$52,26,0)))","v":15},{"$f":"IFERROR(VLOOKUP(B14,[4]A!B$1:AB$48,27,0),IFERROR(VLOOKUP(B14,[4]B!B$1:AB$51,27,0),VLOOKUP(B14,[4]C!B$1:AB$52,27,0)))","v":17},{"$f":"IFERROR(VLOOKUP(B14,[4]A!B$1:AD$48,29,0),IFERROR(VLOOKUP(B14,[4]B!B$1:AD$51,29,0),VLOOKUP(B14,[4]C!B$1:AD$52,29,0)))","v":0},{"$f":"IFERROR(VLOOKUP(B14,[4]A!B$1:AE$48,30,0),IFERROR(VLOOKUP(B14,[4]B!B$1:AE$51,30,0),VLOOKUP(B14,[4]C!B$1:AE$52,30,0)))","v":2},{"$f":"IFERROR(VLOOKUP(B14,[4]A!B$1:AF$48,31,0),IFERROR(VLOOKUP(B14,[4]B!B$1:AF$51,31,0),VLOOKUP(B14,[4]C!B$1:AF$52,31,0)))","v":3},{"$f":"IFERROR(VLOOKUP(B14,[4]A!B$1:AH$48,33,0),IFERROR(VLOOKUP(B14,[4]B!B$1:AH$51,33,0),VLOOKUP(B14,[4]C!B$1:AH$52,33,0)))","v":0},5,6,null,1,1,null,80,0,0,69,69,86.25,5,"A-1",8,8,21]
[14,"15BA042",{"$f":"VLOOKUP(B15,[1]A!B$1:AA$48,26,0)","v":8},{"$f":"VLOOKUP(B15,[1]A!B$1:AB$48,27,0)","v":9},{"$f":"VLOOKUP(B15,[1]A!B$1:AD$48,29,0)","v":0},{"$f":"VLOOKUP(B15,[1]A!B$1:AE$48,30,0)","v":0},{"$f":"VLOOKUP(B15,[1]A!B$1:AF$48,31,0)","v":0},{"$f":"VLOOKUP(B15,[1]A!B$1:AH$48,33,0)","v":0},{"$f":"IFERROR(VLOOKUP(B15,[2]A!B$1:AA$48,26,0),IFERROR(VLOOKUP(B15,[2]B!B$1:AA$51,26,0),VLOOKUP(B15,[2]C!B$1:AA$52,26,0)))","v":20},{"$f":"IFERROR(VLOOKUP(B15,[2]A!B$1:AB$48,27,0),IFERROR(VLOOKUP(B15,[2]B!B$1:AB$51,27,0),VLOOKUP(B15,[2]C!B$1:AB$52,27,0)))","v":21},{"$f":"IFERROR(VLOOKUP(B15,[2]A!B$1:AD$48,29,0),IFERROR(VLOOKUP(B15,[2]B!B$1:AD$51,29,0),VLOOKUP(B15,[2]C!B$1:AD$52,29,0)))","v":0},{"$f":"IFERROR(VLOOKUP(B15,[2]A!B$1:AE$48,30,0),IFERROR(VLOOKUP(B15,[2]B!B$1:AE$51,30,0),VLOOKUP(B15,[2]C!B$1:AE$52,30,0)))","v":3},{"$f":"IFERROR(VLOOKUP(B15,[2]A!B$1:AF$48,31,0),IFERROR(VLOOKUP(B15,[2]B!B$1:AF$51,31,0),VLOOKUP(B15,[2]C!B$1:AF$52,31,0)))","v":4},{"$f":"IFERROR(VLOOKUP(B15,[2]A!B$1:AH$48,33,0),IFERROR(VLOOKUP(B15,[2]B!B$1:AH$51,33,0),VLOOKUP(B15,[2]C!$B$1:$AH$52,33,0)))","v":0},{"$f":"IFERROR(VLOOKUP(B15,[3]A!B$1:S$48,18,0),IFERROR(VLOOKUP(B15,[3]B!B$1:Q$51,16,0),VLOOKUP(B15,[3]C!B$1:Q$52,16,0)))","v":14},{"$f":"IFERROR(VLOOKUP(B15,[3]A!B$1:T$48,19,0),IFERROR(VLOOKUP(B15,[3]B!B$1:R$51,17,0),VLOOKUP(B15,[3]C!B$1:R$52,17,0)))","v":16},{"$f":"IFERROR(VLOOKUP(B15,[3]A!B$1:V$48,21,0),IFERROR(VLOOKUP(B15,[3]B!B$1:T$51,19,0),VLOOKUP(B15,[3]C!B$1:T$52,19,0)))","v":0},{"$f":"IFERROR(VLOOKUP(B15,[3]A!B$1:W$48,22,0),IFERROR(VLOOKUP(B15,[3]B!B$1:U$51,20,0),VLOOKUP(B15,[3]C!B$1:U$52,20,0)))","v":2},{"$f":"IFERROR(VLOOKUP(B15,[3]A!B$1:X$48,23,0),IFERROR(VLOOKUP(B15,[3]B!B$1:V$51,21,0),VLOOKUP(B15,[3]C!B$1:V$52,21,0)))","v":3},0,{"$f":"IFERROR(VLOOKUP(B15,[4]A!B$1:AA$48,26,0),IFERROR(VLOOKUP(B15,[4]B!B$1:AA$51,26,0),VLOOKUP(B15,[4]C!B$1:AA$52,26,0)))","v":15},{"$f":"IFERROR(VLOOKUP(B15,[4]A!B$1:AB$48,27,0),IFERROR(VLOOKUP(B15,[4]B!B$1:AB$51,27,0),VLOOKUP(B15,[4]C!B$1:AB$52,27,0)))","v":17},{"$f":"IFERROR(VLOOKUP(B15,[4]A!B$1:AD$48,29,0),IFERROR(VLOOKUP(B15,[4]B!B$1:AD$51,29,0),VLOOKUP(B15,[4]C!B$1:AD$52,29,0)))","v":0},{"$f":"IFERROR(VLOOKUP(B15,[4]A!B$1:AE$48,30,0),IFERROR(VLOOKUP(B15,[4]B!B$1:AE$51,30,0),VLOOKUP(B15,[4]C!B$1:AE$52,30,0)))","v":2},{"$f":"IFERROR(VLOOKUP(B15,[4]A!B$1:AF$48,31,0),IFERROR(VLOOKUP(B15,[4]B!B$1:AF$51,31,0),VLOOKUP(B15,[4]C!B$1:AF$52,31,0)))","v":3},{"$f":"IFERROR(VLOOKUP(B15,[4]A!B$1:AH$48,33,0),IFERROR(VLOOKUP(B15,[4]B!B$1:AH$51,33,0),VLOOKUP(B15,[4]C!B$1:AH$52,33,0)))","v":0},5,6,null,1,1,null,80,0,0,70,70,87.5,5,"A-2",7,5,17]
[15,"15BA043",{"$f":"VLOOKUP(B16,[1]A!B$1:AA$48,26,0)","v":8},{"$f":"VLOOKUP(B16,[1]A!B$1:AB$48,27,0)","v":9},{"$f":"VLOOKUP(B16,[1]A!B$1:AD$48,29,0)","v":0},{"$f":"VLOOKUP(B16,[1]A!B$1:AE$48,30,0)","v":0},{"$f":"VLOOKUP(B16,[1]A!B$1:AF$48,31,0)","v":0},{"$f":"VLOOKUP(B16,[1]A!B$1:AH$48,33,0)","v":0},{"$f":"IFERROR(VLOOKUP(B16,[2]A!B$1:AA$48,26,0),IFERROR(VLOOKUP(B16,[2]B!B$1:AA$51,26,0),VLOOKUP(B16,[2]C!B$1:AA$52,26,0)))","v":19},{"$f":"IFERROR(VLOOKUP(B16,[2]A!B$1:AB$48,27,0),IFERROR(VLOOKUP(B16,[2]B!B$1:AB$51,27,0),VLOOKUP(B16,[2]C!B$1:AB$52,27,0)))","v":21},{"$f":"IFERROR(VLOOKUP(B16,[2]A!B$1:AD$48,29,0),IFERROR(VLOOKUP(B16,[2]B!B$1:AD$51,29,0),VLOOKUP(B16,[2]C!B$1:AD$52,29,0)))","v":0},{"$f":"IFERROR(VLOOKUP(B16,[2]A!B$1:AE$48,30,0),IFERROR(VLOOKUP(B16,[2]B!B$1:AE$51,30,0),VLOOKUP(B16,[2]C!B$1:AE$52,30,0)))","v":3},{"$f":"IFERROR(VLOOKUP(B16,[2]A!B$1:AF$48,31,0),IFERROR(VLOOKUP(B16,[2]B!B$1:AF$51,31,0),VLOOKUP(B16,[2]C!B$1:AF$52,31,0)))","v":4},{"$f":"IFERROR(VLOOKUP(B16,[2]A!B$1:AH$48,33,0),IFERROR(VLOOKUP(B16,[2]B!B$1:AH$51,33,0),VLOOKUP(B16,[2]C!$B$1:$AH$52,33,0)))","v":0},{"$f":"IFERROR(VLOOKUP(B16,[3]A!B$1:S$48,18,0),IFERROR(VLOOKUP(B16,[3]B!B$1:Q$51,16,0),VLOOKUP(B16,[3]C!B$1:Q$52,16,0)))","v":14},{"$f":"IFERROR(VLOOKUP(B16,[3]A!B$1:T$48,19,0),IFERROR(VLOOKUP(B16,[3]B!B$1:R$51,17,0),VLOOKUP(B16,[3]C!B$1:R$52,17,0)))","v":16},{"$f":"IFERROR(VLOOKUP(B16,[3]A!B$1:V$48,21,0),IFERROR(VLOOKUP(B16,[3]B!B$1:T$51,19,0),VLOOKUP(B16,[3]C!B$1:T$52,19,0)))","v":0},{"$f":"IFERROR(VLOOKUP(B16,[3]A!B$1:W$48,22,0),IFERROR(VLOOKUP(B16,[3]B!B$1:U$51,20,0),VLOOKUP(B16,[3]C!B$1:U$52,20,0)))","v":2},{"$f":"IFERROR(VLOOKUP(B16,[3]A!B$1:X$48,23,0),IFERROR(VLOOKUP(B16,[3]B!B$1:V$51,21,0),VLOOKUP(B16,[3]C!B$1:V$52,21,0)))","v":3},0,{"$f":"IFERROR(VLOOKUP(B16,[4]A!B$1:AA$48,26,0),IFERROR(VLOOKUP(B16,[4]B!B$1:AA$51,26,0),VLOOKUP(B16,[4]C!B$1:AA$52,26,0)))","v":15},{"$f":"IFERROR(VLOOKUP(B16,[4]A!B$1:AB$48,27,0),IFERROR(VLOOKUP(B16,[4]B!B$1:AB$51,27,0),VLOOKUP(B16,[4]C!B$1:AB$52,27,0)))","v":17},{"$f":"IFERROR(VLOOKUP(B16,[4]A!B$1:AD$48,29,0),IFERROR(VLOOKUP(B16,[4]B!B$1:AD$51,29,0),VLOOKUP(B16,[4]C!B$1:AD$52,29,0)))","v":0},{"$f":"IFERROR(VLOOKUP(B16,[4]A!B$1:AE$48,30,0),IFERROR(VLOOKUP(B16,[4]B!B$1:AE$51,30,0),VLOOKUP(B16,[4]C!B$1:AE$52,30,0)))","v":2},{"$f":"IFERROR(VLOOKUP(B16,[4]A!B$1:AF$48,31,0),IFERROR(VLOOKUP(B16,[4]B!B$1:AF$51,31,0),VLOOKUP(B16,[4]C!B$1:AF$52,31,0)))","v":3},{"$f":"IFERROR(VLOOKUP(B16,[4]A!B$1:AH$48,33,0),IFERROR(VLOOKUP(B16,[4]B!B$1:AH$51,33,0),VLOOKUP(B16,[4]C!B$1:AH$52,33,0)))","v":0},5,6,null,1,1,null,80,0,0,69,69,86.25,5,"A-2",8,6,19]
[16,"15BA048",{"$f":"VLOOKUP(B17,[1]A!B$1:AA$48,26,0)","v":9},{"$f":"VLOOKUP(B17,[1]A!B$1:AB$48,27,0)","v":9},{"$f":"VLOOKUP(B17,[1]A!B$1:AD$48,29,0)","v":0},{"$f":"VLOOKUP(B17,[1]A!B$1:AE$48,30,0)","v":0},{"$f":"VLOOKUP(B17,[1]A!B$1:AF$48,31,0)","v":0},{"$f":"VLOOKUP(B17,[1]A!B$1:AH$48,33,0)","v":0},{"$f":"IFERROR(VLOOKUP(B17,[2]A!B$1:AA$48,26,0),IFERROR(VLOOKUP(B17,[2]B!B$1:AA$51,26,0),VLOOKUP(B17,[2]C!B$1:AA$52,26,0)))","v":21},{"$f":"IFERROR(VLOOKUP(B17,[2]A!B$1:AB$48,27,0),IFERROR(VLOOKUP(B17,[2]B!B$1:AB$51,27,0),VLOOKUP(B17,[2]C!B$1:AB$52,27,0)))","v":21},{"$f":"IFERROR(VLOOKUP(B17,[2]A!B$1:AD$48,29,0),IFERROR(VLOOKUP(B17,[2]B!B$1:AD$51,29,0),VLOOKUP(B17,[2]C!B$1:AD$52,29,0)))","v":0},{"$f":"IFERROR(VLOOKUP(B17,[2]A!B$1:AE$48,30,0),IFERROR(VLOOKUP(B17,[2]B!B$1:AE$51,30,0),VLOOKUP(B17,[2]C!B$1:AE$52,30,0)))","v":4},{"$f":"IFERROR(VLOOKUP(B17,[2]A!B$1:AF$48,31,0),IFERROR(VLOOKUP(B17,[2]B!B$1:AF$51,31,0),VLOOKUP(B17,[2]C!B$1:AF$52,31,0)))","v":4},{"$f":"IFERROR(VLOOKUP(B17,[2]A!B$1:AH$48,33,0),IFERROR(VLOOKUP(B17,[2]B!B$1:AH$51,33,0),VLOOKUP(B17,[2]C!$B$1:$AH$52,33,0)))","v":0},{"$f":"IFERROR(VLOOKUP(B17,[3]A!B$1:S$48,18,0),IFERROR(VLOOKUP(B17,[3]B!B$1:Q$51,16,0),VLOOKUP(B17,[3]C!B$1:Q$52,16,0)))","v":16},{"$f":"IFERROR(VLOOKUP(B17,[3]A!B$1:T$48,19,0),IFERROR(VLOOKUP(B17,[3]B!B$1:R$51,17,0),VLOOKUP(B17,[3]C!B$1:R$52,17,0)))","v":16},{"$f":"IFERROR(VLOOKUP(B17,[3]A!B$1:V$48,21,0),IFERROR(VLOOKUP(B17,[3]B!B$1:T$51,19,0),VLOOKUP(B17,[3]C!B$1:T$52,19,0)))","v":0},{"$f":"IFERROR(VLOOKUP(B17,[3]A!B$1:W$48,22,0),IFERROR(VLOOKUP(B17,[3]B!B$1:U$51,20,0),VLOOKUP(B17,[3]C!B$1:U$52,20,0)))","v":3},{"$f":"IFERROR(VLOOKUP(B17,[3]A!B$1:X$48,23,0),IFERROR(VLOOKUP(B17,[3]B!B$1:V$51,21,0),VLOOKUP(B17,[3]C!B$1:V$52,21,0)))","v":3},0,{"$f":"IFERROR(VLOOKUP(B17,[4]A!B$1:AA$48,26,0),IFERROR(VLOOKUP(B17,[4]B!B$1:AA$51,26,0),VLOOKUP(B17,[4]C!B$1:AA$52,26,0)))","v":17},{"$f":"IFERROR(VLOOKUP(B17,[4]A!B$1:AB$48,27,0),IFERROR(VLOOKUP(B17,[4]B!B$1:AB$51,27,0),VLOOKUP(B17,[4]C!B$1:AB$52,27,0)))","v":17},{"$f":"IFERROR(VLOOKUP(B17,[4]A!B$1:AD$48,29,0),IFERROR(VLOOKUP(B17,[4]B!B$1:AD$51,29,0),VLOOKUP(B17,[4]C!B$1:AD$52,29,0)))","v":0},{"$f":"IFERROR(VLOOKUP(B17,[4]A!B$1:AE$48,30,0),IFERROR(VLOOKUP(B17,[4]B!B$1:AE$51,30,0),VLOOKUP(B17,[4]C!B$1:AE$52,30,0)))","v":3},{"$f":"IFERROR(VLOOKUP(B17,[4]A!B$1:AF$48,31,0),IFERROR(VLOOKUP(B17,[4]B!B$1:AF$51,31,0),VLOOKUP(B17,[4]C!B$1:AF$52,31,0)))","v":3},{"$f":"IFERROR(VLOOKUP(B17,[4]A!B$1:AH$48,33,0),IFERROR(VLOOKUP(B17,[4]B!B$1:AH$51,33,0),VLOOKUP(B17,[4]C!B$1:AH$52,33,0)))","v":0},6,6,null,1,1,null,80,0,0,80,80,100,5,"A-3",10,10,25]
[17,"15BA053",{"$f":"VLOOKUP(B18,[1]A!B$1:AA$48,26,0)","v":9},{"$f":"VLOOKUP(B18,[1]A!B$1:AB$48,27,0)","v":9},{"$f":"VLOOKUP(B18,[1]A!B$1:AD$48,29,0)","v":0},{"$f":"VLOOKUP(B18,[1]A!B$1:AE$48,30,0)","v":0},{"$f":"VLOOKUP(B18,[1]A!B$1:AF$48,31,0)","v":0},{"$f":"VLOOKUP(B18,[1]A!B$1:AH$48,33,0)","v":0},{"$f":"IFERROR(VLOOKUP(B18,[2]A!B$1:AA$48,26,0),IFERROR(VLOOKUP(B18,[2]B!B$1:AA$51,26,0),VLOOKUP(B18,[2]C!B$1:AA$52,26,0)))","v":21},{"$f":"IFERROR(VLOOKUP(B18,[2]A!B$1:AB$48,27,0),IFERROR(VLOOKUP(B18,[2]B!B$1:AB$51,27,0),VLOOKUP(B18,[2]C!B$1:AB$52,27,0)))","v":21},{"$f":"IFERROR(VLOOKUP(B18,[2]A!B$1:AD$48,29,0),IFERROR(VLOOKUP(B18,[2]B!B$1:AD$51,29,0),VLOOKUP(B18,[2]C!B$1:AD$52,29,0)))","v":0},{"$f":"IFERROR(VLOOKUP(B18,[2]A!B$1:AE$48,30,0),IFERROR(VLOOKUP(B18,[2]B!B$1:AE$51,30,0),VLOOKUP(B18,[2]C!B$1:AE$52,30,0)))","v":4},{"$f":"IFERROR(VLOOKUP(B18,[2]A!B$1:AF$48,31,0),IFERROR(VLOOKUP(B18,[2]B!B$1:AF$51,31,0),VLOOKUP(B18,[2]C!B$1:AF$52,31,0)))","v":4},{"$f":"IFERROR(VLOOKUP(B18,[2]A!B$1:AH$48,33,0),IFERROR(VLOOKUP(B18,[2]B!B$1:AH$51,33,0),VLOOKUP(B18,[2]C!$B$1:$AH$52,33,0)))","v":0},{"$f":"IFERROR(VLOOKUP(B18,[3]A!B$1:S$48,18,0),IFERROR(VLOOKUP(B18,[3]B!B$1:Q$51,16,0),VLOOKUP(B18,[3]C!B$1:Q$52,16,0)))","v":16},{"$f":"IFERROR(VLOOKUP(B18,[3]A!B$1:T$48,19,0),IFERROR(VLOOKUP(B18,[3]B!B$1:R$51,17,0),VLOOKUP(B18,[3]C!B$1:R$52,17,0)))","v":16},{"$f":"IFERROR(VLOOKUP(B18,[3]A!B$1:V$48,21,0),IFERROR(VLOOKUP(B18,[3]B!B$1:T$51,19,0),VLOOKUP(B18,[3]C!B$1:T$52,19,0)))","v":0},{"$f":"IFERROR(VLOOKUP(B18,[3]A!B$1:W$48,22,0),IFERROR(VLOOKUP(B18,[3]B!B$1:U$51,20,0),VLOOKUP(B18,[3]C!B$1:U$52,20,0)))","v":3},{"$f":"IFERROR(VLOOKUP(B18,[3]A!B$1:X$48,23,0),IFERROR(VLOOKUP(B18,[3]B!B$1:V$51,21,0),VLOOKUP(B18,[3]C!B$1:V$52,21,0)))","v":3},0,{"$f":"IFERROR(VLOOKUP(B18,[4]A!B$1:AA$48,26,0),IFERROR(VLOOKUP(B18,[4]B!B$1:AA$51,26,0),VLOOKUP(B18,[4]C!B$1:AA$52,26,0)))","v":17},{"$f":"IFERROR(VLOOKUP(B18,[4]A!B$1:AB$48,27,0),IFERROR(VLOOKUP(B18,[4]B!B$1:AB$51,27,0),VLOOKUP(B18,[4]C!B$1:AB$52,27,0)))","v":17},{"$f":"IFERROR(VLOOKUP(B18,[4]A!B$1:AD$48,29,0),IFERROR(VLOOKUP(B18,[4]B!B$1:AD$51,29,0),VLOOKUP(B18,[4]C!B$1:AD$52,29,0)))","v":0},{"$f":"IFERROR(VLOOKUP(B18,[4]A!B$1:AE$48,30,0),IFERROR(VLOOKUP(B18,[4]B!B$1:AE$51,30,0),VLOOKUP(B18,[4]C!B$1:AE$52,30,0)))","v":3},{"$f":"IFERROR(VLOOKUP(B18,[4]A!B$1:AF$48,31,0),IFERROR(VLOOKUP(B18,[4]B!B$1:AF$51,31,0),VLOOKUP(B18,[4]C!B$1:AF$52,31,0)))","v":3},{"$f":"IFERROR(VLOOKUP(B18,[4]A!B$1:AH$48,33,0),IFERROR(VLOOKUP(B18,[4]B!B$1:AH$51,33,0),VLOOKUP(B18,[4]C!B$1:AH$52,33,0)))","v":0},6,6,null,1,1,null,80,0,0,80,80,100,5,"A-2",10,9,24]
[18,"15BA060",{"$f":"VLOOKUP(B19,[1]A!B$1:AA$48,26,0)","v":8},{"$f":"VLOOKUP(B19,[1]A!B$1:AB$48,27,0)","v":9},{"$f":"VLOOKUP(B19,[1]A!B$1:AD$48,29,0)","v":0},{"$f":"VLOOKUP(B19,[1]A!B$1:AE$48,30,0)","v":0},{"$f":"VLOOKUP(B19,[1]A!B$1:AF$48,31,0)","v":0},{"$f":"VLOOKUP(B19,[1]A!B$1:AH$48,33,0)","v":0},{"$f":"IFERROR(VLOOKUP(B19,[2]A!B$1:AA$48,26,0),IFERROR(VLOOKUP(B19,[2]B!B$1:AA$51,26,0),VLOOKUP(B19,[2]C!B$1:AA$52,26,0)))","v":19},{"$f":"IFERROR(VLOOKUP(B19,[2]A!B$1:AB$48,27,0),IFERROR(VLOOKUP(B19,[2]B!B$1:AB$51,27,0),VLOOKUP(B19,[2]C!B$1:AB$52,27,0)))","v":21},{"$f":"IFERROR(VLOOKUP(B19,[2]A!B$1:AD$48,29,0),IFERROR(VLOOKUP(B19,[2]B!B$1:AD$51,29,0),VLOOKUP(B19,[2]C!B$1:AD$52,29,0)))","v":0},{"$f":"IFERROR(VLOOKUP(B19,[2]A!B$1:AE$48,30,0),IFERROR(VLOOKUP(B19,[2]B!B$1:AE$51,30,0),VLOOKUP(B19,[2]C!B$1:AE$52,30,0)))","v":3},{"$f":"IFERROR(VLOOKUP(B19,[2]A!B$1:AF$48,31,0),IFERROR(VLOOKUP(B19,[2]B!B$1:AF$51,31,0),VLOOKUP(B19,[2]C!B$1:AF$52,31,0)))","v":4},{"$f":"IFERROR(VLOOKUP(B19,[2]A!B$1:AH$48,33,0),IFERROR(VLOOKUP(B19,[2]B!B$1:AH$51,33,0),VLOOKUP(B19,[2]C!$B$1:$AH$52,33,0)))","v":0},{"$f":"IFERROR(VLOOKUP(B19,[3]A!B$1:S$48,18,0),IFERROR(VLOOKUP(B19,[3]B!B$1:Q$51,16,0),VLOOKUP(B19,[3]C!B$1:Q$52,16,0)))","v":14},{"$f":"IFERROR(VLOOKUP(B19,[3]A!B$1:T$48,19,0),IFERROR(VLOOKUP(B19,[3]B!B$1:R$51,17,0),VLOOKUP(B19,[3]C!B$1:R$52,17,0)))","v":16},{"$f":"IFERROR(VLOOKUP(B19,[3]A!B$1:V$48,21,0),IFERROR(VLOOKUP(B19,[3]B!B$1:T$51,19,0),VLOOKUP(B19,[3]C!B$1:T$52,19,0)))","v":0},{"$f":"IFERROR(VLOOKUP(B19,[3]A!B$1:W$48,22,0),IFERROR(VLOOKUP(B19,[3]B!B$1:U$51,20,0),VLOOKUP(B19,[3]C!B$1:U$52,20,0)))","v":2},{"$f":"IFERROR(VLOOKUP(B19,[3]A!B$1:X$48,23,0),IFERROR(VLOOKUP(B19,[3]B!B$1:V$51,21,0),VLOOKUP(B19,[3]C!B$1:V$52,21,0)))","v":3},0,{"$f":"IFERROR(VLOOKUP(B19,[4]A!B$1:AA$48,26,0),IFERROR(VLOOKUP(B19,[4]B!B$1:AA$51,26,0),VLOOKUP(B19,[4]C!B$1:AA$52,26,0)))","v":16},{"$f":"IFERROR(VLOOKUP(B19,[4]A!B$1:AB$48,27,0),IFERROR(VLOOKUP(B19,[4]B!B$1:AB$51,27,0),VLOOKUP(B19,[4]C!B$1:AB$52,27,0)))","v":17},{"$f":"IFERROR(VLOOKUP(B19,[4]A!B$1:AD$48,29,0),IFERROR(VLOOKUP(B19,[4]B!B$1:AD$51,29,0),VLOOKUP(B19,[4]C!B$1:AD$52,29,0)))","v":0},{"$f":"IFERROR(VLOOKUP(B19,[4]A!B$1:AE$48,30,0),IFERROR(VLOOKUP(B19,[4]B!B$1:AE$51,30,0),VLOOKUP(B19,[4]C!B$1:AE$52,30,0)))","v":2},{"$f":"IFERROR(VLOOKUP(B19,[4]A!B$1:AF$48,31,0),IFERROR(VLOOKUP(B19,[4]B!B$1:AF$51,31,0),VLOOKUP(B19,[4]C!B$1:AF$52,31,0)))","v":3},{"$f":"IFERROR(VLOOKUP(B19,[4]A!B$1:AH$48,33,0),IFERROR(VLOOKUP(B19,[4]B!B$1:AH$51,33,0),VLOOKUP(B19,[4]C!B$1:AH$52,33,0)))","v":0},5,6,null,1,1,null,80,0,0,70,70,87.5,5,"A-2",8,6,19]
[19,"15BA062",{"$f":"VLOOKUP(B20,[1]A!B$1:AA$48,26,0)","v":8},{"$f":"VLOOKUP(B20,[1]A!B$1:AB$48,27,0)","v":9},{"$f":"VLOOKUP(B20,[1]A!B$1:AD$48,29,0)","v":0},{"$f":"VLOOKUP(B20,[1]A!B$1:AE$48,30,0)","v":0},{"$f":"VLOOKUP(B20,[1]A!B$1:AF$48,31,0)","v":0},{"$f":"VLOOKUP(B20,[1]A!B$1:AH$48,33,0)","v":0},{"$f":"IFERROR(VLOOKUP(B20,[2]A!B$1:AA$48,26,0),IFERROR(VLOOKUP(B20,[2]B!B$1:AA$51,26,0),VLOOKUP(B20,[2]C!B$1:AA$52,26,0)))","v":19},{"$f":"IFERROR(VLOOKUP(B20,[2]A!B$1:AB$48,27,0),IFERROR(VLOOKUP(B20,[2]B!B$1:AB$51,27,0),VLOOKUP(B20,[2]C!B$1:AB$52,27,0)))","v":21},{"$f":"IFERROR(VLOOKUP(B20,[2]A!B$1:AD$48,29,0),IFERROR(VLOOKUP(B20,[2]B!B$1:AD$51,29,0),VLOOKUP(B20,[2]C!B$1:AD$52,29,0)))","v":0},{"$f":"IFERROR(VLOOKUP(B20,[2]A!B$1:AE$48,30,0),IFERROR(VLOOKUP(B20,[2]B!B$1:AE$51,30,0),VLOOKUP(B20,[2]C!B$1:AE$52,30,0)))","v":3},{"$f":"IFERROR(VLOOKUP(B20,[2]A!B$1:AF$48,31,0),IFERROR(VLOOKUP(B20,[2]B!B$1:AF$51,31,0),VLOOKUP(B20,[2]C!B$1:AF$52,31,0)))","v":4},{"$f":"IFERROR(VLOOKUP(B20,[2]A!B$1:AH$48,33,0),IFERROR(VLOOKUP(B20,[2]B!B$1:AH$51,33,0),VLOOKUP(B20,[2]C!$B$1:$AH$52,33,0)))","v":0},{"$f":"IFERROR(VLOOKUP(B20,[3]A!B$1:S$48,18,0),IFERROR(VLOOKUP(B20,[3]B!B$1:Q$51,16,0),VLOOKUP(B20,[3]C!B$1:Q$52,16,0)))","v":14},{"$f":"IFERROR(VLOOKUP(B20,[3]A!B$1:T$48,19,0),IFERROR(VLOOKUP(B20,[3]B!B$1:R$51,17,0),VLOOKUP(B20,[3]C!B$1:R$52,17,0)))","v":16},{"$f":"IFERROR(VLOOKUP(B20,[3]A!B$1:V$48,21,0),IFERROR(VLOOKUP(B20,[3]B!B$1:T$51,19,0),VLOOKUP(B20,[3]C!B$1:T$52,19,0)))","v":0},{"$f":"IFERROR(VLOOKUP(B20,[3]A!B$1:W$48,22,0),IFERROR(VLOOKUP(B20,[3]B!B$1:U$51,20,0),VLOOKUP(B20,[3]C!B$1:U$52,20,0)))","v":2},{"$f":"IFERROR(VLOOKUP(B20,[3]A!B$1:X$48,23,0),IFERROR(VLOOKUP(B20,[3]B!B$1:V$51,21,0),VLOOKUP(B20,[3]C!B$1:V$52,21,0)))","v":3},0,{"$f":"IFERROR(VLOOKUP(B20,[4]A!B$1:AA$48,26,0),IFERROR(VLOOKUP(B20,[4]B!B$1:AA$51,26,0),VLOOKUP(B20,[4]C!B$1:AA$52,26,0)))","v":15},{"$f":"IFERROR(VLOOKUP(B20,[4]A!B$1:AB$48,27,0),IFERROR(VLOOKUP(B20,[4]B!B$1:AB$51,27,0),VLOOKUP(B20,[4]C!B$1:AB$52,27,0)))","v":17},{"$f":"IFERROR(VLOOKUP(B20,[4]A!B$1:AD$48,29,0),IFERROR(VLOOKUP(B20,[4]B!B$1:AD$51,29,0),VLOOKUP(B20,[4]C!B$1:AD$52,29,0)))","v":0},{"$f":"IFERROR(VLOOKUP(B20,[4]A!B$1:AE$48,30,0),IFERROR(VLOOKUP(B20,[4]B!B$1:AE$51,30,0),VLOOKUP(B20,[4]C!B$1:AE$52,30,0)))","v":2},{"$f":"IFERROR(VLOOKUP(B20,[4]A!B$1:AF$48,31,0),IFERROR(VLOOKUP(B20,[4]B!B$1:AF$51,31,0),VLOOKUP(B20,[4]C!B$1:AF$52,31,0)))","v":3},{"$f":"IFERROR(VLOOKUP(B20,[4]A!B$1:AH$48,33,0),IFERROR(VLOOKUP(B20,[4]B!B$1:AH$51,33,0),VLOOKUP(B20,[4]C!B$1:AH$52,33,0)))","v":0},5,6,null,1,1,null,80,0,0,69,69,86.25,5,"A-2",8,6,19]
[20,"15BA064",{"$f":"VLOOKUP(B21,[1]A!B$1:AA$48,26,0)","v":9},{"$f":"VLOOKUP(B21,[1]A!B$1:AB$48,27,0)","v":9},{"$f":"VLOOKUP(B21,[1]A!B$1:AD$48,29,0)","v":0},{"$f":"VLOOKUP(B21,[1]A!B$1:AE$48,30,0)","v":0},{"$f":"VLOOKUP(B21,[1]A!B$1:AF$48,31,0)","v":0},{"$f":"VLOOKUP(B21,[1]A!B$1:AH$48,33,0)","v":0},{"$f":"IFERROR(VLOOKUP(B21,[2]A!B$1:AA$48,26,0),IFERROR(VLOOKUP(B21,[2]B!B$1:AA$51,26,0),VLOOKUP(B21,[2]C!B$1:AA$52,26,0)))","v":20},{"$f":"IFERROR(VLOOKUP(B21,[2]A!B$1:AB$48,27,0),IFERROR(VLOOKUP(B21,[2]B!B$1:AB$51,27,0),VLOOKUP(B21,[2]C!B$1:AB$52,27,0)))","v":21},{"$f":"IFERROR(VLOOKUP(B21,[2]A!B$1:AD$48,29,0),IFERROR(VLOOKUP(B21,[2]B!B$1:AD$51,29,0),VLOOKUP(B21,[2]C!B$1:AD$52,29,0)))","v":0},{"$f":"IFERROR(VLOOKUP(B21,[2]A!B$1:AE$48,30,0),IFERROR(VLOOKUP(B21,[2]B!B$1:AE$51,30,0),VLOOKUP(B21,[2]C!B$1:AE$52,30,0)))","v":3},{"$f":"IFERROR(VLOOKUP(B21,[2]A!B$1:AF$48,31,0),IFERROR(VLOOKUP(B21,[2]B!B$1:AF$51,31,0),VLOOKUP(B21,[2]C!B$1:AF$52,31,0)))","v":4},{"$f":"IFERROR(VLOOKUP(B21,[2]A!B$1:AH$48,33,0),IFERROR(VLOOKUP(B21,[2]B!B$1:AH$51,33,0),VLOOKUP(B21,[2]C!$B$1:$AH$52,33,0)))","v":0},{"$f":"IFERROR(VLOOKUP(B21,[3]A!B$1:S$48,18,0),IFERROR(VLOOKUP(B21,[3]B!B$1:Q$51,16,0),VLOOKUP(B21,[3]C!B$1:Q$52,16,0)))","v":15},{"$f":"IFERROR(VLOOKUP(B21,[3]A!B$1:T$48,19,0),IFERROR(VLOOKUP(B21,[3]B!B$1:R$51,17,0),VLOOKUP(B21,[3]C!B$1:R$52,17,0)))","v":16},{"$f":"IFERROR(VLOOKUP(B21,[3]A!B$1:V$48,21,0),IFERROR(VLOOKUP(B21,[3]B!B$1:T$51,19,0),VLOOKUP(B21,[3]C!B$1:T$52,19,0)))","v":0},{"$f":"IFERROR(VLOOKUP(B21,[3]A!B$1:W$48,22,0),IFERROR(VLOOKUP(B21,[3]B!B$1:U$51,20,0),VLOOKUP(B21,[3]C!B$1:U$52,20,0)))","v":2},{"$f":"IFERROR(VLOOKUP(B21,[3]A!B$1:X$48,23,0),IFERROR(VLOOKUP(B21,[3]B!B$1:V$51,21,0),VLOOKUP(B21,[3]C!B$1:V$52,21,0)))","v":3},0,{"$f":"IFERROR(VLOOKUP(B21,[4]A!B$1:AA$48,26,0),IFERROR(VLOOKUP(B21,[4]B!B$1:AA$51,26,0),VLOOKUP(B21,[4]C!B$1:AA$52,26,0)))","v":17},{"$f":"IFERROR(VLOOKUP(B21,[4]A!B$1:AB$48,27,0),IFERROR(VLOOKUP(B21,[4]B!B$1:AB$51,27,0),VLOOKUP(B21,[4]C!B$1:AB$52,27,0)))","v":17},{"$f":"IFERROR(VLOOKUP(B21,[4]A!B$1:AD$48,29,0),IFERROR(VLOOKUP(B21,[4]B!B$1:AD$51,29,0),VLOOKUP(B21,[4]C!B$1:AD$52,29,0)))","v":0},{"$f":"IFERROR(VLOOKUP(B21,[4]A!B$1:AE$48,30,0),IFERROR(VLOOKUP(B21,[4]B!B$1:AE$51,30,0),VLOOKUP(B21,[4]C!B$1:AE$52,30,0)))","v":2},{"$f":"IFERROR(VLOOKUP(B21,[4]A!B$1:AF$48,31,0),IFERROR(VLOOKUP(B21,[4]B!B$1:AF$51,31,0),VLOOKUP(B21,[4]C!B$1:AF$52,31,0)))","v":3},{"$f":"IFERROR(VLOOKUP(B21,[4]A!B$1:AH$48,33,0),IFERROR(VLOOKUP(B21,[4]B!B$1:AH$51,33,0),VLOOKUP(B21,[4]C!B$1:AH$52,33,0)))","v":0},5,6,null,1,1,null,80,0,0,74,74,92.5,5,"A-2",10,10,25]
[21,"15BA065",{"$f":"VLOOKUP(B22,[1]A!B$1:AA$48,26,0)","v":9},{"$f":"VLOOKUP(B22,[1]A!B$1:AB$48,27,0)","v":9},{"$f":"VLOOKUP(B22,[1]A!B$1:AD$48,29,0)","v":0},{"$f":"VLOOKUP(B22,[1]A!B$1:AE$48,30,0)","v":0},{"$f":"VLOOKUP(B22,[1]A!B$1:AF$48,31,0)","v":0},{"$f":"VLOOKUP(B22,[1]A!B$1:AH$48,33,0)","v":0},{"$f":"IFERROR(VLOOKUP(B22,[2]A!B$1:AA$48,26,0),IFERROR(VLOOKUP(B22,[2]B!B$1:AA$51,26,0),VLOOKUP(B22,[2]C!B$1:AA$52,26,0)))","v":21},{"$f":"IFERROR(VLOOKUP(B22,[2]A!B$1:AB$48,27,0),IFERROR(VLOOKUP(B22,[2]B!B$1:AB$51,27,0),VLOOKUP(B22,[2]C!B$1:AB$52,27,0)))","v":21},{"$f":"IFERROR(VLOOKUP(B22,[2]A!B$1:AD$48,29,0),IFERROR(VLOOKUP(B22,[2]B!B$1:AD$51,29,0),VLOOKUP(B22,[2]C!B$1:AD$52,29,0)))","v":0},{"$f":"IFERROR(VLOOKUP(B22,[2]A!B$1:AE$48,30,0),IFERROR(VLOOKUP(B22,[2]B!B$1:AE$51,30,0),VLOOKUP(B22,[2]C!B$1:AE$52,30,0)))","v":4},{"$f":"IFERROR(VLOOKUP(B22,[2]A!B$1:AF$48,31,0),IFERROR(VLOOKUP(B22,[2]B!B$1:AF$51,31,0),VLOOKUP(B22,[2]C!B$1:AF$52,31,0)))","v":4},{"$f":"IFERROR(VLOOKUP(B22,[2]A!B$1:AH$48,33,0),IFERROR(VLOOKUP(B22,[2]B!B$1:AH$51,33,0),VLOOKUP(B22,[2]C!$B$1:$AH$52,33,0)))","v":0},{"$f":"IFERROR(VLOOKUP(B22,[3]A!B$1:S$48,18,0),IFERROR(VLOOKUP(B22,[3]B!B$1:Q$51,16,0),VLOOKUP(B22,[3]C!B$1:Q$52,16,0)))","v":16},{"$f":"IFERROR(VLOOKUP(B22,[3]A!B$1:T$48,19,0),IFERROR(VLOOKUP(B22,[3]B!B$1:R$51,17,0),VLOOKUP(B22,[3]C!B$1:R$52,17,0)))","v":16},{"$f":"IFERROR(VLOOKUP(B22,[3]A!B$1:V$48,21,0),IFERROR(VLOOKUP(B22,[3]B!B$1:T$51,19,0),VLOOKUP(B22,[3]C!B$1:T$52,19,0)))","v":0},{"$f":"IFERROR(VLOOKUP(B22,[3]A!B$1:W$48,22,0),IFERROR(VLOOKUP(B22,[3]B!B$1:U$51,20,0),VLOOKUP(B22,[3]C!B$1:U$52,20,0)))","v":3},{"$f":"IFERROR(VLOOKUP(B22,[3]A!B$1:X$48,23,0),IFERROR(VLOOKUP(B22,[3]B!B$1:V$51,21,0),VLOOKUP(B22,[3]C!B$1:V$52,21,0)))","v":3},0,{"$f":"IFERROR(VLOOKUP(B22,[4]A!B$1:AA$48,26,0),IFERROR(VLOOKUP(B22,[4]B!B$1:AA$51,26,0),VLOOKUP(B22,[4]C!B$1:AA$52,26,0)))","v":17},{"$f":"IFERROR(VLOOKUP(B22,[4]A!B$1:AB$48,27,0),IFERROR(VLOOKUP(B22,[4]B!B$1:AB$51,27,0),VLOOKUP(B22,[4]C!B$1:AB$52,27,0)))","v":17},{"$f":"IFERROR(VLOOKUP(B22,[4]A!B$1:AD$48,29,0),IFERROR(VLOOKUP(B22,[4]B!B$1:AD$51,29,0),VLOOKUP(B22,[4]C!B$1:AD$52,29,0)))","v":0},{"$f":"IFERROR(VLOOKUP(B22,[4]A!B$1:AE$48,30,0),IFERROR(VLOOKUP(B22,[4]B!B$1:AE$51,30,0),VLOOKUP(B22,[4]C!B$1:AE$52,30,0)))","v":3},{"$f":"IFERROR(VLOOKUP(B22,[4]A!B$1:AF$48,31,0),IFERROR(VLOOKUP(B22,[4]B!B$1:AF$51,31,0),VLOOKUP(B22,[4]C!B$1:AF$52,31,0)))","v":3},{"$f":"IFERROR(VLOOKUP(B22,[4]A!B$1:AH$48,33,0),IFERROR(VLOOKUP(B22,[4]B!B$1:AH$51,33,0),VLOOKUP(B22,[4]C!B$1:AH$52,33,0)))","v":0},6,6,null,1,1,null,80,0,0,80,80,100,5,"A-2",10,10,25]
[22,"15BA068",{"$f":"VLOOKUP(B23,[1]A!B$1:AA$48,26,0)","v":8},{"$f":"VLOOKUP(B23,[1]A!B$1:AB$48,27,0)","v":9},{"$f":"VLOOKUP(B23,[1]A!B$1:AD$48,29,0)","v":0},{"$f":"VLOOKUP(B23,[1]A!B$1:AE$48,30,0)","v":0},{"$f":"VLOOKUP(B23,[1]A!B$1:AF$48,31,0)","v":0},{"$f":"VLOOKUP(B23,[1]A!B$1:AH$48,33,0)","v":0},{"$f":"IFERROR(VLOOKUP(B23,[2]A!B$1:AA$48,26,0),IFERROR(VLOOKUP(B23,[2]B!B$1:AA$51,26,0),VLOOKUP(B23,[2]C!B$1:AA$52,26,0)))","v":19},{"$f":"IFERROR(VLOOKUP(B23,[2]A!B$1:AB$48,27,0),IFERROR(VLOOKUP(B23,[2]B!B$1:AB$51,27,0),VLOOKUP(B23,[2]C!B$1:AB$52,27,0)))","v":21},{"$f":"IFERROR(VLOOKUP(B23,[2]A!B$1:AD$48,29,0),IFERROR(VLOOKUP(B23,[2]B!B$1:AD$51,29,0),VLOOKUP(B23,[2]C!B$1:AD$52,29,0)))","v":0},{"$f":"IFERROR(VLOOKUP(B23,[2]A!B$1:AE$48,30,0),IFERROR(VLOOKUP(B23,[2]B!B$1:AE$51,30,0),VLOOKUP(B23,[2]C!B$1:AE$52,30,0)))","v":3},{"$f":"IFERROR(VLOOKUP(B23,[2]A!B$1:AF$48,31,0),IFERROR(VLOOKUP(B23,[2]B!B$1:AF$51,31,0),VLOOKUP(B23,[2]C!B$1:AF$52,31,0)))","v":4},{"$f":"IFERROR(VLOOKUP(B23,[2]A!B$1:AH$48,33,0),IFERROR(VLOOKUP(B23,[2]B!B$1:AH$51,33,0),VLOOKUP(B23,[2]C!$B$1:$AH$52,33,0)))","v":0},{"$f":"IFERROR(VLOOKUP(B23,[3]A!B$1:S$48,18,0),IFERROR(VLOOKUP(B23,[3]B!B$1:Q$51,16,0),VLOOKUP(B23,[3]C!B$1:Q$52,16,0)))","v":15},{"$f":"IFERROR(VLOOKUP(B23,[3]A!B$1:T$48,19,0),IFERROR(VLOOKUP(B23,[3]B!B$1:R$51,17,0),VLOOKUP(B23,[3]C!B$1:R$52,17,0)))","v":16},{"$f":"IFERROR(VLOOKUP(B23,[3]A!B$1:V$48,21,0),IFERROR(VLOOKUP(B23,[3]B!B$1:T$51,19,0),VLOOKUP(B23,[3]C!B$1:T$52,19,0)))","v":0},{"$f":"IFERROR(VLOOKUP(B23,[3]A!B$1:W$48,22,0),IFERROR(VLOOKUP(B23,[3]B!B$1:U$51,20,0),VLOOKUP(B23,[3]C!B$1:U$52,20,0)))","v":2},{"$f":"IFERROR(VLOOKUP(B23,[3]A!B$1:X$48,23,0),IFERROR(VLOOKUP(B23,[3]B!B$1:V$51,21,0),VLOOKUP(B23,[3]C!B$1:V$52,21,0)))","v":3},0,{"$f":"IFERROR(VLOOKUP(B23,[4]A!B$1:AA$48,26,0),IFERROR(VLOOKUP(B23,[4]B!B$1:AA$51,26,0),VLOOKUP(B23,[4]C!B$1:AA$52,26,0)))","v":15},{"$f":"IFERROR(VLOOKUP(B23,[4]A!B$1:AB$48,27,0),IFERROR(VLOOKUP(B23,[4]B!B$1:AB$51,27,0),VLOOKUP(B23,[4]C!B$1:AB$52,27,0)))","v":17},{"$f":"IFERROR(VLOOKUP(B23,[4]A!B$1:AD$48,29,0),IFERROR(VLOOKUP(B23,[4]B!B$1:AD$51,29,0),VLOOKUP(B23,[4]C!B$1:AD$52,29,0)))","v":0},{"$f":"IFERROR(VLOOKUP(B23,[4]A!B$1:AE$48,30,0),IFERROR(VLOOKUP(B23,[4]B!B$1:AE$51,30,0),VLOOKUP(B23,[4]C!B$1:AE$52,30,0)))","v":2},{"$f":"IFERROR(VLOOKUP(B23,[4]A!B$1:AF$48,31,0),IFERROR(VLOOKUP(B23,[4]B!B$1:AF$51,31,0),VLOOKUP(B23,[4]C!B$1:AF$52,31,0)))","v":3},{"$f":"IFERROR(VLOOKUP(B23,[4]A!B$1:AH$48,33,0),IFERROR(VLOOKUP(B23,[4]B!B$1:AH$51,33,0),VLOOKUP(B23,[4]C!B$1:AH$52,33,0)))","v":0},5,6,null,1,1,null,80,0,0,70,70,87.5,5,"A-2",8,7,20]
[23,"15BA071",{"$f":"VLOOKUP(B24,[1]A!B$1:AA$48,26,0)","v":9},{"$f":"VLOOKUP(B24,[1]A!B$1:AB$48,27,0)","v":9},{"$f":"VLOOKUP(B24,[1]A!B$1:AD$48,29,0)","v":0},{"$f":"VLOOKUP(B24,[1]A!B$1:AE$48,30,0)","v":0},{"$f":"VLOOKUP(B24,[1]A!B$1:AF$48,31,0)","v":0},{"$f":"VLOOKUP(B24,[1]A!B$1:AH$48,33,0)","v":0},{"$f":"IFERROR(VLOOKUP(B24,[2]A!B$1:AA$48,26,0),IFERROR(VLOOKUP(B24,[2]B!B$1:AA$51,26,0),VLOOKUP(B24,[2]C!B$1:AA$52,26,0)))","v":21},{"$f":"IFERROR(VLOOKUP(B24,[2]A!B$1:AB$48,27,0),IFERROR(VLOOKUP(B24,[2]B!B$1:AB$51,27,0),VLOOKUP(B24,[2]C!B$1:AB$52,27,0)))","v":21},{"$f":"IFERROR(VLOOKUP(B24,[2]A!B$1:AD$48,29,0),IFERROR(VLOOKUP(B24,[2]B!B$1:AD$51,29,0),VLOOKUP(B24,[2]C!B$1:AD$52,29,0)))","v":0},{"$f":"IFERROR(VLOOKUP(B24,[2]A!B$1:AE$48,30,0),IFERROR(VLOOKUP(B24,[2]B!B$1:AE$51,30,0),VLOOKUP(B24,[2]C!B$1:AE$52,30,0)))","v":4},{"$f":"IFERROR(VLOOKUP(B24,[2]A!B$1:AF$48,31,0),IFERROR(VLOOKUP(B24,[2]B!B$1:AF$51,31,0),VLOOKUP(B24,[2]C!B$1:AF$52,31,0)))","v":4},{"$f":"IFERROR(VLOOKUP(B24,[2]A!B$1:AH$48,33,0),IFERROR(VLOOKUP(B24,[2]B!B$1:AH$51,33,0),VLOOKUP(B24,[2]C!$B$1:$AH$52,33,0)))","v":0},{"$f":"IFERROR(VLOOKUP(B24,[3]A!B$1:S$48,18,0),IFERROR(VLOOKUP(B24,[3]B!B$1:Q$51,16,0),VLOOKUP(B24,[3]C!B$1:Q$52,16,0)))","v":16},{"$f":"IFERROR(VLOOKUP(B24,[3]A!B$1:T$48,19,0),IFERROR(VLOOKUP(B24,[3]B!B$1:R$51,17,0),VLOOKUP(B24,[3]C!B$1:R$52,17,0)))","v":16},{"$f":"IFERROR(VLOOKUP(B24,[3]A!B$1:V$48,21,0),IFERROR(VLOOKUP(B24,[3]B!B$1:T$51,19,0),VLOOKUP(B24,[3]C!B$1:T$52,19,0)))","v":0},{"$f":"IFERROR(VLOOKUP(B24,[3]A!B$1:W$48,22,0),IFERROR(VLOOKUP(B24,[3]B!B$1:U$51,20,0),VLOOKUP(B24,[3]C!B$1:U$52,20,0)))","v":3},{"$f":"IFERROR(VLOOKUP(B24,[3]A!B$1:X$48,23,0),IFERROR(VLOOKUP(B24,[3]B!B$1:V$51,21,0),VLOOKUP(B24,[3]C!B$1:V$52,21,0)))","v":3},0,{"$f":"IFERROR(VLOOKUP(B24,[4]A!B$1:AA$48,26,0),IFERROR(VLOOKUP(B24,[4]B!B$1:AA$51,26,0),VLOOKUP(B24,[4]C!B$1:AA$52,26,0)))","v":17},{"$f":"IFERROR(VLOOKUP(B24,[4]A!B$1:AB$48,27,0),IFERROR(VLOOKUP(B24,[4]B!B$1:AB$51,27,0),VLOOKUP(B24,[4]C!B$1:AB$52,27,0)))","v":17},{"$f":"IFERROR(VLOOKUP(B24,[4]A!B$1:AD$48,29,0),IFERROR(VLOOKUP(B24,[4]B!B$1:AD$51,29,0),VLOOKUP(B24,[4]C!B$1:AD$52,29,0)))","v":0},{"$f":"IFERROR(VLOOKUP(B24,[4]A!B$1:AE$48,30,0),IFERROR(VLOOKUP(B24,[4]B!B$1:AE$51,30,0),VLOOKUP(B24,[4]C!B$1:AE$52,30,0)))","v":3},{"$f":"IFERROR(VLOOKUP(B24,[4]A!B$1:AF$48,31,0),IFERROR(VLOOKUP(B24,[4]B!B$1:AF$51,31,0),VLOOKUP(B24,[4]C!B$1:AF$52,31,0)))","v":3},{"$f":"IFERROR(VLOOKUP(B24,[4]A!B$1:AH$48,33,0),IFERROR(VLOOKUP(B24,[4]B!B$1:AH$51,33,0),VLOOKUP(B24,[4]C!B$1:AH$52,33,0)))","v":0},6,6,null,1,1,null,80,0,0,80,80,100,5,"A-2",10,10,25]
[24,"15BA078",{"$f":"VLOOKUP(B25,[1]A!B$1:AA$48,26,0)","v":8},{"$f":"VLOOKUP(B25,[1]A!B$1:AB$48,27,0)","v":9},{"$f":"VLOOKUP(B25,[1]A!B$1:AD$48,29,0)","v":0},{"$f":"VLOOKUP(B25,[1]A!B$1:AE$48,30,0)","v":0},{"$f":"VLOOKUP(B25,[1]A!B$1:AF$48,31,0)","v":0},{"$f":"VLOOKUP(B25,[1]A!B$1:AH$48,33,0)","v":0},{"$f":"IFERROR(VLOOKUP(B25,[2]A!B$1:AA$48,26,0),IFERROR(VLOOKUP(B25,[2]B!B$1:AA$51,26,0),VLOOKUP(B25,[2]C!B$1:AA$52,26,0)))","v":20},{"$f":"IFERROR(VLOOKUP(B25,[2]A!B$1:AB$48,27,0),IFERROR(VLOOKUP(B25,[2]B!B$1:AB$51,27,0),VLOOKUP(B25,[2]C!B$1:AB$52,27,0)))","v":21},{"$f":"IFERROR(VLOOKUP(B25,[2]A!B$1:AD$48,29,0),IFERROR(VLOOKUP(B25,[2]B!B$1:AD$51,29,0),VLOOKUP(B25,[2]C!B$1:AD$52,29,0)))","v":0},{"$f":"IFERROR(VLOOKUP(B25,[2]A!B$1:AE$48,30,0),IFERROR(VLOOKUP(B25,[2]B!B$1:AE$51,30,0),VLOOKUP(B25,[2]C!B$1:AE$52,30,0)))","v":3},{"$f":"IFERROR(VLOOKUP(B25,[2]A!B$1:AF$48,31,0),IFERROR(VLOOKUP(B25,[2]B!B$1:AF$51,31,0),VLOOKUP(B25,[2]C!B$1:AF$52,31,0)))","v":4},{"$f":"IFERROR(VLOOKUP(B25,[2]A!B$1:AH$48,33,0),IFERROR(VLOOKUP(B25,[2]B!B$1:AH$51,33,0),VLOOKUP(B25,[2]C!$B$1:$AH$52,33,0)))","v":0},{"$f":"IFERROR(VLOOKUP(B25,[3]A!B$1:S$48,18,0),IFERROR(VLOOKUP(B25,[3]B!B$1:Q$51,16,0),VLOOKUP(B25,[3]C!B$1:Q$52,16,0)))","v":14},{"$f":"IFERROR(VLOOKUP(B25,[3]A!B$1:T$48,19,0),IFERROR(VLOOKUP(B25,[3]B!B$1:R$51,17,0),VLOOKUP(B25,[3]C!B$1:R$52,17,0)))","v":16},{"$f":"IFERROR(VLOOKUP(B25,[3]A!B$1:V$48,21,0),IFERROR(VLOOKUP(B25,[3]B!B$1:T$51,19,0),VLOOKUP(B25,[3]C!B$1:T$52,19,0)))","v":0},{"$f":"IFERROR(VLOOKUP(B25,[3]A!B$1:W$48,22,0),IFERROR(VLOOKUP(B25,[3]B!B$1:U$51,20,0),VLOOKUP(B25,[3]C!B$1:U$52,20,0)))","v":2},{"$f":"IFERROR(VLOOKUP(B25,[3]A!B$1:X$48,23,0),IFERROR(VLOOKUP(B25,[3]B!B$1:V$51,21,0),VLOOKUP(B25,[3]C!B$1:V$52,21,0)))","v":3},0,{"$f":"IFERROR(VLOOKUP(B25,[4]A!B$1:AA$48,26,0),IFERROR(VLOOKUP(B25,[4]B!B$1:AA$51,26,0),VLOOKUP(B25,[4]C!B$1:AA$52,26,0)))","v":15},{"$f":"IFERROR(VLOOKUP(B25,[4]A!B$1:AB$48,27,0),IFERROR(VLOOKUP(B25,[4]B!B$1:AB$51,27,0),VLOOKUP(B25,[4]C!B$1:AB$52,27,0)))","v":17},{"$f":"IFERROR(VLOOKUP(B25,[4]A!B$1:AD$48,29,0),IFERROR(VLOOKUP(B25,[4]B!B$1:AD$51,29,0),VLOOKUP(B25,[4]C!B$1:AD$52,29,0)))","v":0},{"$f":"IFERROR(VLOOKUP(B25,[4]A!B$1:AE$48,30,0),IFERROR(VLOOKUP(B25,[4]B!B$1:AE$51,30,0),VLOOKUP(B25,[4]C!B$1:AE$52,30,0)))","v":2},{"$f":"IFERROR(VLOOKUP(B25,[4]A!B$1:AF$48,31,0),IFERROR(VLOOKUP(B25,[4]B!B$1:AF$51,31,0),VLOOKUP(B25,[4]C!B$1:AF$52,31,0)))","v":3},{"$f":"IFERROR(VLOOKUP(B25,[4]A!B$1:AH$48,33,0),IFERROR(VLOOKUP(B25,[4]B!B$1:AH$51,33,0),VLOOKUP(B25,[4]C!B$1:AH$52,33,0)))","v":0},5,6,null,1,1,null,80,0,0,70,70,87.5,5,"A-2",7,6,18]
[25,"15BA080",{"$f":"VLOOKUP(B26,[1]A!B$1:AA$48,26,0)","v":9},{"$f":"VLOOKUP(B26,[1]A!B$1:AB$48,27,0)","v":9},{"$f":"VLOOKUP(B26,[1]A!B$1:AD$48,29,0)","v":0},{"$f":"VLOOKUP(B26,[1]A!B$1:AE$48,30,0)","v":0},{"$f":"VLOOKUP(B26,[1]A!B$1:AF$48,31,0)","v":0},{"$f":"VLOOKUP(B26,[1]A!B$1:AH$48,33,0)","v":0},{"$f":"IFERROR(VLOOKUP(B26,[2]A!B$1:AA$48,26,0),IFERROR(VLOOKUP(B26,[2]B!B$1:AA$51,26,0),VLOOKUP(B26,[2]C!B$1:AA$52,26,0)))","v":21},{"$f":"IFERROR(VLOOKUP(B26,[2]A!B$1:AB$48,27,0),IFERROR(VLOOKUP(B26,[2]B!B$1:AB$51,27,0),VLOOKUP(B26,[2]C!B$1:AB$52,27,0)))","v":21},{"$f":"IFERROR(VLOOKUP(B26,[2]A!B$1:AD$48,29,0),IFERROR(VLOOKUP(B26,[2]B!B$1:AD$51,29,0),VLOOKUP(B26,[2]C!B$1:AD$52,29,0)))","v":0},{"$f":"IFERROR(VLOOKUP(B26,[2]A!B$1:AE$48,30,0),IFERROR(VLOOKUP(B26,[2]B!B$1:AE$51,30,0),VLOOKUP(B26,[2]C!B$1:AE$52,30,0)))","v":1},{"$f":"IFERROR(VLOOKUP(B26,[2]A!B$1:AF$48,31,0),IFERROR(VLOOKUP(B26,[2]B!B$1:AF$51,31,0),VLOOKUP(B26,[2]C!B$1:AF$52,31,0)))","v":1},{"$f":"IFERROR(VLOOKUP(B26,[2]A!B$1:AH$48,33,0),IFERROR(VLOOKUP(B26,[2]B!B$1:AH$51,33,0),VLOOKUP(B26,[2]C!$B$1:$AH$52,33,0)))","v":0},{"$f":"IFERROR(VLOOKUP(B26,[3]A!B$1:S$48,18,0),IFERROR(VLOOKUP(B26,[3]B!B$1:Q$51,16,0),VLOOKUP(B26,[3]C!B$1:Q$52,16,0)))","v":16},{"$f":"IFERROR(VLOOKUP(B26,[3]A!B$1:T$48,19,0),IFERROR(VLOOKUP(B26,[3]B!B$1:R$51,17,0),VLOOKUP(B26,[3]C!B$1:R$52,17,0)))","v":16},{"$f":"IFERROR(VLOOKUP(B26,[3]A!B$1:V$48,21,0),IFERROR(VLOOKUP(B26,[3]B!B$1:T$51,19,0),VLOOKUP(B26,[3]C!B$1:T$52,19,0)))","v":0},{"$f":"IFERROR(VLOOKUP(B26,[3]A!B$1:W$48,22,0),IFERROR(VLOOKUP(B26,[3]B!B$1:U$51,20,0),VLOOKUP(B26,[3]C!B$1:U$52,20,0)))","v":1},{"$f":"IFERROR(VLOOKUP(B26,[3]A!B$1:X$48,23,0),IFERROR(VLOOKUP(B26,[3]B!B$1:V$51,21,0),VLOOKUP(B26,[3]C!B$1:V$52,21,0)))","v":1},0,{"$f":"IFERROR(VLOOKUP(B26,[4]A!B$1:AA$48,26,0),IFERROR(VLOOKUP(B26,[4]B!B$1:AA$51,26,0),VLOOKUP(B26,[4]C!B$1:AA$52,26,0)))","v":17},{"$f":"IFERROR(VLOOKUP(B26,[4]A!B$1:AB$48,27,0),IFERROR(VLOOKUP(B26,[4]B!B$1:AB$51,27,0),VLOOKUP(B26,[4]C!B$1:AB$52,27,0)))","v":17},{"$f":"IFERROR(VLOOKUP(B26,[4]A!B$1:AD$48,29,0),IFERROR(VLOOKUP(B26,[4]B!B$1:AD$51,29,0),VLOOKUP(B26,[4]C!B$1:AD$52,29,0)))","v":0},{"$f":"IFERROR(VLOOKUP(B26,[4]A!B$1:AE$48,30,0),IFERROR(VLOOKUP(B26,[4]B!B$1:AE$51,30,0),VLOOKUP(B26,[4]C!B$1:AE$52,30,0)))","v":3},{"$f":"IFERROR(VLOOKUP(B26,[4]A!B$1:AF$48,31,0),IFERROR(VLOOKUP(B26,[4]B!B$1:AF$51,31,0),VLOOKUP(B26,[4]C!B$1:AF$52,31,0)))","v":3},{"$f":"IFERROR(VLOOKUP(B26,[4]A!B$1:AH$48,33,0),IFERROR(VLOOKUP(B26,[4]B!B$1:AH$51,33,0),VLOOKUP(B26,[4]C!B$1:AH$52,33,0)))","v":0},6,6,null,null,null,null,74,0,0,74,74,100,5,null,10,10,25]
[26,"15BA083",{"$f":"VLOOKUP(B27,[1]A!B$1:AA$48,26,0)","v":8},{"$f":"VLOOKUP(B27,[1]A!B$1:AB$48,27,0)","v":9},{"$f":"VLOOKUP(B27,[1]A!B$1:AD$48,29,0)","v":0},{"$f":"VLOOKUP(B27,[1]A!B$1:AE$48,30,0)","v":0},{"$f":"VLOOKUP(B27,[1]A!B$1:AF$48,31,0)","v":0},{"$f":"VLOOKUP(B27,[1]A!B$1:AH$48,33,0)","v":0},{"$f":"IFERROR(VLOOKUP(B27,[2]A!B$1:AA$48,26,0),IFERROR(VLOOKUP(B27,[2]B!B$1:AA$51,26,0),VLOOKUP(B27,[2]C!B$1:AA$52,26,0)))","v":19},{"$f":"IFERROR(VLOOKUP(B27,[2]A!B$1:AB$48,27,0),IFERROR(VLOOKUP(B27,[2]B!B$1:AB$51,27,0),VLOOKUP(B27,[2]C!B$1:AB$52,27,0)))","v":21},{"$f":"IFERROR(VLOOKUP(B27,[2]A!B$1:AD$48,29,0),IFERROR(VLOOKUP(B27,[2]B!B$1:AD$51,29,0),VLOOKUP(B27,[2]C!B$1:AD$52,29,0)))","v":0},{"$f":"IFERROR(VLOOKUP(B27,[2]A!B$1:AE$48,30,0),IFERROR(VLOOKUP(B27,[2]B!B$1:AE$51,30,0),VLOOKUP(B27,[2]C!B$1:AE$52,30,0)))","v":1},{"$f":"IFERROR(VLOOKUP(B27,[2]A!B$1:AF$48,31,0),IFERROR(VLOOKUP(B27,[2]B!B$1:AF$51,31,0),VLOOKUP(B27,[2]C!B$1:AF$52,31,0)))","v":1},{"$f":"IFERROR(VLOOKUP(B27,[2]A!B$1:AH$48,33,0),IFERROR(VLOOKUP(B27,[2]B!B$1:AH$51,33,0),VLOOKUP(B27,[2]C!$B$1:$AH$52,33,0)))","v":0},{"$f":"IFERROR(VLOOKUP(B27,[3]A!B$1:S$48,18,0),IFERROR(VLOOKUP(B27,[3]B!B$1:Q$51,16,0),VLOOKUP(B27,[3]C!B$1:Q$52,16,0)))","v":14},{"$f":"IFERROR(VLOOKUP(B27,[3]A!B$1:T$48,19,0),IFERROR(VLOOKUP(B27,[3]B!B$1:R$51,17,0),VLOOKUP(B27,[3]C!B$1:R$52,17,0)))","v":16},{"$f":"IFERROR(VLOOKUP(B27,[3]A!B$1:V$48,21,0),IFERROR(VLOOKUP(B27,[3]B!B$1:T$51,19,0),VLOOKUP(B27,[3]C!B$1:T$52,19,0)))","v":0},{"$f":"IFERROR(VLOOKUP(B27,[3]A!B$1:W$48,22,0),IFERROR(VLOOKUP(B27,[3]B!B$1:U$51,20,0),VLOOKUP(B27,[3]C!B$1:U$52,20,0)))","v":1},{"$f":"IFERROR(VLOOKUP(B27,[3]A!B$1:X$48,23,0),IFERROR(VLOOKUP(B27,[3]B!B$1:V$51,21,0),VLOOKUP(B27,[3]C!B$1:V$52,21,0)))","v":1},0,{"$f":"IFERROR(VLOOKUP(B27,[4]A!B$1:AA$48,26,0),IFERROR(VLOOKUP(B27,[4]B!B$1:AA$51,26,0),VLOOKUP(B27,[4]C!B$1:AA$52,26,0)))","v":15},{"$f":"IFERROR(VLOOKUP(B27,[4]A!B$1:AB$48,27,0),IFERROR(VLOOKUP(B27,[4]B!B$1:AB$51,27,0),VLOOKUP(B27,[4]C!B$1:AB$52,27,0)))","v":17},{"$f":"IFERROR(VLOOKUP(B27,[4]A!B$1:AD$48,29,0),IFERROR(VLOOKUP(B27,[4]B!B$1:AD$51,29,0),VLOOKUP(B27,[4]C!B$1:AD$52,29,0)))","v":0},{"$f":"IFERROR(VLOOKUP(B27,[4]A!B$1:AE$48,30,0),IFERROR(VLOOKUP(B27,[4]B!B$1:AE$51,30,0),VLOOKUP(B27,[4]C!B$1:AE$52,30,0)))","v":3},{"$f":"IFERROR(VLOOKUP(B27,[4]A!B$1:AF$48,31,0),IFERROR(VLOOKUP(B27,[4]B!B$1:AF$51,31,0),VLOOKUP(B27,[4]C!B$1:AF$52,31,0)))","v":3},{"$f":"IFERROR(VLOOKUP(B27,[4]A!B$1:AH$48,33,0),IFERROR(VLOOKUP(B27,[4]B!B$1:AH$51,33,0),VLOOKUP(B27,[4]C!B$1:AH$52,33,0)))","v":0},5,6,null,null,null,null,74,0,0,66,66,89.189189189189193,5,null,8,7,20]
[27,"15BA084",{"$f":"VLOOKUP(B28,[1]A!B$1:AA$48,26,0)","v":9},{"$f":"VLOOKUP(B28,[1]A!B$1:AB$48,27,0)","v":9},{"$f":"VLOOKUP(B28,[1]A!B$1:AD$48,29,0)","v":0},{"$f":"VLOOKUP(B28,[1]A!B$1:AE$48,30,0)","v":0},{"$f":"VLOOKUP(B28,[1]A!B$1:AF$48,31,0)","v":0},{"$f":"VLOOKUP(B28,[1]A!B$1:AH$48,33,0)","v":0},{"$f":"IFERROR(VLOOKUP(B28,[2]A!B$1:AA$48,26,0),IFERROR(VLOOKUP(B28,[2]B!B$1:AA$51,26,0),VLOOKUP(B28,[2]C!B$1:AA$52,26,0)))","v":21},{"$f":"IFERROR(VLOOKUP(B28,[2]A!B$1:AB$48,27,0),IFERROR(VLOOKUP(B28,[2]B!B$1:AB$51,27,0),VLOOKUP(B28,[2]C!B$1:AB$52,27,0)))","v":21},{"$f":"IFERROR(VLOOKUP(B28,[2]A!B$1:AD$48,29,0),IFERROR(VLOOKUP(B28,[2]B!B$1:AD$51,29,0),VLOOKUP(B28,[2]C!B$1:AD$52,29,0)))","v":0},{"$f":"IFERROR(VLOOKUP(B28,[2]A!B$1:AE$48,30,0),IFERROR(VLOOKUP(B28,[2]B!B$1:AE$51,30,0),VLOOKUP(B28,[2]C!B$1:AE$52,30,0)))","v":1},{"$f":"IFERROR(VLOOKUP(B28,[2]A!B$1:AF$48,31,0),IFERROR(VLOOKUP(B28,[2]B!B$1:AF$51,31,0),VLOOKUP(B28,[2]C!B$1:AF$52,31,0)))","v":1},{"$f":"IFERROR(VLOOKUP(B28,[2]A!B$1:AH$48,33,0),IFERROR(VLOOKUP(B28,[2]B!B$1:AH$51,33,0),VLOOKUP(B28,[2]C!$B$1:$AH$52,33,0)))","v":0},{"$f":"IFERROR(VLOOKUP(B28,[3]A!B$1:S$48,18,0),IFERROR(VLOOKUP(B28,[3]B!B$1:Q$51,16,0),VLOOKUP(B28,[3]C!B$1:Q$52,16,0)))","v":16},{"$f":"IFERROR(VLOOKUP(B28,[3]A!B$1:T$48,19,0),IFERROR(VLOOKUP(B28,[3]B!B$1:R$51,17,0),VLOOKUP(B28,[3]C!B$1:R$52,17,0)))","v":16},{"$f":"IFERROR(VLOOKUP(B28,[3]A!B$1:V$48,21,0),IFERROR(VLOOKUP(B28,[3]B!B$1:T$51,19,0),VLOOKUP(B28,[3]C!B$1:T$52,19,0)))","v":0},{"$f":"IFERROR(VLOOKUP(B28,[3]A!B$1:W$48,22,0),IFERROR(VLOOKUP(B28,[3]B!B$1:U$51,20,0),VLOOKUP(B28,[3]C!B$1:U$52,20,0)))","v":1},{"$f":"IFERROR(VLOOKUP(B28,[3]A!B$1:X$48,23,0),IFERROR(VLOOKUP(B28,[3]B!B$1:V$51,21,0),VLOOKUP(B28,[3]C!B$1:V$52,21,0)))","v":1},0,{"$f":"IFERROR(VLOOKUP(B28,[4]A!B$1:AA$48,26,0),IFERROR(VLOOKUP(B28,[4]B!B$1:AA$51,26,0),VLOOKUP(B28,[4]C!B$1:AA$52,26,0)))","v":17},{"$f":"IFERROR(VLOOKUP(B28,[4]A!B$1:AB$48,27,0),IFERROR(VLOOKUP(B28,[4]B!B$1:AB$51,27,0),VLOOKUP(B28,[4]C!B$1:AB$52,27,0)))","v":17},{"$f":"IFERROR(VLOOKUP(B28,[4]A!B$1:AD$48,29,0),IFERROR(VLOOKUP(B28,[4]B!B$1:AD$51,29,0),VLOOKUP(B28,[4]C!B$1:AD$52,29,0)))","v":0},{"$f":"IFERROR(VLOOKUP(B28,[4]A!B$1:AE$48,30,0),IFERROR(VLOOKUP(B28,[4]B!B$1:AE$51,30,0),VLOOKUP(B28,[4]C!B$1:AE$52,30,0)))","v":3},{"$f":"IFERROR(VLOOKUP(B28,[4]A!B$1:AF$48,31,0),IFERROR(VLOOKUP(B28,[4]B!B$1:AF$51,31,0),VLOOKUP(B28,[4]C!B$1:AF$52,31,0)))","v":3},{"$f":"IFERROR(VLOOKUP(B28,[4]A!B$1:AH$48,33,0),IFERROR(VLOOKUP(B28,[4]B!B$1:AH$51,33,0),VLOOKUP(B28,[4]C!B$1:AH$52,33,0)))","v":0},6,6,null,null,null,null,74,0,0,74,74,100,5,null,10,10,25]
[28,"15BA091",{"$f":"VLOOKUP(B29,[1]A!B$1:AA$48,26,0)","v":8},{"$f":"VLOOKUP(B29,[1]A!B$1:AB$48,27,0)","v":9},{"$f":"VLOOKUP(B29,[1]A!B$1:AD$48,29,0)","v":0},{"$f":"VLOOKUP(B29,[1]A!B$1:AE$48,30,0)","v":0},{"$f":"VLOOKUP(B29,[1]A!B$1:AF$48,31,0)","v":0},{"$f":"VLOOKUP(B29,[1]A!B$1:AH$48,33,0)","v":0},{"$f":"IFERROR(VLOOKUP(B29,[2]A!B$1:AA$48,26,0),IFERROR(VLOOKUP(B29,[2]B!B$1:AA$51,26,0),VLOOKUP(B29,[2]C!B$1:AA$52,26,0)))","v":19},{"$f":"IFERROR(VLOOKUP(B29,[2]A!B$1:AB$48,27,0),IFERROR(VLOOKUP(B29,[2]B!B$1:AB$51,27,0),VLOOKUP(B29,[2]C!B$1:AB$52,27,0)))","v":21},{"$f":"IFERROR(VLOOKUP(B29,[2]A!B$1:AD$48,29,0),IFERROR(VLOOKUP(B29,[2]B!B$1:AD$51,29,0),VLOOKUP(B29,[2]C!B$1:AD$52,29,0)))","v":0},{"$f":"IFERROR(VLOOKUP(B29,[2]A!B$1:AE$48,30,0),IFERROR(VLOOKUP(B29,[2]B!B$1:AE$51,30,0),VLOOKUP(B29,[2]C!B$1:AE$52,30,0)))","v":1},{"$f":"IFERROR(VLOOKUP(B29,[2]A!B$1:AF$48,31,0),IFERROR(VLOOKUP(B29,[2]B!B$1:AF$51,31,0),VLOOKUP(B29,[2]C!B$1:AF$52,31,0)))","v":1},{"$f":"IFERROR(VLOOKUP(B29,[2]A!B$1:AH$48,33,0),IFERROR(VLOOKUP(B29,[2]B!B$1:AH$51,33,0),VLOOKUP(B29,[2]C!$B$1:$AH$52,33,0)))","v":0},{"$f":"IFERROR(VLOOKUP(B29,[3]A!B$1:S$48,18,0),IFERROR(VLOOKUP(B29,[3]B!B$1:Q$51,16,0),VLOOKUP(B29,[3]C!B$1:Q$52,16,0)))","v":14},{"$f":"IFERROR(VLOOKUP(B29,[3]A!B$1:T$48,19,0),IFERROR(VLOOKUP(B29,[3]B!B$1:R$51,17,0),VLOOKUP(B29,[3]C!B$1:R$52,17,0)))","v":16},{"$f":"IFERROR(VLOOKUP(B29,[3]A!B$1:V$48,21,0),IFERROR(VLOOKUP(B29,[3]B!B$1:T$51,19,0),VLOOKUP(B29,[3]C!B$1:T$52,19,0)))","v":0},{"$f":"IFERROR(VLOOKUP(B29,[3]A!B$1:W$48,22,0),IFERROR(VLOOKUP(B29,[3]B!B$1:U$51,20,0),VLOOKUP(B29,[3]C!B$1:U$52,20,0)))","v":0},{"$f":"IFERROR(VLOOKUP(B29,[3]A!B$1:X$48,23,0),IFERROR(VLOOKUP(B29,[3]B!B$1:V$51,21,0),VLOOKUP(B29,[3]C!B$1:V$52,21,0)))","v":1},0,{"$f":"IFERROR(VLOOKUP(B29,[4]A!B$1:AA$48,26,0),IFERROR(VLOOKUP(B29,[4]B!B$1:AA$51,26,0),VLOOKUP(B29,[4]C!B$1:AA$52,26,0)))","v":15},{"$f":"IFERROR(VLOOKUP(B29,[4]A!B$1:AB$48,27,0),IFERROR(VLOOKUP(B29,[4]B!B$1:AB$51,27,0),VLOOKUP(B29,[4]C!B$1:AB$52,27,0)))","v":17},{"$f":"IFERROR(VLOOKUP(B29,[4]A!B$1:AD$48,29,0),IFERROR(VLOOKUP(B29,[4]B!B$1:AD$51,29,0),VLOOKUP(B29,[4]C!B$1:AD$52,29,0)))","v":0},{"$f":"IFERROR(VLOOKUP(B29,[4]A!B$1:AE$48,30,0),IFERROR(VLOOKUP(B29,[4]B!B$1:AE$51,30,0),VLOOKUP(B29,[4]C!B$1:AE$52,30,0)))","v":1},{"$f":"IFERROR(VLOOKUP(B29,[4]A!B$1:AF$48,31,0),IFERROR(VLOOKUP(B29,[4]B!B$1:AF$51,31,0),VLOOKUP(B29,[4]C!B$1:AF$52,31,0)))","v":3},{"$f":"IFERROR(VLOOKUP(B29,[4]A!B$1:AH$48,33,0),IFERROR(VLOOKUP(B29,[4]B!B$1:AH$51,33,0),VLOOKUP(B29,[4]C!B$1:AH$52,33,0)))","v":0},5,6,null,null,null,null,74,0,0,63,63,85.13513513513513,5,null,10,8,23]
[29,"15BA095",{"$f":"VLOOKUP(B30,[1]A!B$1:AA$48,26,0)","v":8},{"$f":"VLOOKUP(B30,[1]A!B$1:AB$48,27,0)","v":9},{"$f":"VLOOKUP(B30,[1]A!B$1:AD$48,29,0)","v":0},{"$f":"VLOOKUP(B30,[1]A!B$1:AE$48,30,0)","v":0},{"$f":"VLOOKUP(B30,[1]A!B$1:AF$48,31,0)","v":0},{"$f":"VLOOKUP(B30,[1]A!B$1:AH$48,33,0)","v":0},{"$f":"IFERROR(VLOOKUP(B30,[2]A!B$1:AA$48,26,0),IFERROR(VLOOKUP(B30,[2]B!B$1:AA$51,26,0),VLOOKUP(B30,[2]C!B$1:AA$52,26,0)))","v":21},{"$f":"IFERROR(VLOOKUP(B30,[2]A!B$1:AB$48,27,0),IFERROR(VLOOKUP(B30,[2]B!B$1:AB$51,27,0),VLOOKUP(B30,[2]C!B$1:AB$52,27,0)))","v":21},{"$f":"IFERROR(VLOOKUP(B30,[2]A!B$1:AD$48,29,0),IFERROR(VLOOKUP(B30,[2]B!B$1:AD$51,29,0),VLOOKUP(B30,[2]C!B$1:AD$52,29,0)))","v":0},{"$f":"IFERROR(VLOOKUP(B30,[2]A!B$1:AE$48,30,0),IFERROR(VLOOKUP(B30,[2]B!B$1:AE$51,30,0),VLOOKUP(B30,[2]C!B$1:AE$52,30,0)))","v":1},{"$f":"IFERROR(VLOOKUP(B30,[2]A!B$1:AF$48,31,0),IFERROR(VLOOKUP(B30,[2]B!B$1:AF$51,31,0),VLOOKUP(B30,[2]C!B$1:AF$52,31,0)))","v":1},{"$f":"IFERROR(VLOOKUP(B30,[2]A!B$1:AH$48,33,0),IFERROR(VLOOKUP(B30,[2]B!B$1:AH$51,33,0),VLOOKUP(B30,[2]C!$B$1:$AH$52,33,0)))","v":0},{"$f":"IFERROR(VLOOKUP(B30,[3]A!B$1:S$48,18,0),IFERROR(VLOOKUP(B30,[3]B!B$1:Q$51,16,0),VLOOKUP(B30,[3]C!B$1:Q$52,16,0)))","v":14},{"$f":"IFERROR(VLOOKUP(B30,[3]A!B$1:T$48,19,0),IFERROR(VLOOKUP(B30,[3]B!B$1:R$51,17,0),VLOOKUP(B30,[3]C!B$1:R$52,17,0)))","v":16},{"$f":"IFERROR(VLOOKUP(B30,[3]A!B$1:V$48,21,0),IFERROR(VLOOKUP(B30,[3]B!B$1:T$51,19,0),VLOOKUP(B30,[3]C!B$1:T$52,19,0)))","v":0},{"$f":"IFERROR(VLOOKUP(B30,[3]A!B$1:W$48,22,0),IFERROR(VLOOKUP(B30,[3]B!B$1:U$51,20,0),VLOOKUP(B30,[3]C!B$1:U$52,20,0)))","v":1},{"$f":"IFERROR(VLOOKUP(B30,[3]A!B$1:X$48,23,0),IFERROR(VLOOKUP(B30,[3]B!B$1:V$51,21,0),VLOOKUP(B30,[3]C!B$1:V$52,21,0)))","v":1},0,{"$f":"IFERROR(VLOOKUP(B30,[4]A!B$1:AA$48,26,0),IFERROR(VLOOKUP(B30,[4]B!B$1:AA$51,26,0),VLOOKUP(B30,[4]C!B$1:AA$52,26,0)))","v":15},{"$f":"IFERROR(VLOOKUP(B30,[4]A!B$1:AB$48,27,0),IFERROR(VLOOKUP(B30,[4]B!B$1:AB$51,27,0),VLOOKUP(B30,[4]C!B$1:AB$52,27,0)))","v":17},{"$f":"IFERROR(VLOOKUP(B30,[4]A!B$1:AD$48,29,0),IFERROR(VLOOKUP(B30,[4]B!B$1:AD$51,29,0),VLOOKUP(B30,[4]C!B$1:AD$52,29,0)))","v":0},{"$f":"IFERROR(VLOOKUP(B30,[4]A!B$1:AE$48,30,0),IFERROR(VLOOKUP(B30,[4]B!B$1:AE$51,30,0),VLOOKUP(B30,[4]C!B$1:AE$52,30,0)))","v":0},{"$f":"IFERROR(VLOOKUP(B30,[4]A!B$1:AF$48,31,0),IFERROR(VLOOKUP(B30,[4]B!B$1:AF$51,31,0),VLOOKUP(B30,[4]C!B$1:AF$52,31,0)))","v":3},{"$f":"IFERROR(VLOOKUP(B30,[4]A!B$1:AH$48,33,0),IFERROR(VLOOKUP(B30,[4]B!B$1:AH$51,33,0),VLOOKUP(B30,[4]C!B$1:AH$52,33,0)))","v":0},5,6,null,null,null,null,74,0,0,65,65,87.837837837837839,5,null,7,7,19]
[30,"15BA096",{"$f":"VLOOKUP(B31,[1]A!B$1:AA$48,26,0)","v":9},{"$f":"VLOOKUP(B31,[1]A!B$1:AB$48,27,0)","v":9},{"$f":"VLOOKUP(B31,[1]A!B$1:AD$48,29,0)","v":0},{"$f":"VLOOKUP(B31,[1]A!B$1:AE$48,30,0)","v":0},{"$f":"VLOOKUP(B31,[1]A!B$1:AF$48,31,0)","v":0},{"$f":"VLOOKUP(B31,[1]A!B$1:AH$48,33,0)","v":0},{"$f":"IFERROR(VLOOKUP(B31,[2]A!B$1:AA$48,26,0),IFERROR(VLOOKUP(B31,[2]B!B$1:AA$51,26,0),VLOOKUP(B31,[2]C!B$1:AA$52,26,0)))","v":21},{"$f":"IFERROR(VLOOKUP(B31,[2]A!B$1:AB$48,27,0),IFERROR(VLOOKUP(B31,[2]B!B$1:AB$51,27,0),VLOOKUP(B31,[2]C!B$1:AB$52,27,0)))","v":21},{"$f":"IFERROR(VLOOKUP(B31,[2]A!B$1:AD$48,29,0),IFERROR(VLOOKUP(B31,[2]B!B$1:AD$51,29,0),VLOOKUP(B31,[2]C!B$1:AD$52,29,0)))","v":0},{"$f":"IFERROR(VLOOKUP(B31,[2]A!B$1:AE$48,30,0),IFERROR(VLOOKUP(B31,[2]B!B$1:AE$51,30,0),VLOOKUP(B31,[2]C!B$1:AE$52,30,0)))","v":1},{"$f":"IFERROR(VLOOKUP(B31,[2]A!B$1:AF$48,31,0),IFERROR(VLOOKUP(B31,[2]B!B$1:AF$51,31,0),VLOOKUP(B31,[2]C!B$1:AF$52,31,0)))","v":1},{"$f":"IFERROR(VLOOKUP(B31,[2]A!B$1:AH$48,33,0),IFERROR(VLOOKUP(B31,[2]B!B$1:AH$51,33,0),VLOOKUP(B31,[2]C!$B$1:$AH$52,33,0)))","v":0},{"$f":"IFERROR(VLOOKUP(B31,[3]A!B$1:S$48,18,0),IFERROR(VLOOKUP(B31,[3]B!B$1:Q$51,16,0),VLOOKUP(B31,[3]C!B$1:Q$52,16,0)))","v":16},{"$f":"IFERROR(VLOOKUP(B31,[3]A!B$1:T$48,19,0),IFERROR(VLOOKUP(B31,[3]B!B$1:R$51,17,0),VLOOKUP(B31,[3]C!B$1:R$52,17,0)))","v":16},{"$f":"IFERROR(VLOOKUP(B31,[3]A!B$1:V$48,21,0),IFERROR(VLOOKUP(B31,[3]B!B$1:T$51,19,0),VLOOKUP(B31,[3]C!B$1:T$52,19,0)))","v":0},{"$f":"IFERROR(VLOOKUP(B31,[3]A!B$1:W$48,22,0),IFERROR(VLOOKUP(B31,[3]B!B$1:U$51,20,0),VLOOKUP(B31,[3]C!B$1:U$52,20,0)))","v":0},{"$f":"IFERROR(VLOOKUP(B31,[3]A!B$1:X$48,23,0),IFERROR(VLOOKUP(B31,[3]B!B$1:V$51,21,0),VLOOKUP(B31,[3]C!B$1:V$52,21,0)))","v":1},0,{"$f":"IFERROR(VLOOKUP(B31,[4]A!B$1:AA$48,26,0),IFERROR(VLOOKUP(B31,[4]B!B$1:AA$51,26,0),VLOOKUP(B31,[4]C!B$1:AA$52,26,0)))","v":17},{"$f":"IFERROR(VLOOKUP(B31,[4]A!B$1:AB$48,27,0),IFERROR(VLOOKUP(B31,[4]B!B$1:AB$51,27,0),VLOOKUP(B31,[4]C!B$1:AB$52,27,0)))","v":17},{"$f":"IFERROR(VLOOKUP(B31,[4]A!B$1:AD$48,29,0),IFERROR(VLOOKUP(B31,[4]B!B$1:AD$51,29,0),VLOOKUP(B31,[4]C!B$1:AD$52,29,0)))","v":0},{"$f":"IFERROR(VLOOKUP(B31,[4]A!B$1:AE$48,30,0),IFERROR(VLOOKUP(B31,[4]B!B$1:AE$51,30,0),VLOOKUP(B31,[4]C!B$1:AE$52,30,0)))","v":0},{"$f":"IFERROR(VLOOKUP(B31,[4]A!B$1:AF$48,31,0),IFERROR(VLOOKUP(B31,[4]B!B$1:AF$51,31,0),VLOOKUP(B31,[4]C!B$1:AF$52,31,0)))","v":3},{"$f":"IFERROR(VLOOKUP(B31,[4]A!B$1:AH$48,33,0),IFERROR(VLOOKUP(B31,[4]B!B$1:AH$51,33,0),VLOOKUP(B31,[4]C!B$1:AH$52,33,0)))","v":0},6,6,null,null,null,null,74,0,0,70,70,94.594594594594597,5,null,10,10,25]
[31,"15BA100",{"$f":"VLOOKUP(B32,[1]A!B$1:AA$48,26,0)","v":8},{"$f":"VLOOKUP(B32,[1]A!B$1:AB$48,27,0)","v":9},{"$f":"VLOOKUP(B32,[1]A!B$1:AD$48,29,0)","v":0},{"$f":"VLOOKUP(B32,[1]A!B$1:AE$48,30,0)","v":0},{"$f":"VLOOKUP(B32,[1]A!B$1:AF$48,31,0)","v":0},{"$f":"VLOOKUP(B32,[1]A!B$1:AH$48,33,0)","v":0},{"$f":"IFERROR(VLOOKUP(B32,[2]A!B$1:AA$48,26,0),IFERROR(VLOOKUP(B32,[2]B!B$1:AA$51,26,0),VLOOKUP(B32,[2]C!B$1:AA$52,26,0)))","v":19},{"$f":"IFERROR(VLOOKUP(B32,[2]A!B$1:AB$48,27,0),IFERROR(VLOOKUP(B32,[2]B!B$1:AB$51,27,0),VLOOKUP(B32,[2]C!B$1:AB$52,27,0)))","v":21},{"$f":"IFERROR(VLOOKUP(B32,[2]A!B$1:AD$48,29,0),IFERROR(VLOOKUP(B32,[2]B!B$1:AD$51,29,0),VLOOKUP(B32,[2]C!B$1:AD$52,29,0)))","v":0},{"$f":"IFERROR(VLOOKUP(B32,[2]A!B$1:AE$48,30,0),IFERROR(VLOOKUP(B32,[2]B!B$1:AE$51,30,0),VLOOKUP(B32,[2]C!B$1:AE$52,30,0)))","v":1},{"$f":"IFERROR(VLOOKUP(B32,[2]A!B$1:AF$48,31,0),IFERROR(VLOOKUP(B32,[2]B!B$1:AF$51,31,0),VLOOKUP(B32,[2]C!B$1:AF$52,31,0)))","v":1},{"$f":"IFERROR(VLOOKUP(B32,[2]A!B$1:AH$48,33,0),IFERROR(VLOOKUP(B32,[2]B!B$1:AH$51,33,0),VLOOKUP(B32,[2]C!$B$1:$AH$52,33,0)))","v":0},{"$f":"IFERROR(VLOOKUP(B32,[3]A!B$1:S$48,18,0),IFERROR(VLOOKUP(B32,[3]B!B$1:Q$51,16,0),VLOOKUP(B32,[3]C!B$1:Q$52,16,0)))","v":14},{"$f":"IFERROR(VLOOKUP(B32,[3]A!B$1:T$48,19,0),IFERROR(VLOOKUP(B32,[3]B!B$1:R$51,17,0),VLOOKUP(B32,[3]C!B$1:R$52,17,0)))","v":16},{"$f":"IFERROR(VLOOKUP(B32,[3]A!B$1:V$48,21,0),IFERROR(VLOOKUP(B32,[3]B!B$1:T$51,19,0),VLOOKUP(B32,[3]C!B$1:T$52,19,0)))","v":0},{"$f":"IFERROR(VLOOKUP(B32,[3]A!B$1:W$48,22,0),IFERROR(VLOOKUP(B32,[3]B!B$1:U$51,20,0),VLOOKUP(B32,[3]C!B$1:U$52,20,0)))","v":0},{"$f":"IFERROR(VLOOKUP(B32,[3]A!B$1:X$48,23,0),IFERROR(VLOOKUP(B32,[3]B!B$1:V$51,21,0),VLOOKUP(B32,[3]C!B$1:V$52,21,0)))","v":1},0,{"$f":"IFERROR(VLOOKUP(B32,[4]A!B$1:AA$48,26,0),IFERROR(VLOOKUP(B32,[4]B!B$1:AA$51,26,0),VLOOKUP(B32,[4]C!B$1:AA$52,26,0)))","v":15},{"$f":"IFERROR(VLOOKUP(B32,[4]A!B$1:AB$48,27,0),IFERROR(VLOOKUP(B32,[4]B!B$1:AB$51,27,0),VLOOKUP(B32,[4]C!B$1:AB$52,27,0)))","v":17},{"$f":"IFERROR(VLOOKUP(B32,[4]A!B$1:AD$48,29,0),IFERROR(VLOOKUP(B32,[4]B!B$1:AD$51,29,0),VLOOKUP(B32,[4]C!B$1:AD$52,29,0)))","v":0},{"$f":"IFERROR(VLOOKUP(B32,[4]A!B$1:AE$48,30,0),IFERROR(VLOOKUP(B32,[4]B!B$1:AE$51,30,0),VLOOKUP(B32,[4]C!B$1:AE$52,30,0)))","v":3},{"$f":"IFERROR(VLOOKUP(B32,[4]A!B$1:AF$48,31,0),IFERROR(VLOOKUP(B32,[4]B!B$1:AF$51,31,0),VLOOKUP(B32,[4]C!B$1:AF$52,31,0)))","v":3},{"$f":"IFERROR(VLOOKUP(B32,[4]A!B$1:AH$48,33,0),IFERROR(VLOOKUP(B32,[4]B!B$1:AH$51,33,0),VLOOKUP(B32,[4]C!B$1:AH$52,33,0)))","v":0},5,6,null,null,null,null,74,0,0,65,65,87.837837837837839,5,null,8,6,19]
[32,"15BA105",{"$f":"VLOOKUP(B33,[1]A!B$1:AA$48,26,0)","v":8},{"$f":"VLOOKUP(B33,[1]A!B$1:AB$48,27,0)","v":9},{"$f":"VLOOKUP(B33,[1]A!B$1:AD$48,29,0)","v":0},{"$f":"VLOOKUP(B33,[1]A!B$1:AE$48,30,0)","v":0},{"$f":"VLOOKUP(B33,[1]A!B$1:AF$48,31,0)","v":0},{"$f":"VLOOKUP(B33,[1]A!B$1:AH$48,33,0)","v":0},{"$f":"IFERROR(VLOOKUP(B33,[2]A!B$1:AA$48,26,0),IFERROR(VLOOKUP(B33,[2]B!B$1:AA$51,26,0),VLOOKUP(B33,[2]C!B$1:AA$52,26,0)))","v":19},{"$f":"IFERROR(VLOOKUP(B33,[2]A!B$1:AB$48,27,0),IFERROR(VLOOKUP(B33,[2]B!B$1:AB$51,27,0),VLOOKUP(B33,[2]C!B$1:AB$52,27,0)))","v":21},{"$f":"IFERROR(VLOOKUP(B33,[2]A!B$1:AD$48,29,0),IFERROR(VLOOKUP(B33,[2]B!B$1:AD$51,29,0),VLOOKUP(B33,[2]C!B$1:AD$52,29,0)))","v":0},{"$f":"IFERROR(VLOOKUP(B33,[2]A!B$1:AE$48,30,0),IFERROR(VLOOKUP(B33,[2]B!B$1:AE$51,30,0),VLOOKUP(B33,[2]C!B$1:AE$52,30,0)))","v":1},{"$f":"IFERROR(VLOOKUP(B33,[2]A!B$1:AF$48,31,0),IFERROR(VLOOKUP(B33,[2]B!B$1:AF$51,31,0),VLOOKUP(B33,[2]C!B$1:AF$52,31,0)))","v":1},{"$f":"IFERROR(VLOOKUP(B33,[2]A!B$1:AH$48,33,0),IFERROR(VLOOKUP(B33,[2]B!B$1:AH$51,33,0),VLOOKUP(B33,[2]C!$B$1:$AH$52,33,0)))","v":0},{"$f":"IFERROR(VLOOKUP(B33,[3]A!B$1:S$48,18,0),IFERROR(VLOOKUP(B33,[3]B!B$1:Q$51,16,0),VLOOKUP(B33,[3]C!B$1:Q$52,16,0)))","v":14},{"$f":"IFERROR(VLOOKUP(B33,[3]A!B$1:T$48,19,0),IFERROR(VLOOKUP(B33,[3]B!B$1:R$51,17,0),VLOOKUP(B33,[3]C!B$1:R$52,17,0)))","v":16},{"$f":"IFERROR(VLOOKUP(B33,[3]A!B$1:V$48,21,0),IFERROR(VLOOKUP(B33,[3]B!B$1:T$51,19,0),VLOOKUP(B33,[3]C!B$1:T$52,19,0)))","v":0},{"$f":"IFERROR(VLOOKUP(B33,[3]A!B$1:W$48,22,0),IFERROR(VLOOKUP(B33,[3]B!B$1:U$51,20,0),VLOOKUP(B33,[3]C!B$1:U$52,20,0)))","v":0},{"$f":"IFERROR(VLOOKUP(B33,[3]A!B$1:X$48,23,0),IFERROR(VLOOKUP(B33,[3]B!B$1:V$51,21,0),VLOOKUP(B33,[3]C!B$1:V$52,21,0)))","v":1},0,{"$f":"IFERROR(VLOOKUP(B33,[4]A!B$1:AA$48,26,0),IFERROR(VLOOKUP(B33,[4]B!B$1:AA$51,26,0),VLOOKUP(B33,[4]C!B$1:AA$52,26,0)))","v":15},{"$f":"IFERROR(VLOOKUP(B33,[4]A!B$1:AB$48,27,0),IFERROR(VLOOKUP(B33,[4]B!B$1:AB$51,27,0),VLOOKUP(B33,[4]C!B$1:AB$52,27,0)))","v":17},{"$f":"IFERROR(VLOOKUP(B33,[4]A!B$1:AD$48,29,0),IFERROR(VLOOKUP(B33,[4]B!B$1:AD$51,29,0),VLOOKUP(B33,[4]C!B$1:AD$52,29,0)))","v":0},{"$f":"IFERROR(VLOOKUP(B33,[4]A!B$1:AE$48,30,0),IFERROR(VLOOKUP(B33,[4]B!B$1:AE$51,30,0),VLOOKUP(B33,[4]C!B$1:AE$52,30,0)))","v":1},{"$f":"IFERROR(VLOOKUP(B33,[4]A!B$1:AF$48,31,0),IFERROR(VLOOKUP(B33,[4]B!B$1:AF$51,31,0),VLOOKUP(B33,[4]C!B$1:AF$52,31,0)))","v":3},{"$f":"IFERROR(VLOOKUP(B33,[4]A!B$1:AH$48,33,0),IFERROR(VLOOKUP(B33,[4]B!B$1:AH$51,33,0),VLOOKUP(B33,[4]C!B$1:AH$52,33,0)))","v":0},5,6,null,null,null,null,74,0,0,63,63,85.13513513513513,5,null,8,7,20]
[33,"15BA106",{"$f":"VLOOKUP(B34,[1]A!B$1:AA$48,26,0)","v":8},{"$f":"VLOOKUP(B34,[1]A!B$1:AB$48,27,0)","v":9},{"$f":"VLOOKUP(B34,[1]A!B$1:AD$48,29,0)","v":0},{"$f":"VLOOKUP(B34,[1]A!B$1:AE$48,30,0)","v":0},{"$f":"VLOOKUP(B34,[1]A!B$1:AF$48,31,0)","v":0},{"$f":"VLOOKUP(B34,[1]A!B$1:AH$48,33,0)","v":0},{"$f":"IFERROR(VLOOKUP(B34,[2]A!B$1:AA$48,26,0),IFERROR(VLOOKUP(B34,[2]B!B$1:AA$51,26,0),VLOOKUP(B34,[2]C!B$1:AA$52,26,0)))","v":19},{"$f":"IFERROR(VLOOKUP(B34,[2]A!B$1:AB$48,27,0),IFERROR(VLOOKUP(B34,[2]B!B$1:AB$51,27,0),VLOOKUP(B34,[2]C!B$1:AB$52,27,0)))","v":21},{"$f":"IFERROR(VLOOKUP(B34,[2]A!B$1:AD$48,29,0),IFERROR(VLOOKUP(B34,[2]B!B$1:AD$51,29,0),VLOOKUP(B34,[2]C!B$1:AD$52,29,0)))","v":0},{"$f":"IFERROR(VLOOKUP(B34,[2]A!B$1:AE$48,30,0),IFERROR(VLOOKUP(B34,[2]B!B$1:AE$51,30,0),VLOOKUP(B34,[2]C!B$1:AE$52,30,0)))","v":1},{"$f":"IFERROR(VLOOKUP(B34,[2]A!B$1:AF$48,31,0),IFERROR(VLOOKUP(B34,[2]B!B$1:AF$51,31,0),VLOOKUP(B34,[2]C!B$1:AF$52,31,0)))","v":1},{"$f":"IFERROR(VLOOKUP(B34,[2]A!B$1:AH$48,33,0),IFERROR(VLOOKUP(B34,[2]B!B$1:AH$51,33,0),VLOOKUP(B34,[2]C!$B$1:$AH$52,33,0)))","v":0},{"$f":"IFERROR(VLOOKUP(B34,[3]A!B$1:S$48,18,0),IFERROR(VLOOKUP(B34,[3]B!B$1:Q$51,16,0),VLOOKUP(B34,[3]C!B$1:Q$52,16,0)))","v":14},{"$f":"IFERROR(VLOOKUP(B34,[3]A!B$1:T$48,19,0),IFERROR(VLOOKUP(B34,[3]B!B$1:R$51,17,0),VLOOKUP(B34,[3]C!B$1:R$52,17,0)))","v":16},{"$f":"IFERROR(VLOOKUP(B34,[3]A!B$1:V$48,21,0),IFERROR(VLOOKUP(B34,[3]B!B$1:T$51,19,0),VLOOKUP(B34,[3]C!B$1:T$52,19,0)))","v":0},{"$f":"IFERROR(VLOOKUP(B34,[3]A!B$1:W$48,22,0),IFERROR(VLOOKUP(B34,[3]B!B$1:U$51,20,0),VLOOKUP(B34,[3]C!B$1:U$52,20,0)))","v":0},{"$f":"IFERROR(VLOOKUP(B34,[3]A!B$1:X$48,23,0),IFERROR(VLOOKUP(B34,[3]B!B$1:V$51,21,0),VLOOKUP(B34,[3]C!B$1:V$52,21,0)))","v":1},0,{"$f":"IFERROR(VLOOKUP(B34,[4]A!B$1:AA$48,26,0),IFERROR(VLOOKUP(B34,[4]B!B$1:AA$51,26,0),VLOOKUP(B34,[4]C!B$1:AA$52,26,0)))","v":15},{"$f":"IFERROR(VLOOKUP(B34,[4]A!B$1:AB$48,27,0),IFERROR(VLOOKUP(B34,[4]B!B$1:AB$51,27,0),VLOOKUP(B34,[4]C!B$1:AB$52,27,0)))","v":17},{"$f":"IFERROR(VLOOKUP(B34,[4]A!B$1:AD$48,29,0),IFERROR(VLOOKUP(B34,[4]B!B$1:AD$51,29,0),VLOOKUP(B34,[4]C!B$1:AD$52,29,0)))","v":0},{"$f":"IFERROR(VLOOKUP(B34,[4]A!B$1:AE$48,30,0),IFERROR(VLOOKUP(B34,[4]B!B$1:AE$51,30,0),VLOOKUP(B34,[4]C!B$1:AE$52,30,0)))","v":2},{"$f":"IFERROR(VLOOKUP(B34,[4]A!B$1:AF$48,31,0),IFERROR(VLOOKUP(B34,[4]B!B$1:AF$51,31,0),VLOOKUP(B34,[4]C!B$1:AF$52,31,0)))","v":3},{"$f":"IFERROR(VLOOKUP(B34,[4]A!B$1:AH$48,33,0),IFERROR(VLOOKUP(B34,[4]B!B$1:AH$51,33,0),VLOOKUP(B34,[4]C!B$1:AH$52,33,0)))","v":0},5,6,null,null,null,null,74,0,0,64,64,86.486486486486484,5,null,7,6,18]
[34,"15BA110",{"$f":"VLOOKUP(B35,[1]A!B$1:AA$48,26,0)","v":9},{"$f":"VLOOKUP(B35,[1]A!B$1:AB$48,27,0)","v":9},{"$f":"VLOOKUP(B35,[1]A!B$1:AD$48,29,0)","v":0},{"$f":"VLOOKUP(B35,[1]A!B$1:AE$48,30,0)","v":0},{"$f":"VLOOKUP(B35,[1]A!B$1:AF$48,31,0)","v":0},{"$f":"VLOOKUP(B35,[1]A!B$1:AH$48,33,0)","v":0},{"$f":"IFERROR(VLOOKUP(B35,[2]A!B$1:AA$48,26,0),IFERROR(VLOOKUP(B35,[2]B!B$1:AA$51,26,0),VLOOKUP(B35,[2]C!B$1:AA$52,26,0)))","v":21},{"$f":"IFERROR(VLOOKUP(B35,[2]A!B$1:AB$48,27,0),IFERROR(VLOOKUP(B35,[2]B!B$1:AB$51,27,0),VLOOKUP(B35,[2]C!B$1:AB$52,27,0)))","v":21},{"$f":"IFERROR(VLOOKUP(B35,[2]A!B$1:AD$48,29,0),IFERROR(VLOOKUP(B35,[2]B!B$1:AD$51,29,0),VLOOKUP(B35,[2]C!B$1:AD$52,29,0)))","v":0},{"$f":"IFERROR(VLOOKUP(B35,[2]A!B$1:AE$48,30,0),IFERROR(VLOOKUP(B35,[2]B!B$1:AE$51,30,0),VLOOKUP(B35,[2]C!B$1:AE$52,30,0)))","v":4},{"$f":"IFERROR(VLOOKUP(B35,[2]A!B$1:AF$48,31,0),IFERROR(VLOOKUP(B35,[2]B!B$1:AF$51,31,0),VLOOKUP(B35,[2]C!B$1:AF$52,31,0)))","v":4},{"$f":"IFERROR(VLOOKUP(B35,[2]A!B$1:AH$48,33,0),IFERROR(VLOOKUP(B35,[2]B!B$1:AH$51,33,0),VLOOKUP(B35,[2]C!$B$1:$AH$52,33,0)))","v":0},{"$f":"IFERROR(VLOOKUP(B35,[3]A!B$1:S$48,18,0),IFERROR(VLOOKUP(B35,[3]B!B$1:Q$51,16,0),VLOOKUP(B35,[3]C!B$1:Q$52,16,0)))","v":16},{"$f":"IFERROR(VLOOKUP(B35,[3]A!B$1:T$48,19,0),IFERROR(VLOOKUP(B35,[3]B!B$1:R$51,17,0),VLOOKUP(B35,[3]C!B$1:R$52,17,0)))","v":16},{"$f":"IFERROR(VLOOKUP(B35,[3]A!B$1:V$48,21,0),IFERROR(VLOOKUP(B35,[3]B!B$1:T$51,19,0),VLOOKUP(B35,[3]C!B$1:T$52,19,0)))","v":0},{"$f":"IFERROR(VLOOKUP(B35,[3]A!B$1:W$48,22,0),IFERROR(VLOOKUP(B35,[3]B!B$1:U$51,20,0),VLOOKUP(B35,[3]C!B$1:U$52,20,0)))","v":3},{"$f":"IFERROR(VLOOKUP(B35,[3]A!B$1:X$48,23,0),IFERROR(VLOOKUP(B35,[3]B!B$1:V$51,21,0),VLOOKUP(B35,[3]C!B$1:V$52,21,0)))","v":3},0,{"$f":"IFERROR(VLOOKUP(B35,[4]A!B$1:AA$48,26,0),IFERROR(VLOOKUP(B35,[4]B!B$1:AA$51,26,0),VLOOKUP(B35,[4]C!B$1:AA$52,26,0)))","v":17},{"$f":"IFERROR(VLOOKUP(B35,[4]A!B$1:AB$48,27,0),IFERROR(VLOOKUP(B35,[4]B!B$1:AB$51,27,0),VLOOKUP(B35,[4]C!B$1:AB$52,27,0)))","v":17},{"$f":"IFERROR(VLOOKUP(B35,[4]A!B$1:AD$48,29,0),IFERROR(VLOOKUP(B35,[4]B!B$1:AD$51,29,0),VLOOKUP(B35,[4]C!B$1:AD$52,29,0)))","v":0},{"$f":"IFERROR(VLOOKUP(B35,[4]A!B$1:AE$48,30,0),IFERROR(VLOOKUP(B35,[4]B!B$1:AE$51,30,0),VLOOKUP(B35,[4]C!B$1:AE$52,30,0)))","v":3},{"$f":"IFERROR(VLOOKUP(B35,[4]A!B$1:AF$48,31,0),IFERROR(VLOOKUP(B35,[4]B!B$1:AF$51,31,0),VLOOKUP(B35,[4]C!B$1:AF$52,31,0)))","v":3},{"$f":"IFERROR(VLOOKUP(B35,[4]A!B$1:AH$48,33,0),IFERROR(VLOOKUP(B35,[4]B!B$1:AH$51,33,0),VLOOKUP(B35,[4]C!B$1:AH$52,33,0)))","v":0},6,6,null,1,1,null,80,0,0,80,80,100,5,"A-3",9,10,24]
[35,"15BA112",{"$f":"VLOOKUP(B36,[1]A!B$1:AA$48,26,0)","v":8},{"$f":"VLOOKUP(B36,[1]A!B$1:AB$48,27,0)","v":9},{"$f":"VLOOKUP(B36,[1]A!B$1:AD$48,29,0)","v":0},{"$f":"VLOOKUP(B36,[1]A!B$1:AE$48,30,0)","v":0},{"$f":"VLOOKUP(B36,[1]A!B$1:AF$48,31,0)","v":0},{"$f":"VLOOKUP(B36,[1]A!B$1:AH$48,33,0)","v":0},{"$f":"IFERROR(VLOOKUP(B36,[2]A!B$1:AA$48,26,0),IFERROR(VLOOKUP(B36,[2]B!B$1:AA$51,26,0),VLOOKUP(B36,[2]C!B$1:AA$52,26,0)))","v":19},{"$f":"IFERROR(VLOOKUP(B36,[2]A!B$1:AB$48,27,0),IFERROR(VLOOKUP(B36,[2]B!B$1:AB$51,27,0),VLOOKUP(B36,[2]C!B$1:AB$52,27,0)))","v":21},{"$f":"IFERROR(VLOOKUP(B36,[2]A!B$1:AD$48,29,0),IFERROR(VLOOKUP(B36,[2]B!B$1:AD$51,29,0),VLOOKUP(B36,[2]C!B$1:AD$52,29,0)))","v":0},{"$f":"IFERROR(VLOOKUP(B36,[2]A!B$1:AE$48,30,0),IFERROR(VLOOKUP(B36,[2]B!B$1:AE$51,30,0),VLOOKUP(B36,[2]C!B$1:AE$52,30,0)))","v":3},{"$f":"IFERROR(VLOOKUP(B36,[2]A!B$1:AF$48,31,0),IFERROR(VLOOKUP(B36,[2]B!B$1:AF$51,31,0),VLOOKUP(B36,[2]C!B$1:AF$52,31,0)))","v":4},{"$f":"IFERROR(VLOOKUP(B36,[2]A!B$1:AH$48,33,0),IFERROR(VLOOKUP(B36,[2]B!B$1:AH$51,33,0),VLOOKUP(B36,[2]C!$B$1:$AH$52,33,0)))","v":0},{"$f":"IFERROR(VLOOKUP(B36,[3]A!B$1:S$48,18,0),IFERROR(VLOOKUP(B36,[3]B!B$1:Q$51,16,0),VLOOKUP(B36,[3]C!B$1:Q$52,16,0)))","v":14},{"$f":"IFERROR(VLOOKUP(B36,[3]A!B$1:T$48,19,0),IFERROR(VLOOKUP(B36,[3]B!B$1:R$51,17,0),VLOOKUP(B36,[3]C!B$1:R$52,17,0)))","v":16},{"$f":"IFERROR(VLOOKUP(B36,[3]A!B$1:V$48,21,0),IFERROR(VLOOKUP(B36,[3]B!B$1:T$51,19,0),VLOOKUP(B36,[3]C!B$1:T$52,19,0)))","v":0},{"$f":"IFERROR(VLOOKUP(B36,[3]A!B$1:W$48,22,0),IFERROR(VLOOKUP(B36,[3]B!B$1:U$51,20,0),VLOOKUP(B36,[3]C!B$1:U$52,20,0)))","v":2},{"$f":"IFERROR(VLOOKUP(B36,[3]A!B$1:X$48,23,0),IFERROR(VLOOKUP(B36,[3]B!B$1:V$51,21,0),VLOOKUP(B36,[3]C!B$1:V$52,21,0)))","v":3},0,{"$f":"IFERROR(VLOOKUP(B36,[4]A!B$1:AA$48,26,0),IFERROR(VLOOKUP(B36,[4]B!B$1:AA$51,26,0),VLOOKUP(B36,[4]C!B$1:AA$52,26,0)))","v":15},{"$f":"IFERROR(VLOOKUP(B36,[4]A!B$1:AB$48,27,0),IFERROR(VLOOKUP(B36,[4]B!B$1:AB$51,27,0),VLOOKUP(B36,[4]C!B$1:AB$52,27,0)))","v":17},{"$f":"IFERROR(VLOOKUP(B36,[4]A!B$1:AD$48,29,0),IFERROR(VLOOKUP(B36,[4]B!B$1:AD$51,29,0),VLOOKUP(B36,[4]C!B$1:AD$52,29,0)))","v":0},{"$f":"IFERROR(VLOOKUP(B36,[4]A!B$1:AE$48,30,0),IFERROR(VLOOKUP(B36,[4]B!B$1:AE$51,30,0),VLOOKUP(B36,[4]C!B$1:AE$52,30,0)))","v":2},{"$f":"IFERROR(VLOOKUP(B36,[4]A!B$1:AF$48,31,0),IFERROR(VLOOKUP(B36,[4]B!B$1:AF$51,31,0),VLOOKUP(B36,[4]C!B$1:AF$52,31,0)))","v":3},{"$f":"IFERROR(VLOOKUP(B36,[4]A!B$1:AH$48,33,0),IFERROR(VLOOKUP(B36,[4]B!B$1:AH$51,33,0),VLOOKUP(B36,[4]C!B$1:AH$52,33,0)))","v":0},5,6,null,1,1,null,80,0,0,69,69,86.25,5,"A-3",7,6,18]
[36,"15BA115",{"$f":"VLOOKUP(B37,[1]A!B$1:AA$48,26,0)","v":8},{"$f":"VLOOKUP(B37,[1]A!B$1:AB$48,27,0)","v":9},{"$f":"VLOOKUP(B37,[1]A!B$1:AD$48,29,0)","v":0},{"$f":"VLOOKUP(B37,[1]A!B$1:AE$48,30,0)","v":0},{"$f":"VLOOKUP(B37,[1]A!B$1:AF$48,31,0)","v":0},{"$f":"VLOOKUP(B37,[1]A!B$1:AH$48,33,0)","v":0},{"$f":"IFERROR(VLOOKUP(B37,[2]A!B$1:AA$48,26,0),IFERROR(VLOOKUP(B37,[2]B!B$1:AA$51,26,0),VLOOKUP(B37,[2]C!B$1:AA$52,26,0)))","v":20},{"$f":"IFERROR(VLOOKUP(B37,[2]A!B$1:AB$48,27,0),IFERROR(VLOOKUP(B37,[2]B!B$1:AB$51,27,0),VLOOKUP(B37,[2]C!B$1:AB$52,27,0)))","v":21},{"$f":"IFERROR(VLOOKUP(B37,[2]A!B$1:AD$48,29,0),IFERROR(VLOOKUP(B37,[2]B!B$1:AD$51,29,0),VLOOKUP(B37,[2]C!B$1:AD$52,29,0)))","v":0},{"$f":"IFERROR(VLOOKUP(B37,[2]A!B$1:AE$48,30,0),IFERROR(VLOOKUP(B37,[2]B!B$1:AE$51,30,0),VLOOKUP(B37,[2]C!B$1:AE$52,30,0)))","v":1},{"$f":"IFERROR(VLOOKUP(B37,[2]A!B$1:AF$48,31,0),IFERROR(VLOOKUP(B37,[2]B!B$1:AF$51,31,0),VLOOKUP(B37,[2]C!B$1:AF$52,31,0)))","v":1},{"$f":"IFERROR(VLOOKUP(B37,[2]A!B$1:AH$48,33,0),IFERROR(VLOOKUP(B37,[2]B!B$1:AH$51,33,0),VLOOKUP(B37,[2]C!$B$1:$AH$52,33,0)))","v":0},{"$f":"IFERROR(VLOOKUP(B37,[3]A!B$1:S$48,18,0),IFERROR(VLOOKUP(B37,[3]B!B$1:Q$51,16,0),VLOOKUP(B37,[3]C!B$1:Q$52,16,0)))","v":14},{"$f":"IFERROR(VLOOKUP(B37,[3]A!B$1:T$48,19,0),IFERROR(VLOOKUP(B37,[3]B!B$1:R$51,17,0),VLOOKUP(B37,[3]C!B$1:R$52,17,0)))","v":16},{"$f":"IFERROR(VLOOKUP(B37,[3]A!B$1:V$48,21,0),IFERROR(VLOOKUP(B37,[3]B!B$1:T$51,19,0),VLOOKUP(B37,[3]C!B$1:T$52,19,0)))","v":0},{"$f":"IFERROR(VLOOKUP(B37,[3]A!B$1:W$48,22,0),IFERROR(VLOOKUP(B37,[3]B!B$1:U$51,20,0),VLOOKUP(B37,[3]C!B$1:U$52,20,0)))","v":0},{"$f":"IFERROR(VLOOKUP(B37,[3]A!B$1:X$48,23,0),IFERROR(VLOOKUP(B37,[3]B!B$1:V$51,21,0),VLOOKUP(B37,[3]C!B$1:V$52,21,0)))","v":1},0,{"$f":"IFERROR(VLOOKUP(B37,[4]A!B$1:AA$48,26,0),IFERROR(VLOOKUP(B37,[4]B!B$1:AA$51,26,0),VLOOKUP(B37,[4]C!B$1:AA$52,26,0)))","v":15},{"$f":"IFERROR(VLOOKUP(B37,[4]A!B$1:AB$48,27,0),IFERROR(VLOOKUP(B37,[4]B!B$1:AB$51,27,0),VLOOKUP(B37,[4]C!B$1:AB$52,27,0)))","v":17},{"$f":"IFERROR(VLOOKUP(B37,[4]A!B$1:AD$48,29,0),IFERROR(VLOOKUP(B37,[4]B!B$1:AD$51,29,0),VLOOKUP(B37,[4]C!B$1:AD$52,29,0)))","v":0},{"$f":"IFERROR(VLOOKUP(B37,[4]A!B$1:AE$48,30,0),IFERROR(VLOOKUP(B37,[4]B!B$1:AE$51,30,0),VLOOKUP(B37,[4]C!B$1:AE$52,30,0)))","v":0},{"$f":"IFERROR(VLOOKUP(B37,[4]A!B$1:AF$48,31,0),IFERROR(VLOOKUP(B37,[4]B!B$1:AF$51,31,0),VLOOKUP(B37,[4]C!B$1:AF$52,31,0)))","v":3},{"$f":"IFERROR(VLOOKUP(B37,[4]A!B$1:AH$48,33,0),IFERROR(VLOOKUP(B37,[4]B!B$1:AH$51,33,0),VLOOKUP(B37,[4]C!B$1:AH$52,33,0)))","v":0},5,6,null,null,null,null,74,0,0,63,63,85.13513513513513,5,null,8,7,20]
[37,"15BA116",{"$f":"VLOOKUP(B38,[1]A!B$1:AA$48,26,0)","v":8},{"$f":"VLOOKUP(B38,[1]A!B$1:AB$48,27,0)","v":9},{"$f":"VLOOKUP(B38,[1]A!B$1:AD$48,29,0)","v":0},{"$f":"VLOOKUP(B38,[1]A!B$1:AE$48,30,0)","v":0},{"$f":"VLOOKUP(B38,[1]A!B$1:AF$48,31,0)","v":0},{"$f":"VLOOKUP(B38,[1]A!B$1:AH$48,33,0)","v":0},{"$f":"IFERROR(VLOOKUP(B38,[2]A!B$1:AA$48,26,0),IFERROR(VLOOKUP(B38,[2]B!B$1:AA$51,26,0),VLOOKUP(B38,[2]C!B$1:AA$52,26,0)))","v":20},{"$f":"IFERROR(VLOOKUP(B38,[2]A!B$1:AB$48,27,0),IFERROR(VLOOKUP(B38,[2]B!B$1:AB$51,27,0),VLOOKUP(B38,[2]C!B$1:AB$52,27,0)))","v":21},{"$f":"IFERROR(VLOOKUP(B38,[2]A!B$1:AD$48,29,0),IFERROR(VLOOKUP(B38,[2]B!B$1:AD$51,29,0),VLOOKUP(B38,[2]C!B$1:AD$52,29,0)))","v":0},{"$f":"IFERROR(VLOOKUP(B38,[2]A!B$1:AE$48,30,0),IFERROR(VLOOKUP(B38,[2]B!B$1:AE$51,30,0),VLOOKUP(B38,[2]C!B$1:AE$52,30,0)))","v":1},{"$f":"IFERROR(VLOOKUP(B38,[2]A!B$1:AF$48,31,0),IFERROR(VLOOKUP(B38,[2]B!B$1:AF$51,31,0),VLOOKUP(B38,[2]C!B$1:AF$52,31,0)))","v":1},{"$f":"IFERROR(VLOOKUP(B38,[2]A!B$1:AH$48,33,0),IFERROR(VLOOKUP(B38,[2]B!B$1:AH$51,33,0),VLOOKUP(B38,[2]C!$B$1:$AH$52,33,0)))","v":0},{"$f":"IFERROR(VLOOKUP(B38,[3]A!B$1:S$48,18,0),IFERROR(VLOOKUP(B38,[3]B!B$1:Q$51,16,0),VLOOKUP(B38,[3]C!B$1:Q$52,16,0)))","v":15},{"$f":"IFERROR(VLOOKUP(B38,[3]A!B$1:T$48,19,0),IFERROR(VLOOKUP(B38,[3]B!B$1:R$51,17,0),VLOOKUP(B38,[3]C!B$1:R$52,17,0)))","v":16},{"$f":"IFERROR(VLOOKUP(B38,[3]A!B$1:V$48,21,0),IFERROR(VLOOKUP(B38,[3]B!B$1:T$51,19,0),VLOOKUP(B38,[3]C!B$1:T$52,19,0)))","v":0},{"$f":"IFERROR(VLOOKUP(B38,[3]A!B$1:W$48,22,0),IFERROR(VLOOKUP(B38,[3]B!B$1:U$51,20,0),VLOOKUP(B38,[3]C!B$1:U$52,20,0)))","v":1},{"$f":"IFERROR(VLOOKUP(B38,[3]A!B$1:X$48,23,0),IFERROR(VLOOKUP(B38,[3]B!B$1:V$51,21,0),VLOOKUP(B38,[3]C!B$1:V$52,21,0)))","v":1},0,{"$f":"IFERROR(VLOOKUP(B38,[4]A!B$1:AA$48,26,0),IFERROR(VLOOKUP(B38,[4]B!B$1:AA$51,26,0),VLOOKUP(B38,[4]C!B$1:AA$52,26,0)))","v":15},{"$f":"IFERROR(VLOOKUP(B38,[4]A!B$1:AB$48,27,0),IFERROR(VLOOKUP(B38,[4]B!B$1:AB$51,27,0),VLOOKUP(B38,[4]C!B$1:AB$52,27,0)))","v":17},{"$f":"IFERROR(VLOOKUP(B38,[4]A!B$1:AD$48,29,0),IFERROR(VLOOKUP(B38,[4]B!B$1:AD$51,29,0),VLOOKUP(B38,[4]C!B$1:AD$52,29,0)))","v":0},{"$f":"IFERROR(VLOOKUP(B38,[4]A!B$1:AE$48,30,0),IFERROR(VLOOKUP(B38,[4]B!B$1:AE$51,30,0),VLOOKUP(B38,[4]C!B$1:AE$52,30,0)))","v":1},{"$f":"IFERROR(VLOOKUP(B38,[4]A!B$1:AF$48,31,0),IFERROR(VLOOKUP(B38,[4]B!B$1:AF$51,31,0),VLOOKUP(B38,[4]C!B$1:AF$52,31,0)))","v":2},{"$f":"IFERROR(VLOOKUP(B38,[4]A!B$1:AH$48,33,0),IFERROR(VLOOKUP(B38,[4]B!B$1:AH$51,33,0),VLOOKUP(B38,[4]C!B$1:AH$52,33,0)))","v":0},5,6,null,null,null,null,73,0,0,66,66,90.410958904109577,5,null,9,8,22]
[38,"15BA119",{"$f":"VLOOKUP(B39,[1]A!B$1:AA$48,26,0)","v":8},{"$f":"VLOOKUP(B39,[1]A!B$1:AB$48,27,0)","v":9},{"$f":"VLOOKUP(B39,[1]A!B$1:AD$48,29,0)","v":0},{"$f":"VLOOKUP(B39,[1]A!B$1:AE$48,30,0)","v":0},{"$f":"VLOOKUP(B39,[1]A!B$1:AF$48,31,0)","v":0},{"$f":"VLOOKUP(B39,[1]A!B$1:AH$48,33,0)","v":0},{"$f":"IFERROR(VLOOKUP(B39,[2]A!B$1:AA$48,26,0),IFERROR(VLOOKUP(B39,[2]B!B$1:AA$51,26,0),VLOOKUP(B39,[2]C!B$1:AA$52,26,0)))","v":20},{"$f":"IFERROR(VLOOKUP(B39,[2]A!B$1:AB$48,27,0),IFERROR(VLOOKUP(B39,[2]B!B$1:AB$51,27,0),VLOOKUP(B39,[2]C!B$1:AB$52,27,0)))","v":21},{"$f":"IFERROR(VLOOKUP(B39,[2]A!B$1:AD$48,29,0),IFERROR(VLOOKUP(B39,[2]B!B$1:AD$51,29,0),VLOOKUP(B39,[2]C!B$1:AD$52,29,0)))","v":0},{"$f":"IFERROR(VLOOKUP(B39,[2]A!B$1:AE$48,30,0),IFERROR(VLOOKUP(B39,[2]B!B$1:AE$51,30,0),VLOOKUP(B39,[2]C!B$1:AE$52,30,0)))","v":3},{"$f":"IFERROR(VLOOKUP(B39,[2]A!B$1:AF$48,31,0),IFERROR(VLOOKUP(B39,[2]B!B$1:AF$51,31,0),VLOOKUP(B39,[2]C!B$1:AF$52,31,0)))","v":4},{"$f":"IFERROR(VLOOKUP(B39,[2]A!B$1:AH$48,33,0),IFERROR(VLOOKUP(B39,[2]B!B$1:AH$51,33,0),VLOOKUP(B39,[2]C!$B$1:$AH$52,33,0)))","v":0},{"$f":"IFERROR(VLOOKUP(B39,[3]A!B$1:S$48,18,0),IFERROR(VLOOKUP(B39,[3]B!B$1:Q$51,16,0),VLOOKUP(B39,[3]C!B$1:Q$52,16,0)))","v":10},{"$f":"IFERROR(VLOOKUP(B39,[3]A!B$1:T$48,19,0),IFERROR(VLOOKUP(B39,[3]B!B$1:R$51,17,0),VLOOKUP(B39,[3]C!B$1:R$52,17,0)))","v":16},{"$f":"IFERROR(VLOOKUP(B39,[3]A!B$1:V$48,21,0),IFERROR(VLOOKUP(B39,[3]B!B$1:T$51,19,0),VLOOKUP(B39,[3]C!B$1:T$52,19,0)))","v":6},{"$f":"IFERROR(VLOOKUP(B39,[3]A!B$1:W$48,22,0),IFERROR(VLOOKUP(B39,[3]B!B$1:U$51,20,0),VLOOKUP(B39,[3]C!B$1:U$52,20,0)))","v":2},{"$f":"IFERROR(VLOOKUP(B39,[3]A!B$1:X$48,23,0),IFERROR(VLOOKUP(B39,[3]B!B$1:V$51,21,0),VLOOKUP(B39,[3]C!B$1:V$52,21,0)))","v":3},0,{"$f":"IFERROR(VLOOKUP(B39,[4]A!B$1:AA$48,26,0),IFERROR(VLOOKUP(B39,[4]B!B$1:AA$51,26,0),VLOOKUP(B39,[4]C!B$1:AA$52,26,0)))","v":15},{"$f":"IFERROR(VLOOKUP(B39,[4]A!B$1:AB$48,27,0),IFERROR(VLOOKUP(B39,[4]B!B$1:AB$51,27,0),VLOOKUP(B39,[4]C!B$1:AB$52,27,0)))","v":17},{"$f":"IFERROR(VLOOKUP(B39,[4]A!B$1:AD$48,29,0),IFERROR(VLOOKUP(B39,[4]B!B$1:AD$51,29,0),VLOOKUP(B39,[4]C!B$1:AD$52,29,0)))","v":0},{"$f":"IFERROR(VLOOKUP(B39,[4]A!B$1:AE$48,30,0),IFERROR(VLOOKUP(B39,[4]B!B$1:AE$51,30,0),VLOOKUP(B39,[4]C!B$1:AE$52,30,0)))","v":2},{"$f":"IFERROR(VLOOKUP(B39,[4]A!B$1:AF$48,31,0),IFERROR(VLOOKUP(B39,[4]B!B$1:AF$51,31,0),VLOOKUP(B39,[4]C!B$1:AF$52,31,0)))","v":3},{"$f":"IFERROR(VLOOKUP(B39,[4]A!B$1:AH$48,33,0),IFERROR(VLOOKUP(B39,[4]B!B$1:AH$51,33,0),VLOOKUP(B39,[4]C!B$1:AH$52,33,0)))","v":0},5,6,null,1,1,null,80,6,6,66,72,90,5,"A-3",7,6,18]
[39,"15BA123",{"$f":"VLOOKUP(B40,[1]A!B$1:AA$48,26,0)","v":9},{"$f":"VLOOKUP(B40,[1]A!B$1:AB$48,27,0)","v":9},{"$f":"VLOOKUP(B40,[1]A!B$1:AD$48,29,0)","v":0},{"$f":"VLOOKUP(B40,[1]A!B$1:AE$48,30,0)","v":0},{"$f":"VLOOKUP(B40,[1]A!B$1:AF$48,31,0)","v":0},{"$f":"VLOOKUP(B40,[1]A!B$1:AH$48,33,0)","v":0},{"$f":"IFERROR(VLOOKUP(B40,[2]A!B$1:AA$48,26,0),IFERROR(VLOOKUP(B40,[2]B!B$1:AA$51,26,0),VLOOKUP(B40,[2]C!B$1:AA$52,26,0)))","v":21},{"$f":"IFERROR(VLOOKUP(B40,[2]A!B$1:AB$48,27,0),IFERROR(VLOOKUP(B40,[2]B!B$1:AB$51,27,0),VLOOKUP(B40,[2]C!B$1:AB$52,27,0)))","v":21},{"$f":"IFERROR(VLOOKUP(B40,[2]A!B$1:AD$48,29,0),IFERROR(VLOOKUP(B40,[2]B!B$1:AD$51,29,0),VLOOKUP(B40,[2]C!B$1:AD$52,29,0)))","v":0},{"$f":"IFERROR(VLOOKUP(B40,[2]A!B$1:AE$48,30,0),IFERROR(VLOOKUP(B40,[2]B!B$1:AE$51,30,0),VLOOKUP(B40,[2]C!B$1:AE$52,30,0)))","v":1},{"$f":"IFERROR(VLOOKUP(B40,[2]A!B$1:AF$48,31,0),IFERROR(VLOOKUP(B40,[2]B!B$1:AF$51,31,0),VLOOKUP(B40,[2]C!B$1:AF$52,31,0)))","v":1},{"$f":"IFERROR(VLOOKUP(B40,[2]A!B$1:AH$48,33,0),IFERROR(VLOOKUP(B40,[2]B!B$1:AH$51,33,0),VLOOKUP(B40,[2]C!$B$1:$AH$52,33,0)))","v":0},{"$f":"IFERROR(VLOOKUP(B40,[3]A!B$1:S$48,18,0),IFERROR(VLOOKUP(B40,[3]B!B$1:Q$51,16,0),VLOOKUP(B40,[3]C!B$1:Q$52,16,0)))","v":16},{"$f":"IFERROR(VLOOKUP(B40,[3]A!B$1:T$48,19,0),IFERROR(VLOOKUP(B40,[3]B!B$1:R$51,17,0),VLOOKUP(B40,[3]C!B$1:R$52,17,0)))","v":16},{"$f":"IFERROR(VLOOKUP(B40,[3]A!B$1:V$48,21,0),IFERROR(VLOOKUP(B40,[3]B!B$1:T$51,19,0),VLOOKUP(B40,[3]C!B$1:T$52,19,0)))","v":0},{"$f":"IFERROR(VLOOKUP(B40,[3]A!B$1:W$48,22,0),IFERROR(VLOOKUP(B40,[3]B!B$1:U$51,20,0),VLOOKUP(B40,[3]C!B$1:U$52,20,0)))","v":0},{"$f":"IFERROR(VLOOKUP(B40,[3]A!B$1:X$48,23,0),IFERROR(VLOOKUP(B40,[3]B!B$1:V$51,21,0),VLOOKUP(B40,[3]C!B$1:V$52,21,0)))","v":1},0,{"$f":"IFERROR(VLOOKUP(B40,[4]A!B$1:AA$48,26,0),IFERROR(VLOOKUP(B40,[4]B!B$1:AA$51,26,0),VLOOKUP(B40,[4]C!B$1:AA$52,26,0)))","v":17},{"$f":"IFERROR(VLOOKUP(B40,[4]A!B$1:AB$48,27,0),IFERROR(VLOOKUP(B40,[4]B!B$1:AB$51,27,0),VLOOKUP(B40,[4]C!B$1:AB$52,27,0)))","v":17},{"$f":"IFERROR(VLOOKUP(B40,[4]A!B$1:AD$48,29,0),IFERROR(VLOOKUP(B40,[4]B!B$1:AD$51,29,0),VLOOKUP(B40,[4]C!B$1:AD$52,29,0)))","v":0},{"$f":"IFERROR(VLOOKUP(B40,[4]A!B$1:AE$48,30,0),IFERROR(VLOOKUP(B40,[4]B!B$1:AE$51,30,0),VLOOKUP(B40,[4]C!B$1:AE$52,30,0)))","v":1},{"$f":"IFERROR(VLOOKUP(B40,[4]A!B$1:AF$48,31,0),IFERROR(VLOOKUP(B40,[4]B!B$1:AF$51,31,0),VLOOKUP(B40,[4]C!B$1:AF$52,31,0)))","v":2},{"$f":"IFERROR(VLOOKUP(B40,[4]A!B$1:AH$48,33,0),IFERROR(VLOOKUP(B40,[4]B!B$1:AH$51,33,0),VLOOKUP(B40,[4]C!B$1:AH$52,33,0)))","v":0},6,6,null,null,null,null,73,0,0,71,71,97.260273972602747,5,null,10,10,25]
[40,"15BA126",{"$f":"VLOOKUP(B41,[1]A!B$1:AA$48,26,0)","v":9},{"$f":"VLOOKUP(B41,[1]A!B$1:AB$48,27,0)","v":9},{"$f":"VLOOKUP(B41,[1]A!B$1:AD$48,29,0)","v":0},{"$f":"VLOOKUP(B41,[1]A!B$1:AE$48,30,0)","v":0},{"$f":"VLOOKUP(B41,[1]A!B$1:AF$48,31,0)","v":0},{"$f":"VLOOKUP(B41,[1]A!B$1:AH$48,33,0)","v":0},{"$f":"IFERROR(VLOOKUP(B41,[2]A!B$1:AA$48,26,0),IFERROR(VLOOKUP(B41,[2]B!B$1:AA$51,26,0),VLOOKUP(B41,[2]C!B$1:AA$52,26,0)))","v":20},{"$f":"IFERROR(VLOOKUP(B41,[2]A!B$1:AB$48,27,0),IFERROR(VLOOKUP(B41,[2]B!B$1:AB$51,27,0),VLOOKUP(B41,[2]C!B$1:AB$52,27,0)))","v":21},{"$f":"IFERROR(VLOOKUP(B41,[2]A!B$1:AD$48,29,0),IFERROR(VLOOKUP(B41,[2]B!B$1:AD$51,29,0),VLOOKUP(B41,[2]C!B$1:AD$52,29,0)))","v":0},{"$f":"IFERROR(VLOOKUP(B41,[2]A!B$1:AE$48,30,0),IFERROR(VLOOKUP(B41,[2]B!B$1:AE$51,30,0),VLOOKUP(B41,[2]C!B$1:AE$52,30,0)))","v":3},{"$f":"IFERROR(VLOOKUP(B41,[2]A!B$1:AF$48,31,0),IFERROR(VLOOKUP(B41,[2]B!B$1:AF$51,31,0),VLOOKUP(B41,[2]C!B$1:AF$52,31,0)))","v":4},{"$f":"IFERROR(VLOOKUP(B41,[2]A!B$1:AH$48,33,0),IFERROR(VLOOKUP(B41,[2]B!B$1:AH$51,33,0),VLOOKUP(B41,[2]C!$B$1:$AH$52,33,0)))","v":0},{"$f":"IFERROR(VLOOKUP(B41,[3]A!B$1:S$48,18,0),IFERROR(VLOOKUP(B41,[3]B!B$1:Q$51,16,0),VLOOKUP(B41,[3]C!B$1:Q$52,16,0)))","v":14},{"$f":"IFERROR(VLOOKUP(B41,[3]A!B$1:T$48,19,0),IFERROR(VLOOKUP(B41,[3]B!B$1:R$51,17,0),VLOOKUP(B41,[3]C!B$1:R$52,17,0)))","v":16},{"$f":"IFERROR(VLOOKUP(B41,[3]A!B$1:V$48,21,0),IFERROR(VLOOKUP(B41,[3]B!B$1:T$51,19,0),VLOOKUP(B41,[3]C!B$1:T$52,19,0)))","v":0},{"$f":"IFERROR(VLOOKUP(B41,[3]A!B$1:W$48,22,0),IFERROR(VLOOKUP(B41,[3]B!B$1:U$51,20,0),VLOOKUP(B41,[3]C!B$1:U$52,20,0)))","v":2},{"$f":"IFERROR(VLOOKUP(B41,[3]A!B$1:X$48,23,0),IFERROR(VLOOKUP(B41,[3]B!B$1:V$51,21,0),VLOOKUP(B41,[3]C!B$1:V$52,21,0)))","v":3},0,{"$f":"IFERROR(VLOOKUP(B41,[4]A!B$1:AA$48,26,0),IFERROR(VLOOKUP(B41,[4]B!B$1:AA$51,26,0),VLOOKUP(B41,[4]C!B$1:AA$52,26,0)))","v":16},{"$f":"IFERROR(VLOOKUP(B41,[4]A!B$1:AB$48,27,0),IFERROR(VLOOKUP(B41,[4]B!B$1:AB$51,27,0),VLOOKUP(B41,[4]C!B$1:AB$52,27,0)))","v":17},{"$f":"IFERROR(VLOOKUP(B41,[4]A!B$1:AD$48,29,0),IFERROR(VLOOKUP(B41,[4]B!B$1:AD$51,29,0),VLOOKUP(B41,[4]C!B$1:AD$52,29,0)))","v":0},{"$f":"IFERROR(VLOOKUP(B41,[4]A!B$1:AE$48,30,0),IFERROR(VLOOKUP(B41,[4]B!B$1:AE$51,30,0),VLOOKUP(B41,[4]C!B$1:AE$52,30,0)))","v":2},{"$f":"IFERROR(VLOOKUP(B41,[4]A!B$1:AF$48,31,0),IFERROR(VLOOKUP(B41,[4]B!B$1:AF$51,31,0),VLOOKUP(B41,[4]C!B$1:AF$52,31,0)))","v":3},{"$f":"IFERROR(VLOOKUP(B41,[4]A!B$1:AH$48,33,0),IFERROR(VLOOKUP(B41,[4]B!B$1:AH$51,33,0),VLOOKUP(B41,[4]C!B$1:AH$52,33,0)))","v":0},5,6,null,1,1,null,80,0,0,72,72,90,5,"A-3",7,6,18]
[41,"15BA128",{"$f":"VLOOKUP(B42,[1]A!B$1:AA$48,26,0)","v":8},{"$f":"VLOOKUP(B42,[1]A!B$1:AB$48,27,0)","v":9},{"$f":"VLOOKUP(B42,[1]A!B$1:AD$48,29,0)","v":0},{"$f":"VLOOKUP(B42,[1]A!B$1:AE$48,30,0)","v":0},{"$f":"VLOOKUP(B42,[1]A!B$1:AF$48,31,0)","v":0},{"$f":"VLOOKUP(B42,[1]A!B$1:AH$48,33,0)","v":0},{"$f":"IFERROR(VLOOKUP(B42,[2]A!B$1:AA$48,26,0),IFERROR(VLOOKUP(B42,[2]B!B$1:AA$51,26,0),VLOOKUP(B42,[2]C!B$1:AA$52,26,0)))","v":20},{"$f":"IFERROR(VLOOKUP(B42,[2]A!B$1:AB$48,27,0),IFERROR(VLOOKUP(B42,[2]B!B$1:AB$51,27,0),VLOOKUP(B42,[2]C!B$1:AB$52,27,0)))","v":21},{"$f":"IFERROR(VLOOKUP(B42,[2]A!B$1:AD$48,29,0),IFERROR(VLOOKUP(B42,[2]B!B$1:AD$51,29,0),VLOOKUP(B42,[2]C!B$1:AD$52,29,0)))","v":0},{"$f":"IFERROR(VLOOKUP(B42,[2]A!B$1:AE$48,30,0),IFERROR(VLOOKUP(B42,[2]B!B$1:AE$51,30,0),VLOOKUP(B42,[2]C!B$1:AE$52,30,0)))","v":1},{"$f":"IFERROR(VLOOKUP(B42,[2]A!B$1:AF$48,31,0),IFERROR(VLOOKUP(B42,[2]B!B$1:AF$51,31,0),VLOOKUP(B42,[2]C!B$1:AF$52,31,0)))","v":1},{"$f":"IFERROR(VLOOKUP(B42,[2]A!B$1:AH$48,33,0),IFERROR(VLOOKUP(B42,[2]B!B$1:AH$51,33,0),VLOOKUP(B42,[2]C!$B$1:$AH$52,33,0)))","v":0},{"$f":"IFERROR(VLOOKUP(B42,[3]A!B$1:S$48,18,0),IFERROR(VLOOKUP(B42,[3]B!B$1:Q$51,16,0),VLOOKUP(B42,[3]C!B$1:Q$52,16,0)))","v":14},{"$f":"IFERROR(VLOOKUP(B42,[3]A!B$1:T$48,19,0),IFERROR(VLOOKUP(B42,[3]B!B$1:R$51,17,0),VLOOKUP(B42,[3]C!B$1:R$52,17,0)))","v":16},{"$f":"IFERROR(VLOOKUP(B42,[3]A!B$1:V$48,21,0),IFERROR(VLOOKUP(B42,[3]B!B$1:T$51,19,0),VLOOKUP(B42,[3]C!B$1:T$52,19,0)))","v":0},{"$f":"IFERROR(VLOOKUP(B42,[3]A!B$1:W$48,22,0),IFERROR(VLOOKUP(B42,[3]B!B$1:U$51,20,0),VLOOKUP(B42,[3]C!B$1:U$52,20,0)))","v":0},{"$f":"IFERROR(VLOOKUP(B42,[3]A!B$1:X$48,23,0),IFERROR(VLOOKUP(B42,[3]B!B$1:V$51,21,0),VLOOKUP(B42,[3]C!B$1:V$52,21,0)))","v":1},0,{"$f":"IFERROR(VLOOKUP(B42,[4]A!B$1:AA$48,26,0),IFERROR(VLOOKUP(B42,[4]B!B$1:AA$51,26,0),VLOOKUP(B42,[4]C!B$1:AA$52,26,0)))","v":15},{"$f":"IFERROR(VLOOKUP(B42,[4]A!B$1:AB$48,27,0),IFERROR(VLOOKUP(B42,[4]B!B$1:AB$51,27,0),VLOOKUP(B42,[4]C!B$1:AB$52,27,0)))","v":17},{"$f":"IFERROR(VLOOKUP(B42,[4]A!B$1:AD$48,29,0),IFERROR(VLOOKUP(B42,[4]B!B$1:AD$51,29,0),VLOOKUP(B42,[4]C!B$1:AD$52,29,0)))","v":0},{"$f":"IFERROR(VLOOKUP(B42,[4]A!B$1:AE$48,30,0),IFERROR(VLOOKUP(B42,[4]B!B$1:AE$51,30,0),VLOOKUP(B42,[4]C!B$1:AE$52,30,0)))","v":1},{"$f":"IFERROR(VLOOKUP(B42,[4]A!B$1:AF$48,31,0),IFERROR(VLOOKUP(B42,[4]B!B$1:AF$51,31,0),VLOOKUP(B42,[4]C!B$1:AF$52,31,0)))","v":2},{"$f":"IFERROR(VLOOKUP(B42,[4]A!B$1:AH$48,33,0),IFERROR(VLOOKUP(B42,[4]B!B$1:AH$51,33,0),VLOOKUP(B42,[4]C!B$1:AH$52,33,0)))","v":0},5,6,null,null,null,null,73,0,0,64,64,87.671232876712324,5,null,8,6,19]
[42,"15BA133",{"$f":"VLOOKUP(B43,[1]A!B$1:AA$48,26,0)","v":9},{"$f":"VLOOKUP(B43,[1]A!B$1:AB$48,27,0)","v":9},{"$f":"VLOOKUP(B43,[1]A!B$1:AD$48,29,0)","v":0},{"$f":"VLOOKUP(B43,[1]A!B$1:AE$48,30,0)","v":0},{"$f":"VLOOKUP(B43,[1]A!B$1:AF$48,31,0)","v":0},{"$f":"VLOOKUP(B43,[1]A!B$1:AH$48,33,0)","v":0},{"$f":"IFERROR(VLOOKUP(B43,[2]A!B$1:AA$48,26,0),IFERROR(VLOOKUP(B43,[2]B!B$1:AA$51,26,0),VLOOKUP(B43,[2]C!B$1:AA$52,26,0)))","v":19},{"$f":"IFERROR(VLOOKUP(B43,[2]A!B$1:AB$48,27,0),IFERROR(VLOOKUP(B43,[2]B!B$1:AB$51,27,0),VLOOKUP(B43,[2]C!B$1:AB$52,27,0)))","v":21},{"$f":"IFERROR(VLOOKUP(B43,[2]A!B$1:AD$48,29,0),IFERROR(VLOOKUP(B43,[2]B!B$1:AD$51,29,0),VLOOKUP(B43,[2]C!B$1:AD$52,29,0)))","v":0},{"$f":"IFERROR(VLOOKUP(B43,[2]A!B$1:AE$48,30,0),IFERROR(VLOOKUP(B43,[2]B!B$1:AE$51,30,0),VLOOKUP(B43,[2]C!B$1:AE$52,30,0)))","v":1},{"$f":"IFERROR(VLOOKUP(B43,[2]A!B$1:AF$48,31,0),IFERROR(VLOOKUP(B43,[2]B!B$1:AF$51,31,0),VLOOKUP(B43,[2]C!B$1:AF$52,31,0)))","v":1},{"$f":"IFERROR(VLOOKUP(B43,[2]A!B$1:AH$48,33,0),IFERROR(VLOOKUP(B43,[2]B!B$1:AH$51,33,0),VLOOKUP(B43,[2]C!$B$1:$AH$52,33,0)))","v":0},{"$f":"IFERROR(VLOOKUP(B43,[3]A!B$1:S$48,18,0),IFERROR(VLOOKUP(B43,[3]B!B$1:Q$51,16,0),VLOOKUP(B43,[3]C!B$1:Q$52,16,0)))","v":14},{"$f":"IFERROR(VLOOKUP(B43,[3]A!B$1:T$48,19,0),IFERROR(VLOOKUP(B43,[3]B!B$1:R$51,17,0),VLOOKUP(B43,[3]C!B$1:R$52,17,0)))","v":16},{"$f":"IFERROR(VLOOKUP(B43,[3]A!B$1:V$48,21,0),IFERROR(VLOOKUP(B43,[3]B!B$1:T$51,19,0),VLOOKUP(B43,[3]C!B$1:T$52,19,0)))","v":0},{"$f":"IFERROR(VLOOKUP(B43,[3]A!B$1:W$48,22,0),IFERROR(VLOOKUP(B43,[3]B!B$1:U$51,20,0),VLOOKUP(B43,[3]C!B$1:U$52,20,0)))","v":0},{"$f":"IFERROR(VLOOKUP(B43,[3]A!B$1:X$48,23,0),IFERROR(VLOOKUP(B43,[3]B!B$1:V$51,21,0),VLOOKUP(B43,[3]C!B$1:V$52,21,0)))","v":1},0,{"$f":"IFERROR(VLOOKUP(B43,[4]A!B$1:AA$48,26,0),IFERROR(VLOOKUP(B43,[4]B!B$1:AA$51,26,0),VLOOKUP(B43,[4]C!B$1:AA$52,26,0)))","v":15},{"$f":"IFERROR(VLOOKUP(B43,[4]A!B$1:AB$48,27,0),IFERROR(VLOOKUP(B43,[4]B!B$1:AB$51,27,0),VLOOKUP(B43,[4]C!B$1:AB$52,27,0)))","v":17},{"$f":"IFERROR(VLOOKUP(B43,[4]A!B$1:AD$48,29,0),IFERROR(VLOOKUP(B43,[4]B!B$1:AD$51,29,0),VLOOKUP(B43,[4]C!B$1:AD$52,29,0)))","v":0},{"$f":"IFERROR(VLOOKUP(B43,[4]A!B$1:AE$48,30,0),IFERROR(VLOOKUP(B43,[4]B!B$1:AE$51,30,0),VLOOKUP(B43,[4]C!B$1:AE$52,30,0)))","v":2},{"$f":"IFERROR(VLOOKUP(B43,[4]A!B$1:AF$48,31,0),IFERROR(VLOOKUP(B43,[4]B!B$1:AF$51,31,0),VLOOKUP(B43,[4]C!B$1:AF$52,31,0)))","v":2},{"$f":"IFERROR(VLOOKUP(B43,[4]A!B$1:AH$48,33,0),IFERROR(VLOOKUP(B43,[4]B!B$1:AH$51,33,0),VLOOKUP(B43,[4]C!B$1:AH$52,33,0)))","v":0},5,6,null,null,null,null,73,0,0,65,65,89.041095890410958,5,null,9,8,22]
[43,"15BA138",{"$f":"VLOOKUP(B44,[1]A!B$1:AA$48,26,0)","v":9},{"$f":"VLOOKUP(B44,[1]A!B$1:AB$48,27,0)","v":9},{"$f":"VLOOKUP(B44,[1]A!B$1:AD$48,29,0)","v":0},{"$f":"VLOOKUP(B44,[1]A!B$1:AE$48,30,0)","v":0},{"$f":"VLOOKUP(B44,[1]A!B$1:AF$48,31,0)","v":0},{"$f":"VLOOKUP(B44,[1]A!B$1:AH$48,33,0)","v":0},{"$f":"IFERROR(VLOOKUP(B44,[2]A!B$1:AA$48,26,0),IFERROR(VLOOKUP(B44,[2]B!B$1:AA$51,26,0),VLOOKUP(B44,[2]C!B$1:AA$52,26,0)))","v":21},{"$f":"IFERROR(VLOOKUP(B44,[2]A!B$1:AB$48,27,0),IFERROR(VLOOKUP(B44,[2]B!B$1:AB$51,27,0),VLOOKUP(B44,[2]C!B$1:AB$52,27,0)))","v":21},{"$f":"IFERROR(VLOOKUP(B44,[2]A!B$1:AD$48,29,0),IFERROR(VLOOKUP(B44,[2]B!B$1:AD$51,29,0),VLOOKUP(B44,[2]C!B$1:AD$52,29,0)))","v":0},{"$f":"IFERROR(VLOOKUP(B44,[2]A!B$1:AE$48,30,0),IFERROR(VLOOKUP(B44,[2]B!B$1:AE$51,30,0),VLOOKUP(B44,[2]C!B$1:AE$52,30,0)))","v":1},{"$f":"IFERROR(VLOOKUP(B44,[2]A!B$1:AF$48,31,0),IFERROR(VLOOKUP(B44,[2]B!B$1:AF$51,31,0),VLOOKUP(B44,[2]C!B$1:AF$52,31,0)))","v":1},{"$f":"IFERROR(VLOOKUP(B44,[2]A!B$1:AH$48,33,0),IFERROR(VLOOKUP(B44,[2]B!B$1:AH$51,33,0),VLOOKUP(B44,[2]C!$B$1:$AH$52,33,0)))","v":0},{"$f":"IFERROR(VLOOKUP(B44,[3]A!B$1:S$48,18,0),IFERROR(VLOOKUP(B44,[3]B!B$1:Q$51,16,0),VLOOKUP(B44,[3]C!B$1:Q$52,16,0)))","v":16},{"$f":"IFERROR(VLOOKUP(B44,[3]A!B$1:T$48,19,0),IFERROR(VLOOKUP(B44,[3]B!B$1:R$51,17,0),VLOOKUP(B44,[3]C!B$1:R$52,17,0)))","v":16},{"$f":"IFERROR(VLOOKUP(B44,[3]A!B$1:V$48,21,0),IFERROR(VLOOKUP(B44,[3]B!B$1:T$51,19,0),VLOOKUP(B44,[3]C!B$1:T$52,19,0)))","v":0},{"$f":"IFERROR(VLOOKUP(B44,[3]A!B$1:W$48,22,0),IFERROR(VLOOKUP(B44,[3]B!B$1:U$51,20,0),VLOOKUP(B44,[3]C!B$1:U$52,20,0)))","v":0},{"$f":"IFERROR(VLOOKUP(B44,[3]A!B$1:X$48,23,0),IFERROR(VLOOKUP(B44,[3]B!B$1:V$51,21,0),VLOOKUP(B44,[3]C!B$1:V$52,21,0)))","v":1},0,{"$f":"IFERROR(VLOOKUP(B44,[4]A!B$1:AA$48,26,0),IFERROR(VLOOKUP(B44,[4]B!B$1:AA$51,26,0),VLOOKUP(B44,[4]C!B$1:AA$52,26,0)))","v":17},{"$f":"IFERROR(VLOOKUP(B44,[4]A!B$1:AB$48,27,0),IFERROR(VLOOKUP(B44,[4]B!B$1:AB$51,27,0),VLOOKUP(B44,[4]C!B$1:AB$52,27,0)))","v":17},{"$f":"IFERROR(VLOOKUP(B44,[4]A!B$1:AD$48,29,0),IFERROR(VLOOKUP(B44,[4]B!B$1:AD$51,29,0),VLOOKUP(B44,[4]C!B$1:AD$52,29,0)))","v":0},{"$f":"IFERROR(VLOOKUP(B44,[4]A!B$1:AE$48,30,0),IFERROR(VLOOKUP(B44,[4]B!B$1:AE$51,30,0),VLOOKUP(B44,[4]C!B$1:AE$52,30,0)))","v":1},{"$f":"IFERROR(VLOOKUP(B44,[4]A!B$1:AF$48,31,0),IFERROR(VLOOKUP(B44,[4]B!B$1:AF$51,31,0),VLOOKUP(B44,[4]C!B$1:AF$52,31,0)))","v":2},{"$f":"IFERROR(VLOOKUP(B44,[4]A!B$1:AH$48,33,0),IFERROR(VLOOKUP(B44,[4]B!B$1:AH$51,33,0),VLOOKUP(B44,[4]C!B$1:AH$52,33,0)))","v":0},6,6,null,null,null,null,73,0,0,71,71,97.260273972602747,5,null,10,10,25]
[44,"15BA139",{"$f":"VLOOKUP(B45,[1]A!B$1:AA$48,26,0)","v":8},{"$f":"VLOOKUP(B45,[1]A!B$1:AB$48,27,0)","v":9},{"$f":"VLOOKUP(B45,[1]A!B$1:AD$48,29,0)","v":0},{"$f":"VLOOKUP(B45,[1]A!B$1:AE$48,30,0)","v":0},{"$f":"VLOOKUP(B45,[1]A!B$1:AF$48,31,0)","v":0},{"$f":"VLOOKUP(B45,[1]A!B$1:AH$48,33,0)","v":0},{"$f":"IFERROR(VLOOKUP(B45,[2]A!B$1:AA$48,26,0),IFERROR(VLOOKUP(B45,[2]B!B$1:AA$51,26,0),VLOOKUP(B45,[2]C!B$1:AA$52,26,0)))","v":19},{"$f":"IFERROR(VLOOKUP(B45,[2]A!B$1:AB$48,27,0),IFERROR(VLOOKUP(B45,[2]B!B$1:AB$51,27,0),VLOOKUP(B45,[2]C!B$1:AB$52,27,0)))","v":21},{"$f":"IFERROR(VLOOKUP(B45,[2]A!B$1:AD$48,29,0),IFERROR(VLOOKUP(B45,[2]B!B$1:AD$51,29,0),VLOOKUP(B45,[2]C!B$1:AD$52,29,0)))","v":0},{"$f":"IFERROR(VLOOKUP(B45,[2]A!B$1:AE$48,30,0),IFERROR(VLOOKUP(B45,[2]B!B$1:AE$51,30,0),VLOOKUP(B45,[2]C!B$1:AE$52,30,0)))","v":1},{"$f":"IFERROR(VLOOKUP(B45,[2]A!B$1:AF$48,31,0),IFERROR(VLOOKUP(B45,[2]B!B$1:AF$51,31,0),VLOOKUP(B45,[2]C!B$1:AF$52,31,0)))","v":1},{"$f":"IFERROR(VLOOKUP(B45,[2]A!B$1:AH$48,33,0),IFERROR(VLOOKUP(B45,[2]B!B$1:AH$51,33,0),VLOOKUP(B45,[2]C!$B$1:$AH$52,33,0)))","v":0},{"$f":"IFERROR(VLOOKUP(B45,[3]A!B$1:S$48,18,0),IFERROR(VLOOKUP(B45,[3]B!B$1:Q$51,16,0),VLOOKUP(B45,[3]C!B$1:Q$52,16,0)))","v":14},{"$f":"IFERROR(VLOOKUP(B45,[3]A!B$1:T$48,19,0),IFERROR(VLOOKUP(B45,[3]B!B$1:R$51,17,0),VLOOKUP(B45,[3]C!B$1:R$52,17,0)))","v":16},{"$f":"IFERROR(VLOOKUP(B45,[3]A!B$1:V$48,21,0),IFERROR(VLOOKUP(B45,[3]B!B$1:T$51,19,0),VLOOKUP(B45,[3]C!B$1:T$52,19,0)))","v":0},{"$f":"IFERROR(VLOOKUP(B45,[3]A!B$1:W$48,22,0),IFERROR(VLOOKUP(B45,[3]B!B$1:U$51,20,0),VLOOKUP(B45,[3]C!B$1:U$52,20,0)))","v":0},{"$f":"IFERROR(VLOOKUP(B45,[3]A!B$1:X$48,23,0),IFERROR(VLOOKUP(B45,[3]B!B$1:V$51,21,0),VLOOKUP(B45,[3]C!B$1:V$52,21,0)))","v":1},0,{"$f":"IFERROR(VLOOKUP(B45,[4]A!B$1:AA$48,26,0),IFERROR(VLOOKUP(B45,[4]B!B$1:AA$51,26,0),VLOOKUP(B45,[4]C!B$1:AA$52,26,0)))","v":14},{"$f":"IFERROR(VLOOKUP(B45,[4]A!B$1:AB$48,27,0),IFERROR(VLOOKUP(B45,[4]B!B$1:AB$51,27,0),VLOOKUP(B45,[4]C!B$1:AB$52,27,0)))","v":17},{"$f":"IFERROR(VLOOKUP(B45,[4]A!B$1:AD$48,29,0),IFERROR(VLOOKUP(B45,[4]B!B$1:AD$51,29,0),VLOOKUP(B45,[4]C!B$1:AD$52,29,0)))","v":0},{"$f":"IFERROR(VLOOKUP(B45,[4]A!B$1:AE$48,30,0),IFERROR(VLOOKUP(B45,[4]B!B$1:AE$51,30,0),VLOOKUP(B45,[4]C!B$1:AE$52,30,0)))","v":1},{"$f":"IFERROR(VLOOKUP(B45,[4]A!B$1:AF$48,31,0),IFERROR(VLOOKUP(B45,[4]B!B$1:AF$51,31,0),VLOOKUP(B45,[4]C!B$1:AF$52,31,0)))","v":2},{"$f":"IFERROR(VLOOKUP(B45,[4]A!B$1:AH$48,33,0),IFERROR(VLOOKUP(B45,[4]B!B$1:AH$51,33,0),VLOOKUP(B45,[4]C!B$1:AH$52,33,0)))","v":0},5,6,null,null,null,null,73,0,0,62,62,84.93150684931507,4,null,7,6,17]
[45,"15BA143",{"$f":"VLOOKUP(B46,[1]A!B$1:AA$48,26,0)","v":8},{"$f":"VLOOKUP(B46,[1]A!B$1:AB$48,27,0)","v":9},{"$f":"VLOOKUP(B46,[1]A!B$1:AD$48,29,0)","v":0},{"$f":"VLOOKUP(B46,[1]A!B$1:AE$48,30,0)","v":0},{"$f":"VLOOKUP(B46,[1]A!B$1:AF$48,31,0)","v":0},{"$f":"VLOOKUP(B46,[1]A!B$1:AH$48,33,0)","v":0},{"$f":"IFERROR(VLOOKUP(B46,[2]A!B$1:AA$48,26,0),IFERROR(VLOOKUP(B46,[2]B!B$1:AA$51,26,0),VLOOKUP(B46,[2]C!B$1:AA$52,26,0)))","v":19},{"$f":"IFERROR(VLOOKUP(B46,[2]A!B$1:AB$48,27,0),IFERROR(VLOOKUP(B46,[2]B!B$1:AB$51,27,0),VLOOKUP(B46,[2]C!B$1:AB$52,27,0)))","v":21},{"$f":"IFERROR(VLOOKUP(B46,[2]A!B$1:AD$48,29,0),IFERROR(VLOOKUP(B46,[2]B!B$1:AD$51,29,0),VLOOKUP(B46,[2]C!B$1:AD$52,29,0)))","v":0},{"$f":"IFERROR(VLOOKUP(B46,[2]A!B$1:AE$48,30,0),IFERROR(VLOOKUP(B46,[2]B!B$1:AE$51,30,0),VLOOKUP(B46,[2]C!B$1:AE$52,30,0)))","v":1},{"$f":"IFERROR(VLOOKUP(B46,[2]A!B$1:AF$48,31,0),IFERROR(VLOOKUP(B46,[2]B!B$1:AF$51,31,0),VLOOKUP(B46,[2]C!B$1:AF$52,31,0)))","v":1},{"$f":"IFERROR(VLOOKUP(B46,[2]A!B$1:AH$48,33,0),IFERROR(VLOOKUP(B46,[2]B!B$1:AH$51,33,0),VLOOKUP(B46,[2]C!$B$1:$AH$52,33,0)))","v":0},{"$f":"IFERROR(VLOOKUP(B46,[3]A!B$1:S$48,18,0),IFERROR(VLOOKUP(B46,[3]B!B$1:Q$51,16,0),VLOOKUP(B46,[3]C!B$1:Q$52,16,0)))","v":14},{"$f":"IFERROR(VLOOKUP(B46,[3]A!B$1:T$48,19,0),IFERROR(VLOOKUP(B46,[3]B!B$1:R$51,17,0),VLOOKUP(B46,[3]C!B$1:R$52,17,0)))","v":16},{"$f":"IFERROR(VLOOKUP(B46,[3]A!B$1:V$48,21,0),IFERROR(VLOOKUP(B46,[3]B!B$1:T$51,19,0),VLOOKUP(B46,[3]C!B$1:T$52,19,0)))","v":0},{"$f":"IFERROR(VLOOKUP(B46,[3]A!B$1:W$48,22,0),IFERROR(VLOOKUP(B46,[3]B!B$1:U$51,20,0),VLOOKUP(B46,[3]C!B$1:U$52,20,0)))","v":0},{"$f":"IFERROR(VLOOKUP(B46,[3]A!B$1:X$48,23,0),IFERROR(VLOOKUP(B46,[3]B!B$1:V$51,21,0),VLOOKUP(B46,[3]C!B$1:V$52,21,0)))","v":1},0,{"$f":"IFERROR(VLOOKUP(B46,[4]A!B$1:AA$48,26,0),IFERROR(VLOOKUP(B46,[4]B!B$1:AA$51,26,0),VLOOKUP(B46,[4]C!B$1:AA$52,26,0)))","v":15},{"$f":"IFERROR(VLOOKUP(B46,[4]A!B$1:AB$48,27,0),IFERROR(VLOOKUP(B46,[4]B!B$1:AB$51,27,0),VLOOKUP(B46,[4]C!B$1:AB$52,27,0)))","v":17},{"$f":"IFERROR(VLOOKUP(B46,[4]A!B$1:AD$48,29,0),IFERROR(VLOOKUP(B46,[4]B!B$1:AD$51,29,0),VLOOKUP(B46,[4]C!B$1:AD$52,29,0)))","v":0},{"$f":"IFERROR(VLOOKUP(B46,[4]A!B$1:AE$48,30,0),IFERROR(VLOOKUP(B46,[4]B!B$1:AE$51,30,0),VLOOKUP(B46,[4]C!B$1:AE$52,30,0)))","v":1},{"$f":"IFERROR(VLOOKUP(B46,[4]A!B$1:AF$48,31,0),IFERROR(VLOOKUP(B46,[4]B!B$1:AF$51,31,0),VLOOKUP(B46,[4]C!B$1:AF$52,31,0)))","v":2},{"$f":"IFERROR(VLOOKUP(B46,[4]A!B$1:AH$48,33,0),IFERROR(VLOOKUP(B46,[4]B!B$1:AH$51,33,0),VLOOKUP(B46,[4]C!B$1:AH$52,33,0)))","v":0},5,6,null,null,null,null,73,0,0,63,63,86.301369863013704,5,null,5,5,15]
[46,"15BA151",{"$f":"VLOOKUP(B47,[1]A!B$1:AA$48,26,0)","v":8},{"$f":"VLOOKUP(B47,[1]A!B$1:AB$48,27,0)","v":9},{"$f":"VLOOKUP(B47,[1]A!B$1:AD$48,29,0)","v":0},{"$f":"VLOOKUP(B47,[1]A!B$1:AE$48,30,0)","v":0},{"$f":"VLOOKUP(B47,[1]A!B$1:AF$48,31,0)","v":0},{"$f":"VLOOKUP(B47,[1]A!B$1:AH$48,33,0)","v":0},{"$f":"IFERROR(VLOOKUP(B47,[2]A!B$1:AA$48,26,0),IFERROR(VLOOKUP(B47,[2]B!B$1:AA$51,26,0),VLOOKUP(B47,[2]C!B$1:AA$52,26,0)))","v":19},{"$f":"IFERROR(VLOOKUP(B47,[2]A!B$1:AB$48,27,0),IFERROR(VLOOKUP(B47,[2]B!B$1:AB$51,27,0),VLOOKUP(B47,[2]C!B$1:AB$52,27,0)))","v":21},{"$f":"IFERROR(VLOOKUP(B47,[2]A!B$1:AD$48,29,0),IFERROR(VLOOKUP(B47,[2]B!B$1:AD$51,29,0),VLOOKUP(B47,[2]C!B$1:AD$52,29,0)))","v":0},{"$f":"IFERROR(VLOOKUP(B47,[2]A!B$1:AE$48,30,0),IFERROR(VLOOKUP(B47,[2]B!B$1:AE$51,30,0),VLOOKUP(B47,[2]C!B$1:AE$52,30,0)))","v":1},{"$f":"IFERROR(VLOOKUP(B47,[2]A!B$1:AF$48,31,0),IFERROR(VLOOKUP(B47,[2]B!B$1:AF$51,31,0),VLOOKUP(B47,[2]C!B$1:AF$52,31,0)))","v":1},{"$f":"IFERROR(VLOOKUP(B47,[2]A!B$1:AH$48,33,0),IFERROR(VLOOKUP(B47,[2]B!B$1:AH$51,33,0),VLOOKUP(B47,[2]C!$B$1:$AH$52,33,0)))","v":0},{"$f":"IFERROR(VLOOKUP(B47,[3]A!B$1:S$48,18,0),IFERROR(VLOOKUP(B47,[3]B!B$1:Q$51,16,0),VLOOKUP(B47,[3]C!B$1:Q$52,16,0)))","v":14},{"$f":"IFERROR(VLOOKUP(B47,[3]A!B$1:T$48,19,0),IFERROR(VLOOKUP(B47,[3]B!B$1:R$51,17,0),VLOOKUP(B47,[3]C!B$1:R$52,17,0)))","v":16},{"$f":"IFERROR(VLOOKUP(B47,[3]A!B$1:V$48,21,0),IFERROR(VLOOKUP(B47,[3]B!B$1:T$51,19,0),VLOOKUP(B47,[3]C!B$1:T$52,19,0)))","v":0},{"$f":"IFERROR(VLOOKUP(B47,[3]A!B$1:W$48,22,0),IFERROR(VLOOKUP(B47,[3]B!B$1:U$51,20,0),VLOOKUP(B47,[3]C!B$1:U$52,20,0)))","v":0},{"$f":"IFERROR(VLOOKUP(B47,[3]A!B$1:X$48,23,0),IFERROR(VLOOKUP(B47,[3]B!B$1:V$51,21,0),VLOOKUP(B47,[3]C!B$1:V$52,21,0)))","v":1},0,{"$f":"IFERROR(VLOOKUP(B47,[4]A!B$1:AA$48,26,0),IFERROR(VLOOKUP(B47,[4]B!B$1:AA$51,26,0),VLOOKUP(B47,[4]C!B$1:AA$52,26,0)))","v":15},{"$f":"IFERROR(VLOOKUP(B47,[4]A!B$1:AB$48,27,0),IFERROR(VLOOKUP(B47,[4]B!B$1:AB$51,27,0),VLOOKUP(B47,[4]C!B$1:AB$52,27,0)))","v":17},{"$f":"IFERROR(VLOOKUP(B47,[4]A!B$1:AD$48,29,0),IFERROR(VLOOKUP(B47,[4]B!B$1:AD$51,29,0),VLOOKUP(B47,[4]C!B$1:AD$52,29,0)))","v":0},{"$f":"IFERROR(VLOOKUP(B47,[4]A!B$1:AE$48,30,0),IFERROR(VLOOKUP(B47,[4]B!B$1:AE$51,30,0),VLOOKUP(B47,[4]C!B$1:AE$52,30,0)))","v":2},{"$f":"IFERROR(VLOOKUP(B47,[4]A!B$1:AF$48,31,0),IFERROR(VLOOKUP(B47,[4]B!B$1:AF$51,31,0),VLOOKUP(B47,[4]C!B$1:AF$52,31,0)))","v":2},{"$f":"IFERROR(VLOOKUP(B47,[4]A!B$1:AH$48,33,0),IFERROR(VLOOKUP(B47,[4]B!B$1:AH$51,33,0),VLOOKUP(B47,[4]C!B$1:AH$52,33,0)))","v":0},5,6,null,null,null,null,73,0,0,64,64,87.671232876712324,5,null,7,6,18]
[47,"15BA153",{"$f":"VLOOKUP(B48,[1]A!B$1:AA$48,26,0)","v":8},{"$f":"VLOOKUP(B48,[1]A!B$1:AB$48,27,0)","v":9},{"$f":"VLOOKUP(B48,[1]A!B$1:AD$48,29,0)","v":0},{"$f":"VLOOKUP(B48,[1]A!B$1:AE$48,30,0)","v":0},{"$f":"VLOOKUP(B48,[1]A!B$1:AF$48,31,0)","v":0},{"$f":"VLOOKUP(B48,[1]A!B$1:AH$48,33,0)","v":0},{"$f":"IFERROR(VLOOKUP(B48,[2]A!B$1:AA$48,26,0),IFERROR(VLOOKUP(B48,[2]B!B$1:AA$51,26,0),VLOOKUP(B48,[2]C!B$1:AA$52,26,0)))","v":20},{"$f":"IFERROR(VLOOKUP(B48,[2]A!B$1:AB$48,27,0),IFERROR(VLOOKUP(B48,[2]B!B$1:AB$51,27,0),VLOOKUP(B48,[2]C!B$1:AB$52,27,0)))","v":21},{"$f":"IFERROR(VLOOKUP(B48,[2]A!B$1:AD$48,29,0),IFERROR(VLOOKUP(B48,[2]B!B$1:AD$51,29,0),VLOOKUP(B48,[2]C!B$1:AD$52,29,0)))","v":0},{"$f":"IFERROR(VLOOKUP(B48,[2]A!B$1:AE$48,30,0),IFERROR(VLOOKUP(B48,[2]B!B$1:AE$51,30,0),VLOOKUP(B48,[2]C!B$1:AE$52,30,0)))","v":1},{"$f":"IFERROR(VLOOKUP(B48,[2]A!B$1:AF$48,31,0),IFERROR(VLOOKUP(B48,[2]B!B$1:AF$51,31,0),VLOOKUP(B48,[2]C!B$1:AF$52,31,0)))","v":1},{"$f":"IFERROR(VLOOKUP(B48,[2]A!B$1:AH$48,33,0),IFERROR(VLOOKUP(B48,[2]B!B$1:AH$51,33,0),VLOOKUP(B48,[2]C!$B$1:$AH$52,33,0)))","v":0},{"$f":"IFERROR(VLOOKUP(B48,[3]A!B$1:S$48,18,0),IFERROR(VLOOKUP(B48,[3]B!B$1:Q$51,16,0),VLOOKUP(B48,[3]C!B$1:Q$52,16,0)))","v":15},{"$f":"IFERROR(VLOOKUP(B48,[3]A!B$1:T$48,19,0),IFERROR(VLOOKUP(B48,[3]B!B$1:R$51,17,0),VLOOKUP(B48,[3]C!B$1:R$52,17,0)))","v":16},{"$f":"IFERROR(VLOOKUP(B48,[3]A!B$1:V$48,21,0),IFERROR(VLOOKUP(B48,[3]B!B$1:T$51,19,0),VLOOKUP(B48,[3]C!B$1:T$52,19,0)))","v":0},{"$f":"IFERROR(VLOOKUP(B48,[3]A!B$1:W$48,22,0),IFERROR(VLOOKUP(B48,[3]B!B$1:U$51,20,0),VLOOKUP(B48,[3]C!B$1:U$52,20,0)))","v":1},{"$f":"IFERROR(VLOOKUP(B48,[3]A!B$1:X$48,23,0),IFERROR(VLOOKUP(B48,[3]B!B$1:V$51,21,0),VLOOKUP(B48,[3]C!B$1:V$52,21,0)))","v":1},0,{"$f":"IFERROR(VLOOKUP(B48,[4]A!B$1:AA$48,26,0),IFERROR(VLOOKUP(B48,[4]B!B$1:AA$51,26,0),VLOOKUP(B48,[4]C!B$1:AA$52,26,0)))","v":15},{"$f":"IFERROR(VLOOKUP(B48,[4]A!B$1:AB$48,27,0),IFERROR(VLOOKUP(B48,[4]B!B$1:AB$51,27,0),VLOOKUP(B48,[4]C!B$1:AB$52,27,0)))","v":17},{"$f":"IFERROR(VLOOKUP(B48,[4]A!B$1:AD$48,29,0),IFERROR(VLOOKUP(B48,[4]B!B$1:AD$51,29,0),VLOOKUP(B48,[4]C!B$1:AD$52,29,0)))","v":0},{"$f":"IFERROR(VLOOKUP(B48,[4]A!B$1:AE$48,30,0),IFERROR(VLOOKUP(B48,[4]B!B$1:AE$51,30,0),VLOOKUP(B48,[4]C!B$1:AE$52,30,0)))","v":2},{"$f":"IFERROR(VLOOKUP(B48,[4]A!B$1:AF$48,31,0),IFERROR(VLOOKUP(B48,[4]B!B$1:AF$51,31,0),VLOOKUP(B48,[4]C!B$1:AF$52,31,0)))","v":2},{"$f":"IFERROR(VLOOKUP(B48,[4]A!B$1:AH$48,33,0),IFERROR(VLOOKUP(B48,[4]B!B$1:AH$51,33,0),VLOOKUP(B48,[4]C!B$1:AH$52,33,0)))","v":0},5,6,null,null,null,null,73,0,0,67,67,91.780821917808225,5,null,8,6,19]
[48,"15BA004",{"$f":"VLOOKUP(B49,[1]B!B$1:AA$48,26,0)","v":9},{"$f":"VLOOKUP(B49,[1]B!B$1:AB$48,27,0)","v":9},{"$f":"VLOOKUP(B49,[1]B!B$1:AD$48,29,0)","v":0},{"$f":"VLOOKUP(B49,[1]B!B$1:AE$48,30,0)","v":0},{"$f":"VLOOKUP(B49,[1]B!B$1:AF$48,31,0)","v":0},{"$f":"VLOOKUP(B49,[1]B!B$1:AH$48,33,0)","v":0},{"$f":"IFERROR(VLOOKUP(B49,[2]A!B$1:AA$48,26,0),IFERROR(VLOOKUP(B49,[2]B!B$1:AA$51,26,0),VLOOKUP(B49,[2]C!B$1:AA$52,26,0)))","v":17},{"$f":"IFERROR(VLOOKUP(B49,[2]A!B$1:AB$48,27,0),IFERROR(VLOOKUP(B49,[2]B!B$1:AB$51,27,0),VLOOKUP(B49,[2]C!B$1:AB$52,27,0)))","v":20},{"$f":"IFERROR(VLOOKUP(B49,[2]A!B$1:AD$48,29,0),IFERROR(VLOOKUP(B49,[2]B!B$1:AD$51,29,0),VLOOKUP(B49,[2]C!B$1:AD$52,29,0)))","v":0},{"$f":"IFERROR(VLOOKUP(B49,[2]A!B$1:AE$48,30,0),IFERROR(VLOOKUP(B49,[2]B!B$1:AE$51,30,0),VLOOKUP(B49,[2]C!B$1:AE$52,30,0)))","v":0},{"$f":"IFERROR(VLOOKUP(B49,[2]A!B$1:AF$48,31,0),IFERROR(VLOOKUP(B49,[2]B!B$1:AF$51,31,0),VLOOKUP(B49,[2]C!B$1:AF$52,31,0)))","v":0},{"$f":"IFERROR(VLOOKUP(B49,[2]A!B$1:AH$48,33,0),IFERROR(VLOOKUP(B49,[2]B!B$1:AH$51,33,0),VLOOKUP(B49,[2]C!$B$1:$AH$52,33,0)))","v":0},{"$f":"IFERROR(VLOOKUP(B49,[3]A!B$1:S$48,18,0),IFERROR(VLOOKUP(B49,[3]B!B$1:Q$51,16,0),VLOOKUP(B49,[3]C!B$1:Q$52,16,0)))","v":13},{"$f":"IFERROR(VLOOKUP(B49,[3]A!B$1:T$48,19,0),IFERROR(VLOOKUP(B49,[3]B!B$1:R$51,17,0),VLOOKUP(B49,[3]C!B$1:R$52,17,0)))","v":16},{"$f":"IFERROR(VLOOKUP(B49,[3]A!B$1:V$48,21,0),IFERROR(VLOOKUP(B49,[3]B!B$1:T$51,19,0),VLOOKUP(B49,[3]C!B$1:T$52,19,0)))","v":0},{"$f":"IFERROR(VLOOKUP(B49,[3]A!B$1:W$48,22,0),IFERROR(VLOOKUP(B49,[3]B!B$1:U$51,20,0),VLOOKUP(B49,[3]C!B$1:U$52,20,0)))","v":1},{"$f":"IFERROR(VLOOKUP(B49,[3]A!B$1:X$48,23,0),IFERROR(VLOOKUP(B49,[3]B!B$1:V$51,21,0),VLOOKUP(B49,[3]C!B$1:V$52,21,0)))","v":1},0,{"$f":"IFERROR(VLOOKUP(B49,[4]A!B$1:AA$48,26,0),IFERROR(VLOOKUP(B49,[4]B!B$1:AA$51,26,0),VLOOKUP(B49,[4]C!B$1:AA$52,26,0)))","v":16},{"$f":"IFERROR(VLOOKUP(B49,[4]A!B$1:AB$48,27,0),IFERROR(VLOOKUP(B49,[4]B!B$1:AB$51,27,0),VLOOKUP(B49,[4]C!B$1:AB$52,27,0)))","v":16},{"$f":"IFERROR(VLOOKUP(B49,[4]A!B$1:AD$48,29,0),IFERROR(VLOOKUP(B49,[4]B!B$1:AD$51,29,0),VLOOKUP(B49,[4]C!B$1:AD$52,29,0)))","v":0},{"$f":"IFERROR(VLOOKUP(B49,[4]A!B$1:AE$48,30,0),IFERROR(VLOOKUP(B49,[4]B!B$1:AE$51,30,0),VLOOKUP(B49,[4]C!B$1:AE$52,30,0)))","v":2},{"$f":"IFERROR(VLOOKUP(B49,[4]A!B$1:AF$48,31,0),IFERROR(VLOOKUP(B49,[4]B!B$1:AF$51,31,0),VLOOKUP(B49,[4]C!B$1:AF$52,31,0)))","v":2},{"$f":"IFERROR(VLOOKUP(B49,[4]A!B$1:AH$48,33,0),IFERROR(VLOOKUP(B49,[4]B!B$1:AH$51,33,0),VLOOKUP(B49,[4]C!B$1:AH$52,33,0)))","v":0},3,6,null,null,null,null,70,0,0,61,61,87.142857142857139,5,null,{"$f":"IFERROR(VLOOKUP(B49,[5]A!B$1:Y$48,24,0),IFERROR(VLOOKUP(B49,[5]B!B$1:U$51,20,0),VLOOKUP(B49,[5]C!B$1:U$52,20,0)))","v":9},9,23]
[49,"15BA008",{"$f":"VLOOKUP(B50,[1]B!B$1:AA$48,26,0)","v":5},{"$f":"VLOOKUP(B50,[1]B!B$1:AB$48,27,0)","v":9},{"$f":"VLOOKUP(B50,[1]B!B$1:AD$48,29,0)","v":0},{"$f":"VLOOKUP(B50,[1]B!B$1:AE$48,30,0)","v":0},{"$f":"VLOOKUP(B50,[1]B!B$1:AF$48,31,0)","v":0},{"$f":"VLOOKUP(B50,[1]B!B$1:AH$48,33,0)","v":0},{"$f":"IFERROR(VLOOKUP(B50,[2]A!B$1:AA$48,26,0),IFERROR(VLOOKUP(B50,[2]B!B$1:AA$51,26,0),VLOOKUP(B50,[2]C!B$1:AA$52,26,0)))","v":14},{"$f":"IFERROR(VLOOKUP(B50,[2]A!B$1:AB$48,27,0),IFERROR(VLOOKUP(B50,[2]B!B$1:AB$51,27,0),VLOOKUP(B50,[2]C!B$1:AB$52,27,0)))","v":20},{"$f":"IFERROR(VLOOKUP(B50,[2]A!B$1:AD$48,29,0),IFERROR(VLOOKUP(B50,[2]B!B$1:AD$51,29,0),VLOOKUP(B50,[2]C!B$1:AD$52,29,0)))","v":0},{"$f":"IFERROR(VLOOKUP(B50,[2]A!B$1:AE$48,30,0),IFERROR(VLOOKUP(B50,[2]B!B$1:AE$51,30,0),VLOOKUP(B50,[2]C!B$1:AE$52,30,0)))","v":0},{"$f":"IFERROR(VLOOKUP(B50,[2]A!B$1:AF$48,31,0),IFERROR(VLOOKUP(B50,[2]B!B$1:AF$51,31,0),VLOOKUP(B50,[2]C!B$1:AF$52,31,0)))","v":0},{"$f":"IFERROR(VLOOKUP(B50,[2]A!B$1:AH$48,33,0),IFERROR(VLOOKUP(B50,[2]B!B$1:AH$51,33,0),VLOOKUP(B50,[2]C!$B$1:$AH$52,33,0)))","v":0},{"$f":"IFERROR(VLOOKUP(B50,[3]A!B$1:S$48,18,0),IFERROR(VLOOKUP(B50,[3]B!B$1:Q$51,16,0),VLOOKUP(B50,[3]C!B$1:Q$52,16,0)))","v":8},{"$f":"IFERROR(VLOOKUP(B50,[3]A!B$1:T$48,19,0),IFERROR(VLOOKUP(B50,[3]B!B$1:R$51,17,0),VLOOKUP(B50,[3]C!B$1:R$52,17,0)))","v":16},{"$f":"IFERROR(VLOOKUP(B50,[3]A!B$1:V$48,21,0),IFERROR(VLOOKUP(B50,[3]B!B$1:T$51,19,0),VLOOKUP(B50,[3]C!B$1:T$52,19,0)))","v":0},{"$f":"IFERROR(VLOOKUP(B50,[3]A!B$1:W$48,22,0),IFERROR(VLOOKUP(B50,[3]B!B$1:U$51,20,0),VLOOKUP(B50,[3]C!B$1:U$52,20,0)))","v":1},{"$f":"IFERROR(VLOOKUP(B50,[3]A!B$1:X$48,23,0),IFERROR(VLOOKUP(B50,[3]B!B$1:V$51,21,0),VLOOKUP(B50,[3]C!B$1:V$52,21,0)))","v":1},0,{"$f":"IFERROR(VLOOKUP(B50,[4]A!B$1:AA$48,26,0),IFERROR(VLOOKUP(B50,[4]B!B$1:AA$51,26,0),VLOOKUP(B50,[4]C!B$1:AA$52,26,0)))","v":10},{"$f":"IFERROR(VLOOKUP(B50,[4]A!B$1:AB$48,27,0),IFERROR(VLOOKUP(B50,[4]B!B$1:AB$51,27,0),VLOOKUP(B50,[4]C!B$1:AB$52,27,0)))","v":16},{"$f":"IFERROR(VLOOKUP(B50,[4]A!B$1:AD$48,29,0),IFERROR(VLOOKUP(B50,[4]B!B$1:AD$51,29,0),VLOOKUP(B50,[4]C!B$1:AD$52,29,0)))","v":0},{"$f":"IFERROR(VLOOKUP(B50,[4]A!B$1:AE$48,30,0),IFERROR(VLOOKUP(B50,[4]B!B$1:AE$51,30,0),VLOOKUP(B50,[4]C!B$1:AE$52,30,0)))","v":1},{"$f":"IFERROR(VLOOKUP(B50,[4]A!B$1:AF$48,31,0),IFERROR(VLOOKUP(B50,[4]B!B$1:AF$51,31,0),VLOOKUP(B50,[4]C!B$1:AF$52,31,0)))","v":2},{"$f":"IFERROR(VLOOKUP(B50,[4]A!B$1:AH$48,33,0),IFERROR(VLOOKUP(B50,[4]B!B$1:AH$51,33,0),VLOOKUP(B50,[4]C!B$1:AH$52,33,0)))","v":0},3,6,null,null,null,null,70,0,0,42,42,60,0,null,{"$f":"IFERROR(VLOOKUP(B50,[5]A!B$1:Y$48,24,0),IFERROR(VLOOKUP(B50,[5]B!B$1:U$51,20,0),VLOOKUP(B50,[5]C!B$1:U$52,20,0)))","v":8},8,16]
[50,"15BA009",{"$f":"VLOOKUP(B51,[1]B!B$1:AA$48,26,0)","v":8},{"$f":"VLOOKUP(B51,[1]B!B$1:AB$48,27,0)","v":9},{"$f":"VLOOKUP(B51,[1]B!B$1:AD$48,29,0)","v":0},{"$f":"VLOOKUP(B51,[1]B!B$1:AE$48,30,0)","v":0},{"$f":"VLOOKUP(B51,[1]B!B$1:AF$48,31,0)","v":0},{"$f":"VLOOKUP(B51,[1]B!B$1:AH$48,33,0)","v":0},{"$f":"IFERROR(VLOOKUP(B51,[2]A!B$1:AA$48,26,0),IFERROR(VLOOKUP(B51,[2]B!B$1:AA$51,26,0),VLOOKUP(B51,[2]C!B$1:AA$52,26,0)))","v":16},{"$f":"IFERROR(VLOOKUP(B51,[2]A!B$1:AB$48,27,0),IFERROR(VLOOKUP(B51,[2]B!B$1:AB$51,27,0),VLOOKUP(B51,[2]C!B$1:AB$52,27,0)))","v":20},{"$f":"IFERROR(VLOOKUP(B51,[2]A!B$1:AD$48,29,0),IFERROR(VLOOKUP(B51,[2]B!B$1:AD$51,29,0),VLOOKUP(B51,[2]C!B$1:AD$52,29,0)))","v":0},{"$f":"IFERROR(VLOOKUP(B51,[2]A!B$1:AE$48,30,0),IFERROR(VLOOKUP(B51,[2]B!B$1:AE$51,30,0),VLOOKUP(B51,[2]C!B$1:AE$52,30,0)))","v":2},{"$f":"IFERROR(VLOOKUP(B51,[2]A!B$1:AF$48,31,0),IFERROR(VLOOKUP(B51,[2]B!B$1:AF$51,31,0),VLOOKUP(B51,[2]C!B$1:AF$52,31,0)))","v":3},{"$f":"IFERROR(VLOOKUP(B51,[2]A!B$1:AH$48,33,0),IFERROR(VLOOKUP(B51,[2]B!B$1:AH$51,33,0),VLOOKUP(B51,[2]C!$B$1:$AH$52,33,0)))","v":0},{"$f":"IFERROR(VLOOKUP(B51,[3]A!B$1:S$48,18,0),IFERROR(VLOOKUP(B51,[3]B!B$1:Q$51,16,0),VLOOKUP(B51,[3]C!B$1:Q$52,16,0)))","v":10},{"$f":"IFERROR(VLOOKUP(B51,[3]A!B$1:T$48,19,0),IFERROR(VLOOKUP(B51,[3]B!B$1:R$51,17,0),VLOOKUP(B51,[3]C!B$1:R$52,17,0)))","v":16},{"$f":"IFERROR(VLOOKUP(B51,[3]A!B$1:V$48,21,0),IFERROR(VLOOKUP(B51,[3]B!B$1:T$51,19,0),VLOOKUP(B51,[3]C!B$1:T$52,19,0)))","v":0},{"$f":"IFERROR(VLOOKUP(B51,[3]A!B$1:W$48,22,0),IFERROR(VLOOKUP(B51,[3]B!B$1:U$51,20,0),VLOOKUP(B51,[3]C!B$1:U$52,20,0)))","v":2},{"$f":"IFERROR(VLOOKUP(B51,[3]A!B$1:X$48,23,0),IFERROR(VLOOKUP(B51,[3]B!B$1:V$51,21,0),VLOOKUP(B51,[3]C!B$1:V$52,21,0)))","v":2},0,{"$f":"IFERROR(VLOOKUP(B51,[4]A!B$1:AA$48,26,0),IFERROR(VLOOKUP(B51,[4]B!B$1:AA$51,26,0),VLOOKUP(B51,[4]C!B$1:AA$52,26,0)))","v":10},{"$f":"IFERROR(VLOOKUP(B51,[4]A!B$1:AB$48,27,0),IFERROR(VLOOKUP(B51,[4]B!B$1:AB$51,27,0),VLOOKUP(B51,[4]C!B$1:AB$52,27,0)))","v":16},{"$f":"IFERROR(VLOOKUP(B51,[4]A!B$1:AD$48,29,0),IFERROR(VLOOKUP(B51,[4]B!B$1:AD$51,29,0),VLOOKUP(B51,[4]C!B$1:AD$52,29,0)))","v":0},{"$f":"IFERROR(VLOOKUP(B51,[4]A!B$1:AE$48,30,0),IFERROR(VLOOKUP(B51,[4]B!B$1:AE$51,30,0),VLOOKUP(B51,[4]C!B$1:AE$52,30,0)))","v":2},{"$f":"IFERROR(VLOOKUP(B51,[4]A!B$1:AF$48,31,0),IFERROR(VLOOKUP(B51,[4]B!B$1:AF$51,31,0),VLOOKUP(B51,[4]C!B$1:AF$52,31,0)))","v":2},{"$f":"IFERROR(VLOOKUP(B51,[4]A!B$1:AH$48,33,0),IFERROR(VLOOKUP(B51,[4]B!B$1:AH$51,33,0),VLOOKUP(B51,[4]C!B$1:AH$52,33,0)))","v":0},3,6,null,null,null,null,74,0,0,53,53,71.621621621621628,2,null,{"$f":"IFERROR(VLOOKUP(B51,[5]A!B$1:Y$48,24,0),IFERROR(VLOOKUP(B51,[5]B!B$1:U$51,20,0),VLOOKUP(B51,[5]C!B$1:U$52,20,0)))","v":8},9,19]
[51,"15BA012",{"$f":"VLOOKUP(B52,[1]B!B$1:AA$48,26,0)","v":6},{"$f":"VLOOKUP(B52,[1]B!B$1:AB$48,27,0)","v":9},{"$f":"VLOOKUP(B52,[1]B!B$1:AD$48,29,0)","v":0},{"$f":"VLOOKUP(B52,[1]B!B$1:AE$48,30,0)","v":0},{"$f":"VLOOKUP(B52,[1]B!B$1:AF$48,31,0)","v":0},{"$f":"VLOOKUP(B52,[1]B!B$1:AH$48,33,0)","v":0},{"$f":"IFERROR(VLOOKUP(B52,[2]A!B$1:AA$48,26,0),IFERROR(VLOOKUP(B52,[2]B!B$1:AA$51,26,0),VLOOKUP(B52,[2]C!B$1:AA$52,26,0)))","v":16},{"$f":"IFERROR(VLOOKUP(B52,[2]A!B$1:AB$48,27,0),IFERROR(VLOOKUP(B52,[2]B!B$1:AB$51,27,0),VLOOKUP(B52,[2]C!B$1:AB$52,27,0)))","v":20},{"$f":"IFERROR(VLOOKUP(B52,[2]A!B$1:AD$48,29,0),IFERROR(VLOOKUP(B52,[2]B!B$1:AD$51,29,0),VLOOKUP(B52,[2]C!B$1:AD$52,29,0)))","v":0},{"$f":"IFERROR(VLOOKUP(B52,[2]A!B$1:AE$48,30,0),IFERROR(VLOOKUP(B52,[2]B!B$1:AE$51,30,0),VLOOKUP(B52,[2]C!B$1:AE$52,30,0)))","v":1},{"$f":"IFERROR(VLOOKUP(B52,[2]A!B$1:AF$48,31,0),IFERROR(VLOOKUP(B52,[2]B!B$1:AF$51,31,0),VLOOKUP(B52,[2]C!B$1:AF$52,31,0)))","v":1},{"$f":"IFERROR(VLOOKUP(B52,[2]A!B$1:AH$48,33,0),IFERROR(VLOOKUP(B52,[2]B!B$1:AH$51,33,0),VLOOKUP(B52,[2]C!$B$1:$AH$52,33,0)))","v":0},{"$f":"IFERROR(VLOOKUP(B52,[3]A!B$1:S$48,18,0),IFERROR(VLOOKUP(B52,[3]B!B$1:Q$51,16,0),VLOOKUP(B52,[3]C!B$1:Q$52,16,0)))","v":2},{"$f":"IFERROR(VLOOKUP(B52,[3]A!B$1:T$48,19,0),IFERROR(VLOOKUP(B52,[3]B!B$1:R$51,17,0),VLOOKUP(B52,[3]C!B$1:R$52,17,0)))","v":16},{"$f":"IFERROR(VLOOKUP(B52,[3]A!B$1:V$48,21,0),IFERROR(VLOOKUP(B52,[3]B!B$1:T$51,19,0),VLOOKUP(B52,[3]C!B$1:T$52,19,0)))","v":0},{"$f":"IFERROR(VLOOKUP(B52,[3]A!B$1:W$48,22,0),IFERROR(VLOOKUP(B52,[3]B!B$1:U$51,20,0),VLOOKUP(B52,[3]C!B$1:U$52,20,0)))","v":0},{"$f":"IFERROR(VLOOKUP(B52,[3]A!B$1:X$48,23,0),IFERROR(VLOOKUP(B52,[3]B!B$1:V$51,21,0),VLOOKUP(B52,[3]C!B$1:V$52,21,0)))","v":0},0,{"$f":"IFERROR(VLOOKUP(B52,[4]A!B$1:AA$48,26,0),IFERROR(VLOOKUP(B52,[4]B!B$1:AA$51,26,0),VLOOKUP(B52,[4]C!B$1:AA$52,26,0)))","v":16},{"$f":"IFERROR(VLOOKUP(B52,[4]A!B$1:AB$48,27,0),IFERROR(VLOOKUP(B52,[4]B!B$1:AB$51,27,0),VLOOKUP(B52,[4]C!B$1:AB$52,27,0)))","v":16},{"$f":"IFERROR(VLOOKUP(B52,[4]A!B$1:AD$48,29,0),IFERROR(VLOOKUP(B52,[4]B!B$1:AD$51,29,0),VLOOKUP(B52,[4]C!B$1:AD$52,29,0)))","v":0},{"$f":"IFERROR(VLOOKUP(B52,[4]A!B$1:AE$48,30,0),IFERROR(VLOOKUP(B52,[4]B!B$1:AE$51,30,0),VLOOKUP(B52,[4]C!B$1:AE$52,30,0)))","v":0},{"$f":"IFERROR(VLOOKUP(B52,[4]A!B$1:AF$48,31,0),IFERROR(VLOOKUP(B52,[4]B!B$1:AF$51,31,0),VLOOKUP(B52,[4]C!B$1:AF$52,31,0)))","v":0},{"$f":"IFERROR(VLOOKUP(B52,[4]A!B$1:AH$48,33,0),IFERROR(VLOOKUP(B52,[4]B!B$1:AH$51,33,0),VLOOKUP(B52,[4]C!B$1:AH$52,33,0)))","v":0},4,6,null,null,null,null,68,0,0,45,45,66.17647058823529,0,null,{"$f":"IFERROR(VLOOKUP(B52,[5]A!B$1:Y$48,24,0),IFERROR(VLOOKUP(B52,[5]B!B$1:U$51,20,0),VLOOKUP(B52,[5]C!B$1:U$52,20,0)))","v":8},8,16]
[52,"15BA014",{"$f":"VLOOKUP(B53,[1]B!B$1:AA$48,26,0)","v":9},{"$f":"VLOOKUP(B53,[1]B!B$1:AB$48,27,0)","v":9},{"$f":"VLOOKUP(B53,[1]B!B$1:AD$48,29,0)","v":0},{"$f":"VLOOKUP(B53,[1]B!B$1:AE$48,30,0)","v":0},{"$f":"VLOOKUP(B53,[1]B!B$1:AF$48,31,0)","v":0},{"$f":"VLOOKUP(B53,[1]B!B$1:AH$48,33,0)","v":0},{"$f":"IFERROR(VLOOKUP(B53,[2]A!B$1:AA$48,26,0),IFERROR(VLOOKUP(B53,[2]B!B$1:AA$51,26,0),VLOOKUP(B53,[2]C!B$1:AA$52,26,0)))","v":17},{"$f":"IFERROR(VLOOKUP(B53,[2]A!B$1:AB$48,27,0),IFERROR(VLOOKUP(B53,[2]B!B$1:AB$51,27,0),VLOOKUP(B53,[2]C!B$1:AB$52,27,0)))","v":20},{"$f":"IFERROR(VLOOKUP(B53,[2]A!B$1:AD$48,29,0),IFERROR(VLOOKUP(B53,[2]B!B$1:AD$51,29,0),VLOOKUP(B53,[2]C!B$1:AD$52,29,0)))","v":0},{"$f":"IFERROR(VLOOKUP(B53,[2]A!B$1:AE$48,30,0),IFERROR(VLOOKUP(B53,[2]B!B$1:AE$51,30,0),VLOOKUP(B53,[2]C!B$1:AE$52,30,0)))","v":3},{"$f":"IFERROR(VLOOKUP(B53,[2]A!B$1:AF$48,31,0),IFERROR(VLOOKUP(B53,[2]B!B$1:AF$51,31,0),VLOOKUP(B53,[2]C!B$1:AF$52,31,0)))","v":3},{"$f":"IFERROR(VLOOKUP(B53,[2]A!B$1:AH$48,33,0),IFERROR(VLOOKUP(B53,[2]B!B$1:AH$51,33,0),VLOOKUP(B53,[2]C!$B$1:$AH$52,33,0)))","v":0},{"$f":"IFERROR(VLOOKUP(B53,[3]A!B$1:S$48,18,0),IFERROR(VLOOKUP(B53,[3]B!B$1:Q$51,16,0),VLOOKUP(B53,[3]C!B$1:Q$52,16,0)))","v":11},{"$f":"IFERROR(VLOOKUP(B53,[3]A!B$1:T$48,19,0),IFERROR(VLOOKUP(B53,[3]B!B$1:R$51,17,0),VLOOKUP(B53,[3]C!B$1:R$52,17,0)))","v":16},{"$f":"IFERROR(VLOOKUP(B53,[3]A!B$1:V$48,21,0),IFERROR(VLOOKUP(B53,[3]B!B$1:T$51,19,0),VLOOKUP(B53,[3]C!B$1:T$52,19,0)))","v":4},{"$f":"IFERROR(VLOOKUP(B53,[3]A!B$1:W$48,22,0),IFERROR(VLOOKUP(B53,[3]B!B$1:U$51,20,0),VLOOKUP(B53,[3]C!B$1:U$52,20,0)))","v":2},{"$f":"IFERROR(VLOOKUP(B53,[3]A!B$1:X$48,23,0),IFERROR(VLOOKUP(B53,[3]B!B$1:V$51,21,0),VLOOKUP(B53,[3]C!B$1:V$52,21,0)))","v":2},0,{"$f":"IFERROR(VLOOKUP(B53,[4]A!B$1:AA$48,26,0),IFERROR(VLOOKUP(B53,[4]B!B$1:AA$51,26,0),VLOOKUP(B53,[4]C!B$1:AA$52,26,0)))","v":14},{"$f":"IFERROR(VLOOKUP(B53,[4]A!B$1:AB$48,27,0),IFERROR(VLOOKUP(B53,[4]B!B$1:AB$51,27,0),VLOOKUP(B53,[4]C!B$1:AB$52,27,0)))","v":16},{"$f":"IFERROR(VLOOKUP(B53,[4]A!B$1:AD$48,29,0),IFERROR(VLOOKUP(B53,[4]B!B$1:AD$51,29,0),VLOOKUP(B53,[4]C!B$1:AD$52,29,0)))","v":2},{"$f":"IFERROR(VLOOKUP(B53,[4]A!B$1:AE$48,30,0),IFERROR(VLOOKUP(B53,[4]B!B$1:AE$51,30,0),VLOOKUP(B53,[4]C!B$1:AE$52,30,0)))","v":2},{"$f":"IFERROR(VLOOKUP(B53,[4]A!B$1:AF$48,31,0),IFERROR(VLOOKUP(B53,[4]B!B$1:AF$51,31,0),VLOOKUP(B53,[4]C!B$1:AF$52,31,0)))","v":2},{"$f":"IFERROR(VLOOKUP(B53,[4]A!B$1:AH$48,33,0),IFERROR(VLOOKUP(B53,[4]B!B$1:AH$51,33,0),VLOOKUP(B53,[4]C!B$1:AH$52,33,0)))","v":0},4,6,null,null,null,null,74,6,6,62,68,91.891891891891902,5,null,{"$f":"IFERROR(VLOOKUP(B53,[5]A!B$1:Y$48,24,0),IFERROR(VLOOKUP(B53,[5]B!B$1:U$51,20,0),VLOOKUP(B53,[5]C!B$1:U$52,20,0)))","v":8},9,22]
[53,"15BA016",{"$f":"VLOOKUP(B54,[1]B!B$1:AA$48,26,0)","v":9},{"$f":"VLOOKUP(B54,[1]B!B$1:AB$48,27,0)","v":9},{"$f":"VLOOKUP(B54,[1]B!B$1:AD$48,29,0)","v":0},{"$f":"VLOOKUP(B54,[1]B!B$1:AE$48,30,0)","v":0},{"$f":"VLOOKUP(B54,[1]B!B$1:AF$48,31,0)","v":0},{"$f":"VLOOKUP(B54,[1]B!B$1:AH$48,33,0)","v":0},{"$f":"IFERROR(VLOOKUP(B54,[2]A!B$1:AA$48,26,0),IFERROR(VLOOKUP(B54,[2]B!B$1:AA$51,26,0),VLOOKUP(B54,[2]C!B$1:AA$52,26,0)))","v":16},{"$f":"IFERROR(VLOOKUP(B54,[2]A!B$1:AB$48,27,0),IFERROR(VLOOKUP(B54,[2]B!B$1:AB$51,27,0),VLOOKUP(B54,[2]C!B$1:AB$52,27,0)))","v":20},{"$f":"IFERROR(VLOOKUP(B54,[2]A!B$1:AD$48,29,0),IFERROR(VLOOKUP(B54,[2]B!B$1:AD$51,29,0),VLOOKUP(B54,[2]C!B$1:AD$52,29,0)))","v":0},{"$f":"IFERROR(VLOOKUP(B54,[2]A!B$1:AE$48,30,0),IFERROR(VLOOKUP(B54,[2]B!B$1:AE$51,30,0),VLOOKUP(B54,[2]C!B$1:AE$52,30,0)))","v":0},{"$f":"IFERROR(VLOOKUP(B54,[2]A!B$1:AF$48,31,0),IFERROR(VLOOKUP(B54,[2]B!B$1:AF$51,31,0),VLOOKUP(B54,[2]C!B$1:AF$52,31,0)))","v":0},{"$f":"IFERROR(VLOOKUP(B54,[2]A!B$1:AH$48,33,0),IFERROR(VLOOKUP(B54,[2]B!B$1:AH$51,33,0),VLOOKUP(B54,[2]C!$B$1:$AH$52,33,0)))","v":0},{"$f":"IFERROR(VLOOKUP(B54,[3]A!B$1:S$48,18,0),IFERROR(VLOOKUP(B54,[3]B!B$1:Q$51,16,0),VLOOKUP(B54,[3]C!B$1:Q$52,16,0)))","v":9},{"$f":"IFERROR(VLOOKUP(B54,[3]A!B$1:T$48,19,0),IFERROR(VLOOKUP(B54,[3]B!B$1:R$51,17,0),VLOOKUP(B54,[3]C!B$1:R$52,17,0)))","v":16},{"$f":"IFERROR(VLOOKUP(B54,[3]A!B$1:V$48,21,0),IFERROR(VLOOKUP(B54,[3]B!B$1:T$51,19,0),VLOOKUP(B54,[3]C!B$1:T$52,19,0)))","v":0},{"$f":"IFERROR(VLOOKUP(B54,[3]A!B$1:W$48,22,0),IFERROR(VLOOKUP(B54,[3]B!B$1:U$51,20,0),VLOOKUP(B54,[3]C!B$1:U$52,20,0)))","v":1},{"$f":"IFERROR(VLOOKUP(B54,[3]A!B$1:X$48,23,0),IFERROR(VLOOKUP(B54,[3]B!B$1:V$51,21,0),VLOOKUP(B54,[3]C!B$1:V$52,21,0)))","v":1},0,{"$f":"IFERROR(VLOOKUP(B54,[4]A!B$1:AA$48,26,0),IFERROR(VLOOKUP(B54,[4]B!B$1:AA$51,26,0),VLOOKUP(B54,[4]C!B$1:AA$52,26,0)))","v":12},{"$f":"IFERROR(VLOOKUP(B54,[4]A!B$1:AB$48,27,0),IFERROR(VLOOKUP(B54,[4]B!B$1:AB$51,27,0),VLOOKUP(B54,[4]C!B$1:AB$52,27,0)))","v":16},{"$f":"IFERROR(VLOOKUP(B54,[4]A!B$1:AD$48,29,0),IFERROR(VLOOKUP(B54,[4]B!B$1:AD$51,29,0),VLOOKUP(B54,[4]C!B$1:AD$52,29,0)))","v":0},{"$f":"IFERROR(VLOOKUP(B54,[4]A!B$1:AE$48,30,0),IFERROR(VLOOKUP(B54,[4]B!B$1:AE$51,30,0),VLOOKUP(B54,[4]C!B$1:AE$52,30,0)))","v":2},{"$f":"IFERROR(VLOOKUP(B54,[4]A!B$1:AF$48,31,0),IFERROR(VLOOKUP(B54,[4]B!B$1:AF$51,31,0),VLOOKUP(B54,[4]C!B$1:AF$52,31,0)))","v":2},{"$f":"IFERROR(VLOOKUP(B54,[4]A!B$1:AH$48,33,0),IFERROR(VLOOKUP(B54,[4]B!B$1:AH$51,33,0),VLOOKUP(B54,[4]C!B$1:AH$52,33,0)))","v":0},3,6,null,null,null,null,70,0,0,52,52,74.285714285714292,2,null,{"$f":"IFERROR(VLOOKUP(B54,[5]A!B$1:Y$48,24,0),IFERROR(VLOOKUP(B54,[5]B!B$1:U$51,20,0),VLOOKUP(B54,[5]C!B$1:U$52,20,0)))","v":8},8,18]
[54,"15BA017",{"$f":"VLOOKUP(B55,[1]B!B$1:AA$48,26,0)","v":9},{"$f":"VLOOKUP(B55,[1]B!B$1:AB$48,27,0)","v":9},{"$f":"VLOOKUP(B55,[1]B!B$1:AD$48,29,0)","v":0},{"$f":"VLOOKUP(B55,[1]B!B$1:AE$48,30,0)","v":0},{"$f":"VLOOKUP(B55,[1]B!B$1:AF$48,31,0)","v":0},{"$f":"VLOOKUP(B55,[1]B!B$1:AH$48,33,0)","v":0},{"$f":"IFERROR(VLOOKUP(B55,[2]A!B$1:AA$48,26,0),IFERROR(VLOOKUP(B55,[2]B!B$1:AA$51,26,0),VLOOKUP(B55,[2]C!B$1:AA$52,26,0)))","v":18},{"$f":"IFERROR(VLOOKUP(B55,[2]A!B$1:AB$48,27,0),IFERROR(VLOOKUP(B55,[2]B!B$1:AB$51,27,0),VLOOKUP(B55,[2]C!B$1:AB$52,27,0)))","v":20},{"$f":"IFERROR(VLOOKUP(B55,[2]A!B$1:AD$48,29,0),IFERROR(VLOOKUP(B55,[2]B!B$1:AD$51,29,0),VLOOKUP(B55,[2]C!B$1:AD$52,29,0)))","v":2},{"$f":"IFERROR(VLOOKUP(B55,[2]A!B$1:AE$48,30,0),IFERROR(VLOOKUP(B55,[2]B!B$1:AE$51,30,0),VLOOKUP(B55,[2]C!B$1:AE$52,30,0)))","v":2},{"$f":"IFERROR(VLOOKUP(B55,[2]A!B$1:AF$48,31,0),IFERROR(VLOOKUP(B55,[2]B!B$1:AF$51,31,0),VLOOKUP(B55,[2]C!B$1:AF$52,31,0)))","v":3},{"$f":"IFERROR(VLOOKUP(B55,[2]A!B$1:AH$48,33,0),IFERROR(VLOOKUP(B55,[2]B!B$1:AH$51,33,0),VLOOKUP(B55,[2]C!$B$1:$AH$52,33,0)))","v":1},{"$f":"IFERROR(VLOOKUP(B55,[3]A!B$1:S$48,18,0),IFERROR(VLOOKUP(B55,[3]B!B$1:Q$51,16,0),VLOOKUP(B55,[3]C!B$1:Q$52,16,0)))","v":10},{"$f":"IFERROR(VLOOKUP(B55,[3]A!B$1:T$48,19,0),IFERROR(VLOOKUP(B55,[3]B!B$1:R$51,17,0),VLOOKUP(B55,[3]C!B$1:R$52,17,0)))","v":16},{"$f":"IFERROR(VLOOKUP(B55,[3]A!B$1:V$48,21,0),IFERROR(VLOOKUP(B55,[3]B!B$1:T$51,19,0),VLOOKUP(B55,[3]C!B$1:T$52,19,0)))","v":2},{"$f":"IFERROR(VLOOKUP(B55,[3]A!B$1:W$48,22,0),IFERROR(VLOOKUP(B55,[3]B!B$1:U$51,20,0),VLOOKUP(B55,[3]C!B$1:U$52,20,0)))","v":1},{"$f":"IFERROR(VLOOKUP(B55,[3]A!B$1:X$48,23,0),IFERROR(VLOOKUP(B55,[3]B!B$1:V$51,21,0),VLOOKUP(B55,[3]C!B$1:V$52,21,0)))","v":2},1,{"$f":"IFERROR(VLOOKUP(B55,[4]A!B$1:AA$48,26,0),IFERROR(VLOOKUP(B55,[4]B!B$1:AA$51,26,0),VLOOKUP(B55,[4]C!B$1:AA$52,26,0)))","v":15},{"$f":"IFERROR(VLOOKUP(B55,[4]A!B$1:AB$48,27,0),IFERROR(VLOOKUP(B55,[4]B!B$1:AB$51,27,0),VLOOKUP(B55,[4]C!B$1:AB$52,27,0)))","v":16},{"$f":"IFERROR(VLOOKUP(B55,[4]A!B$1:AD$48,29,0),IFERROR(VLOOKUP(B55,[4]B!B$1:AD$51,29,0),VLOOKUP(B55,[4]C!B$1:AD$52,29,0)))","v":1},{"$f":"IFERROR(VLOOKUP(B55,[4]A!B$1:AE$48,30,0),IFERROR(VLOOKUP(B55,[4]B!B$1:AE$51,30,0),VLOOKUP(B55,[4]C!B$1:AE$52,30,0)))","v":2},{"$f":"IFERROR(VLOOKUP(B55,[4]A!B$1:AF$48,31,0),IFERROR(VLOOKUP(B55,[4]B!B$1:AF$51,31,0),VLOOKUP(B55,[4]C!B$1:AF$52,31,0)))","v":2},{"$f":"IFERROR(VLOOKUP(B55,[4]A!B$1:AH$48,33,0),IFERROR(VLOOKUP(B55,[4]B!B$1:AH$51,33,0),VLOOKUP(B55,[4]C!B$1:AH$52,33,0)))","v":0},5,6,null,null,null,null,74,7,7,62,69,93.243243243243242,5,null,{"$f":"IFERROR(VLOOKUP(B55,[5]A!B$1:Y$48,24,0),IFERROR(VLOOKUP(B55,[5]B!B$1:U$51,20,0),VLOOKUP(B55,[5]C!B$1:U$52,20,0)))","v":9},9,23]
[55,"15BA021",{"$f":"VLOOKUP(B56,[1]B!B$1:AA$48,26,0)","v":8},{"$f":"VLOOKUP(B56,[1]B!B$1:AB$48,27,0)","v":9},{"$f":"VLOOKUP(B56,[1]B!B$1:AD$48,29,0)","v":0},{"$f":"VLOOKUP(B56,[1]B!B$1:AE$48,30,0)","v":0},{"$f":"VLOOKUP(B56,[1]B!B$1:AF$48,31,0)","v":0},{"$f":"VLOOKUP(B56,[1]B!B$1:AH$48,33,0)","v":0},{"$f":"IFERROR(VLOOKUP(B56,[2]A!B$1:AA$48,26,0),IFERROR(VLOOKUP(B56,[2]B!B$1:AA$51,26,0),VLOOKUP(B56,[2]C!B$1:AA$52,26,0)))","v":16},{"$f":"IFERROR(VLOOKUP(B56,[2]A!B$1:AB$48,27,0),IFERROR(VLOOKUP(B56,[2]B!B$1:AB$51,27,0),VLOOKUP(B56,[2]C!B$1:AB$52,27,0)))","v":20},{"$f":"IFERROR(VLOOKUP(B56,[2]A!B$1:AD$48,29,0),IFERROR(VLOOKUP(B56,[2]B!B$1:AD$51,29,0),VLOOKUP(B56,[2]C!B$1:AD$52,29,0)))","v":0},{"$f":"IFERROR(VLOOKUP(B56,[2]A!B$1:AE$48,30,0),IFERROR(VLOOKUP(B56,[2]B!B$1:AE$51,30,0),VLOOKUP(B56,[2]C!B$1:AE$52,30,0)))","v":2},{"$f":"IFERROR(VLOOKUP(B56,[2]A!B$1:AF$48,31,0),IFERROR(VLOOKUP(B56,[2]B!B$1:AF$51,31,0),VLOOKUP(B56,[2]C!B$1:AF$52,31,0)))","v":3},{"$f":"IFERROR(VLOOKUP(B56,[2]A!B$1:AH$48,33,0),IFERROR(VLOOKUP(B56,[2]B!B$1:AH$51,33,0),VLOOKUP(B56,[2]C!$B$1:$AH$52,33,0)))","v":0},{"$f":"IFERROR(VLOOKUP(B56,[3]A!B$1:S$48,18,0),IFERROR(VLOOKUP(B56,[3]B!B$1:Q$51,16,0),VLOOKUP(B56,[3]C!B$1:Q$52,16,0)))","v":10},{"$f":"IFERROR(VLOOKUP(B56,[3]A!B$1:T$48,19,0),IFERROR(VLOOKUP(B56,[3]B!B$1:R$51,17,0),VLOOKUP(B56,[3]C!B$1:R$52,17,0)))","v":16},{"$f":"IFERROR(VLOOKUP(B56,[3]A!B$1:V$48,21,0),IFERROR(VLOOKUP(B56,[3]B!B$1:T$51,19,0),VLOOKUP(B56,[3]C!B$1:T$52,19,0)))","v":4},{"$f":"IFERROR(VLOOKUP(B56,[3]A!B$1:W$48,22,0),IFERROR(VLOOKUP(B56,[3]B!B$1:U$51,20,0),VLOOKUP(B56,[3]C!B$1:U$52,20,0)))","v":1},{"$f":"IFERROR(VLOOKUP(B56,[3]A!B$1:X$48,23,0),IFERROR(VLOOKUP(B56,[3]B!B$1:V$51,21,0),VLOOKUP(B56,[3]C!B$1:V$52,21,0)))","v":2},0,{"$f":"IFERROR(VLOOKUP(B56,[4]A!B$1:AA$48,26,0),IFERROR(VLOOKUP(B56,[4]B!B$1:AA$51,26,0),VLOOKUP(B56,[4]C!B$1:AA$52,26,0)))","v":14},{"$f":"IFERROR(VLOOKUP(B56,[4]A!B$1:AB$48,27,0),IFERROR(VLOOKUP(B56,[4]B!B$1:AB$51,27,0),VLOOKUP(B56,[4]C!B$1:AB$52,27,0)))","v":16},{"$f":"IFERROR(VLOOKUP(B56,[4]A!B$1:AD$48,29,0),IFERROR(VLOOKUP(B56,[4]B!B$1:AD$51,29,0),VLOOKUP(B56,[4]C!B$1:AD$52,29,0)))","v":2},{"$f":"IFERROR(VLOOKUP(B56,[4]A!B$1:AE$48,30,0),IFERROR(VLOOKUP(B56,[4]B!B$1:AE$51,30,0),VLOOKUP(B56,[4]C!B$1:AE$52,30,0)))","v":2},{"$f":"IFERROR(VLOOKUP(B56,[4]A!B$1:AF$48,31,0),IFERROR(VLOOKUP(B56,[4]B!B$1:AF$51,31,0),VLOOKUP(B56,[4]C!B$1:AF$52,31,0)))","v":2},{"$f":"IFERROR(VLOOKUP(B56,[4]A!B$1:AH$48,33,0),IFERROR(VLOOKUP(B56,[4]B!B$1:AH$51,33,0),VLOOKUP(B56,[4]C!B$1:AH$52,33,0)))","v":0},4,6,null,null,null,null,74,6,6,57,63,85.13513513513513,5,null,{"$f":"IFERROR(VLOOKUP(B56,[5]A!B$1:Y$48,24,0),IFERROR(VLOOKUP(B56,[5]B!B$1:U$51,20,0),VLOOKUP(B56,[5]C!B$1:U$52,20,0)))","v":9},9,23]
[56,"15BA024",{"$f":"VLOOKUP(B57,[1]B!B$1:AA$48,26,0)","v":9},{"$f":"VLOOKUP(B57,[1]B!B$1:AB$48,27,0)","v":9},{"$f":"VLOOKUP(B57,[1]B!B$1:AD$48,29,0)","v":0},{"$f":"VLOOKUP(B57,[1]B!B$1:AE$48,30,0)","v":0},{"$f":"VLOOKUP(B57,[1]B!B$1:AF$48,31,0)","v":0},{"$f":"VLOOKUP(B57,[1]B!B$1:AH$48,33,0)","v":0},{"$f":"IFERROR(VLOOKUP(B57,[2]A!B$1:AA$48,26,0),IFERROR(VLOOKUP(B57,[2]B!B$1:AA$51,26,0),VLOOKUP(B57,[2]C!B$1:AA$52,26,0)))","v":17},{"$f":"IFERROR(VLOOKUP(B57,[2]A!B$1:AB$48,27,0),IFERROR(VLOOKUP(B57,[2]B!B$1:AB$51,27,0),VLOOKUP(B57,[2]C!B$1:AB$52,27,0)))","v":20},{"$f":"IFERROR(VLOOKUP(B57,[2]A!B$1:AD$48,29,0),IFERROR(VLOOKUP(B57,[2]B!B$1:AD$51,29,0),VLOOKUP(B57,[2]C!B$1:AD$52,29,0)))","v":0},{"$f":"IFERROR(VLOOKUP(B57,[2]A!B$1:AE$48,30,0),IFERROR(VLOOKUP(B57,[2]B!B$1:AE$51,30,0),VLOOKUP(B57,[2]C!B$1:AE$52,30,0)))","v":2},{"$f":"IFERROR(VLOOKUP(B57,[2]A!B$1:AF$48,31,0),IFERROR(VLOOKUP(B57,[2]B!B$1:AF$51,31,0),VLOOKUP(B57,[2]C!B$1:AF$52,31,0)))","v":3},{"$f":"IFERROR(VLOOKUP(B57,[2]A!B$1:AH$48,33,0),IFERROR(VLOOKUP(B57,[2]B!B$1:AH$51,33,0),VLOOKUP(B57,[2]C!$B$1:$AH$52,33,0)))","v":0},{"$f":"IFERROR(VLOOKUP(B57,[3]A!B$1:S$48,18,0),IFERROR(VLOOKUP(B57,[3]B!B$1:Q$51,16,0),VLOOKUP(B57,[3]C!B$1:Q$52,16,0)))","v":10},{"$f":"IFERROR(VLOOKUP(B57,[3]A!B$1:T$48,19,0),IFERROR(VLOOKUP(B57,[3]B!B$1:R$51,17,0),VLOOKUP(B57,[3]C!B$1:R$52,17,0)))","v":16},{"$f":"IFERROR(VLOOKUP(B57,[3]A!B$1:V$48,21,0),IFERROR(VLOOKUP(B57,[3]B!B$1:T$51,19,0),VLOOKUP(B57,[3]C!B$1:T$52,19,0)))","v":0},{"$f":"IFERROR(VLOOKUP(B57,[3]A!B$1:W$48,22,0),IFERROR(VLOOKUP(B57,[3]B!B$1:U$51,20,0),VLOOKUP(B57,[3]C!B$1:U$52,20,0)))","v":1},{"$f":"IFERROR(VLOOKUP(B57,[3]A!B$1:X$48,23,0),IFERROR(VLOOKUP(B57,[3]B!B$1:V$51,21,0),VLOOKUP(B57,[3]C!B$1:V$52,21,0)))","v":2},0,{"$f":"IFERROR(VLOOKUP(B57,[4]A!B$1:AA$48,26,0),IFERROR(VLOOKUP(B57,[4]B!B$1:AA$51,26,0),VLOOKUP(B57,[4]C!B$1:AA$52,26,0)))","v":10},{"$f":"IFERROR(VLOOKUP(B57,[4]A!B$1:AB$48,27,0),IFERROR(VLOOKUP(B57,[4]B!B$1:AB$51,27,0),VLOOKUP(B57,[4]C!B$1:AB$52,27,0)))","v":16},{"$f":"IFERROR(VLOOKUP(B57,[4]A!B$1:AD$48,29,0),IFERROR(VLOOKUP(B57,[4]B!B$1:AD$51,29,0),VLOOKUP(B57,[4]C!B$1:AD$52,29,0)))","v":6},{"$f":"IFERROR(VLOOKUP(B57,[4]A!B$1:AE$48,30,0),IFERROR(VLOOKUP(B57,[4]B!B$1:AE$51,30,0),VLOOKUP(B57,[4]C!B$1:AE$52,30,0)))","v":2},{"$f":"IFERROR(VLOOKUP(B57,[4]A!B$1:AF$48,31,0),IFERROR(VLOOKUP(B57,[4]B!B$1:AF$51,31,0),VLOOKUP(B57,[4]C!B$1:AF$52,31,0)))","v":2},{"$f":"IFERROR(VLOOKUP(B57,[4]A!B$1:AH$48,33,0),IFERROR(VLOOKUP(B57,[4]B!B$1:AH$51,33,0),VLOOKUP(B57,[4]C!B$1:AH$52,33,0)))","v":0},1,6,null,null,null,null,74,6,6,52,58,78.378378378378372,3,null,{"$f":"IFERROR(VLOOKUP(B57,[5]A!B$1:Y$48,24,0),IFERROR(VLOOKUP(B57,[5]B!B$1:U$51,20,0),VLOOKUP(B57,[5]C!B$1:U$52,20,0)))","v":8},9,20]
[57,"15BA030",{"$f":"VLOOKUP(B58,[1]B!B$1:AA$48,26,0)","v":0},{"$f":"VLOOKUP(B58,[1]B!B$1:AB$48,27,0)","v":9},{"$f":"VLOOKUP(B58,[1]B!B$1:AD$48,29,0)","v":0},{"$f":"VLOOKUP(B58,[1]B!B$1:AE$48,30,0)","v":0},{"$f":"VLOOKUP(B58,[1]B!B$1:AF$48,31,0)","v":0},{"$f":"VLOOKUP(B58,[1]B!B$1:AH$48,33,0)","v":0},{"$f":"IFERROR(VLOOKUP(B58,[2]A!B$1:AA$48,26,0),IFERROR(VLOOKUP(B58,[2]B!B$1:AA$51,26,0),VLOOKUP(B58,[2]C!B$1:AA$52,26,0)))","v":0},{"$f":"IFERROR(VLOOKUP(B58,[2]A!B$1:AB$48,27,0),IFERROR(VLOOKUP(B58,[2]B!B$1:AB$51,27,0),VLOOKUP(B58,[2]C!B$1:AB$52,27,0)))","v":20},{"$f":"IFERROR(VLOOKUP(B58,[2]A!B$1:AD$48,29,0),IFERROR(VLOOKUP(B58,[2]B!B$1:AD$51,29,0),VLOOKUP(B58,[2]C!B$1:AD$52,29,0)))","v":0},{"$f":"IFERROR(VLOOKUP(B58,[2]A!B$1:AE$48,30,0),IFERROR(VLOOKUP(B58,[2]B!B$1:AE$51,30,0),VLOOKUP(B58,[2]C!B$1:AE$52,30,0)))","v":0},{"$f":"IFERROR(VLOOKUP(B58,[2]A!B$1:AF$48,31,0),IFERROR(VLOOKUP(B58,[2]B!B$1:AF$51,31,0),VLOOKUP(B58,[2]C!B$1:AF$52,31,0)))","v":0},{"$f":"IFERROR(VLOOKUP(B58,[2]A!B$1:AH$48,33,0),IFERROR(VLOOKUP(B58,[2]B!B$1:AH$51,33,0),VLOOKUP(B58,[2]C!$B$1:$AH$52,33,0)))","v":0},{"$f":"IFERROR(VLOOKUP(B58,[3]A!B$1:S$48,18,0),IFERROR(VLOOKUP(B58,[3]B!B$1:Q$51,16,0),VLOOKUP(B58,[3]C!B$1:Q$52,16,0)))","v":0},{"$f":"IFERROR(VLOOKUP(B58,[3]A!B$1:T$48,19,0),IFERROR(VLOOKUP(B58,[3]B!B$1:R$51,17,0),VLOOKUP(B58,[3]C!B$1:R$52,17,0)))","v":16},{"$f":"IFERROR(VLOOKUP(B58,[3]A!B$1:V$48,21,0),IFERROR(VLOOKUP(B58,[3]B!B$1:T$51,19,0),VLOOKUP(B58,[3]C!B$1:T$52,19,0)))","v":0},{"$f":"IFERROR(VLOOKUP(B58,[3]A!B$1:W$48,22,0),IFERROR(VLOOKUP(B58,[3]B!B$1:U$51,20,0),VLOOKUP(B58,[3]C!B$1:U$52,20,0)))","v":0},{"$f":"IFERROR(VLOOKUP(B58,[3]A!B$1:X$48,23,0),IFERROR(VLOOKUP(B58,[3]B!B$1:V$51,21,0),VLOOKUP(B58,[3]C!B$1:V$52,21,0)))","v":0},0,{"$f":"IFERROR(VLOOKUP(B58,[4]A!B$1:AA$48,26,0),IFERROR(VLOOKUP(B58,[4]B!B$1:AA$51,26,0),VLOOKUP(B58,[4]C!B$1:AA$52,26,0)))","v":0},{"$f":"IFERROR(VLOOKUP(B58,[4]A!B$1:AB$48,27,0),IFERROR(VLOOKUP(B58,[4]B!B$1:AB$51,27,0),VLOOKUP(B58,[4]C!B$1:AB$52,27,0)))","v":16},{"$f":"IFERROR(VLOOKUP(B58,[4]A!B$1:AD$48,29,0),IFERROR(VLOOKUP(B58,[4]B!B$1:AD$51,29,0),VLOOKUP(B58,[4]C!B$1:AD$52,29,0)))","v":0},{"$f":"IFERROR(VLOOKUP(B58,[4]A!B$1:AE$48,30,0),IFERROR(VLOOKUP(B58,[4]B!B$1:AE$51,30,0),VLOOKUP(B58,[4]C!B$1:AE$52,30,0)))","v":0},{"$f":"IFERROR(VLOOKUP(B58,[4]A!B$1:AF$48,31,0),IFERROR(VLOOKUP(B58,[4]B!B$1:AF$51,31,0),VLOOKUP(B58,[4]C!B$1:AF$52,31,0)))","v":0},{"$f":"IFERROR(VLOOKUP(B58,[4]A!B$1:AH$48,33,0),IFERROR(VLOOKUP(B58,[4]B!B$1:AH$51,33,0),VLOOKUP(B58,[4]C!B$1:AH$52,33,0)))","v":0},0,6,null,null,null,null,67,0,0,0,0,0,0,null,{"$f":"IFERROR(VLOOKUP(B58,[5]A!B$1:Y$48,24,0),IFERROR(VLOOKUP(B58,[5]B!B$1:U$51,20,0),VLOOKUP(B58,[5]C!B$1:U$52,20,0)))","v":0},0,0]
[58,"15BA036",{"$f":"VLOOKUP(B59,[1]B!B$1:AA$48,26,0)","v":9},{"$f":"VLOOKUP(B59,[1]B!B$1:AB$48,27,0)","v":9},{"$f":"VLOOKUP(B59,[1]B!B$1:AD$48,29,0)","v":0},{"$f":"VLOOKUP(B59,[1]B!B$1:AE$48,30,0)","v":0},{"$f":"VLOOKUP(B59,[1]B!B$1:AF$48,31,0)","v":0},{"$f":"VLOOKUP(B59,[1]B!B$1:AH$48,33,0)","v":0},{"$f":"IFERROR(VLOOKUP(B59,[2]A!B$1:AA$48,26,0),IFERROR(VLOOKUP(B59,[2]B!B$1:AA$51,26,0),VLOOKUP(B59,[2]C!B$1:AA$52,26,0)))","v":15},{"$f":"IFERROR(VLOOKUP(B59,[2]A!B$1:AB$48,27,0),IFERROR(VLOOKUP(B59,[2]B!B$1:AB$51,27,0),VLOOKUP(B59,[2]C!B$1:AB$52,27,0)))","v":20},{"$f":"IFERROR(VLOOKUP(B59,[2]A!B$1:AD$48,29,0),IFERROR(VLOOKUP(B59,[2]B!B$1:AD$51,29,0),VLOOKUP(B59,[2]C!B$1:AD$52,29,0)))","v":0},{"$f":"IFERROR(VLOOKUP(B59,[2]A!B$1:AE$48,30,0),IFERROR(VLOOKUP(B59,[2]B!B$1:AE$51,30,0),VLOOKUP(B59,[2]C!B$1:AE$52,30,0)))","v":0},{"$f":"IFERROR(VLOOKUP(B59,[2]A!B$1:AF$48,31,0),IFERROR(VLOOKUP(B59,[2]B!B$1:AF$51,31,0),VLOOKUP(B59,[2]C!B$1:AF$52,31,0)))","v":0},{"$f":"IFERROR(VLOOKUP(B59,[2]A!B$1:AH$48,33,0),IFERROR(VLOOKUP(B59,[2]B!B$1:AH$51,33,0),VLOOKUP(B59,[2]C!$B$1:$AH$52,33,0)))","v":0},{"$f":"IFERROR(VLOOKUP(B59,[3]A!B$1:S$48,18,0),IFERROR(VLOOKUP(B59,[3]B!B$1:Q$51,16,0),VLOOKUP(B59,[3]C!B$1:Q$52,16,0)))","v":12},{"$f":"IFERROR(VLOOKUP(B59,[3]A!B$1:T$48,19,0),IFERROR(VLOOKUP(B59,[3]B!B$1:R$51,17,0),VLOOKUP(B59,[3]C!B$1:R$52,17,0)))","v":16},{"$f":"IFERROR(VLOOKUP(B59,[3]A!B$1:V$48,21,0),IFERROR(VLOOKUP(B59,[3]B!B$1:T$51,19,0),VLOOKUP(B59,[3]C!B$1:T$52,19,0)))","v":0},{"$f":"IFERROR(VLOOKUP(B59,[3]A!B$1:W$48,22,0),IFERROR(VLOOKUP(B59,[3]B!B$1:U$51,20,0),VLOOKUP(B59,[3]C!B$1:U$52,20,0)))","v":1},{"$f":"IFERROR(VLOOKUP(B59,[3]A!B$1:X$48,23,0),IFERROR(VLOOKUP(B59,[3]B!B$1:V$51,21,0),VLOOKUP(B59,[3]C!B$1:V$52,21,0)))","v":1},0,{"$f":"IFERROR(VLOOKUP(B59,[4]A!B$1:AA$48,26,0),IFERROR(VLOOKUP(B59,[4]B!B$1:AA$51,26,0),VLOOKUP(B59,[4]C!B$1:AA$52,26,0)))","v":15},{"$f":"IFERROR(VLOOKUP(B59,[4]A!B$1:AB$48,27,0),IFERROR(VLOOKUP(B59,[4]B!B$1:AB$51,27,0),VLOOKUP(B59,[4]C!B$1:AB$52,27,0)))","v":16},{"$f":"IFERROR(VLOOKUP(B59,[4]A!B$1:AD$48,29,0),IFERROR(VLOOKUP(B59,[4]B!B$1:AD$51,29,0),VLOOKUP(B59,[4]C!B$1:AD$52,29,0)))","v":0},{"$f":"IFERROR(VLOOKUP(B59,[4]A!B$1:AE$48,30,0),IFERROR(VLOOKUP(B59,[4]B!B$1:AE$51,30,0),VLOOKUP(B59,[4]C!B$1:AE$52,30,0)))","v":2},{"$f":"IFERROR(VLOOKUP(B59,[4]A!B$1:AF$48,31,0),IFERROR(VLOOKUP(B59,[4]B!B$1:AF$51,31,0),VLOOKUP(B59,[4]C!B$1:AF$52,31,0)))","v":2},{"$f":"IFERROR(VLOOKUP(B59,[4]A!B$1:AH$48,33,0),IFERROR(VLOOKUP(B59,[4]B!B$1:AH$51,33,0),VLOOKUP(B59,[4]C!B$1:AH$52,33,0)))","v":0},3,6,null,null,null,null,70,0,0,57,57,81.428571428571431,4,null,{"$f":"IFERROR(VLOOKUP(B59,[5]A!B$1:Y$48,24,0),IFERROR(VLOOKUP(B59,[5]B!B$1:U$51,20,0),VLOOKUP(B59,[5]C!B$1:U$52,20,0)))","v":8},9,21]
[59,"15BA039",{"$f":"VLOOKUP(B60,[1]B!B$1:AA$48,26,0)","v":8},{"$f":"VLOOKUP(B60,[1]B!B$1:AB$48,27,0)","v":9},{"$f":"VLOOKUP(B60,[1]B!B$1:AD$48,29,0)","v":0},{"$f":"VLOOKUP(B60,[1]B!B$1:AE$48,30,0)","v":0},{"$f":"VLOOKUP(B60,[1]B!B$1:AF$48,31,0)","v":0},{"$f":"VLOOKUP(B60,[1]B!B$1:AH$48,33,0)","v":0},{"$f":"IFERROR(VLOOKUP(B60,[2]A!B$1:AA$48,26,0),IFERROR(VLOOKUP(B60,[2]B!B$1:AA$51,26,0),VLOOKUP(B60,[2]C!B$1:AA$52,26,0)))","v":16},{"$f":"IFERROR(VLOOKUP(B60,[2]A!B$1:AB$48,27,0),IFERROR(VLOOKUP(B60,[2]B!B$1:AB$51,27,0),VLOOKUP(B60,[2]C!B$1:AB$52,27,0)))","v":20},{"$f":"IFERROR(VLOOKUP(B60,[2]A!B$1:AD$48,29,0),IFERROR(VLOOKUP(B60,[2]B!B$1:AD$51,29,0),VLOOKUP(B60,[2]C!B$1:AD$52,29,0)))","v":0},{"$f":"IFERROR(VLOOKUP(B60,[2]A!B$1:AE$48,30,0),IFERROR(VLOOKUP(B60,[2]B!B$1:AE$51,30,0),VLOOKUP(B60,[2]C!B$1:AE$52,30,0)))","v":1},{"$f":"IFERROR(VLOOKUP(B60,[2]A!B$1:AF$48,31,0),IFERROR(VLOOKUP(B60,[2]B!B$1:AF$51,31,0),VLOOKUP(B60,[2]C!B$1:AF$52,31,0)))","v":3},{"$f":"IFERROR(VLOOKUP(B60,[2]A!B$1:AH$48,33,0),IFERROR(VLOOKUP(B60,[2]B!B$1:AH$51,33,0),VLOOKUP(B60,[2]C!$B$1:$AH$52,33,0)))","v":0},{"$f":"IFERROR(VLOOKUP(B60,[3]A!B$1:S$48,18,0),IFERROR(VLOOKUP(B60,[3]B!B$1:Q$51,16,0),VLOOKUP(B60,[3]C!B$1:Q$52,16,0)))","v":12},{"$f":"IFERROR(VLOOKUP(B60,[3]A!B$1:T$48,19,0),IFERROR(VLOOKUP(B60,[3]B!B$1:R$51,17,0),VLOOKUP(B60,[3]C!B$1:R$52,17,0)))","v":16},{"$f":"IFERROR(VLOOKUP(B60,[3]A!B$1:V$48,21,0),IFERROR(VLOOKUP(B60,[3]B!B$1:T$51,19,0),VLOOKUP(B60,[3]C!B$1:T$52,19,0)))","v":0},{"$f":"IFERROR(VLOOKUP(B60,[3]A!B$1:W$48,22,0),IFERROR(VLOOKUP(B60,[3]B!B$1:U$51,20,0),VLOOKUP(B60,[3]C!B$1:U$52,20,0)))","v":1},{"$f":"IFERROR(VLOOKUP(B60,[3]A!B$1:X$48,23,0),IFERROR(VLOOKUP(B60,[3]B!B$1:V$51,21,0),VLOOKUP(B60,[3]C!B$1:V$52,21,0)))","v":2},0,{"$f":"IFERROR(VLOOKUP(B60,[4]A!B$1:AA$48,26,0),IFERROR(VLOOKUP(B60,[4]B!B$1:AA$51,26,0),VLOOKUP(B60,[4]C!B$1:AA$52,26,0)))","v":13},{"$f":"IFERROR(VLOOKUP(B60,[4]A!B$1:AB$48,27,0),IFERROR(VLOOKUP(B60,[4]B!B$1:AB$51,27,0),VLOOKUP(B60,[4]C!B$1:AB$52,27,0)))","v":16},{"$f":"IFERROR(VLOOKUP(B60,[4]A!B$1:AD$48,29,0),IFERROR(VLOOKUP(B60,[4]B!B$1:AD$51,29,0),VLOOKUP(B60,[4]C!B$1:AD$52,29,0)))","v":2},{"$f":"IFERROR(VLOOKUP(B60,[4]A!B$1:AE$48,30,0),IFERROR(VLOOKUP(B60,[4]B!B$1:AE$51,30,0),VLOOKUP(B60,[4]C!B$1:AE$52,30,0)))","v":2},{"$f":"IFERROR(VLOOKUP(B60,[4]A!B$1:AF$48,31,0),IFERROR(VLOOKUP(B60,[4]B!B$1:AF$51,31,0),VLOOKUP(B60,[4]C!B$1:AF$52,31,0)))","v":2},{"$f":"IFERROR(VLOOKUP(B60,[4]A!B$1:AH$48,33,0),IFERROR(VLOOKUP(B60,[4]B!B$1:AH$51,33,0),VLOOKUP(B60,[4]C!B$1:AH$52,33,0)))","v":0},3,6,null,null,null,null,74,2,2,56,58,78.378378378378372,3,null,{"$f":"IFERROR(VLOOKUP(B60,[5]A!B$1:Y$48,24,0),IFERROR(VLOOKUP(B60,[5]B!B$1:U$51,20,0),VLOOKUP(B60,[5]C!B$1:U$52,20,0)))","v":9},9,21]
[60,"15BA040",{"$f":"VLOOKUP(B61,[1]B!B$1:AA$48,26,0)","v":6},{"$f":"VLOOKUP(B61,[1]B!B$1:AB$48,27,0)","v":9},{"$f":"VLOOKUP(B61,[1]B!B$1:AD$48,29,0)","v":0},{"$f":"VLOOKUP(B61,[1]B!B$1:AE$48,30,0)","v":0},{"$f":"VLOOKUP(B61,[1]B!B$1:AF$48,31,0)","v":0},{"$f":"VLOOKUP(B61,[1]B!B$1:AH$48,33,0)","v":0},{"$f":"IFERROR(VLOOKUP(B61,[2]A!B$1:AA$48,26,0),IFERROR(VLOOKUP(B61,[2]B!B$1:AA$51,26,0),VLOOKUP(B61,[2]C!B$1:AA$52,26,0)))","v":8},{"$f":"IFERROR(VLOOKUP(B61,[2]A!B$1:AB$48,27,0),IFERROR(VLOOKUP(B61,[2]B!B$1:AB$51,27,0),VLOOKUP(B61,[2]C!B$1:AB$52,27,0)))","v":20},{"$f":"IFERROR(VLOOKUP(B61,[2]A!B$1:AD$48,29,0),IFERROR(VLOOKUP(B61,[2]B!B$1:AD$51,29,0),VLOOKUP(B61,[2]C!B$1:AD$52,29,0)))","v":0},{"$f":"IFERROR(VLOOKUP(B61,[2]A!B$1:AE$48,30,0),IFERROR(VLOOKUP(B61,[2]B!B$1:AE$51,30,0),VLOOKUP(B61,[2]C!B$1:AE$52,30,0)))","v":0},{"$f":"IFERROR(VLOOKUP(B61,[2]A!B$1:AF$48,31,0),IFERROR(VLOOKUP(B61,[2]B!B$1:AF$51,31,0),VLOOKUP(B61,[2]C!B$1:AF$52,31,0)))","v":0},{"$f":"IFERROR(VLOOKUP(B61,[2]A!B$1:AH$48,33,0),IFERROR(VLOOKUP(B61,[2]B!B$1:AH$51,33,0),VLOOKUP(B61,[2]C!$B$1:$AH$52,33,0)))","v":0},{"$f":"IFERROR(VLOOKUP(B61,[3]A!B$1:S$48,18,0),IFERROR(VLOOKUP(B61,[3]B!B$1:Q$51,16,0),VLOOKUP(B61,[3]C!B$1:Q$52,16,0)))","v":5},{"$f":"IFERROR(VLOOKUP(B61,[3]A!B$1:T$48,19,0),IFERROR(VLOOKUP(B61,[3]B!B$1:R$51,17,0),VLOOKUP(B61,[3]C!B$1:R$52,17,0)))","v":16},{"$f":"IFERROR(VLOOKUP(B61,[3]A!B$1:V$48,21,0),IFERROR(VLOOKUP(B61,[3]B!B$1:T$51,19,0),VLOOKUP(B61,[3]C!B$1:T$52,19,0)))","v":0},{"$f":"IFERROR(VLOOKUP(B61,[3]A!B$1:W$48,22,0),IFERROR(VLOOKUP(B61,[3]B!B$1:U$51,20,0),VLOOKUP(B61,[3]C!B$1:U$52,20,0)))","v":1},{"$f":"IFERROR(VLOOKUP(B61,[3]A!B$1:X$48,23,0),IFERROR(VLOOKUP(B61,[3]B!B$1:V$51,21,0),VLOOKUP(B61,[3]C!B$1:V$52,21,0)))","v":1},0,{"$f":"IFERROR(VLOOKUP(B61,[4]A!B$1:AA$48,26,0),IFERROR(VLOOKUP(B61,[4]B!B$1:AA$51,26,0),VLOOKUP(B61,[4]C!B$1:AA$52,26,0)))","v":9},{"$f":"IFERROR(VLOOKUP(B61,[4]A!B$1:AB$48,27,0),IFERROR(VLOOKUP(B61,[4]B!B$1:AB$51,27,0),VLOOKUP(B61,[4]C!B$1:AB$52,27,0)))","v":16},{"$f":"IFERROR(VLOOKUP(B61,[4]A!B$1:AD$48,29,0),IFERROR(VLOOKUP(B61,[4]B!B$1:AD$51,29,0),VLOOKUP(B61,[4]C!B$1:AD$52,29,0)))","v":0},{"$f":"IFERROR(VLOOKUP(B61,[4]A!B$1:AE$48,30,0),IFERROR(VLOOKUP(B61,[4]B!B$1:AE$51,30,0),VLOOKUP(B61,[4]C!B$1:AE$52,30,0)))","v":1},{"$f":"IFERROR(VLOOKUP(B61,[4]A!B$1:AF$48,31,0),IFERROR(VLOOKUP(B61,[4]B!B$1:AF$51,31,0),VLOOKUP(B61,[4]C!B$1:AF$52,31,0)))","v":2},{"$f":"IFERROR(VLOOKUP(B61,[4]A!B$1:AH$48,33,0),IFERROR(VLOOKUP(B61,[4]B!B$1:AH$51,33,0),VLOOKUP(B61,[4]C!B$1:AH$52,33,0)))","v":0},1,6,null,null,null,null,70,0,0,31,31,44.285714285714285,0,null,{"$f":"IFERROR(VLOOKUP(B61,[5]A!B$1:Y$48,24,0),IFERROR(VLOOKUP(B61,[5]B!B$1:U$51,20,0),VLOOKUP(B61,[5]C!B$1:U$52,20,0)))","v":8},8,16]
[61,"15BA050",{"$f":"VLOOKUP(B62,[1]B!B$1:AA$48,26,0)","v":6},{"$f":"VLOOKUP(B62,[1]B!B$1:AB$48,27,0)","v":9},{"$f":"VLOOKUP(B62,[1]B!B$1:AD$48,29,0)","v":0},{"$f":"VLOOKUP(B62,[1]B!B$1:AE$48,30,0)","v":0},{"$f":"VLOOKUP(B62,[1]B!B$1:AF$48,31,0)","v":0},{"$f":"VLOOKUP(B62,[1]B!B$1:AH$48,33,0)","v":0},{"$f":"IFERROR(VLOOKUP(B62,[2]A!B$1:AA$48,26,0),IFERROR(VLOOKUP(B62,[2]B!B$1:AA$51,26,0),VLOOKUP(B62,[2]C!B$1:AA$52,26,0)))","v":10},{"$f":"IFERROR(VLOOKUP(B62,[2]A!B$1:AB$48,27,0),IFERROR(VLOOKUP(B62,[2]B!B$1:AB$51,27,0),VLOOKUP(B62,[2]C!B$1:AB$52,27,0)))","v":20},{"$f":"IFERROR(VLOOKUP(B62,[2]A!B$1:AD$48,29,0),IFERROR(VLOOKUP(B62,[2]B!B$1:AD$51,29,0),VLOOKUP(B62,[2]C!B$1:AD$52,29,0)))","v":0},{"$f":"IFERROR(VLOOKUP(B62,[2]A!B$1:AE$48,30,0),IFERROR(VLOOKUP(B62,[2]B!B$1:AE$51,30,0),VLOOKUP(B62,[2]C!B$1:AE$52,30,0)))","v":1},{"$f":"IFERROR(VLOOKUP(B62,[2]A!B$1:AF$48,31,0),IFERROR(VLOOKUP(B62,[2]B!B$1:AF$51,31,0),VLOOKUP(B62,[2]C!B$1:AF$52,31,0)))","v":1},{"$f":"IFERROR(VLOOKUP(B62,[2]A!B$1:AH$48,33,0),IFERROR(VLOOKUP(B62,[2]B!B$1:AH$51,33,0),VLOOKUP(B62,[2]C!$B$1:$AH$52,33,0)))","v":0},{"$f":"IFERROR(VLOOKUP(B62,[3]A!B$1:S$48,18,0),IFERROR(VLOOKUP(B62,[3]B!B$1:Q$51,16,0),VLOOKUP(B62,[3]C!B$1:Q$52,16,0)))","v":5},{"$f":"IFERROR(VLOOKUP(B62,[3]A!B$1:T$48,19,0),IFERROR(VLOOKUP(B62,[3]B!B$1:R$51,17,0),VLOOKUP(B62,[3]C!B$1:R$52,17,0)))","v":16},{"$f":"IFERROR(VLOOKUP(B62,[3]A!B$1:V$48,21,0),IFERROR(VLOOKUP(B62,[3]B!B$1:T$51,19,0),VLOOKUP(B62,[3]C!B$1:T$52,19,0)))","v":0},{"$f":"IFERROR(VLOOKUP(B62,[3]A!B$1:W$48,22,0),IFERROR(VLOOKUP(B62,[3]B!B$1:U$51,20,0),VLOOKUP(B62,[3]C!B$1:U$52,20,0)))","v":0},{"$f":"IFERROR(VLOOKUP(B62,[3]A!B$1:X$48,23,0),IFERROR(VLOOKUP(B62,[3]B!B$1:V$51,21,0),VLOOKUP(B62,[3]C!B$1:V$52,21,0)))","v":0},0,{"$f":"IFERROR(VLOOKUP(B62,[4]A!B$1:AA$48,26,0),IFERROR(VLOOKUP(B62,[4]B!B$1:AA$51,26,0),VLOOKUP(B62,[4]C!B$1:AA$52,26,0)))","v":7},{"$f":"IFERROR(VLOOKUP(B62,[4]A!B$1:AB$48,27,0),IFERROR(VLOOKUP(B62,[4]B!B$1:AB$51,27,0),VLOOKUP(B62,[4]C!B$1:AB$52,27,0)))","v":16},{"$f":"IFERROR(VLOOKUP(B62,[4]A!B$1:AD$48,29,0),IFERROR(VLOOKUP(B62,[4]B!B$1:AD$51,29,0),VLOOKUP(B62,[4]C!B$1:AD$52,29,0)))","v":0},{"$f":"IFERROR(VLOOKUP(B62,[4]A!B$1:AE$48,30,0),IFERROR(VLOOKUP(B62,[4]B!B$1:AE$51,30,0),VLOOKUP(B62,[4]C!B$1:AE$52,30,0)))","v":0},{"$f":"IFERROR(VLOOKUP(B62,[4]A!B$1:AF$48,31,0),IFERROR(VLOOKUP(B62,[4]B!B$1:AF$51,31,0),VLOOKUP(B62,[4]C!B$1:AF$52,31,0)))","v":0},{"$f":"IFERROR(VLOOKUP(B62,[4]A!B$1:AH$48,33,0),IFERROR(VLOOKUP(B62,[4]B!B$1:AH$51,33,0),VLOOKUP(B62,[4]C!B$1:AH$52,33,0)))","v":0},0,6,null,null,null,null,68,0,0,29,29,42.647058823529413,0,null,{"$f":"IFERROR(VLOOKUP(B62,[5]A!B$1:Y$48,24,0),IFERROR(VLOOKUP(B62,[5]B!B$1:U$51,20,0),VLOOKUP(B62,[5]C!B$1:U$52,20,0)))","v":8},0,8]
[62,"15BA051",{"$f":"VLOOKUP(B63,[1]B!B$1:AA$48,26,0)","v":9},{"$f":"VLOOKUP(B63,[1]B!B$1:AB$48,27,0)","v":9},{"$f":"VLOOKUP(B63,[1]B!B$1:AD$48,29,0)","v":0},{"$f":"VLOOKUP(B63,[1]B!B$1:AE$48,30,0)","v":0},{"$f":"VLOOKUP(B63,[1]B!B$1:AF$48,31,0)","v":0},{"$f":"VLOOKUP(B63,[1]B!B$1:AH$48,33,0)","v":0},{"$f":"IFERROR(VLOOKUP(B63,[2]A!B$1:AA$48,26,0),IFERROR(VLOOKUP(B63,[2]B!B$1:AA$51,26,0),VLOOKUP(B63,[2]C!B$1:AA$52,26,0)))","v":14},{"$f":"IFERROR(VLOOKUP(B63,[2]A!B$1:AB$48,27,0),IFERROR(VLOOKUP(B63,[2]B!B$1:AB$51,27,0),VLOOKUP(B63,[2]C!B$1:AB$52,27,0)))","v":20},{"$f":"IFERROR(VLOOKUP(B63,[2]A!B$1:AD$48,29,0),IFERROR(VLOOKUP(B63,[2]B!B$1:AD$51,29,0),VLOOKUP(B63,[2]C!B$1:AD$52,29,0)))","v":0},{"$f":"IFERROR(VLOOKUP(B63,[2]A!B$1:AE$48,30,0),IFERROR(VLOOKUP(B63,[2]B!B$1:AE$51,30,0),VLOOKUP(B63,[2]C!B$1:AE$52,30,0)))","v":1},{"$f":"IFERROR(VLOOKUP(B63,[2]A!B$1:AF$48,31,0),IFERROR(VLOOKUP(B63,[2]B!B$1:AF$51,31,0),VLOOKUP(B63,[2]C!B$1:AF$52,31,0)))","v":1},{"$f":"IFERROR(VLOOKUP(B63,[2]A!B$1:AH$48,33,0),IFERROR(VLOOKUP(B63,[2]B!B$1:AH$51,33,0),VLOOKUP(B63,[2]C!$B$1:$AH$52,33,0)))","v":0},{"$f":"IFERROR(VLOOKUP(B63,[3]A!B$1:S$48,18,0),IFERROR(VLOOKUP(B63,[3]B!B$1:Q$51,16,0),VLOOKUP(B63,[3]C!B$1:Q$52,16,0)))","v":13},{"$f":"IFERROR(VLOOKUP(B63,[3]A!B$1:T$48,19,0),IFERROR(VLOOKUP(B63,[3]B!B$1:R$51,17,0),VLOOKUP(B63,[3]C!B$1:R$52,17,0)))","v":16},{"$f":"IFERROR(VLOOKUP(B63,[3]A!B$1:V$48,21,0),IFERROR(VLOOKUP(B63,[3]B!B$1:T$51,19,0),VLOOKUP(B63,[3]C!B$1:T$52,19,0)))","v":0},{"$f":"IFERROR(VLOOKUP(B63,[3]A!B$1:W$48,22,0),IFERROR(VLOOKUP(B63,[3]B!B$1:U$51,20,0),VLOOKUP(B63,[3]C!B$1:U$52,20,0)))","v":0},{"$f":"IFERROR(VLOOKUP(B63,[3]A!B$1:X$48,23,0),IFERROR(VLOOKUP(B63,[3]B!B$1:V$51,21,0),VLOOKUP(B63,[3]C!B$1:V$52,21,0)))","v":0},0,{"$f":"IFERROR(VLOOKUP(B63,[4]A!B$1:AA$48,26,0),IFERROR(VLOOKUP(B63,[4]B!B$1:AA$51,26,0),VLOOKUP(B63,[4]C!B$1:AA$52,26,0)))","v":11},{"$f":"IFERROR(VLOOKUP(B63,[4]A!B$1:AB$48,27,0),IFERROR(VLOOKUP(B63,[4]B!B$1:AB$51,27,0),VLOOKUP(B63,[4]C!B$1:AB$52,27,0)))","v":16},{"$f":"IFERROR(VLOOKUP(B63,[4]A!B$1:AD$48,29,0),IFERROR(VLOOKUP(B63,[4]B!B$1:AD$51,29,0),VLOOKUP(B63,[4]C!B$1:AD$52,29,0)))","v":3},{"$f":"IFERROR(VLOOKUP(B63,[4]A!B$1:AE$48,30,0),IFERROR(VLOOKUP(B63,[4]B!B$1:AE$51,30,0),VLOOKUP(B63,[4]C!B$1:AE$52,30,0)))","v":0},{"$f":"IFERROR(VLOOKUP(B63,[4]A!B$1:AF$48,31,0),IFERROR(VLOOKUP(B63,[4]B!B$1:AF$51,31,0),VLOOKUP(B63,[4]C!B$1:AF$52,31,0)))","v":0},{"$f":"IFERROR(VLOOKUP(B63,[4]A!B$1:AH$48,33,0),IFERROR(VLOOKUP(B63,[4]B!B$1:AH$51,33,0),VLOOKUP(B63,[4]C!B$1:AH$52,33,0)))","v":0},2,6,null,null,null,null,68,3,3,50,53,77.941176470588232,3,null,{"$f":"IFERROR(VLOOKUP(B63,[5]A!B$1:Y$48,24,0),IFERROR(VLOOKUP(B63,[5]B!B$1:U$51,20,0),VLOOKUP(B63,[5]C!B$1:U$52,20,0)))","v":9},9,21]
[63,"15BA054",{"$f":"VLOOKUP(B64,[1]B!B$1:AA$48,26,0)","v":9},{"$f":"VLOOKUP(B64,[1]B!B$1:AB$48,27,0)","v":9},{"$f":"VLOOKUP(B64,[1]B!B$1:AD$48,29,0)","v":0},{"$f":"VLOOKUP(B64,[1]B!B$1:AE$48,30,0)","v":0},{"$f":"VLOOKUP(B64,[1]B!B$1:AF$48,31,0)","v":0},{"$f":"VLOOKUP(B64,[1]B!B$1:AH$48,33,0)","v":0},{"$f":"IFERROR(VLOOKUP(B64,[2]A!B$1:AA$48,26,0),IFERROR(VLOOKUP(B64,[2]B!B$1:AA$51,26,0),VLOOKUP(B64,[2]C!B$1:AA$52,26,0)))","v":18},{"$f":"IFERROR(VLOOKUP(B64,[2]A!B$1:AB$48,27,0),IFERROR(VLOOKUP(B64,[2]B!B$1:AB$51,27,0),VLOOKUP(B64,[2]C!B$1:AB$52,27,0)))","v":20},{"$f":"IFERROR(VLOOKUP(B64,[2]A!B$1:AD$48,29,0),IFERROR(VLOOKUP(B64,[2]B!B$1:AD$51,29,0),VLOOKUP(B64,[2]C!B$1:AD$52,29,0)))","v":0},{"$f":"IFERROR(VLOOKUP(B64,[2]A!B$1:AE$48,30,0),IFERROR(VLOOKUP(B64,[2]B!B$1:AE$51,30,0),VLOOKUP(B64,[2]C!B$1:AE$52,30,0)))","v":1},{"$f":"IFERROR(VLOOKUP(B64,[2]A!B$1:AF$48,31,0),IFERROR(VLOOKUP(B64,[2]B!B$1:AF$51,31,0),VLOOKUP(B64,[2]C!B$1:AF$52,31,0)))","v":1},{"$f":"IFERROR(VLOOKUP(B64,[2]A!B$1:AH$48,33,0),IFERROR(VLOOKUP(B64,[2]B!B$1:AH$51,33,0),VLOOKUP(B64,[2]C!$B$1:$AH$52,33,0)))","v":0},{"$f":"IFERROR(VLOOKUP(B64,[3]A!B$1:S$48,18,0),IFERROR(VLOOKUP(B64,[3]B!B$1:Q$51,16,0),VLOOKUP(B64,[3]C!B$1:Q$52,16,0)))","v":11},{"$f":"IFERROR(VLOOKUP(B64,[3]A!B$1:T$48,19,0),IFERROR(VLOOKUP(B64,[3]B!B$1:R$51,17,0),VLOOKUP(B64,[3]C!B$1:R$52,17,0)))","v":16},{"$f":"IFERROR(VLOOKUP(B64,[3]A!B$1:V$48,21,0),IFERROR(VLOOKUP(B64,[3]B!B$1:T$51,19,0),VLOOKUP(B64,[3]C!B$1:T$52,19,0)))","v":0},{"$f":"IFERROR(VLOOKUP(B64,[3]A!B$1:W$48,22,0),IFERROR(VLOOKUP(B64,[3]B!B$1:U$51,20,0),VLOOKUP(B64,[3]C!B$1:U$52,20,0)))","v":0},{"$f":"IFERROR(VLOOKUP(B64,[3]A!B$1:X$48,23,0),IFERROR(VLOOKUP(B64,[3]B!B$1:V$51,21,0),VLOOKUP(B64,[3]C!B$1:V$52,21,0)))","v":0},0,{"$f":"IFERROR(VLOOKUP(B64,[4]A!B$1:AA$48,26,0),IFERROR(VLOOKUP(B64,[4]B!B$1:AA$51,26,0),VLOOKUP(B64,[4]C!B$1:AA$52,26,0)))","v":13},{"$f":"IFERROR(VLOOKUP(B64,[4]A!B$1:AB$48,27,0),IFERROR(VLOOKUP(B64,[4]B!B$1:AB$51,27,0),VLOOKUP(B64,[4]C!B$1:AB$52,27,0)))","v":16},{"$f":"IFERROR(VLOOKUP(B64,[4]A!B$1:AD$48,29,0),IFERROR(VLOOKUP(B64,[4]B!B$1:AD$51,29,0),VLOOKUP(B64,[4]C!B$1:AD$52,29,0)))","v":3},{"$f":"IFERROR(VLOOKUP(B64,[4]A!B$1:AE$48,30,0),IFERROR(VLOOKUP(B64,[4]B!B$1:AE$51,30,0),VLOOKUP(B64,[4]C!B$1:AE$52,30,0)))","v":0},{"$f":"IFERROR(VLOOKUP(B64,[4]A!B$1:AF$48,31,0),IFERROR(VLOOKUP(B64,[4]B!B$1:AF$51,31,0),VLOOKUP(B64,[4]C!B$1:AF$52,31,0)))","v":0},{"$f":"IFERROR(VLOOKUP(B64,[4]A!B$1:AH$48,33,0),IFERROR(VLOOKUP(B64,[4]B!B$1:AH$51,33,0),VLOOKUP(B64,[4]C!B$1:AH$52,33,0)))","v":0},4,6,null,null,null,null,68,3,3,56,59,86.764705882352942,5,null,{"$f":"IFERROR(VLOOKUP(B64,[5]A!B$1:Y$48,24,0),IFERROR(VLOOKUP(B64,[5]B!B$1:U$51,20,0),VLOOKUP(B64,[5]C!B$1:U$52,20,0)))","v":9},9,23]
[64,"15BA055",{"$f":"VLOOKUP(B65,[1]B!B$1:AA$48,26,0)","v":8},{"$f":"VLOOKUP(B65,[1]B!B$1:AB$48,27,0)","v":9},{"$f":"VLOOKUP(B65,[1]B!B$1:AD$48,29,0)","v":0},{"$f":"VLOOKUP(B65,[1]B!B$1:AE$48,30,0)","v":0},{"$f":"VLOOKUP(B65,[1]B!B$1:AF$48,31,0)","v":0},{"$f":"VLOOKUP(B65,[1]B!B$1:AH$48,33,0)","v":0},{"$f":"IFERROR(VLOOKUP(B65,[2]A!B$1:AA$48,26,0),IFERROR(VLOOKUP(B65,[2]B!B$1:AA$51,26,0),VLOOKUP(B65,[2]C!B$1:AA$52,26,0)))","v":14},{"$f":"IFERROR(VLOOKUP(B65,[2]A!B$1:AB$48,27,0),IFERROR(VLOOKUP(B65,[2]B!B$1:AB$51,27,0),VLOOKUP(B65,[2]C!B$1:AB$52,27,0)))","v":20},{"$f":"IFERROR(VLOOKUP(B65,[2]A!B$1:AD$48,29,0),IFERROR(VLOOKUP(B65,[2]B!B$1:AD$51,29,0),VLOOKUP(B65,[2]C!B$1:AD$52,29,0)))","v":0},{"$f":"IFERROR(VLOOKUP(B65,[2]A!B$1:AE$48,30,0),IFERROR(VLOOKUP(B65,[2]B!B$1:AE$51,30,0),VLOOKUP(B65,[2]C!B$1:AE$52,30,0)))","v":2},{"$f":"IFERROR(VLOOKUP(B65,[2]A!B$1:AF$48,31,0),IFERROR(VLOOKUP(B65,[2]B!B$1:AF$51,31,0),VLOOKUP(B65,[2]C!B$1:AF$52,31,0)))","v":3},{"$f":"IFERROR(VLOOKUP(B65,[2]A!B$1:AH$48,33,0),IFERROR(VLOOKUP(B65,[2]B!B$1:AH$51,33,0),VLOOKUP(B65,[2]C!$B$1:$AH$52,33,0)))","v":0},{"$f":"IFERROR(VLOOKUP(B65,[3]A!B$1:S$48,18,0),IFERROR(VLOOKUP(B65,[3]B!B$1:Q$51,16,0),VLOOKUP(B65,[3]C!B$1:Q$52,16,0)))","v":10},{"$f":"IFERROR(VLOOKUP(B65,[3]A!B$1:T$48,19,0),IFERROR(VLOOKUP(B65,[3]B!B$1:R$51,17,0),VLOOKUP(B65,[3]C!B$1:R$52,17,0)))","v":16},{"$f":"IFERROR(VLOOKUP(B65,[3]A!B$1:V$48,21,0),IFERROR(VLOOKUP(B65,[3]B!B$1:T$51,19,0),VLOOKUP(B65,[3]C!B$1:T$52,19,0)))","v":0},{"$f":"IFERROR(VLOOKUP(B65,[3]A!B$1:W$48,22,0),IFERROR(VLOOKUP(B65,[3]B!B$1:U$51,20,0),VLOOKUP(B65,[3]C!B$1:U$52,20,0)))","v":1},{"$f":"IFERROR(VLOOKUP(B65,[3]A!B$1:X$48,23,0),IFERROR(VLOOKUP(B65,[3]B!B$1:V$51,21,0),VLOOKUP(B65,[3]C!B$1:V$52,21,0)))","v":2},0,{"$f":"IFERROR(VLOOKUP(B65,[4]A!B$1:AA$48,26,0),IFERROR(VLOOKUP(B65,[4]B!B$1:AA$51,26,0),VLOOKUP(B65,[4]C!B$1:AA$52,26,0)))","v":10},{"$f":"IFERROR(VLOOKUP(B65,[4]A!B$1:AB$48,27,0),IFERROR(VLOOKUP(B65,[4]B!B$1:AB$51,27,0),VLOOKUP(B65,[4]C!B$1:AB$52,27,0)))","v":16},{"$f":"IFERROR(VLOOKUP(B65,[4]A!B$1:AD$48,29,0),IFERROR(VLOOKUP(B65,[4]B!B$1:AD$51,29,0),VLOOKUP(B65,[4]C!B$1:AD$52,29,0)))","v":0},{"$f":"IFERROR(VLOOKUP(B65,[4]A!B$1:AE$48,30,0),IFERROR(VLOOKUP(B65,[4]B!B$1:AE$51,30,0),VLOOKUP(B65,[4]C!B$1:AE$52,30,0)))","v":1},{"$f":"IFERROR(VLOOKUP(B65,[4]A!B$1:AF$48,31,0),IFERROR(VLOOKUP(B65,[4]B!B$1:AF$51,31,0),VLOOKUP(B65,[4]C!B$1:AF$52,31,0)))","v":2},{"$f":"IFERROR(VLOOKUP(B65,[4]A!B$1:AH$48,33,0),IFERROR(VLOOKUP(B65,[4]B!B$1:AH$51,33,0),VLOOKUP(B65,[4]C!B$1:AH$52,33,0)))","v":0},2,6,null,null,null,null,74,0,0,48,48,64.86486486486487,0,null,{"$f":"IFERROR(VLOOKUP(B65,[5]A!B$1:Y$48,24,0),IFERROR(VLOOKUP(B65,[5]B!B$1:U$51,20,0),VLOOKUP(B65,[5]C!B$1:U$52,20,0)))","v":8},8,16]
[65,"15BA057",{"$f":"VLOOKUP(B66,[1]B!B$1:AA$48,26,0)","v":7},{"$f":"VLOOKUP(B66,[1]B!B$1:AB$48,27,0)","v":9},{"$f":"VLOOKUP(B66,[1]B!B$1:AD$48,29,0)","v":0},{"$f":"VLOOKUP(B66,[1]B!B$1:AE$48,30,0)","v":0},{"$f":"VLOOKUP(B66,[1]B!B$1:AF$48,31,0)","v":0},{"$f":"VLOOKUP(B66,[1]B!B$1:AH$48,33,0)","v":0},{"$f":"IFERROR(VLOOKUP(B66,[2]A!B$1:AA$48,26,0),IFERROR(VLOOKUP(B66,[2]B!B$1:AA$51,26,0),VLOOKUP(B66,[2]C!B$1:AA$52,26,0)))","v":14},{"$f":"IFERROR(VLOOKUP(B66,[2]A!B$1:AB$48,27,0),IFERROR(VLOOKUP(B66,[2]B!B$1:AB$51,27,0),VLOOKUP(B66,[2]C!B$1:AB$52,27,0)))","v":20},{"$f":"IFERROR(VLOOKUP(B66,[2]A!B$1:AD$48,29,0),IFERROR(VLOOKUP(B66,[2]B!B$1:AD$51,29,0),VLOOKUP(B66,[2]C!B$1:AD$52,29,0)))","v":0},{"$f":"IFERROR(VLOOKUP(B66,[2]A!B$1:AE$48,30,0),IFERROR(VLOOKUP(B66,[2]B!B$1:AE$51,30,0),VLOOKUP(B66,[2]C!B$1:AE$52,30,0)))","v":0},{"$f":"IFERROR(VLOOKUP(B66,[2]A!B$1:AF$48,31,0),IFERROR(VLOOKUP(B66,[2]B!B$1:AF$51,31,0),VLOOKUP(B66,[2]C!B$1:AF$52,31,0)))","v":0},{"$f":"IFERROR(VLOOKUP(B66,[2]A!B$1:AH$48,33,0),IFERROR(VLOOKUP(B66,[2]B!B$1:AH$51,33,0),VLOOKUP(B66,[2]C!$B$1:$AH$52,33,0)))","v":0},{"$f":"IFERROR(VLOOKUP(B66,[3]A!B$1:S$48,18,0),IFERROR(VLOOKUP(B66,[3]B!B$1:Q$51,16,0),VLOOKUP(B66,[3]C!B$1:Q$52,16,0)))","v":12},{"$f":"IFERROR(VLOOKUP(B66,[3]A!B$1:T$48,19,0),IFERROR(VLOOKUP(B66,[3]B!B$1:R$51,17,0),VLOOKUP(B66,[3]C!B$1:R$52,17,0)))","v":16},{"$f":"IFERROR(VLOOKUP(B66,[3]A!B$1:V$48,21,0),IFERROR(VLOOKUP(B66,[3]B!B$1:T$51,19,0),VLOOKUP(B66,[3]C!B$1:T$52,19,0)))","v":0},{"$f":"IFERROR(VLOOKUP(B66,[3]A!B$1:W$48,22,0),IFERROR(VLOOKUP(B66,[3]B!B$1:U$51,20,0),VLOOKUP(B66,[3]C!B$1:U$52,20,0)))","v":1},{"$f":"IFERROR(VLOOKUP(B66,[3]A!B$1:X$48,23,0),IFERROR(VLOOKUP(B66,[3]B!B$1:V$51,21,0),VLOOKUP(B66,[3]C!B$1:V$52,21,0)))","v":1},0,{"$f":"IFERROR(VLOOKUP(B66,[4]A!B$1:AA$48,26,0),IFERROR(VLOOKUP(B66,[4]B!B$1:AA$51,26,0),VLOOKUP(B66,[4]C!B$1:AA$52,26,0)))","v":16},{"$f":"IFERROR(VLOOKUP(B66,[4]A!B$1:AB$48,27,0),IFERROR(VLOOKUP(B66,[4]B!B$1:AB$51,27,0),VLOOKUP(B66,[4]C!B$1:AB$52,27,0)))","v":16},{"$f":"IFERROR(VLOOKUP(B66,[4]A!B$1:AD$48,29,0),IFERROR(VLOOKUP(B66,[4]B!B$1:AD$51,29,0),VLOOKUP(B66,[4]C!B$1:AD$52,29,0)))","v":0},{"$f":"IFERROR(VLOOKUP(B66,[4]A!B$1:AE$48,30,0),IFERROR(VLOOKUP(B66,[4]B!B$1:AE$51,30,0),VLOOKUP(B66,[4]C!B$1:AE$52,30,0)))","v":2},{"$f":"IFERROR(VLOOKUP(B66,[4]A!B$1:AF$48,31,0),IFERROR(VLOOKUP(B66,[4]B!B$1:AF$51,31,0),VLOOKUP(B66,[4]C!B$1:AF$52,31,0)))","v":2},{"$f":"IFERROR(VLOOKUP(B66,[4]A!B$1:AH$48,33,0),IFERROR(VLOOKUP(B66,[4]B!B$1:AH$51,33,0),VLOOKUP(B66,[4]C!B$1:AH$52,33,0)))","v":0},3,6,null,null,null,null,70,0,0,55,55,78.571428571428569,3,null,{"$f":"IFERROR(VLOOKUP(B66,[5]A!B$1:Y$48,24,0),IFERROR(VLOOKUP(B66,[5]B!B$1:U$51,20,0),VLOOKUP(B66,[5]C!B$1:U$52,20,0)))","v":9},9,21]
[66,"15BA061",{"$f":"VLOOKUP(B67,[1]B!B$1:AA$48,26,0)","v":9},{"$f":"VLOOKUP(B67,[1]B!B$1:AB$48,27,0)","v":9},{"$f":"VLOOKUP(B67,[1]B!B$1:AD$48,29,0)","v":0},{"$f":"VLOOKUP(B67,[1]B!B$1:AE$48,30,0)","v":0},{"$f":"VLOOKUP(B67,[1]B!B$1:AF$48,31,0)","v":0},{"$f":"VLOOKUP(B67,[1]B!B$1:AH$48,33,0)","v":0},{"$f":"IFERROR(VLOOKUP(B67,[2]A!B$1:AA$48,26,0),IFERROR(VLOOKUP(B67,[2]B!B$1:AA$51,26,0),VLOOKUP(B67,[2]C!B$1:AA$52,26,0)))","v":14},{"$f":"IFERROR(VLOOKUP(B67,[2]A!B$1:AB$48,27,0),IFERROR(VLOOKUP(B67,[2]B!B$1:AB$51,27,0),VLOOKUP(B67,[2]C!B$1:AB$52,27,0)))","v":20},{"$f":"IFERROR(VLOOKUP(B67,[2]A!B$1:AD$48,29,0),IFERROR(VLOOKUP(B67,[2]B!B$1:AD$51,29,0),VLOOKUP(B67,[2]C!B$1:AD$52,29,0)))","v":0},{"$f":"IFERROR(VLOOKUP(B67,[2]A!B$1:AE$48,30,0),IFERROR(VLOOKUP(B67,[2]B!B$1:AE$51,30,0),VLOOKUP(B67,[2]C!B$1:AE$52,30,0)))","v":3},{"$f":"IFERROR(VLOOKUP(B67,[2]A!B$1:AF$48,31,0),IFERROR(VLOOKUP(B67,[2]B!B$1:AF$51,31,0),VLOOKUP(B67,[2]C!B$1:AF$52,31,0)))","v":3},{"$f":"IFERROR(VLOOKUP(B67,[2]A!B$1:AH$48,33,0),IFERROR(VLOOKUP(B67,[2]B!B$1:AH$51,33,0),VLOOKUP(B67,[2]C!$B$1:$AH$52,33,0)))","v":0},{"$f":"IFERROR(VLOOKUP(B67,[3]A!B$1:S$48,18,0),IFERROR(VLOOKUP(B67,[3]B!B$1:Q$51,16,0),VLOOKUP(B67,[3]C!B$1:Q$52,16,0)))","v":13},{"$f":"IFERROR(VLOOKUP(B67,[3]A!B$1:T$48,19,0),IFERROR(VLOOKUP(B67,[3]B!B$1:R$51,17,0),VLOOKUP(B67,[3]C!B$1:R$52,17,0)))","v":16},{"$f":"IFERROR(VLOOKUP(B67,[3]A!B$1:V$48,21,0),IFERROR(VLOOKUP(B67,[3]B!B$1:T$51,19,0),VLOOKUP(B67,[3]C!B$1:T$52,19,0)))","v":0},{"$f":"IFERROR(VLOOKUP(B67,[3]A!B$1:W$48,22,0),IFERROR(VLOOKUP(B67,[3]B!B$1:U$51,20,0),VLOOKUP(B67,[3]C!B$1:U$52,20,0)))","v":2},{"$f":"IFERROR(VLOOKUP(B67,[3]A!B$1:X$48,23,0),IFERROR(VLOOKUP(B67,[3]B!B$1:V$51,21,0),VLOOKUP(B67,[3]C!B$1:V$52,21,0)))","v":2},0,{"$f":"IFERROR(VLOOKUP(B67,[4]A!B$1:AA$48,26,0),IFERROR(VLOOKUP(B67,[4]B!B$1:AA$51,26,0),VLOOKUP(B67,[4]C!B$1:AA$52,26,0)))","v":13},{"$f":"IFERROR(VLOOKUP(B67,[4]A!B$1:AB$48,27,0),IFERROR(VLOOKUP(B67,[4]B!B$1:AB$51,27,0),VLOOKUP(B67,[4]C!B$1:AB$52,27,0)))","v":16},{"$f":"IFERROR(VLOOKUP(B67,[4]A!B$1:AD$48,29,0),IFERROR(VLOOKUP(B67,[4]B!B$1:AD$51,29,0),VLOOKUP(B67,[4]C!B$1:AD$52,29,0)))","v":0},{"$f":"IFERROR(VLOOKUP(B67,[4]A!B$1:AE$48,30,0),IFERROR(VLOOKUP(B67,[4]B!B$1:AE$51,30,0),VLOOKUP(B67,[4]C!B$1:AE$52,30,0)))","v":2},{"$f":"IFERROR(VLOOKUP(B67,[4]A!B$1:AF$48,31,0),IFERROR(VLOOKUP(B67,[4]B!B$1:AF$51,31,0),VLOOKUP(B67,[4]C!B$1:AF$52,31,0)))","v":2},{"$f":"IFERROR(VLOOKUP(B67,[4]A!B$1:AH$48,33,0),IFERROR(VLOOKUP(B67,[4]B!B$1:AH$51,33,0),VLOOKUP(B67,[4]C!B$1:AH$52,33,0)))","v":0},5,6,null,null,null,null,{"$f":"SUM(D67,G67,J67,M67,P67,S67,V67,Y67,AB67,AE67)","v":74},{"$f":"SUM(E67,H67,K67,N67,Q67,T67,W67,Z67,AC67,AF67)","v":0},{"$f":"FLOOR(IF(AH67<(1/3*(AG67)),AH67,(1/3*(AG67))),1)","v":0},{"$f":"SUM(C67,F67,I67,L67,O67,R67,U67,X67,AA67,AD67)","v":61},{"$f":"IF(SUM(AJ67,AI67)>AG67,AG67,SUM(AJ67,AI67))","v":61},{"$f":"(AK67/AG67)*100","v":82.432432432432435},{"$f":"IF(AL67>=85,5,(IF(AND(AL67>=80,AL67<85),4,(IF(AND(AL67>=75,AL67<80),3,(IF(AND(AL67>=70,AL67<75),2,(IF(AND(AL67>67,AL67<70),1,0)))))))))","v":4},null,{"$f":"IFERROR(VLOOKUP(B67,[5]A!B$1:Y$48,24,0),IFERROR(VLOOKUP(B67,[5]B!B$1:U$51,20,0),VLOOKUP(B67,[5]C!B$1:U$52,20,0)))","v":9},9,{"$f":"SUM(AM67,AO67,AP67,)","v":22}]
[67,"15BA066",{"$f":"VLOOKUP(B68,[1]B!B$1:AA$48,26,0)","v":9},{"$f":"VLOOKUP(B68,[1]B!B$1:AB$48,27,0)","v":9},{"$f":"VLOOKUP(B68,[1]B!B$1:AD$48,29,0)","v":0},{"$f":"VLOOKUP(B68,[1]B!B$1:AE$48,30,0)","v":0},{"$f":"VLOOKUP(B68,[1]B!B$1:AF$48,31,0)","v":0},{"$f":"VLOOKUP(B68,[1]B!B$1:AH$48,33,0)","v":0},{"$f":"IFERROR(VLOOKUP(B68,[2]A!B$1:AA$48,26,0),IFERROR(VLOOKUP(B68,[2]B!B$1:AA$51,26,0),VLOOKUP(B68,[2]C!B$1:AA$52,26,0)))","v":16},{"$f":"IFERROR(VLOOKUP(B68,[2]A!B$1:AB$48,27,0),IFERROR(VLOOKUP(B68,[2]B!B$1:AB$51,27,0),VLOOKUP(B68,[2]C!B$1:AB$52,27,0)))","v":20},{"$f":"IFERROR(VLOOKUP(B68,[2]A!B$1:AD$48,29,0),IFERROR(VLOOKUP(B68,[2]B!B$1:AD$51,29,0),VLOOKUP(B68,[2]C!B$1:AD$52,29,0)))","v":0},{"$f":"IFERROR(VLOOKUP(B68,[2]A!B$1:AE$48,30,0),IFERROR(VLOOKUP(B68,[2]B!B$1:AE$51,30,0),VLOOKUP(B68,[2]C!B$1:AE$52,30,0)))","v":2},{"$f":"IFERROR(VLOOKUP(B68,[2]A!B$1:AF$48,31,0),IFERROR(VLOOKUP(B68,[2]B!B$1:AF$51,31,0),VLOOKUP(B68,[2]C!B$1:AF$52,31,0)))","v":3},{"$f":"IFERROR(VLOOKUP(B68,[2]A!B$1:AH$48,33,0),IFERROR(VLOOKUP(B68,[2]B!B$1:AH$51,33,0),VLOOKUP(B68,[2]C!$B$1:$AH$52,33,0)))","v":0},{"$f":"IFERROR(VLOOKUP(B68,[3]A!B$1:S$48,18,0),IFERROR(VLOOKUP(B68,[3]B!B$1:Q$51,16,0),VLOOKUP(B68,[3]C!B$1:Q$52,16,0)))","v":15},{"$f":"IFERROR(VLOOKUP(B68,[3]A!B$1:T$48,19,0),IFERROR(VLOOKUP(B68,[3]B!B$1:R$51,17,0),VLOOKUP(B68,[3]C!B$1:R$52,17,0)))","v":16},{"$f":"IFERROR(VLOOKUP(B68,[3]A!B$1:V$48,21,0),IFERROR(VLOOKUP(B68,[3]B!B$1:T$51,19,0),VLOOKUP(B68,[3]C!B$1:T$52,19,0)))","v":0},{"$f":"IFERROR(VLOOKUP(B68,[3]A!B$1:W$48,22,0),IFERROR(VLOOKUP(B68,[3]B!B$1:U$51,20,0),VLOOKUP(B68,[3]C!B$1:U$52,20,0)))","v":1},{"$f":"IFERROR(VLOOKUP(B68,[3]A!B$1:X$48,23,0),IFERROR(VLOOKUP(B68,[3]B!B$1:V$51,21,0),VLOOKUP(B68,[3]C!B$1:V$52,21,0)))","v":2},0,{"$f":"IFERROR(VLOOKUP(B68,[4]A!B$1:AA$48,26,0),IFERROR(VLOOKUP(B68,[4]B!B$1:AA$51,26,0),VLOOKUP(B68,[4]C!B$1:AA$52,26,0)))","v":13},{"$f":"IFERROR(VLOOKUP(B68,[4]A!B$1:AB$48,27,0),IFERROR(VLOOKUP(B68,[4]B!B$1:AB$51,27,0),VLOOKUP(B68,[4]C!B$1:AB$52,27,0)))","v":16},{"$f":"IFERROR(VLOOKUP(B68,[4]A!B$1:AD$48,29,0),IFERROR(VLOOKUP(B68,[4]B!B$1:AD$51,29,0),VLOOKUP(B68,[4]C!B$1:AD$52,29,0)))","v":2},{"$f":"IFERROR(VLOOKUP(B68,[4]A!B$1:AE$48,30,0),IFERROR(VLOOKUP(B68,[4]B!B$1:AE$51,30,0),VLOOKUP(B68,[4]C!B$1:AE$52,30,0)))","v":2},{"$f":"IFERROR(VLOOKUP(B68,[4]A!B$1:AF$48,31,0),IFERROR(VLOOKUP(B68,[4]B!B$1:AF$51,31,0),VLOOKUP(B68,[4]C!B$1:AF$52,31,0)))","v":2},{"$f":"IFERROR(VLOOKUP(B68,[4]A!B$1:AH$48,33,0),IFERROR(VLOOKUP(B68,[4]B!B$1:AH$51,33,0),VLOOKUP(B68,[4]C!B$1:AH$52,33,0)))","v":0},5,6,null,null,null,null,74,2,2,63,65,87.837837837837839,5,null,{"$f":"IFERROR(VLOOKUP(B68,[5]A!B$1:Y$48,24,0),IFERROR(VLOOKUP(B68,[5]B!B$1:U$51,20,0),VLOOKUP(B68,[5]C!B$1:U$52,20,0)))","v":9},9,23]
[68,"15BA072",{"$f":"VLOOKUP(B69,[1]B!B$1:AA$48,26,0)","v":9},{"$f":"VLOOKUP(B69,[1]B!B$1:AB$48,27,0)","v":9},{"$f":"VLOOKUP(B69,[1]B!B$1:AD$48,29,0)","v":0},{"$f":"VLOOKUP(B69,[1]B!B$1:AE$48,30,0)","v":0},{"$f":"VLOOKUP(B69,[1]B!B$1:AF$48,31,0)","v":0},{"$f":"VLOOKUP(B69,[1]B!B$1:AH$48,33,0)","v":0},{"$f":"IFERROR(VLOOKUP(B69,[2]A!B$1:AA$48,26,0),IFERROR(VLOOKUP(B69,[2]B!B$1:AA$51,26,0),VLOOKUP(B69,[2]C!B$1:AA$52,26,0)))","v":17},{"$f":"IFERROR(VLOOKUP(B69,[2]A!B$1:AB$48,27,0),IFERROR(VLOOKUP(B69,[2]B!B$1:AB$51,27,0),VLOOKUP(B69,[2]C!B$1:AB$52,27,0)))","v":20},{"$f":"IFERROR(VLOOKUP(B69,[2]A!B$1:AD$48,29,0),IFERROR(VLOOKUP(B69,[2]B!B$1:AD$51,29,0),VLOOKUP(B69,[2]C!B$1:AD$52,29,0)))","v":0},{"$f":"IFERROR(VLOOKUP(B69,[2]A!B$1:AE$48,30,0),IFERROR(VLOOKUP(B69,[2]B!B$1:AE$51,30,0),VLOOKUP(B69,[2]C!B$1:AE$52,30,0)))","v":1},{"$f":"IFERROR(VLOOKUP(B69,[2]A!B$1:AF$48,31,0),IFERROR(VLOOKUP(B69,[2]B!B$1:AF$51,31,0),VLOOKUP(B69,[2]C!B$1:AF$52,31,0)))","v":1},{"$f":"IFERROR(VLOOKUP(B69,[2]A!B$1:AH$48,33,0),IFERROR(VLOOKUP(B69,[2]B!B$1:AH$51,33,0),VLOOKUP(B69,[2]C!$B$1:$AH$52,33,0)))","v":0},{"$f":"IFERROR(VLOOKUP(B69,[3]A!B$1:S$48,18,0),IFERROR(VLOOKUP(B69,[3]B!B$1:Q$51,16,0),VLOOKUP(B69,[3]C!B$1:Q$52,16,0)))","v":14},{"$f":"IFERROR(VLOOKUP(B69,[3]A!B$1:T$48,19,0),IFERROR(VLOOKUP(B69,[3]B!B$1:R$51,17,0),VLOOKUP(B69,[3]C!B$1:R$52,17,0)))","v":16},{"$f":"IFERROR(VLOOKUP(B69,[3]A!B$1:V$48,21,0),IFERROR(VLOOKUP(B69,[3]B!B$1:T$51,19,0),VLOOKUP(B69,[3]C!B$1:T$52,19,0)))","v":0},{"$f":"IFERROR(VLOOKUP(B69,[3]A!B$1:W$48,22,0),IFERROR(VLOOKUP(B69,[3]B!B$1:U$51,20,0),VLOOKUP(B69,[3]C!B$1:U$52,20,0)))","v":0},{"$f":"IFERROR(VLOOKUP(B69,[3]A!B$1:X$48,23,0),IFERROR(VLOOKUP(B69,[3]B!B$1:V$51,21,0),VLOOKUP(B69,[3]C!B$1:V$52,21,0)))","v":0},0,{"$f":"IFERROR(VLOOKUP(B69,[4]A!B$1:AA$48,26,0),IFERROR(VLOOKUP(B69,[4]B!B$1:AA$51,26,0),VLOOKUP(B69,[4]C!B$1:AA$52,26,0)))","v":16},{"$f":"IFERROR(VLOOKUP(B69,[4]A!B$1:AB$48,27,0),IFERROR(VLOOKUP(B69,[4]B!B$1:AB$51,27,0),VLOOKUP(B69,[4]C!B$1:AB$52,27,0)))","v":16},{"$f":"IFERROR(VLOOKUP(B69,[4]A!B$1:AD$48,29,0),IFERROR(VLOOKUP(B69,[4]B!B$1:AD$51,29,0),VLOOKUP(B69,[4]C!B$1:AD$52,29,0)))","v":0},{"$f":"IFERROR(VLOOKUP(B69,[4]A!B$1:AE$48,30,0),IFERROR(VLOOKUP(B69,[4]B!B$1:AE$51,30,0),VLOOKUP(B69,[4]C!B$1:AE$52,30,0)))","v":0},{"$f":"IFERROR(VLOOKUP(B69,[4]A!B$1:AF$48,31,0),IFERROR(VLOOKUP(B69,[4]B!B$1:AF$51,31,0),VLOOKUP(B69,[4]C!B$1:AF$52,31,0)))","v":0},{"$f":"IFERROR(VLOOKUP(B69,[4]A!B$1:AH$48,33,0),IFERROR(VLOOKUP(B69,[4]B!B$1:AH$51,33,0),VLOOKUP(B69,[4]C!B$1:AH$52,33,0)))","v":0},3,6,null,null,null,null,68,0,0,60,60,88.235294117647058,5,null,{"$f":"IFERROR(VLOOKUP(B69,[5]A!B$1:Y$48,24,0),IFERROR(VLOOKUP(B69,[5]B!B$1:U$51,20,0),VLOOKUP(B69,[5]C!B$1:U$52,20,0)))","v":10},10,25]
[69,"15BA074",{"$f":"VLOOKUP(B70,[1]B!B$1:AA$48,26,0)","v":9},{"$f":"VLOOKUP(B70,[1]B!B$1:AB$48,27,0)","v":9},{"$f":"VLOOKUP(B70,[1]B!B$1:AD$48,29,0)","v":0},{"$f":"VLOOKUP(B70,[1]B!B$1:AE$48,30,0)","v":0},{"$f":"VLOOKUP(B70,[1]B!B$1:AF$48,31,0)","v":0},{"$f":"VLOOKUP(B70,[1]B!B$1:AH$48,33,0)","v":0},{"$f":"IFERROR(VLOOKUP(B70,[2]A!B$1:AA$48,26,0),IFERROR(VLOOKUP(B70,[2]B!B$1:AA$51,26,0),VLOOKUP(B70,[2]C!B$1:AA$52,26,0)))","v":16},{"$f":"IFERROR(VLOOKUP(B70,[2]A!B$1:AB$48,27,0),IFERROR(VLOOKUP(B70,[2]B!B$1:AB$51,27,0),VLOOKUP(B70,[2]C!B$1:AB$52,27,0)))","v":20},{"$f":"IFERROR(VLOOKUP(B70,[2]A!B$1:AD$48,29,0),IFERROR(VLOOKUP(B70,[2]B!B$1:AD$51,29,0),VLOOKUP(B70,[2]C!B$1:AD$52,29,0)))","v":0},{"$f":"IFERROR(VLOOKUP(B70,[2]A!B$1:AE$48,30,0),IFERROR(VLOOKUP(B70,[2]B!B$1:AE$51,30,0),VLOOKUP(B70,[2]C!B$1:AE$52,30,0)))","v":2},{"$f":"IFERROR(VLOOKUP(B70,[2]A!B$1:AF$48,31,0),IFERROR(VLOOKUP(B70,[2]B!B$1:AF$51,31,0),VLOOKUP(B70,[2]C!B$1:AF$52,31,0)))","v":3},{"$f":"IFERROR(VLOOKUP(B70,[2]A!B$1:AH$48,33,0),IFERROR(VLOOKUP(B70,[2]B!B$1:AH$51,33,0),VLOOKUP(B70,[2]C!$B$1:$AH$52,33,0)))","v":0},{"$f":"IFERROR(VLOOKUP(B70,[3]A!B$1:S$48,18,0),IFERROR(VLOOKUP(B70,[3]B!B$1:Q$51,16,0),VLOOKUP(B70,[3]C!B$1:Q$52,16,0)))","v":11},{"$f":"IFERROR(VLOOKUP(B70,[3]A!B$1:T$48,19,0),IFERROR(VLOOKUP(B70,[3]B!B$1:R$51,17,0),VLOOKUP(B70,[3]C!B$1:R$52,17,0)))","v":16},{"$f":"IFERROR(VLOOKUP(B70,[3]A!B$1:V$48,21,0),IFERROR(VLOOKUP(B70,[3]B!B$1:T$51,19,0),VLOOKUP(B70,[3]C!B$1:T$52,19,0)))","v":0},{"$f":"IFERROR(VLOOKUP(B70,[3]A!B$1:W$48,22,0),IFERROR(VLOOKUP(B70,[3]B!B$1:U$51,20,0),VLOOKUP(B70,[3]C!B$1:U$52,20,0)))","v":0},{"$f":"IFERROR(VLOOKUP(B70,[3]A!B$1:X$48,23,0),IFERROR(VLOOKUP(B70,[3]B!B$1:V$51,21,0),VLOOKUP(B70,[3]C!B$1:V$52,21,0)))","v":2},0,{"$f":"IFERROR(VLOOKUP(B70,[4]A!B$1:AA$48,26,0),IFERROR(VLOOKUP(B70,[4]B!B$1:AA$51,26,0),VLOOKUP(B70,[4]C!B$1:AA$52,26,0)))","v":16},{"$f":"IFERROR(VLOOKUP(B70,[4]A!B$1:AB$48,27,0),IFERROR(VLOOKUP(B70,[4]B!B$1:AB$51,27,0),VLOOKUP(B70,[4]C!B$1:AB$52,27,0)))","v":16},{"$f":"IFERROR(VLOOKUP(B70,[4]A!B$1:AD$48,29,0),IFERROR(VLOOKUP(B70,[4]B!B$1:AD$51,29,0),VLOOKUP(B70,[4]C!B$1:AD$52,29,0)))","v":0},{"$f":"IFERROR(VLOOKUP(B70,[4]A!B$1:AE$48,30,0),IFERROR(VLOOKUP(B70,[4]B!B$1:AE$51,30,0),VLOOKUP(B70,[4]C!B$1:AE$52,30,0)))","v":2},{"$f":"IFERROR(VLOOKUP(B70,[4]A!B$1:AF$48,31,0),IFERROR(VLOOKUP(B70,[4]B!B$1:AF$51,31,0),VLOOKUP(B70,[4]C!B$1:AF$52,31,0)))","v":2},{"$f":"IFERROR(VLOOKUP(B70,[4]A!B$1:AH$48,33,0),IFERROR(VLOOKUP(B70,[4]B!B$1:AH$51,33,0),VLOOKUP(B70,[4]C!B$1:AH$52,33,0)))","v":0},2,6,null,null,null,null,74,0,0,58,58,78.378378378378372,3,null,{"$f":"IFERROR(VLOOKUP(B70,[5]A!B$1:Y$48,24,0),IFERROR(VLOOKUP(B70,[5]B!B$1:U$51,20,0),VLOOKUP(B70,[5]C!B$1:U$52,20,0)))","v":9},8,20]
[70,"15BA075",{"$f":"VLOOKUP(B71,[1]B!B$1:AA$48,26,0)","v":9},{"$f":"VLOOKUP(B71,[1]B!B$1:AB$48,27,0)","v":9},{"$f":"VLOOKUP(B71,[1]B!B$1:AD$48,29,0)","v":0},{"$f":"VLOOKUP(B71,[1]B!B$1:AE$48,30,0)","v":0},{"$f":"VLOOKUP(B71,[1]B!B$1:AF$48,31,0)","v":0},{"$f":"VLOOKUP(B71,[1]B!B$1:AH$48,33,0)","v":0},{"$f":"IFERROR(VLOOKUP(B71,[2]A!B$1:AA$48,26,0),IFERROR(VLOOKUP(B71,[2]B!B$1:AA$51,26,0),VLOOKUP(B71,[2]C!B$1:AA$52,26,0)))","v":16},{"$f":"IFERROR(VLOOKUP(B71,[2]A!B$1:AB$48,27,0),IFERROR(VLOOKUP(B71,[2]B!B$1:AB$51,27,0),VLOOKUP(B71,[2]C!B$1:AB$52,27,0)))","v":20},{"$f":"IFERROR(VLOOKUP(B71,[2]A!B$1:AD$48,29,0),IFERROR(VLOOKUP(B71,[2]B!B$1:AD$51,29,0),VLOOKUP(B71,[2]C!B$1:AD$52,29,0)))","v":0},{"$f":"IFERROR(VLOOKUP(B71,[2]A!B$1:AE$48,30,0),IFERROR(VLOOKUP(B71,[2]B!B$1:AE$51,30,0),VLOOKUP(B71,[2]C!B$1:AE$52,30,0)))","v":0},{"$f":"IFERROR(VLOOKUP(B71,[2]A!B$1:AF$48,31,0),IFERROR(VLOOKUP(B71,[2]B!B$1:AF$51,31,0),VLOOKUP(B71,[2]C!B$1:AF$52,31,0)))","v":0},{"$f":"IFERROR(VLOOKUP(B71,[2]A!B$1:AH$48,33,0),IFERROR(VLOOKUP(B71,[2]B!B$1:AH$51,33,0),VLOOKUP(B71,[2]C!$B$1:$AH$52,33,0)))","v":0},{"$f":"IFERROR(VLOOKUP(B71,[3]A!B$1:S$48,18,0),IFERROR(VLOOKUP(B71,[3]B!B$1:Q$51,16,0),VLOOKUP(B71,[3]C!B$1:Q$52,16,0)))","v":14},{"$f":"IFERROR(VLOOKUP(B71,[3]A!B$1:T$48,19,0),IFERROR(VLOOKUP(B71,[3]B!B$1:R$51,17,0),VLOOKUP(B71,[3]C!B$1:R$52,17,0)))","v":16},{"$f":"IFERROR(VLOOKUP(B71,[3]A!B$1:V$48,21,0),IFERROR(VLOOKUP(B71,[3]B!B$1:T$51,19,0),VLOOKUP(B71,[3]C!B$1:T$52,19,0)))","v":0},{"$f":"IFERROR(VLOOKUP(B71,[3]A!B$1:W$48,22,0),IFERROR(VLOOKUP(B71,[3]B!B$1:U$51,20,0),VLOOKUP(B71,[3]C!B$1:U$52,20,0)))","v":1},{"$f":"IFERROR(VLOOKUP(B71,[3]A!B$1:X$48,23,0),IFERROR(VLOOKUP(B71,[3]B!B$1:V$51,21,0),VLOOKUP(B71,[3]C!B$1:V$52,21,0)))","v":1},0,{"$f":"IFERROR(VLOOKUP(B71,[4]A!B$1:AA$48,26,0),IFERROR(VLOOKUP(B71,[4]B!B$1:AA$51,26,0),VLOOKUP(B71,[4]C!B$1:AA$52,26,0)))","v":14},{"$f":"IFERROR(VLOOKUP(B71,[4]A!B$1:AB$48,27,0),IFERROR(VLOOKUP(B71,[4]B!B$1:AB$51,27,0),VLOOKUP(B71,[4]C!B$1:AB$52,27,0)))","v":16},{"$f":"IFERROR(VLOOKUP(B71,[4]A!B$1:AD$48,29,0),IFERROR(VLOOKUP(B71,[4]B!B$1:AD$51,29,0),VLOOKUP(B71,[4]C!B$1:AD$52,29,0)))","v":0},{"$f":"IFERROR(VLOOKUP(B71,[4]A!B$1:AE$48,30,0),IFERROR(VLOOKUP(B71,[4]B!B$1:AE$51,30,0),VLOOKUP(B71,[4]C!B$1:AE$52,30,0)))","v":2},{"$f":"IFERROR(VLOOKUP(B71,[4]A!B$1:AF$48,31,0),IFERROR(VLOOKUP(B71,[4]B!B$1:AF$51,31,0),VLOOKUP(B71,[4]C!B$1:AF$52,31,0)))","v":2},{"$f":"IFERROR(VLOOKUP(B71,[4]A!B$1:AH$48,33,0),IFERROR(VLOOKUP(B71,[4]B!B$1:AH$51,33,0),VLOOKUP(B71,[4]C!B$1:AH$52,33,0)))","v":0},2,6,null,null,null,null,70,0,0,58,58,82.857142857142861,4,null,{"$f":"IFERROR(VLOOKUP(B71,[5]A!B$1:Y$48,24,0),IFERROR(VLOOKUP(B71,[5]B!B$1:U$51,20,0),VLOOKUP(B71,[5]C!B$1:U$52,20,0)))","v":8},9,21]
[71,"15BA081",{"$f":"VLOOKUP(B72,[1]B!B$1:AA$48,26,0)","v":9},{"$f":"VLOOKUP(B72,[1]B!B$1:AB$48,27,0)","v":9},{"$f":"VLOOKUP(B72,[1]B!B$1:AD$48,29,0)","v":0},{"$f":"VLOOKUP(B72,[1]B!B$1:AE$48,30,0)","v":0},{"$f":"VLOOKUP(B72,[1]B!B$1:AF$48,31,0)","v":0},{"$f":"VLOOKUP(B72,[1]B!B$1:AH$48,33,0)","v":0},{"$f":"IFERROR(VLOOKUP(B72,[2]A!B$1:AA$48,26,0),IFERROR(VLOOKUP(B72,[2]B!B$1:AA$51,26,0),VLOOKUP(B72,[2]C!B$1:AA$52,26,0)))","v":18},{"$f":"IFERROR(VLOOKUP(B72,[2]A!B$1:AB$48,27,0),IFERROR(VLOOKUP(B72,[2]B!B$1:AB$51,27,0),VLOOKUP(B72,[2]C!B$1:AB$52,27,0)))","v":20},{"$f":"IFERROR(VLOOKUP(B72,[2]A!B$1:AD$48,29,0),IFERROR(VLOOKUP(B72,[2]B!B$1:AD$51,29,0),VLOOKUP(B72,[2]C!B$1:AD$52,29,0)))","v":0},{"$f":"IFERROR(VLOOKUP(B72,[2]A!B$1:AE$48,30,0),IFERROR(VLOOKUP(B72,[2]B!B$1:AE$51,30,0),VLOOKUP(B72,[2]C!B$1:AE$52,30,0)))","v":3},{"$f":"IFERROR(VLOOKUP(B72,[2]A!B$1:AF$48,31,0),IFERROR(VLOOKUP(B72,[2]B!B$1:AF$51,31,0),VLOOKUP(B72,[2]C!B$1:AF$52,31,0)))","v":3},{"$f":"IFERROR(VLOOKUP(B72,[2]A!B$1:AH$48,33,0),IFERROR(VLOOKUP(B72,[2]B!B$1:AH$51,33,0),VLOOKUP(B72,[2]C!$B$1:$AH$52,33,0)))","v":0},{"$f":"IFERROR(VLOOKUP(B72,[3]A!B$1:S$48,18,0),IFERROR(VLOOKUP(B72,[3]B!B$1:Q$51,16,0),VLOOKUP(B72,[3]C!B$1:Q$52,16,0)))","v":9},{"$f":"IFERROR(VLOOKUP(B72,[3]A!B$1:T$48,19,0),IFERROR(VLOOKUP(B72,[3]B!B$1:R$51,17,0),VLOOKUP(B72,[3]C!B$1:R$52,17,0)))","v":16},{"$f":"IFERROR(VLOOKUP(B72,[3]A!B$1:V$48,21,0),IFERROR(VLOOKUP(B72,[3]B!B$1:T$51,19,0),VLOOKUP(B72,[3]C!B$1:T$52,19,0)))","v":0},{"$f":"IFERROR(VLOOKUP(B72,[3]A!B$1:W$48,22,0),IFERROR(VLOOKUP(B72,[3]B!B$1:U$51,20,0),VLOOKUP(B72,[3]C!B$1:U$52,20,0)))","v":1},{"$f":"IFERROR(VLOOKUP(B72,[3]A!B$1:X$48,23,0),IFERROR(VLOOKUP(B72,[3]B!B$1:V$51,21,0),VLOOKUP(B72,[3]C!B$1:V$52,21,0)))","v":2},0,{"$f":"IFERROR(VLOOKUP(B72,[4]A!B$1:AA$48,26,0),IFERROR(VLOOKUP(B72,[4]B!B$1:AA$51,26,0),VLOOKUP(B72,[4]C!B$1:AA$52,26,0)))","v":14},{"$f":"IFERROR(VLOOKUP(B72,[4]A!B$1:AB$48,27,0),IFERROR(VLOOKUP(B72,[4]B!B$1:AB$51,27,0),VLOOKUP(B72,[4]C!B$1:AB$52,27,0)))","v":16},{"$f":"IFERROR(VLOOKUP(B72,[4]A!B$1:AD$48,29,0),IFERROR(VLOOKUP(B72,[4]B!B$1:AD$51,29,0),VLOOKUP(B72,[4]C!B$1:AD$52,29,0)))","v":2},{"$f":"IFERROR(VLOOKUP(B72,[4]A!B$1:AE$48,30,0),IFERROR(VLOOKUP(B72,[4]B!B$1:AE$51,30,0),VLOOKUP(B72,[4]C!B$1:AE$52,30,0)))","v":2},{"$f":"IFERROR(VLOOKUP(B72,[4]A!B$1:AF$48,31,0),IFERROR(VLOOKUP(B72,[4]B!B$1:AF$51,31,0),VLOOKUP(B72,[4]C!B$1:AF$52,31,0)))","v":2},{"$f":"IFERROR(VLOOKUP(B72,[4]A!B$1:AH$48,33,0),IFERROR(VLOOKUP(B72,[4]B!B$1:AH$51,33,0),VLOOKUP(B72,[4]C!B$1:AH$52,33,0)))","v":0},2,6,null,null,null,null,74,2,2,58,60,81.081081081081081,4,null,{"$f":"IFERROR(VLOOKUP(B72,[5]A!B$1:Y$48,24,0),IFERROR(VLOOKUP(B72,[5]B!B$1:U$51,20,0),VLOOKUP(B72,[5]C!B$1:U$52,20,0)))","v":9},9,22]
[72,"15BA085",{"$f":"VLOOKUP(B73,[1]B!B$1:AA$48,26,0)","v":8},{"$f":"VLOOKUP(B73,[1]B!B$1:AB$48,27,0)","v":9},{"$f":"VLOOKUP(B73,[1]B!B$1:AD$48,29,0)","v":0},{"$f":"VLOOKUP(B73,[1]B!B$1:AE$48,30,0)","v":0},{"$f":"VLOOKUP(B73,[1]B!B$1:AF$48,31,0)","v":0},{"$f":"VLOOKUP(B73,[1]B!B$1:AH$48,33,0)","v":0},{"$f":"IFERROR(VLOOKUP(B73,[2]A!B$1:AA$48,26,0),IFERROR(VLOOKUP(B73,[2]B!B$1:AA$51,26,0),VLOOKUP(B73,[2]C!B$1:AA$52,26,0)))","v":16},{"$f":"IFERROR(VLOOKUP(B73,[2]A!B$1:AB$48,27,0),IFERROR(VLOOKUP(B73,[2]B!B$1:AB$51,27,0),VLOOKUP(B73,[2]C!B$1:AB$52,27,0)))","v":20},{"$f":"IFERROR(VLOOKUP(B73,[2]A!B$1:AD$48,29,0),IFERROR(VLOOKUP(B73,[2]B!B$1:AD$51,29,0),VLOOKUP(B73,[2]C!B$1:AD$52,29,0)))","v":0},{"$f":"IFERROR(VLOOKUP(B73,[2]A!B$1:AE$48,30,0),IFERROR(VLOOKUP(B73,[2]B!B$1:AE$51,30,0),VLOOKUP(B73,[2]C!B$1:AE$52,30,0)))","v":2},{"$f":"IFERROR(VLOOKUP(B73,[2]A!B$1:AF$48,31,0),IFERROR(VLOOKUP(B73,[2]B!B$1:AF$51,31,0),VLOOKUP(B73,[2]C!B$1:AF$52,31,0)))","v":3},{"$f":"IFERROR(VLOOKUP(B73,[2]A!B$1:AH$48,33,0),IFERROR(VLOOKUP(B73,[2]B!B$1:AH$51,33,0),VLOOKUP(B73,[2]C!$B$1:$AH$52,33,0)))","v":0},{"$f":"IFERROR(VLOOKUP(B73,[3]A!B$1:S$48,18,0),IFERROR(VLOOKUP(B73,[3]B!B$1:Q$51,16,0),VLOOKUP(B73,[3]C!B$1:Q$52,16,0)))","v":9},{"$f":"IFERROR(VLOOKUP(B73,[3]A!B$1:T$48,19,0),IFERROR(VLOOKUP(B73,[3]B!B$1:R$51,17,0),VLOOKUP(B73,[3]C!B$1:R$52,17,0)))","v":16},{"$f":"IFERROR(VLOOKUP(B73,[3]A!B$1:V$48,21,0),IFERROR(VLOOKUP(B73,[3]B!B$1:T$51,19,0),VLOOKUP(B73,[3]C!B$1:T$52,19,0)))","v":0},{"$f":"IFERROR(VLOOKUP(B73,[3]A!B$1:W$48,22,0),IFERROR(VLOOKUP(B73,[3]B!B$1:U$51,20,0),VLOOKUP(B73,[3]C!B$1:U$52,20,0)))","v":1},{"$f":"IFERROR(VLOOKUP(B73,[3]A!B$1:X$48,23,0),IFERROR(VLOOKUP(B73,[3]B!B$1:V$51,21,0),VLOOKUP(B73,[3]C!B$1:V$52,21,0)))","v":2},0,{"$f":"IFERROR(VLOOKUP(B73,[4]A!B$1:AA$48,26,0),IFERROR(VLOOKUP(B73,[4]B!B$1:AA$51,26,0),VLOOKUP(B73,[4]C!B$1:AA$52,26,0)))","v":12},{"$f":"IFERROR(VLOOKUP(B73,[4]A!B$1:AB$48,27,0),IFERROR(VLOOKUP(B73,[4]B!B$1:AB$51,27,0),VLOOKUP(B73,[4]C!B$1:AB$52,27,0)))","v":16},{"$f":"IFERROR(VLOOKUP(B73,[4]A!B$1:AD$48,29,0),IFERROR(VLOOKUP(B73,[4]B!B$1:AD$51,29,0),VLOOKUP(B73,[4]C!B$1:AD$52,29,0)))","v":0},{"$f":"IFERROR(VLOOKUP(B73,[4]A!B$1:AE$48,30,0),IFERROR(VLOOKUP(B73,[4]B!B$1:AE$51,30,0),VLOOKUP(B73,[4]C!B$1:AE$52,30,0)))","v":2},{"$f":"IFERROR(VLOOKUP(B73,[4]A!B$1:AF$48,31,0),IFERROR(VLOOKUP(B73,[4]B!B$1:AF$51,31,0),VLOOKUP(B73,[4]C!B$1:AF$52,31,0)))","v":2},{"$f":"IFERROR(VLOOKUP(B73,[4]A!B$1:AH$48,33,0),IFERROR(VLOOKUP(B73,[4]B!B$1:AH$51,33,0),VLOOKUP(B73,[4]C!B$1:AH$52,33,0)))","v":0},1,6,2,null,null,null,74,2,2,51,53,71.621621621621628,2,null,{"$f":"IFERROR(VLOOKUP(B73,[5]A!B$1:Y$48,24,0),IFERROR(VLOOKUP(B73,[5]B!B$1:U$51,20,0),VLOOKUP(B73,[5]C!B$1:U$52,20,0)))","v":9},9,20]
[73,"15BA086",{"$f":"VLOOKUP(B74,[1]B!B$1:AA$48,26,0)","v":7},{"$f":"VLOOKUP(B74,[1]B!B$1:AB$48,27,0)","v":9},{"$f":"VLOOKUP(B74,[1]B!B$1:AD$48,29,0)","v":0},{"$f":"VLOOKUP(B74,[1]B!B$1:AE$48,30,0)","v":0},{"$f":"VLOOKUP(B74,[1]B!B$1:AF$48,31,0)","v":0},{"$f":"VLOOKUP(B74,[1]B!B$1:AH$48,33,0)","v":0},{"$f":"IFERROR(VLOOKUP(B74,[2]A!B$1:AA$48,26,0),IFERROR(VLOOKUP(B74,[2]B!B$1:AA$51,26,0),VLOOKUP(B74,[2]C!B$1:AA$52,26,0)))","v":17},{"$f":"IFERROR(VLOOKUP(B74,[2]A!B$1:AB$48,27,0),IFERROR(VLOOKUP(B74,[2]B!B$1:AB$51,27,0),VLOOKUP(B74,[2]C!B$1:AB$52,27,0)))","v":20},{"$f":"IFERROR(VLOOKUP(B74,[2]A!B$1:AD$48,29,0),IFERROR(VLOOKUP(B74,[2]B!B$1:AD$51,29,0),VLOOKUP(B74,[2]C!B$1:AD$52,29,0)))","v":0},{"$f":"IFERROR(VLOOKUP(B74,[2]A!B$1:AE$48,30,0),IFERROR(VLOOKUP(B74,[2]B!B$1:AE$51,30,0),VLOOKUP(B74,[2]C!B$1:AE$52,30,0)))","v":1},{"$f":"IFERROR(VLOOKUP(B74,[2]A!B$1:AF$48,31,0),IFERROR(VLOOKUP(B74,[2]B!B$1:AF$51,31,0),VLOOKUP(B74,[2]C!B$1:AF$52,31,0)))","v":1},{"$f":"IFERROR(VLOOKUP(B74,[2]A!B$1:AH$48,33,0),IFERROR(VLOOKUP(B74,[2]B!B$1:AH$51,33,0),VLOOKUP(B74,[2]C!$B$1:$AH$52,33,0)))","v":0},{"$f":"IFERROR(VLOOKUP(B74,[3]A!B$1:S$48,18,0),IFERROR(VLOOKUP(B74,[3]B!B$1:Q$51,16,0),VLOOKUP(B74,[3]C!B$1:Q$52,16,0)))","v":11},{"$f":"IFERROR(VLOOKUP(B74,[3]A!B$1:T$48,19,0),IFERROR(VLOOKUP(B74,[3]B!B$1:R$51,17,0),VLOOKUP(B74,[3]C!B$1:R$52,17,0)))","v":16},{"$f":"IFERROR(VLOOKUP(B74,[3]A!B$1:V$48,21,0),IFERROR(VLOOKUP(B74,[3]B!B$1:T$51,19,0),VLOOKUP(B74,[3]C!B$1:T$52,19,0)))","v":0},{"$f":"IFERROR(VLOOKUP(B74,[3]A!B$1:W$48,22,0),IFERROR(VLOOKUP(B74,[3]B!B$1:U$51,20,0),VLOOKUP(B74,[3]C!B$1:U$52,20,0)))","v":0},{"$f":"IFERROR(VLOOKUP(B74,[3]A!B$1:X$48,23,0),IFERROR(VLOOKUP(B74,[3]B!B$1:V$51,21,0),VLOOKUP(B74,[3]C!B$1:V$52,21,0)))","v":0},0,{"$f":"IFERROR(VLOOKUP(B74,[4]A!B$1:AA$48,26,0),IFERROR(VLOOKUP(B74,[4]B!B$1:AA$51,26,0),VLOOKUP(B74,[4]C!B$1:AA$52,26,0)))","v":13},{"$f":"IFERROR(VLOOKUP(B74,[4]A!B$1:AB$48,27,0),IFERROR(VLOOKUP(B74,[4]B!B$1:AB$51,27,0),VLOOKUP(B74,[4]C!B$1:AB$52,27,0)))","v":16},{"$f":"IFERROR(VLOOKUP(B74,[4]A!B$1:AD$48,29,0),IFERROR(VLOOKUP(B74,[4]B!B$1:AD$51,29,0),VLOOKUP(B74,[4]C!B$1:AD$52,29,0)))","v":0},{"$f":"IFERROR(VLOOKUP(B74,[4]A!B$1:AE$48,30,0),IFERROR(VLOOKUP(B74,[4]B!B$1:AE$51,30,0),VLOOKUP(B74,[4]C!B$1:AE$52,30,0)))","v":0},{"$f":"IFERROR(VLOOKUP(B74,[4]A!B$1:AF$48,31,0),IFERROR(VLOOKUP(B74,[4]B!B$1:AF$51,31,0),VLOOKUP(B74,[4]C!B$1:AF$52,31,0)))","v":0},{"$f":"IFERROR(VLOOKUP(B74,[4]A!B$1:AH$48,33,0),IFERROR(VLOOKUP(B74,[4]B!B$1:AH$51,33,0),VLOOKUP(B74,[4]C!B$1:AH$52,33,0)))","v":0},2,6,null,null,null,null,68,0,0,51,51,75,3,null,{"$f":"IFERROR(VLOOKUP(B74,[5]A!B$1:Y$48,24,0),IFERROR(VLOOKUP(B74,[5]B!B$1:U$51,20,0),VLOOKUP(B74,[5]C!B$1:U$52,20,0)))","v":8},9,20]
[74,"15BA088",{"$f":"VLOOKUP(B75,[1]B!B$1:AA$48,26,0)","v":7},{"$f":"VLOOKUP(B75,[1]B!B$1:AB$48,27,0)","v":9},{"$f":"VLOOKUP(B75,[1]B!B$1:AD$48,29,0)","v":0},{"$f":"VLOOKUP(B75,[1]B!B$1:AE$48,30,0)","v":0},{"$f":"VLOOKUP(B75,[1]B!B$1:AF$48,31,0)","v":0},{"$f":"VLOOKUP(B75,[1]B!B$1:AH$48,33,0)","v":0},{"$f":"IFERROR(VLOOKUP(B75,[2]A!B$1:AA$48,26,0),IFERROR(VLOOKUP(B75,[2]B!B$1:AA$51,26,0),VLOOKUP(B75,[2]C!B$1:AA$52,26,0)))","v":10},{"$f":"IFERROR(VLOOKUP(B75,[2]A!B$1:AB$48,27,0),IFERROR(VLOOKUP(B75,[2]B!B$1:AB$51,27,0),VLOOKUP(B75,[2]C!B$1:AB$52,27,0)))","v":20},{"$f":"IFERROR(VLOOKUP(B75,[2]A!B$1:AD$48,29,0),IFERROR(VLOOKUP(B75,[2]B!B$1:AD$51,29,0),VLOOKUP(B75,[2]C!B$1:AD$52,29,0)))","v":0},{"$f":"IFERROR(VLOOKUP(B75,[2]A!B$1:AE$48,30,0),IFERROR(VLOOKUP(B75,[2]B!B$1:AE$51,30,0),VLOOKUP(B75,[2]C!B$1:AE$52,30,0)))","v":1},{"$f":"IFERROR(VLOOKUP(B75,[2]A!B$1:AF$48,31,0),IFERROR(VLOOKUP(B75,[2]B!B$1:AF$51,31,0),VLOOKUP(B75,[2]C!B$1:AF$52,31,0)))","v":1},{"$f":"IFERROR(VLOOKUP(B75,[2]A!B$1:AH$48,33,0),IFERROR(VLOOKUP(B75,[2]B!B$1:AH$51,33,0),VLOOKUP(B75,[2]C!$B$1:$AH$52,33,0)))","v":0},{"$f":"IFERROR(VLOOKUP(B75,[3]A!B$1:S$48,18,0),IFERROR(VLOOKUP(B75,[3]B!B$1:Q$51,16,0),VLOOKUP(B75,[3]C!B$1:Q$52,16,0)))","v":4},{"$f":"IFERROR(VLOOKUP(B75,[3]A!B$1:T$48,19,0),IFERROR(VLOOKUP(B75,[3]B!B$1:R$51,17,0),VLOOKUP(B75,[3]C!B$1:R$52,17,0)))","v":16},{"$f":"IFERROR(VLOOKUP(B75,[3]A!B$1:V$48,21,0),IFERROR(VLOOKUP(B75,[3]B!B$1:T$51,19,0),VLOOKUP(B75,[3]C!B$1:T$52,19,0)))","v":0},{"$f":"IFERROR(VLOOKUP(B75,[3]A!B$1:W$48,22,0),IFERROR(VLOOKUP(B75,[3]B!B$1:U$51,20,0),VLOOKUP(B75,[3]C!B$1:U$52,20,0)))","v":0},{"$f":"IFERROR(VLOOKUP(B75,[3]A!B$1:X$48,23,0),IFERROR(VLOOKUP(B75,[3]B!B$1:V$51,21,0),VLOOKUP(B75,[3]C!B$1:V$52,21,0)))","v":0},0,{"$f":"IFERROR(VLOOKUP(B75,[4]A!B$1:AA$48,26,0),IFERROR(VLOOKUP(B75,[4]B!B$1:AA$51,26,0),VLOOKUP(B75,[4]C!B$1:AA$52,26,0)))","v":0},{"$f":"IFERROR(VLOOKUP(B75,[4]A!B$1:AB$48,27,0),IFERROR(VLOOKUP(B75,[4]B!B$1:AB$51,27,0),VLOOKUP(B75,[4]C!B$1:AB$52,27,0)))","v":16},{"$f":"IFERROR(VLOOKUP(B75,[4]A!B$1:AD$48,29,0),IFERROR(VLOOKUP(B75,[4]B!B$1:AD$51,29,0),VLOOKUP(B75,[4]C!B$1:AD$52,29,0)))","v":0},{"$f":"IFERROR(VLOOKUP(B75,[4]A!B$1:AE$48,30,0),IFERROR(VLOOKUP(B75,[4]B!B$1:AE$51,30,0),VLOOKUP(B75,[4]C!B$1:AE$52,30,0)))","v":0},{"$f":"IFERROR(VLOOKUP(B75,[4]A!B$1:AF$48,31,0),IFERROR(VLOOKUP(B75,[4]B!B$1:AF$51,31,0),VLOOKUP(B75,[4]C!B$1:AF$52,31,0)))","v":0},{"$f":"IFERROR(VLOOKUP(B75,[4]A!B$1:AH$48,33,0),IFERROR(VLOOKUP(B75,[4]B!B$1:AH$51,33,0),VLOOKUP(B75,[4]C!B$1:AH$52,33,0)))","v":0},0,6,null,null,null,null,68,0,0,22,22,32.352941176470587,0,null,{"$f":"IFERROR(VLOOKUP(B75,[5]A!B$1:Y$48,24,0),IFERROR(VLOOKUP(B75,[5]B!B$1:U$51,20,0),VLOOKUP(B75,[5]C!B$1:U$52,20,0)))","v":0},0,0]
[75,"15BA089",{"$f":"VLOOKUP(B76,[1]B!B$1:AA$48,26,0)","v":9},{"$f":"VLOOKUP(B76,[1]B!B$1:AB$48,27,0)","v":9},{"$f":"VLOOKUP(B76,[1]B!B$1:AD$48,29,0)","v":0},{"$f":"VLOOKUP(B76,[1]B!B$1:AE$48,30,0)","v":0},{"$f":"VLOOKUP(B76,[1]B!B$1:AF$48,31,0)","v":0},{"$f":"VLOOKUP(B76,[1]B!B$1:AH$48,33,0)","v":0},{"$f":"IFERROR(VLOOKUP(B76,[2]A!B$1:AA$48,26,0),IFERROR(VLOOKUP(B76,[2]B!B$1:AA$51,26,0),VLOOKUP(B76,[2]C!B$1:AA$52,26,0)))","v":17},{"$f":"IFERROR(VLOOKUP(B76,[2]A!B$1:AB$48,27,0),IFERROR(VLOOKUP(B76,[2]B!B$1:AB$51,27,0),VLOOKUP(B76,[2]C!B$1:AB$52,27,0)))","v":20},{"$f":"IFERROR(VLOOKUP(B76,[2]A!B$1:AD$48,29,0),IFERROR(VLOOKUP(B76,[2]B!B$1:AD$51,29,0),VLOOKUP(B76,[2]C!B$1:AD$52,29,0)))","v":0},{"$f":"IFERROR(VLOOKUP(B76,[2]A!B$1:AE$48,30,0),IFERROR(VLOOKUP(B76,[2]B!B$1:AE$51,30,0),VLOOKUP(B76,[2]C!B$1:AE$52,30,0)))","v":2},{"$f":"IFERROR(VLOOKUP(B76,[2]A!B$1:AF$48,31,0),IFERROR(VLOOKUP(B76,[2]B!B$1:AF$51,31,0),VLOOKUP(B76,[2]C!B$1:AF$52,31,0)))","v":2},{"$f":"IFERROR(VLOOKUP(B76,[2]A!B$1:AH$48,33,0),IFERROR(VLOOKUP(B76,[2]B!B$1:AH$51,33,0),VLOOKUP(B76,[2]C!$B$1:$AH$52,33,0)))","v":0},{"$f":"IFERROR(VLOOKUP(B76,[3]A!B$1:S$48,18,0),IFERROR(VLOOKUP(B76,[3]B!B$1:Q$51,16,0),VLOOKUP(B76,[3]C!B$1:Q$52,16,0)))","v":11},{"$f":"IFERROR(VLOOKUP(B76,[3]A!B$1:T$48,19,0),IFERROR(VLOOKUP(B76,[3]B!B$1:R$51,17,0),VLOOKUP(B76,[3]C!B$1:R$52,17,0)))","v":16},{"$f":"IFERROR(VLOOKUP(B76,[3]A!B$1:V$48,21,0),IFERROR(VLOOKUP(B76,[3]B!B$1:T$51,19,0),VLOOKUP(B76,[3]C!B$1:T$52,19,0)))","v":0},{"$f":"IFERROR(VLOOKUP(B76,[3]A!B$1:W$48,22,0),IFERROR(VLOOKUP(B76,[3]B!B$1:U$51,20,0),VLOOKUP(B76,[3]C!B$1:U$52,20,0)))","v":1},{"$f":"IFERROR(VLOOKUP(B76,[3]A!B$1:X$48,23,0),IFERROR(VLOOKUP(B76,[3]B!B$1:V$51,21,0),VLOOKUP(B76,[3]C!B$1:V$52,21,0)))","v":2},0,{"$f":"IFERROR(VLOOKUP(B76,[4]A!B$1:AA$48,26,0),IFERROR(VLOOKUP(B76,[4]B!B$1:AA$51,26,0),VLOOKUP(B76,[4]C!B$1:AA$52,26,0)))","v":12},{"$f":"IFERROR(VLOOKUP(B76,[4]A!B$1:AB$48,27,0),IFERROR(VLOOKUP(B76,[4]B!B$1:AB$51,27,0),VLOOKUP(B76,[4]C!B$1:AB$52,27,0)))","v":16},{"$f":"IFERROR(VLOOKUP(B76,[4]A!B$1:AD$48,29,0),IFERROR(VLOOKUP(B76,[4]B!B$1:AD$51,29,0),VLOOKUP(B76,[4]C!B$1:AD$52,29,0)))","v":3},{"$f":"IFERROR(VLOOKUP(B76,[4]A!B$1:AE$48,30,0),IFERROR(VLOOKUP(B76,[4]B!B$1:AE$51,30,0),VLOOKUP(B76,[4]C!B$1:AE$52,30,0)))","v":2},{"$f":"IFERROR(VLOOKUP(B76,[4]A!B$1:AF$48,31,0),IFERROR(VLOOKUP(B76,[4]B!B$1:AF$51,31,0),VLOOKUP(B76,[4]C!B$1:AF$52,31,0)))","v":3},{"$f":"IFERROR(VLOOKUP(B76,[4]A!B$1:AH$48,33,0),IFERROR(VLOOKUP(B76,[4]B!B$1:AH$51,33,0),VLOOKUP(B76,[4]C!B$1:AH$52,33,0)))","v":0},3,6,null,null,null,null,74,3,3,57,60,81.081081081081081,4,null,{"$f":"IFERROR(VLOOKUP(B76,[5]A!B$1:Y$48,24,0),IFERROR(VLOOKUP(B76,[5]B!B$1:U$51,20,0),VLOOKUP(B76,[5]C!B$1:U$52,20,0)))","v":8},9,21]
[76,"15BA090",{"$f":"VLOOKUP(B77,[1]B!B$1:AA$48,26,0)","v":9},{"$f":"VLOOKUP(B77,[1]B!B$1:AB$48,27,0)","v":9},{"$f":"VLOOKUP(B77,[1]B!B$1:AD$48,29,0)","v":0},{"$f":"VLOOKUP(B77,[1]B!B$1:AE$48,30,0)","v":0},{"$f":"VLOOKUP(B77,[1]B!B$1:AF$48,31,0)","v":0},{"$f":"VLOOKUP(B77,[1]B!B$1:AH$48,33,0)","v":0},{"$f":"IFERROR(VLOOKUP(B77,[2]A!B$1:AA$48,26,0),IFERROR(VLOOKUP(B77,[2]B!B$1:AA$51,26,0),VLOOKUP(B77,[2]C!B$1:AA$52,26,0)))","v":18},{"$f":"IFERROR(VLOOKUP(B77,[2]A!B$1:AB$48,27,0),IFERROR(VLOOKUP(B77,[2]B!B$1:AB$51,27,0),VLOOKUP(B77,[2]C!B$1:AB$52,27,0)))","v":20},{"$f":"IFERROR(VLOOKUP(B77,[2]A!B$1:AD$48,29,0),IFERROR(VLOOKUP(B77,[2]B!B$1:AD$51,29,0),VLOOKUP(B77,[2]C!B$1:AD$52,29,0)))","v":0},{"$f":"IFERROR(VLOOKUP(B77,[2]A!B$1:AE$48,30,0),IFERROR(VLOOKUP(B77,[2]B!B$1:AE$51,30,0),VLOOKUP(B77,[2]C!B$1:AE$52,30,0)))","v":2},{"$f":"IFERROR(VLOOKUP(B77,[2]A!B$1:AF$48,31,0),IFERROR(VLOOKUP(B77,[2]B!B$1:AF$51,31,0),VLOOKUP(B77,[2]C!B$1:AF$52,31,0)))","v":2},{"$f":"IFERROR(VLOOKUP(B77,[2]A!B$1:AH$48,33,0),IFERROR(VLOOKUP(B77,[2]B!B$1:AH$51,33,0),VLOOKUP(B77,[2]C!$B$1:$AH$52,33,0)))","v":0},{"$f":"IFERROR(VLOOKUP(B77,[3]A!B$1:S$48,18,0),IFERROR(VLOOKUP(B77,[3]B!B$1:Q$51,16,0),VLOOKUP(B77,[3]C!B$1:Q$52,16,0)))","v":12},{"$f":"IFERROR(VLOOKUP(B77,[3]A!B$1:T$48,19,0),IFERROR(VLOOKUP(B77,[3]B!B$1:R$51,17,0),VLOOKUP(B77,[3]C!B$1:R$52,17,0)))","v":16},{"$f":"IFERROR(VLOOKUP(B77,[3]A!B$1:V$48,21,0),IFERROR(VLOOKUP(B77,[3]B!B$1:T$51,19,0),VLOOKUP(B77,[3]C!B$1:T$52,19,0)))","v":0},{"$f":"IFERROR(VLOOKUP(B77,[3]A!B$1:W$48,22,0),IFERROR(VLOOKUP(B77,[3]B!B$1:U$51,20,0),VLOOKUP(B77,[3]C!B$1:U$52,20,0)))","v":1},{"$f":"IFERROR(VLOOKUP(B77,[3]A!B$1:X$48,23,0),IFERROR(VLOOKUP(B77,[3]B!B$1:V$51,21,0),VLOOKUP(B77,[3]C!B$1:V$52,21,0)))","v":1},0,{"$f":"IFERROR(VLOOKUP(B77,[4]A!B$1:AA$48,26,0),IFERROR(VLOOKUP(B77,[4]B!B$1:AA$51,26,0),VLOOKUP(B77,[4]C!B$1:AA$52,26,0)))","v":14},{"$f":"IFERROR(VLOOKUP(B77,[4]A!B$1:AB$48,27,0),IFERROR(VLOOKUP(B77,[4]B!B$1:AB$51,27,0),VLOOKUP(B77,[4]C!B$1:AB$52,27,0)))","v":16},{"$f":"IFERROR(VLOOKUP(B77,[4]A!B$1:AD$48,29,0),IFERROR(VLOOKUP(B77,[4]B!B$1:AD$51,29,0),VLOOKUP(B77,[4]C!B$1:AD$52,29,0)))","v":1},{"$f":"IFERROR(VLOOKUP(B77,[4]A!B$1:AE$48,30,0),IFERROR(VLOOKUP(B77,[4]B!B$1:AE$51,30,0),VLOOKUP(B77,[4]C!B$1:AE$52,30,0)))","v":2},{"$f":"IFERROR(VLOOKUP(B77,[4]A!B$1:AF$48,31,0),IFERROR(VLOOKUP(B77,[4]B!B$1:AF$51,31,0),VLOOKUP(B77,[4]C!B$1:AF$52,31,0)))","v":2},{"$f":"IFERROR(VLOOKUP(B77,[4]A!B$1:AH$48,33,0),IFERROR(VLOOKUP(B77,[4]B!B$1:AH$51,33,0),VLOOKUP(B77,[4]C!B$1:AH$52,33,0)))","v":0},3,6,null,null,null,null,72,1,1,61,62,86.111111111111114,5,null,{"$f":"IFERROR(VLOOKUP(B77,[5]A!B$1:Y$48,24,0),IFERROR(VLOOKUP(B77,[5]B!B$1:U$51,20,0),VLOOKUP(B77,[5]C!B$1:U$52,20,0)))","v":9},10,24]
[77,"15BA092",{"$f":"VLOOKUP(B78,[1]B!B$1:AA$48,26,0)","v":7},{"$f":"VLOOKUP(B78,[1]B!B$1:AB$48,27,0)","v":9},{"$f":"VLOOKUP(B78,[1]B!B$1:AD$48,29,0)","v":0},{"$f":"VLOOKUP(B78,[1]B!B$1:AE$48,30,0)","v":0},{"$f":"VLOOKUP(B78,[1]B!B$1:AF$48,31,0)","v":0},{"$f":"VLOOKUP(B78,[1]B!B$1:AH$48,33,0)","v":0},{"$f":"IFERROR(VLOOKUP(B78,[2]A!B$1:AA$48,26,0),IFERROR(VLOOKUP(B78,[2]B!B$1:AA$51,26,0),VLOOKUP(B78,[2]C!B$1:AA$52,26,0)))","v":16},{"$f":"IFERROR(VLOOKUP(B78,[2]A!B$1:AB$48,27,0),IFERROR(VLOOKUP(B78,[2]B!B$1:AB$51,27,0),VLOOKUP(B78,[2]C!B$1:AB$52,27,0)))","v":20},{"$f":"IFERROR(VLOOKUP(B78,[2]A!B$1:AD$48,29,0),IFERROR(VLOOKUP(B78,[2]B!B$1:AD$51,29,0),VLOOKUP(B78,[2]C!B$1:AD$52,29,0)))","v":0},{"$f":"IFERROR(VLOOKUP(B78,[2]A!B$1:AE$48,30,0),IFERROR(VLOOKUP(B78,[2]B!B$1:AE$51,30,0),VLOOKUP(B78,[2]C!B$1:AE$52,30,0)))","v":0},{"$f":"IFERROR(VLOOKUP(B78,[2]A!B$1:AF$48,31,0),IFERROR(VLOOKUP(B78,[2]B!B$1:AF$51,31,0),VLOOKUP(B78,[2]C!B$1:AF$52,31,0)))","v":0},{"$f":"IFERROR(VLOOKUP(B78,[2]A!B$1:AH$48,33,0),IFERROR(VLOOKUP(B78,[2]B!B$1:AH$51,33,0),VLOOKUP(B78,[2]C!$B$1:$AH$52,33,0)))","v":0},{"$f":"IFERROR(VLOOKUP(B78,[3]A!B$1:S$48,18,0),IFERROR(VLOOKUP(B78,[3]B!B$1:Q$51,16,0),VLOOKUP(B78,[3]C!B$1:Q$52,16,0)))","v":14},{"$f":"IFERROR(VLOOKUP(B78,[3]A!B$1:T$48,19,0),IFERROR(VLOOKUP(B78,[3]B!B$1:R$51,17,0),VLOOKUP(B78,[3]C!B$1:R$52,17,0)))","v":16},{"$f":"IFERROR(VLOOKUP(B78,[3]A!B$1:V$48,21,0),IFERROR(VLOOKUP(B78,[3]B!B$1:T$51,19,0),VLOOKUP(B78,[3]C!B$1:T$52,19,0)))","v":0},{"$f":"IFERROR(VLOOKUP(B78,[3]A!B$1:W$48,22,0),IFERROR(VLOOKUP(B78,[3]B!B$1:U$51,20,0),VLOOKUP(B78,[3]C!B$1:U$52,20,0)))","v":2},{"$f":"IFERROR(VLOOKUP(B78,[3]A!B$1:X$48,23,0),IFERROR(VLOOKUP(B78,[3]B!B$1:V$51,21,0),VLOOKUP(B78,[3]C!B$1:V$52,21,0)))","v":2},0,{"$f":"IFERROR(VLOOKUP(B78,[4]A!B$1:AA$48,26,0),IFERROR(VLOOKUP(B78,[4]B!B$1:AA$51,26,0),VLOOKUP(B78,[4]C!B$1:AA$52,26,0)))","v":12},{"$f":"IFERROR(VLOOKUP(B78,[4]A!B$1:AB$48,27,0),IFERROR(VLOOKUP(B78,[4]B!B$1:AB$51,27,0),VLOOKUP(B78,[4]C!B$1:AB$52,27,0)))","v":16},{"$f":"IFERROR(VLOOKUP(B78,[4]A!B$1:AD$48,29,0),IFERROR(VLOOKUP(B78,[4]B!B$1:AD$51,29,0),VLOOKUP(B78,[4]C!B$1:AD$52,29,0)))","v":2},{"$f":"IFERROR(VLOOKUP(B78,[4]A!B$1:AE$48,30,0),IFERROR(VLOOKUP(B78,[4]B!B$1:AE$51,30,0),VLOOKUP(B78,[4]C!B$1:AE$52,30,0)))","v":2},{"$f":"IFERROR(VLOOKUP(B78,[4]A!B$1:AF$48,31,0),IFERROR(VLOOKUP(B78,[4]B!B$1:AF$51,31,0),VLOOKUP(B78,[4]C!B$1:AF$52,31,0)))","v":3},{"$f":"IFERROR(VLOOKUP(B78,[4]A!B$1:AH$48,33,0),IFERROR(VLOOKUP(B78,[4]B!B$1:AH$51,33,0),VLOOKUP(B78,[4]C!B$1:AH$52,33,0)))","v":0},4,6,null,null,null,null,72,2,2,57,59,81.944444444444443,4,null,{"$f":"IFERROR(VLOOKUP(B78,[5]A!B$1:Y$48,24,0),IFERROR(VLOOKUP(B78,[5]B!B$1:U$51,20,0),VLOOKUP(B78,[5]C!B$1:U$52,20,0)))","v":9},9,22]
[78,"15BA098",{"$f":"VLOOKUP(B79,[1]B!B$1:AA$48,26,0)","v":9},{"$f":"VLOOKUP(B79,[1]B!B$1:AB$48,27,0)","v":9},{"$f":"VLOOKUP(B79,[1]B!B$1:AD$48,29,0)","v":0},{"$f":"VLOOKUP(B79,[1]B!B$1:AE$48,30,0)","v":0},{"$f":"VLOOKUP(B79,[1]B!B$1:AF$48,31,0)","v":0},{"$f":"VLOOKUP(B79,[1]B!B$1:AH$48,33,0)","v":0},{"$f":"IFERROR(VLOOKUP(B79,[2]A!B$1:AA$48,26,0),IFERROR(VLOOKUP(B79,[2]B!B$1:AA$51,26,0),VLOOKUP(B79,[2]C!B$1:AA$52,26,0)))","v":19},{"$f":"IFERROR(VLOOKUP(B79,[2]A!B$1:AB$48,27,0),IFERROR(VLOOKUP(B79,[2]B!B$1:AB$51,27,0),VLOOKUP(B79,[2]C!B$1:AB$52,27,0)))","v":20},{"$f":"IFERROR(VLOOKUP(B79,[2]A!B$1:AD$48,29,0),IFERROR(VLOOKUP(B79,[2]B!B$1:AD$51,29,0),VLOOKUP(B79,[2]C!B$1:AD$52,29,0)))","v":0},{"$f":"IFERROR(VLOOKUP(B79,[2]A!B$1:AE$48,30,0),IFERROR(VLOOKUP(B79,[2]B!B$1:AE$51,30,0),VLOOKUP(B79,[2]C!B$1:AE$52,30,0)))","v":1},{"$f":"IFERROR(VLOOKUP(B79,[2]A!B$1:AF$48,31,0),IFERROR(VLOOKUP(B79,[2]B!B$1:AF$51,31,0),VLOOKUP(B79,[2]C!B$1:AF$52,31,0)))","v":1},{"$f":"IFERROR(VLOOKUP(B79,[2]A!B$1:AH$48,33,0),IFERROR(VLOOKUP(B79,[2]B!B$1:AH$51,33,0),VLOOKUP(B79,[2]C!$B$1:$AH$52,33,0)))","v":0},{"$f":"IFERROR(VLOOKUP(B79,[3]A!B$1:S$48,18,0),IFERROR(VLOOKUP(B79,[3]B!B$1:Q$51,16,0),VLOOKUP(B79,[3]C!B$1:Q$52,16,0)))","v":14},{"$f":"IFERROR(VLOOKUP(B79,[3]A!B$1:T$48,19,0),IFERROR(VLOOKUP(B79,[3]B!B$1:R$51,17,0),VLOOKUP(B79,[3]C!B$1:R$52,17,0)))","v":16},{"$f":"IFERROR(VLOOKUP(B79,[3]A!B$1:V$48,21,0),IFERROR(VLOOKUP(B79,[3]B!B$1:T$51,19,0),VLOOKUP(B79,[3]C!B$1:T$52,19,0)))","v":0},{"$f":"IFERROR(VLOOKUP(B79,[3]A!B$1:W$48,22,0),IFERROR(VLOOKUP(B79,[3]B!B$1:U$51,20,0),VLOOKUP(B79,[3]C!B$1:U$52,20,0)))","v":0},{"$f":"IFERROR(VLOOKUP(B79,[3]A!B$1:X$48,23,0),IFERROR(VLOOKUP(B79,[3]B!B$1:V$51,21,0),VLOOKUP(B79,[3]C!B$1:V$52,21,0)))","v":0},0,{"$f":"IFERROR(VLOOKUP(B79,[4]A!B$1:AA$48,26,0),IFERROR(VLOOKUP(B79,[4]B!B$1:AA$51,26,0),VLOOKUP(B79,[4]C!B$1:AA$52,26,0)))","v":12},{"$f":"IFERROR(VLOOKUP(B79,[4]A!B$1:AB$48,27,0),IFERROR(VLOOKUP(B79,[4]B!B$1:AB$51,27,0),VLOOKUP(B79,[4]C!B$1:AB$52,27,0)))","v":16},{"$f":"IFERROR(VLOOKUP(B79,[4]A!B$1:AD$48,29,0),IFERROR(VLOOKUP(B79,[4]B!B$1:AD$51,29,0),VLOOKUP(B79,[4]C!B$1:AD$52,29,0)))","v":0},{"$f":"IFERROR(VLOOKUP(B79,[4]A!B$1:AE$48,30,0),IFERROR(VLOOKUP(B79,[4]B!B$1:AE$51,30,0),VLOOKUP(B79,[4]C!B$1:AE$52,30,0)))","v":0},{"$f":"IFERROR(VLOOKUP(B79,[4]A!B$1:AF$48,31,0),IFERROR(VLOOKUP(B79,[4]B!B$1:AF$51,31,0),VLOOKUP(B79,[4]C!B$1:AF$52,31,0)))","v":0},{"$f":"IFERROR(VLOOKUP(B79,[4]A!B$1:AH$48,33,0),IFERROR(VLOOKUP(B79,[4]B!B$1:AH$51,33,0),VLOOKUP(B79,[4]C!B$1:AH$52,33,0)))","v":0},3,6,null,null,null,null,68,0,0,58,58,85.294117647058826,5,null,{"$f":"IFERROR(VLOOKUP(B79,[5]A!B$1:Y$48,24,0),IFERROR(VLOOKUP(B79,[5]B!B$1:U$51,20,0),VLOOKUP(B79,[5]C!B$1:U$52,20,0)))","v":9},9,23]
[79,"15BA101",{"$f":"VLOOKUP(B80,[1]B!B$1:AA$48,26,0)","v":9},{"$f":"VLOOKUP(B80,[1]B!B$1:AB$48,27,0)","v":9},{"$f":"VLOOKUP(B80,[1]B!B$1:AD$48,29,0)","v":0},{"$f":"VLOOKUP(B80,[1]B!B$1:AE$48,30,0)","v":0},{"$f":"VLOOKUP(B80,[1]B!B$1:AF$48,31,0)","v":0},{"$f":"VLOOKUP(B80,[1]B!B$1:AH$48,33,0)","v":0},{"$f":"IFERROR(VLOOKUP(B80,[2]A!B$1:AA$48,26,0),IFERROR(VLOOKUP(B80,[2]B!B$1:AA$51,26,0),VLOOKUP(B80,[2]C!B$1:AA$52,26,0)))","v":15},{"$f":"IFERROR(VLOOKUP(B80,[2]A!B$1:AB$48,27,0),IFERROR(VLOOKUP(B80,[2]B!B$1:AB$51,27,0),VLOOKUP(B80,[2]C!B$1:AB$52,27,0)))","v":20},{"$f":"IFERROR(VLOOKUP(B80,[2]A!B$1:AD$48,29,0),IFERROR(VLOOKUP(B80,[2]B!B$1:AD$51,29,0),VLOOKUP(B80,[2]C!B$1:AD$52,29,0)))","v":0},{"$f":"IFERROR(VLOOKUP(B80,[2]A!B$1:AE$48,30,0),IFERROR(VLOOKUP(B80,[2]B!B$1:AE$51,30,0),VLOOKUP(B80,[2]C!B$1:AE$52,30,0)))","v":2},{"$f":"IFERROR(VLOOKUP(B80,[2]A!B$1:AF$48,31,0),IFERROR(VLOOKUP(B80,[2]B!B$1:AF$51,31,0),VLOOKUP(B80,[2]C!B$1:AF$52,31,0)))","v":2},{"$f":"IFERROR(VLOOKUP(B80,[2]A!B$1:AH$48,33,0),IFERROR(VLOOKUP(B80,[2]B!B$1:AH$51,33,0),VLOOKUP(B80,[2]C!$B$1:$AH$52,33,0)))","v":0},{"$f":"IFERROR(VLOOKUP(B80,[3]A!B$1:S$48,18,0),IFERROR(VLOOKUP(B80,[3]B!B$1:Q$51,16,0),VLOOKUP(B80,[3]C!B$1:Q$52,16,0)))","v":9},{"$f":"IFERROR(VLOOKUP(B80,[3]A!B$1:T$48,19,0),IFERROR(VLOOKUP(B80,[3]B!B$1:R$51,17,0),VLOOKUP(B80,[3]C!B$1:R$52,17,0)))","v":16},{"$f":"IFERROR(VLOOKUP(B80,[3]A!B$1:V$48,21,0),IFERROR(VLOOKUP(B80,[3]B!B$1:T$51,19,0),VLOOKUP(B80,[3]C!B$1:T$52,19,0)))","v":2},{"$f":"IFERROR(VLOOKUP(B80,[3]A!B$1:W$48,22,0),IFERROR(VLOOKUP(B80,[3]B!B$1:U$51,20,0),VLOOKUP(B80,[3]C!B$1:U$52,20,0)))","v":2},{"$f":"IFERROR(VLOOKUP(B80,[3]A!B$1:X$48,23,0),IFERROR(VLOOKUP(B80,[3]B!B$1:V$51,21,0),VLOOKUP(B80,[3]C!B$1:V$52,21,0)))","v":2},0,{"$f":"IFERROR(VLOOKUP(B80,[4]A!B$1:AA$48,26,0),IFERROR(VLOOKUP(B80,[4]B!B$1:AA$51,26,0),VLOOKUP(B80,[4]C!B$1:AA$52,26,0)))","v":12},{"$f":"IFERROR(VLOOKUP(B80,[4]A!B$1:AB$48,27,0),IFERROR(VLOOKUP(B80,[4]B!B$1:AB$51,27,0),VLOOKUP(B80,[4]C!B$1:AB$52,27,0)))","v":16},{"$f":"IFERROR(VLOOKUP(B80,[4]A!B$1:AD$48,29,0),IFERROR(VLOOKUP(B80,[4]B!B$1:AD$51,29,0),VLOOKUP(B80,[4]C!B$1:AD$52,29,0)))","v":4},{"$f":"IFERROR(VLOOKUP(B80,[4]A!B$1:AE$48,30,0),IFERROR(VLOOKUP(B80,[4]B!B$1:AE$51,30,0),VLOOKUP(B80,[4]C!B$1:AE$52,30,0)))","v":3},{"$f":"IFERROR(VLOOKUP(B80,[4]A!B$1:AF$48,31,0),IFERROR(VLOOKUP(B80,[4]B!B$1:AF$51,31,0),VLOOKUP(B80,[4]C!B$1:AF$52,31,0)))","v":3},{"$f":"IFERROR(VLOOKUP(B80,[4]A!B$1:AH$48,33,0),IFERROR(VLOOKUP(B80,[4]B!B$1:AH$51,33,0),VLOOKUP(B80,[4]C!B$1:AH$52,33,0)))","v":0},3,6,null,null,null,null,74,6,6,55,61,82.432432432432435,4,null,{"$f":"IFERROR(VLOOKUP(B80,[5]A!B$1:Y$48,24,0),IFERROR(VLOOKUP(B80,[5]B!B$1:U$51,20,0),VLOOKUP(B80,[5]C!B$1:U$52,20,0)))","v":8},9,21]
[80,"15BA107",{"$f":"VLOOKUP(B81,[1]B!B$1:AA$48,26,0)","v":9},{"$f":"VLOOKUP(B81,[1]B!B$1:AB$48,27,0)","v":9},{"$f":"VLOOKUP(B81,[1]B!B$1:AD$48,29,0)","v":0},{"$f":"VLOOKUP(B81,[1]B!B$1:AE$48,30,0)","v":0},{"$f":"VLOOKUP(B81,[1]B!B$1:AF$48,31,0)","v":0},{"$f":"VLOOKUP(B81,[1]B!B$1:AH$48,33,0)","v":0},{"$f":"IFERROR(VLOOKUP(B81,[2]A!B$1:AA$48,26,0),IFERROR(VLOOKUP(B81,[2]B!B$1:AA$51,26,0),VLOOKUP(B81,[2]C!B$1:AA$52,26,0)))","v":18},{"$f":"IFERROR(VLOOKUP(B81,[2]A!B$1:AB$48,27,0),IFERROR(VLOOKUP(B81,[2]B!B$1:AB$51,27,0),VLOOKUP(B81,[2]C!B$1:AB$52,27,0)))","v":20},{"$f":"IFERROR(VLOOKUP(B81,[2]A!B$1:AD$48,29,0),IFERROR(VLOOKUP(B81,[2]B!B$1:AD$51,29,0),VLOOKUP(B81,[2]C!B$1:AD$52,29,0)))","v":0},{"$f":"IFERROR(VLOOKUP(B81,[2]A!B$1:AE$48,30,0),IFERROR(VLOOKUP(B81,[2]B!B$1:AE$51,30,0),VLOOKUP(B81,[2]C!B$1:AE$52,30,0)))","v":1},{"$f":"IFERROR(VLOOKUP(B81,[2]A!B$1:AF$48,31,0),IFERROR(VLOOKUP(B81,[2]B!B$1:AF$51,31,0),VLOOKUP(B81,[2]C!B$1:AF$52,31,0)))","v":1},{"$f":"IFERROR(VLOOKUP(B81,[2]A!B$1:AH$48,33,0),IFERROR(VLOOKUP(B81,[2]B!B$1:AH$51,33,0),VLOOKUP(B81,[2]C!$B$1:$AH$52,33,0)))","v":0},{"$f":"IFERROR(VLOOKUP(B81,[3]A!B$1:S$48,18,0),IFERROR(VLOOKUP(B81,[3]B!B$1:Q$51,16,0),VLOOKUP(B81,[3]C!B$1:Q$52,16,0)))","v":14},{"$f":"IFERROR(VLOOKUP(B81,[3]A!B$1:T$48,19,0),IFERROR(VLOOKUP(B81,[3]B!B$1:R$51,17,0),VLOOKUP(B81,[3]C!B$1:R$52,17,0)))","v":16},{"$f":"IFERROR(VLOOKUP(B81,[3]A!B$1:V$48,21,0),IFERROR(VLOOKUP(B81,[3]B!B$1:T$51,19,0),VLOOKUP(B81,[3]C!B$1:T$52,19,0)))","v":0},{"$f":"IFERROR(VLOOKUP(B81,[3]A!B$1:W$48,22,0),IFERROR(VLOOKUP(B81,[3]B!B$1:U$51,20,0),VLOOKUP(B81,[3]C!B$1:U$52,20,0)))","v":1},{"$f":"IFERROR(VLOOKUP(B81,[3]A!B$1:X$48,23,0),IFERROR(VLOOKUP(B81,[3]B!B$1:V$51,21,0),VLOOKUP(B81,[3]C!B$1:V$52,21,0)))","v":1},0,{"$f":"IFERROR(VLOOKUP(B81,[4]A!B$1:AA$48,26,0),IFERROR(VLOOKUP(B81,[4]B!B$1:AA$51,26,0),VLOOKUP(B81,[4]C!B$1:AA$52,26,0)))","v":12},{"$f":"IFERROR(VLOOKUP(B81,[4]A!B$1:AB$48,27,0),IFERROR(VLOOKUP(B81,[4]B!B$1:AB$51,27,0),VLOOKUP(B81,[4]C!B$1:AB$52,27,0)))","v":16},{"$f":"IFERROR(VLOOKUP(B81,[4]A!B$1:AD$48,29,0),IFERROR(VLOOKUP(B81,[4]B!B$1:AD$51,29,0),VLOOKUP(B81,[4]C!B$1:AD$52,29,0)))","v":4},{"$f":"IFERROR(VLOOKUP(B81,[4]A!B$1:AE$48,30,0),IFERROR(VLOOKUP(B81,[4]B!B$1:AE$51,30,0),VLOOKUP(B81,[4]C!B$1:AE$52,30,0)))","v":2},{"$f":"IFERROR(VLOOKUP(B81,[4]A!B$1:AF$48,31,0),IFERROR(VLOOKUP(B81,[4]B!B$1:AF$51,31,0),VLOOKUP(B81,[4]C!B$1:AF$52,31,0)))","v":2},{"$f":"IFERROR(VLOOKUP(B81,[4]A!B$1:AH$48,33,0),IFERROR(VLOOKUP(B81,[4]B!B$1:AH$51,33,0),VLOOKUP(B81,[4]C!B$1:AH$52,33,0)))","v":0},4,6,null,null,null,null,71,4,4,61,65,91.549295774647888,5,null,{"$f":"IFERROR(VLOOKUP(B81,[5]A!B$1:Y$48,24,0),IFERROR(VLOOKUP(B81,[5]B!B$1:U$51,20,0),VLOOKUP(B81,[5]C!B$1:U$52,20,0)))","v":9},9,23]
[81,"15BA108",{"$f":"VLOOKUP(B82,[1]B!B$1:AA$48,26,0)","v":8},{"$f":"VLOOKUP(B82,[1]B!B$1:AB$48,27,0)","v":9},{"$f":"VLOOKUP(B82,[1]B!B$1:AD$48,29,0)","v":0},{"$f":"VLOOKUP(B82,[1]B!B$1:AE$48,30,0)","v":0},{"$f":"VLOOKUP(B82,[1]B!B$1:AF$48,31,0)","v":0},{"$f":"VLOOKUP(B82,[1]B!B$1:AH$48,33,0)","v":0},{"$f":"IFERROR(VLOOKUP(B82,[2]A!B$1:AA$48,26,0),IFERROR(VLOOKUP(B82,[2]B!B$1:AA$51,26,0),VLOOKUP(B82,[2]C!B$1:AA$52,26,0)))","v":17},{"$f":"IFERROR(VLOOKUP(B82,[2]A!B$1:AB$48,27,0),IFERROR(VLOOKUP(B82,[2]B!B$1:AB$51,27,0),VLOOKUP(B82,[2]C!B$1:AB$52,27,0)))","v":20},{"$f":"IFERROR(VLOOKUP(B82,[2]A!B$1:AD$48,29,0),IFERROR(VLOOKUP(B82,[2]B!B$1:AD$51,29,0),VLOOKUP(B82,[2]C!B$1:AD$52,29,0)))","v":0},{"$f":"IFERROR(VLOOKUP(B82,[2]A!B$1:AE$48,30,0),IFERROR(VLOOKUP(B82,[2]B!B$1:AE$51,30,0),VLOOKUP(B82,[2]C!B$1:AE$52,30,0)))","v":1},{"$f":"IFERROR(VLOOKUP(B82,[2]A!B$1:AF$48,31,0),IFERROR(VLOOKUP(B82,[2]B!B$1:AF$51,31,0),VLOOKUP(B82,[2]C!B$1:AF$52,31,0)))","v":1},{"$f":"IFERROR(VLOOKUP(B82,[2]A!B$1:AH$48,33,0),IFERROR(VLOOKUP(B82,[2]B!B$1:AH$51,33,0),VLOOKUP(B82,[2]C!$B$1:$AH$52,33,0)))","v":0},{"$f":"IFERROR(VLOOKUP(B82,[3]A!B$1:S$48,18,0),IFERROR(VLOOKUP(B82,[3]B!B$1:Q$51,16,0),VLOOKUP(B82,[3]C!B$1:Q$52,16,0)))","v":12},{"$f":"IFERROR(VLOOKUP(B82,[3]A!B$1:T$48,19,0),IFERROR(VLOOKUP(B82,[3]B!B$1:R$51,17,0),VLOOKUP(B82,[3]C!B$1:R$52,17,0)))","v":16},{"$f":"IFERROR(VLOOKUP(B82,[3]A!B$1:V$48,21,0),IFERROR(VLOOKUP(B82,[3]B!B$1:T$51,19,0),VLOOKUP(B82,[3]C!B$1:T$52,19,0)))","v":0},{"$f":"IFERROR(VLOOKUP(B82,[3]A!B$1:W$48,22,0),IFERROR(VLOOKUP(B82,[3]B!B$1:U$51,20,0),VLOOKUP(B82,[3]C!B$1:U$52,20,0)))","v":1},{"$f":"IFERROR(VLOOKUP(B82,[3]A!B$1:X$48,23,0),IFERROR(VLOOKUP(B82,[3]B!B$1:V$51,21,0),VLOOKUP(B82,[3]C!B$1:V$52,21,0)))","v":1},0,{"$f":"IFERROR(VLOOKUP(B82,[4]A!B$1:AA$48,26,0),IFERROR(VLOOKUP(B82,[4]B!B$1:AA$51,26,0),VLOOKUP(B82,[4]C!B$1:AA$52,26,0)))","v":14},{"$f":"IFERROR(VLOOKUP(B82,[4]A!B$1:AB$48,27,0),IFERROR(VLOOKUP(B82,[4]B!B$1:AB$51,27,0),VLOOKUP(B82,[4]C!B$1:AB$52,27,0)))","v":16},{"$f":"IFERROR(VLOOKUP(B82,[4]A!B$1:AD$48,29,0),IFERROR(VLOOKUP(B82,[4]B!B$1:AD$51,29,0),VLOOKUP(B82,[4]C!B$1:AD$52,29,0)))","v":0},{"$f":"IFERROR(VLOOKUP(B82,[4]A!B$1:AE$48,30,0),IFERROR(VLOOKUP(B82,[4]B!B$1:AE$51,30,0),VLOOKUP(B82,[4]C!B$1:AE$52,30,0)))","v":2},{"$f":"IFERROR(VLOOKUP(B82,[4]A!B$1:AF$48,31,0),IFERROR(VLOOKUP(B82,[4]B!B$1:AF$51,31,0),VLOOKUP(B82,[4]C!B$1:AF$52,31,0)))","v":2},{"$f":"IFERROR(VLOOKUP(B82,[4]A!B$1:AH$48,33,0),IFERROR(VLOOKUP(B82,[4]B!B$1:AH$51,33,0),VLOOKUP(B82,[4]C!B$1:AH$52,33,0)))","v":0},3,6,null,null,null,null,71,0,0,58,58,81.690140845070431,4,null,{"$f":"IFERROR(VLOOKUP(B82,[5]A!B$1:Y$48,24,0),IFERROR(VLOOKUP(B82,[5]B!B$1:U$51,20,0),VLOOKUP(B82,[5]C!B$1:U$52,20,0)))","v":9},9,22]
[82,"15BA111",{"$f":"VLOOKUP(B83,[1]B!B$1:AA$48,26,0)","v":9},{"$f":"VLOOKUP(B83,[1]B!B$1:AB$48,27,0)","v":9},{"$f":"VLOOKUP(B83,[1]B!B$1:AD$48,29,0)","v":0},{"$f":"VLOOKUP(B83,[1]B!B$1:AE$48,30,0)","v":0},{"$f":"VLOOKUP(B83,[1]B!B$1:AF$48,31,0)","v":0},{"$f":"VLOOKUP(B83,[1]B!B$1:AH$48,33,0)","v":0},{"$f":"IFERROR(VLOOKUP(B83,[2]A!B$1:AA$48,26,0),IFERROR(VLOOKUP(B83,[2]B!B$1:AA$51,26,0),VLOOKUP(B83,[2]C!B$1:AA$52,26,0)))","v":16},{"$f":"IFERROR(VLOOKUP(B83,[2]A!B$1:AB$48,27,0),IFERROR(VLOOKUP(B83,[2]B!B$1:AB$51,27,0),VLOOKUP(B83,[2]C!B$1:AB$52,27,0)))","v":20},{"$f":"IFERROR(VLOOKUP(B83,[2]A!B$1:AD$48,29,0),IFERROR(VLOOKUP(B83,[2]B!B$1:AD$51,29,0),VLOOKUP(B83,[2]C!B$1:AD$52,29,0)))","v":0},{"$f":"IFERROR(VLOOKUP(B83,[2]A!B$1:AE$48,30,0),IFERROR(VLOOKUP(B83,[2]B!B$1:AE$51,30,0),VLOOKUP(B83,[2]C!B$1:AE$52,30,0)))","v":2},{"$f":"IFERROR(VLOOKUP(B83,[2]A!B$1:AF$48,31,0),IFERROR(VLOOKUP(B83,[2]B!B$1:AF$51,31,0),VLOOKUP(B83,[2]C!B$1:AF$52,31,0)))","v":2},{"$f":"IFERROR(VLOOKUP(B83,[2]A!B$1:AH$48,33,0),IFERROR(VLOOKUP(B83,[2]B!B$1:AH$51,33,0),VLOOKUP(B83,[2]C!$B$1:$AH$52,33,0)))","v":0},{"$f":"IFERROR(VLOOKUP(B83,[3]A!B$1:S$48,18,0),IFERROR(VLOOKUP(B83,[3]B!B$1:Q$51,16,0),VLOOKUP(B83,[3]C!B$1:Q$52,16,0)))","v":13},{"$f":"IFERROR(VLOOKUP(B83,[3]A!B$1:T$48,19,0),IFERROR(VLOOKUP(B83,[3]B!B$1:R$51,17,0),VLOOKUP(B83,[3]C!B$1:R$52,17,0)))","v":16},{"$f":"IFERROR(VLOOKUP(B83,[3]A!B$1:V$48,21,0),IFERROR(VLOOKUP(B83,[3]B!B$1:T$51,19,0),VLOOKUP(B83,[3]C!B$1:T$52,19,0)))","v":0},{"$f":"IFERROR(VLOOKUP(B83,[3]A!B$1:W$48,22,0),IFERROR(VLOOKUP(B83,[3]B!B$1:U$51,20,0),VLOOKUP(B83,[3]C!B$1:U$52,20,0)))","v":1},{"$f":"IFERROR(VLOOKUP(B83,[3]A!B$1:X$48,23,0),IFERROR(VLOOKUP(B83,[3]B!B$1:V$51,21,0),VLOOKUP(B83,[3]C!B$1:V$52,21,0)))","v":2},0,{"$f":"IFERROR(VLOOKUP(B83,[4]A!B$1:AA$48,26,0),IFERROR(VLOOKUP(B83,[4]B!B$1:AA$51,26,0),VLOOKUP(B83,[4]C!B$1:AA$52,26,0)))","v":10},{"$f":"IFERROR(VLOOKUP(B83,[4]A!B$1:AB$48,27,0),IFERROR(VLOOKUP(B83,[4]B!B$1:AB$51,27,0),VLOOKUP(B83,[4]C!B$1:AB$52,27,0)))","v":16},{"$f":"IFERROR(VLOOKUP(B83,[4]A!B$1:AD$48,29,0),IFERROR(VLOOKUP(B83,[4]B!B$1:AD$51,29,0),VLOOKUP(B83,[4]C!B$1:AD$52,29,0)))","v":2},{"$f":"IFERROR(VLOOKUP(B83,[4]A!B$1:AE$48,30,0),IFERROR(VLOOKUP(B83,[4]B!B$1:AE$51,30,0),VLOOKUP(B83,[4]C!B$1:AE$52,30,0)))","v":2},{"$f":"IFERROR(VLOOKUP(B83,[4]A!B$1:AF$48,31,0),IFERROR(VLOOKUP(B83,[4]B!B$1:AF$51,31,0),VLOOKUP(B83,[4]C!B$1:AF$52,31,0)))","v":3},{"$f":"IFERROR(VLOOKUP(B83,[4]A!B$1:AH$48,33,0),IFERROR(VLOOKUP(B83,[4]B!B$1:AH$51,33,0),VLOOKUP(B83,[4]C!B$1:AH$52,33,0)))","v":0},3,6,null,null,null,null,74,2,2,56,58,78.378378378378372,3,null,{"$f":"IFERROR(VLOOKUP(B83,[5]A!B$1:Y$48,24,0),IFERROR(VLOOKUP(B83,[5]B!B$1:U$51,20,0),VLOOKUP(B83,[5]C!B$1:U$52,20,0)))","v":8},9,20]
[83,"15BA113",{"$f":"VLOOKUP(B84,[1]B!B$1:AA$48,26,0)","v":6},{"$f":"VLOOKUP(B84,[1]B!B$1:AB$48,27,0)","v":9},{"$f":"VLOOKUP(B84,[1]B!B$1:AD$48,29,0)","v":0},{"$f":"VLOOKUP(B84,[1]B!B$1:AE$48,30,0)","v":0},{"$f":"VLOOKUP(B84,[1]B!B$1:AF$48,31,0)","v":0},{"$f":"VLOOKUP(B84,[1]B!B$1:AH$48,33,0)","v":0},{"$f":"IFERROR(VLOOKUP(B84,[2]A!B$1:AA$48,26,0),IFERROR(VLOOKUP(B84,[2]B!B$1:AA$51,26,0),VLOOKUP(B84,[2]C!B$1:AA$52,26,0)))","v":16},{"$f":"IFERROR(VLOOKUP(B84,[2]A!B$1:AB$48,27,0),IFERROR(VLOOKUP(B84,[2]B!B$1:AB$51,27,0),VLOOKUP(B84,[2]C!B$1:AB$52,27,0)))","v":20},{"$f":"IFERROR(VLOOKUP(B84,[2]A!B$1:AD$48,29,0),IFERROR(VLOOKUP(B84,[2]B!B$1:AD$51,29,0),VLOOKUP(B84,[2]C!B$1:AD$52,29,0)))","v":0},{"$f":"IFERROR(VLOOKUP(B84,[2]A!B$1:AE$48,30,0),IFERROR(VLOOKUP(B84,[2]B!B$1:AE$51,30,0),VLOOKUP(B84,[2]C!B$1:AE$52,30,0)))","v":2},{"$f":"IFERROR(VLOOKUP(B84,[2]A!B$1:AF$48,31,0),IFERROR(VLOOKUP(B84,[2]B!B$1:AF$51,31,0),VLOOKUP(B84,[2]C!B$1:AF$52,31,0)))","v":2},{"$f":"IFERROR(VLOOKUP(B84,[2]A!B$1:AH$48,33,0),IFERROR(VLOOKUP(B84,[2]B!B$1:AH$51,33,0),VLOOKUP(B84,[2]C!$B$1:$AH$52,33,0)))","v":0},{"$f":"IFERROR(VLOOKUP(B84,[3]A!B$1:S$48,18,0),IFERROR(VLOOKUP(B84,[3]B!B$1:Q$51,16,0),VLOOKUP(B84,[3]C!B$1:Q$52,16,0)))","v":14},{"$f":"IFERROR(VLOOKUP(B84,[3]A!B$1:T$48,19,0),IFERROR(VLOOKUP(B84,[3]B!B$1:R$51,17,0),VLOOKUP(B84,[3]C!B$1:R$52,17,0)))","v":16},{"$f":"IFERROR(VLOOKUP(B84,[3]A!B$1:V$48,21,0),IFERROR(VLOOKUP(B84,[3]B!B$1:T$51,19,0),VLOOKUP(B84,[3]C!B$1:T$52,19,0)))","v":0},{"$f":"IFERROR(VLOOKUP(B84,[3]A!B$1:W$48,22,0),IFERROR(VLOOKUP(B84,[3]B!B$1:U$51,20,0),VLOOKUP(B84,[3]C!B$1:U$52,20,0)))","v":2},{"$f":"IFERROR(VLOOKUP(B84,[3]A!B$1:X$48,23,0),IFERROR(VLOOKUP(B84,[3]B!B$1:V$51,21,0),VLOOKUP(B84,[3]C!B$1:V$52,21,0)))","v":2},0,{"$f":"IFERROR(VLOOKUP(B84,[4]A!B$1:AA$48,26,0),IFERROR(VLOOKUP(B84,[4]B!B$1:AA$51,26,0),VLOOKUP(B84,[4]C!B$1:AA$52,26,0)))","v":12},{"$f":"IFERROR(VLOOKUP(B84,[4]A!B$1:AB$48,27,0),IFERROR(VLOOKUP(B84,[4]B!B$1:AB$51,27,0),VLOOKUP(B84,[4]C!B$1:AB$52,27,0)))","v":16},{"$f":"IFERROR(VLOOKUP(B84,[4]A!B$1:AD$48,29,0),IFERROR(VLOOKUP(B84,[4]B!B$1:AD$51,29,0),VLOOKUP(B84,[4]C!B$1:AD$52,29,0)))","v":2},{"$f":"IFERROR(VLOOKUP(B84,[4]A!B$1:AE$48,30,0),IFERROR(VLOOKUP(B84,[4]B!B$1:AE$51,30,0),VLOOKUP(B84,[4]C!B$1:AE$52,30,0)))","v":3},{"$f":"IFERROR(VLOOKUP(B84,[4]A!B$1:AF$48,31,0),IFERROR(VLOOKUP(B84,[4]B!B$1:AF$51,31,0),VLOOKUP(B84,[4]C!B$1:AF$52,31,0)))","v":3},{"$f":"IFERROR(VLOOKUP(B84,[4]A!B$1:AH$48,33,0),IFERROR(VLOOKUP(B84,[4]B!B$1:AH$51,33,0),VLOOKUP(B84,[4]C!B$1:AH$52,33,0)))","v":0},3,6,null,null,null,null,74,2,2,58,60,81.081081081081081,4,null,{"$f":"IFERROR(VLOOKUP(B84,[5]A!B$1:Y$48,24,0),IFERROR(VLOOKUP(B84,[5]B!B$1:U$51,20,0),VLOOKUP(B84,[5]C!B$1:U$52,20,0)))","v":9},9,22]
[84,"15BA117",{"$f":"VLOOKUP(B85,[1]B!B$1:AA$48,26,0)","v":5},{"$f":"VLOOKUP(B85,[1]B!B$1:AB$48,27,0)","v":9},{"$f":"VLOOKUP(B85,[1]B!B$1:AD$48,29,0)","v":0},{"$f":"VLOOKUP(B85,[1]B!B$1:AE$48,30,0)","v":0},{"$f":"VLOOKUP(B85,[1]B!B$1:AF$48,31,0)","v":0},{"$f":"VLOOKUP(B85,[1]B!B$1:AH$48,33,0)","v":0},{"$f":"IFERROR(VLOOKUP(B85,[2]A!B$1:AA$48,26,0),IFERROR(VLOOKUP(B85,[2]B!B$1:AA$51,26,0),VLOOKUP(B85,[2]C!B$1:AA$52,26,0)))","v":12},{"$f":"IFERROR(VLOOKUP(B85,[2]A!B$1:AB$48,27,0),IFERROR(VLOOKUP(B85,[2]B!B$1:AB$51,27,0),VLOOKUP(B85,[2]C!B$1:AB$52,27,0)))","v":20},{"$f":"IFERROR(VLOOKUP(B85,[2]A!B$1:AD$48,29,0),IFERROR(VLOOKUP(B85,[2]B!B$1:AD$51,29,0),VLOOKUP(B85,[2]C!B$1:AD$52,29,0)))","v":0},{"$f":"IFERROR(VLOOKUP(B85,[2]A!B$1:AE$48,30,0),IFERROR(VLOOKUP(B85,[2]B!B$1:AE$51,30,0),VLOOKUP(B85,[2]C!B$1:AE$52,30,0)))","v":1},{"$f":"IFERROR(VLOOKUP(B85,[2]A!B$1:AF$48,31,0),IFERROR(VLOOKUP(B85,[2]B!B$1:AF$51,31,0),VLOOKUP(B85,[2]C!B$1:AF$52,31,0)))","v":2},{"$f":"IFERROR(VLOOKUP(B85,[2]A!B$1:AH$48,33,0),IFERROR(VLOOKUP(B85,[2]B!B$1:AH$51,33,0),VLOOKUP(B85,[2]C!$B$1:$AH$52,33,0)))","v":1},{"$f":"IFERROR(VLOOKUP(B85,[3]A!B$1:S$48,18,0),IFERROR(VLOOKUP(B85,[3]B!B$1:Q$51,16,0),VLOOKUP(B85,[3]C!B$1:Q$52,16,0)))","v":9},{"$f":"IFERROR(VLOOKUP(B85,[3]A!B$1:T$48,19,0),IFERROR(VLOOKUP(B85,[3]B!B$1:R$51,17,0),VLOOKUP(B85,[3]C!B$1:R$52,17,0)))","v":16},{"$f":"IFERROR(VLOOKUP(B85,[3]A!B$1:V$48,21,0),IFERROR(VLOOKUP(B85,[3]B!B$1:T$51,19,0),VLOOKUP(B85,[3]C!B$1:T$52,19,0)))","v":4},{"$f":"IFERROR(VLOOKUP(B85,[3]A!B$1:W$48,22,0),IFERROR(VLOOKUP(B85,[3]B!B$1:U$51,20,0),VLOOKUP(B85,[3]C!B$1:U$52,20,0)))","v":2},{"$f":"IFERROR(VLOOKUP(B85,[3]A!B$1:X$48,23,0),IFERROR(VLOOKUP(B85,[3]B!B$1:V$51,21,0),VLOOKUP(B85,[3]C!B$1:V$52,21,0)))","v":2},0,{"$f":"IFERROR(VLOOKUP(B85,[4]A!B$1:AA$48,26,0),IFERROR(VLOOKUP(B85,[4]B!B$1:AA$51,26,0),VLOOKUP(B85,[4]C!B$1:AA$52,26,0)))","v":13},{"$f":"IFERROR(VLOOKUP(B85,[4]A!B$1:AB$48,27,0),IFERROR(VLOOKUP(B85,[4]B!B$1:AB$51,27,0),VLOOKUP(B85,[4]C!B$1:AB$52,27,0)))","v":16},{"$f":"IFERROR(VLOOKUP(B85,[4]A!B$1:AD$48,29,0),IFERROR(VLOOKUP(B85,[4]B!B$1:AD$51,29,0),VLOOKUP(B85,[4]C!B$1:AD$52,29,0)))","v":3},{"$f":"IFERROR(VLOOKUP(B85,[4]A!B$1:AE$48,30,0),IFERROR(VLOOKUP(B85,[4]B!B$1:AE$51,30,0),VLOOKUP(B85,[4]C!B$1:AE$52,30,0)))","v":2},{"$f":"IFERROR(VLOOKUP(B85,[4]A!B$1:AF$48,31,0),IFERROR(VLOOKUP(B85,[4]B!B$1:AF$51,31,0),VLOOKUP(B85,[4]C!B$1:AF$52,31,0)))","v":3},{"$f":"IFERROR(VLOOKUP(B85,[4]A!B$1:AH$48,33,0),IFERROR(VLOOKUP(B85,[4]B!B$1:AH$51,33,0),VLOOKUP(B85,[4]C!B$1:AH$52,33,0)))","v":0},2,6,null,null,null,null,74,8,8,46,54,72.972972972972968,2,null,{"$f":"IFERROR(VLOOKUP(B85,[5]A!B$1:Y$48,24,0),IFERROR(VLOOKUP(B85,[5]B!B$1:U$51,20,0),VLOOKUP(B85,[5]C!B$1:U$52,20,0)))","v":8},8,18]
[85,"15BA120",{"$f":"VLOOKUP(B86,[1]B!B$1:AA$48,26,0)","v":5},{"$f":"VLOOKUP(B86,[1]B!B$1:AB$48,27,0)","v":9},{"$f":"VLOOKUP(B86,[1]B!B$1:AD$48,29,0)","v":0},{"$f":"VLOOKUP(B86,[1]B!B$1:AE$48,30,0)","v":0},{"$f":"VLOOKUP(B86,[1]B!B$1:AF$48,31,0)","v":0},{"$f":"VLOOKUP(B86,[1]B!B$1:AH$48,33,0)","v":0},{"$f":"IFERROR(VLOOKUP(B86,[2]A!B$1:AA$48,26,0),IFERROR(VLOOKUP(B86,[2]B!B$1:AA$51,26,0),VLOOKUP(B86,[2]C!B$1:AA$52,26,0)))","v":7},{"$f":"IFERROR(VLOOKUP(B86,[2]A!B$1:AB$48,27,0),IFERROR(VLOOKUP(B86,[2]B!B$1:AB$51,27,0),VLOOKUP(B86,[2]C!B$1:AB$52,27,0)))","v":20},{"$f":"IFERROR(VLOOKUP(B86,[2]A!B$1:AD$48,29,0),IFERROR(VLOOKUP(B86,[2]B!B$1:AD$51,29,0),VLOOKUP(B86,[2]C!B$1:AD$52,29,0)))","v":0},{"$f":"IFERROR(VLOOKUP(B86,[2]A!B$1:AE$48,30,0),IFERROR(VLOOKUP(B86,[2]B!B$1:AE$51,30,0),VLOOKUP(B86,[2]C!B$1:AE$52,30,0)))","v":1},{"$f":"IFERROR(VLOOKUP(B86,[2]A!B$1:AF$48,31,0),IFERROR(VLOOKUP(B86,[2]B!B$1:AF$51,31,0),VLOOKUP(B86,[2]C!B$1:AF$52,31,0)))","v":1},{"$f":"IFERROR(VLOOKUP(B86,[2]A!B$1:AH$48,33,0),IFERROR(VLOOKUP(B86,[2]B!B$1:AH$51,33,0),VLOOKUP(B86,[2]C!$B$1:$AH$52,33,0)))","v":0},{"$f":"IFERROR(VLOOKUP(B86,[3]A!B$1:S$48,18,0),IFERROR(VLOOKUP(B86,[3]B!B$1:Q$51,16,0),VLOOKUP(B86,[3]C!B$1:Q$52,16,0)))","v":4},{"$f":"IFERROR(VLOOKUP(B86,[3]A!B$1:T$48,19,0),IFERROR(VLOOKUP(B86,[3]B!B$1:R$51,17,0),VLOOKUP(B86,[3]C!B$1:R$52,17,0)))","v":16},{"$f":"IFERROR(VLOOKUP(B86,[3]A!B$1:V$48,21,0),IFERROR(VLOOKUP(B86,[3]B!B$1:T$51,19,0),VLOOKUP(B86,[3]C!B$1:T$52,19,0)))","v":0},{"$f":"IFERROR(VLOOKUP(B86,[3]A!B$1:W$48,22,0),IFERROR(VLOOKUP(B86,[3]B!B$1:U$51,20,0),VLOOKUP(B86,[3]C!B$1:U$52,20,0)))","v":1},{"$f":"IFERROR(VLOOKUP(B86,[3]A!B$1:X$48,23,0),IFERROR(VLOOKUP(B86,[3]B!B$1:V$51,21,0),VLOOKUP(B86,[3]C!B$1:V$52,21,0)))","v":1},0,{"$f":"IFERROR(VLOOKUP(B86,[4]A!B$1:AA$48,26,0),IFERROR(VLOOKUP(B86,[4]B!B$1:AA$51,26,0),VLOOKUP(B86,[4]C!B$1:AA$52,26,0)))","v":12},{"$f":"IFERROR(VLOOKUP(B86,[4]A!B$1:AB$48,27,0),IFERROR(VLOOKUP(B86,[4]B!B$1:AB$51,27,0),VLOOKUP(B86,[4]C!B$1:AB$52,27,0)))","v":16},{"$f":"IFERROR(VLOOKUP(B86,[4]A!B$1:AD$48,29,0),IFERROR(VLOOKUP(B86,[4]B!B$1:AD$51,29,0),VLOOKUP(B86,[4]C!B$1:AD$52,29,0)))","v":3},{"$f":"IFERROR(VLOOKUP(B86,[4]A!B$1:AE$48,30,0),IFERROR(VLOOKUP(B86,[4]B!B$1:AE$51,30,0),VLOOKUP(B86,[4]C!B$1:AE$52,30,0)))","v":1},{"$f":"IFERROR(VLOOKUP(B86,[4]A!B$1:AF$48,31,0),IFERROR(VLOOKUP(B86,[4]B!B$1:AF$51,31,0),VLOOKUP(B86,[4]C!B$1:AF$52,31,0)))","v":2},{"$f":"IFERROR(VLOOKUP(B86,[4]A!B$1:AH$48,33,0),IFERROR(VLOOKUP(B86,[4]B!B$1:AH$51,33,0),VLOOKUP(B86,[4]C!B$1:AH$52,33,0)))","v":1},3,6,null,null,null,null,71,4,4,34,38,53.521126760563376,0,null,{"$f":"IFERROR(VLOOKUP(B86,[5]A!B$1:Y$48,24,0),IFERROR(VLOOKUP(B86,[5]B!B$1:U$51,20,0),VLOOKUP(B86,[5]C!B$1:U$52,20,0)))","v":8},8,16]
[86,"15BA124",{"$f":"VLOOKUP(B87,[1]B!B$1:AA$48,26,0)","v":9},{"$f":"VLOOKUP(B87,[1]B!B$1:AB$48,27,0)","v":9},{"$f":"VLOOKUP(B87,[1]B!B$1:AD$48,29,0)","v":0},{"$f":"VLOOKUP(B87,[1]B!B$1:AE$48,30,0)","v":0},{"$f":"VLOOKUP(B87,[1]B!B$1:AF$48,31,0)","v":0},{"$f":"VLOOKUP(B87,[1]B!B$1:AH$48,33,0)","v":0},{"$f":"IFERROR(VLOOKUP(B87,[2]A!B$1:AA$48,26,0),IFERROR(VLOOKUP(B87,[2]B!B$1:AA$51,26,0),VLOOKUP(B87,[2]C!B$1:AA$52,26,0)))","v":15},{"$f":"IFERROR(VLOOKUP(B87,[2]A!B$1:AB$48,27,0),IFERROR(VLOOKUP(B87,[2]B!B$1:AB$51,27,0),VLOOKUP(B87,[2]C!B$1:AB$52,27,0)))","v":20},{"$f":"IFERROR(VLOOKUP(B87,[2]A!B$1:AD$48,29,0),IFERROR(VLOOKUP(B87,[2]B!B$1:AD$51,29,0),VLOOKUP(B87,[2]C!B$1:AD$52,29,0)))","v":0},{"$f":"IFERROR(VLOOKUP(B87,[2]A!B$1:AE$48,30,0),IFERROR(VLOOKUP(B87,[2]B!B$1:AE$51,30,0),VLOOKUP(B87,[2]C!B$1:AE$52,30,0)))","v":1},{"$f":"IFERROR(VLOOKUP(B87,[2]A!B$1:AF$48,31,0),IFERROR(VLOOKUP(B87,[2]B!B$1:AF$51,31,0),VLOOKUP(B87,[2]C!B$1:AF$52,31,0)))","v":1},{"$f":"IFERROR(VLOOKUP(B87,[2]A!B$1:AH$48,33,0),IFERROR(VLOOKUP(B87,[2]B!B$1:AH$51,33,0),VLOOKUP(B87,[2]C!$B$1:$AH$52,33,0)))","v":0},{"$f":"IFERROR(VLOOKUP(B87,[3]A!B$1:S$48,18,0),IFERROR(VLOOKUP(B87,[3]B!B$1:Q$51,16,0),VLOOKUP(B87,[3]C!B$1:Q$52,16,0)))","v":13},{"$f":"IFERROR(VLOOKUP(B87,[3]A!B$1:T$48,19,0),IFERROR(VLOOKUP(B87,[3]B!B$1:R$51,17,0),VLOOKUP(B87,[3]C!B$1:R$52,17,0)))","v":16},{"$f":"IFERROR(VLOOKUP(B87,[3]A!B$1:V$48,21,0),IFERROR(VLOOKUP(B87,[3]B!B$1:T$51,19,0),VLOOKUP(B87,[3]C!B$1:T$52,19,0)))","v":0},{"$f":"IFERROR(VLOOKUP(B87,[3]A!B$1:W$48,22,0),IFERROR(VLOOKUP(B87,[3]B!B$1:U$51,20,0),VLOOKUP(B87,[3]C!B$1:U$52,20,0)))","v":0},{"$f":"IFERROR(VLOOKUP(B87,[3]A!B$1:X$48,23,0),IFERROR(VLOOKUP(B87,[3]B!B$1:V$51,21,0),VLOOKUP(B87,[3]C!B$1:V$52,21,0)))","v":0},0,{"$f":"IFERROR(VLOOKUP(B87,[4]A!B$1:AA$48,26,0),IFERROR(VLOOKUP(B87,[4]B!B$1:AA$51,26,0),VLOOKUP(B87,[4]C!B$1:AA$52,26,0)))","v":16},{"$f":"IFERROR(VLOOKUP(B87,[4]A!B$1:AB$48,27,0),IFERROR(VLOOKUP(B87,[4]B!B$1:AB$51,27,0),VLOOKUP(B87,[4]C!B$1:AB$52,27,0)))","v":16},{"$f":"IFERROR(VLOOKUP(B87,[4]A!B$1:AD$48,29,0),IFERROR(VLOOKUP(B87,[4]B!B$1:AD$51,29,0),VLOOKUP(B87,[4]C!B$1:AD$52,29,0)))","v":0},{"$f":"IFERROR(VLOOKUP(B87,[4]A!B$1:AE$48,30,0),IFERROR(VLOOKUP(B87,[4]B!B$1:AE$51,30,0),VLOOKUP(B87,[4]C!B$1:AE$52,30,0)))","v":0},{"$f":"IFERROR(VLOOKUP(B87,[4]A!B$1:AF$48,31,0),IFERROR(VLOOKUP(B87,[4]B!B$1:AF$51,31,0),VLOOKUP(B87,[4]C!B$1:AF$52,31,0)))","v":0},{"$f":"IFERROR(VLOOKUP(B87,[4]A!B$1:AH$48,33,0),IFERROR(VLOOKUP(B87,[4]B!B$1:AH$51,33,0),VLOOKUP(B87,[4]C!B$1:AH$52,33,0)))","v":0},5,6,null,null,null,null,68,0,0,59,59,86.764705882352942,5,null,{"$f":"IFERROR(VLOOKUP(B87,[5]A!B$1:Y$48,24,0),IFERROR(VLOOKUP(B87,[5]B!B$1:U$51,20,0),VLOOKUP(B87,[5]C!B$1:U$52,20,0)))","v":9},9,23]
[87,"15BA127",{"$f":"VLOOKUP(B88,[1]B!B$1:AA$48,26,0)","v":6},{"$f":"VLOOKUP(B88,[1]B!B$1:AB$48,27,0)","v":9},{"$f":"VLOOKUP(B88,[1]B!B$1:AD$48,29,0)","v":0},{"$f":"VLOOKUP(B88,[1]B!B$1:AE$48,30,0)","v":0},{"$f":"VLOOKUP(B88,[1]B!B$1:AF$48,31,0)","v":0},{"$f":"VLOOKUP(B88,[1]B!B$1:AH$48,33,0)","v":0},{"$f":"IFERROR(VLOOKUP(B88,[2]A!B$1:AA$48,26,0),IFERROR(VLOOKUP(B88,[2]B!B$1:AA$51,26,0),VLOOKUP(B88,[2]C!B$1:AA$52,26,0)))","v":14},{"$f":"IFERROR(VLOOKUP(B88,[2]A!B$1:AB$48,27,0),IFERROR(VLOOKUP(B88,[2]B!B$1:AB$51,27,0),VLOOKUP(B88,[2]C!B$1:AB$52,27,0)))","v":20},{"$f":"IFERROR(VLOOKUP(B88,[2]A!B$1:AD$48,29,0),IFERROR(VLOOKUP(B88,[2]B!B$1:AD$51,29,0),VLOOKUP(B88,[2]C!B$1:AD$52,29,0)))","v":0},{"$f":"IFERROR(VLOOKUP(B88,[2]A!B$1:AE$48,30,0),IFERROR(VLOOKUP(B88,[2]B!B$1:AE$51,30,0),VLOOKUP(B88,[2]C!B$1:AE$52,30,0)))","v":1},{"$f":"IFERROR(VLOOKUP(B88,[2]A!B$1:AF$48,31,0),IFERROR(VLOOKUP(B88,[2]B!B$1:AF$51,31,0),VLOOKUP(B88,[2]C!B$1:AF$52,31,0)))","v":2},{"$f":"IFERROR(VLOOKUP(B88,[2]A!B$1:AH$48,33,0),IFERROR(VLOOKUP(B88,[2]B!B$1:AH$51,33,0),VLOOKUP(B88,[2]C!$B$1:$AH$52,33,0)))","v":0},{"$f":"IFERROR(VLOOKUP(B88,[3]A!B$1:S$48,18,0),IFERROR(VLOOKUP(B88,[3]B!B$1:Q$51,16,0),VLOOKUP(B88,[3]C!B$1:Q$52,16,0)))","v":9},{"$f":"IFERROR(VLOOKUP(B88,[3]A!B$1:T$48,19,0),IFERROR(VLOOKUP(B88,[3]B!B$1:R$51,17,0),VLOOKUP(B88,[3]C!B$1:R$52,17,0)))","v":16},{"$f":"IFERROR(VLOOKUP(B88,[3]A!B$1:V$48,21,0),IFERROR(VLOOKUP(B88,[3]B!B$1:T$51,19,0),VLOOKUP(B88,[3]C!B$1:T$52,19,0)))","v":0},{"$f":"IFERROR(VLOOKUP(B88,[3]A!B$1:W$48,22,0),IFERROR(VLOOKUP(B88,[3]B!B$1:U$51,20,0),VLOOKUP(B88,[3]C!B$1:U$52,20,0)))","v":1},{"$f":"IFERROR(VLOOKUP(B88,[3]A!B$1:X$48,23,0),IFERROR(VLOOKUP(B88,[3]B!B$1:V$51,21,0),VLOOKUP(B88,[3]C!B$1:V$52,21,0)))","v":2},0,{"$f":"IFERROR(VLOOKUP(B88,[4]A!B$1:AA$48,26,0),IFERROR(VLOOKUP(B88,[4]B!B$1:AA$51,26,0),VLOOKUP(B88,[4]C!B$1:AA$52,26,0)))","v":16},{"$f":"IFERROR(VLOOKUP(B88,[4]A!B$1:AB$48,27,0),IFERROR(VLOOKUP(B88,[4]B!B$1:AB$51,27,0),VLOOKUP(B88,[4]C!B$1:AB$52,27,0)))","v":16},{"$f":"IFERROR(VLOOKUP(B88,[4]A!B$1:AD$48,29,0),IFERROR(VLOOKUP(B88,[4]B!B$1:AD$51,29,0),VLOOKUP(B88,[4]C!B$1:AD$52,29,0)))","v":0},{"$f":"IFERROR(VLOOKUP(B88,[4]A!B$1:AE$48,30,0),IFERROR(VLOOKUP(B88,[4]B!B$1:AE$51,30,0),VLOOKUP(B88,[4]C!B$1:AE$52,30,0)))","v":3},{"$f":"IFERROR(VLOOKUP(B88,[4]A!B$1:AF$48,31,0),IFERROR(VLOOKUP(B88,[4]B!B$1:AF$51,31,0),VLOOKUP(B88,[4]C!B$1:AF$52,31,0)))","v":3},{"$f":"IFERROR(VLOOKUP(B88,[4]A!B$1:AH$48,33,0),IFERROR(VLOOKUP(B88,[4]B!B$1:AH$51,33,0),VLOOKUP(B88,[4]C!B$1:AH$52,33,0)))","v":0},3,6,null,null,null,null,74,0,0,53,53,71.621621621621628,2,null,{"$f":"IFERROR(VLOOKUP(B88,[5]A!B$1:Y$48,24,0),IFERROR(VLOOKUP(B88,[5]B!B$1:U$51,20,0),VLOOKUP(B88,[5]C!B$1:U$52,20,0)))","v":8},9,19]
[88,"15BA129",{"$f":"VLOOKUP(B89,[1]B!B$1:AA$48,26,0)","v":9},{"$f":"VLOOKUP(B89,[1]B!B$1:AB$48,27,0)","v":9},{"$f":"VLOOKUP(B89,[1]B!B$1:AD$48,29,0)","v":0},{"$f":"VLOOKUP(B89,[1]B!B$1:AE$48,30,0)","v":0},{"$f":"VLOOKUP(B89,[1]B!B$1:AF$48,31,0)","v":0},{"$f":"VLOOKUP(B89,[1]B!B$1:AH$48,33,0)","v":0},{"$f":"IFERROR(VLOOKUP(B89,[2]A!B$1:AA$48,26,0),IFERROR(VLOOKUP(B89,[2]B!B$1:AA$51,26,0),VLOOKUP(B89,[2]C!B$1:AA$52,26,0)))","v":14},{"$f":"IFERROR(VLOOKUP(B89,[2]A!B$1:AB$48,27,0),IFERROR(VLOOKUP(B89,[2]B!B$1:AB$51,27,0),VLOOKUP(B89,[2]C!B$1:AB$52,27,0)))","v":20},{"$f":"IFERROR(VLOOKUP(B89,[2]A!B$1:AD$48,29,0),IFERROR(VLOOKUP(B89,[2]B!B$1:AD$51,29,0),VLOOKUP(B89,[2]C!B$1:AD$52,29,0)))","v":0},{"$f":"IFERROR(VLOOKUP(B89,[2]A!B$1:AE$48,30,0),IFERROR(VLOOKUP(B89,[2]B!B$1:AE$51,30,0),VLOOKUP(B89,[2]C!B$1:AE$52,30,0)))","v":1},{"$f":"IFERROR(VLOOKUP(B89,[2]A!B$1:AF$48,31,0),IFERROR(VLOOKUP(B89,[2]B!B$1:AF$51,31,0),VLOOKUP(B89,[2]C!B$1:AF$52,31,0)))","v":2},{"$f":"IFERROR(VLOOKUP(B89,[2]A!B$1:AH$48,33,0),IFERROR(VLOOKUP(B89,[2]B!B$1:AH$51,33,0),VLOOKUP(B89,[2]C!$B$1:$AH$52,33,0)))","v":0},{"$f":"IFERROR(VLOOKUP(B89,[3]A!B$1:S$48,18,0),IFERROR(VLOOKUP(B89,[3]B!B$1:Q$51,16,0),VLOOKUP(B89,[3]C!B$1:Q$52,16,0)))","v":6},{"$f":"IFERROR(VLOOKUP(B89,[3]A!B$1:T$48,19,0),IFERROR(VLOOKUP(B89,[3]B!B$1:R$51,17,0),VLOOKUP(B89,[3]C!B$1:R$52,17,0)))","v":16},{"$f":"IFERROR(VLOOKUP(B89,[3]A!B$1:V$48,21,0),IFERROR(VLOOKUP(B89,[3]B!B$1:T$51,19,0),VLOOKUP(B89,[3]C!B$1:T$52,19,0)))","v":0},{"$f":"IFERROR(VLOOKUP(B89,[3]A!B$1:W$48,22,0),IFERROR(VLOOKUP(B89,[3]B!B$1:U$51,20,0),VLOOKUP(B89,[3]C!B$1:U$52,20,0)))","v":0},{"$f":"IFERROR(VLOOKUP(B89,[3]A!B$1:X$48,23,0),IFERROR(VLOOKUP(B89,[3]B!B$1:V$51,21,0),VLOOKUP(B89,[3]C!B$1:V$52,21,0)))","v":2},0,{"$f":"IFERROR(VLOOKUP(B89,[4]A!B$1:AA$48,26,0),IFERROR(VLOOKUP(B89,[4]B!B$1:AA$51,26,0),VLOOKUP(B89,[4]C!B$1:AA$52,26,0)))","v":12},{"$f":"IFERROR(VLOOKUP(B89,[4]A!B$1:AB$48,27,0),IFERROR(VLOOKUP(B89,[4]B!B$1:AB$51,27,0),VLOOKUP(B89,[4]C!B$1:AB$52,27,0)))","v":16},{"$f":"IFERROR(VLOOKUP(B89,[4]A!B$1:AD$48,29,0),IFERROR(VLOOKUP(B89,[4]B!B$1:AD$51,29,0),VLOOKUP(B89,[4]C!B$1:AD$52,29,0)))","v":0},{"$f":"IFERROR(VLOOKUP(B89,[4]A!B$1:AE$48,30,0),IFERROR(VLOOKUP(B89,[4]B!B$1:AE$51,30,0),VLOOKUP(B89,[4]C!B$1:AE$52,30,0)))","v":3},{"$f":"IFERROR(VLOOKUP(B89,[4]A!B$1:AF$48,31,0),IFERROR(VLOOKUP(B89,[4]B!B$1:AF$51,31,0),VLOOKUP(B89,[4]C!B$1:AF$52,31,0)))","v":3},{"$f":"IFERROR(VLOOKUP(B89,[4]A!B$1:AH$48,33,0),IFERROR(VLOOKUP(B89,[4]B!B$1:AH$51,33,0),VLOOKUP(B89,[4]C!B$1:AH$52,33,0)))","v":0},1,6,null,null,null,null,74,0,0,46,46,62.162162162162161,0,null,{"$f":"IFERROR(VLOOKUP(B89,[5]A!B$1:Y$48,24,0),IFERROR(VLOOKUP(B89,[5]B!B$1:U$51,20,0),VLOOKUP(B89,[5]C!B$1:U$52,20,0)))","v":9},8,17]
[89,"15BA130",{"$f":"VLOOKUP(B90,[1]B!B$1:AA$48,26,0)","v":9},{"$f":"VLOOKUP(B90,[1]B!B$1:AB$48,27,0)","v":9},{"$f":"VLOOKUP(B90,[1]B!B$1:AD$48,29,0)","v":0},{"$f":"VLOOKUP(B90,[1]B!B$1:AE$48,30,0)","v":0},{"$f":"VLOOKUP(B90,[1]B!B$1:AF$48,31,0)","v":0},{"$f":"VLOOKUP(B90,[1]B!B$1:AH$48,33,0)","v":0},{"$f":"IFERROR(VLOOKUP(B90,[2]A!B$1:AA$48,26,0),IFERROR(VLOOKUP(B90,[2]B!B$1:AA$51,26,0),VLOOKUP(B90,[2]C!B$1:AA$52,26,0)))","v":16},{"$f":"IFERROR(VLOOKUP(B90,[2]A!B$1:AB$48,27,0),IFERROR(VLOOKUP(B90,[2]B!B$1:AB$51,27,0),VLOOKUP(B90,[2]C!B$1:AB$52,27,0)))","v":20},{"$f":"IFERROR(VLOOKUP(B90,[2]A!B$1:AD$48,29,0),IFERROR(VLOOKUP(B90,[2]B!B$1:AD$51,29,0),VLOOKUP(B90,[2]C!B$1:AD$52,29,0)))","v":0},{"$f":"IFERROR(VLOOKUP(B90,[2]A!B$1:AE$48,30,0),IFERROR(VLOOKUP(B90,[2]B!B$1:AE$51,30,0),VLOOKUP(B90,[2]C!B$1:AE$52,30,0)))","v":1},{"$f":"IFERROR(VLOOKUP(B90,[2]A!B$1:AF$48,31,0),IFERROR(VLOOKUP(B90,[2]B!B$1:AF$51,31,0),VLOOKUP(B90,[2]C!B$1:AF$52,31,0)))","v":2},{"$f":"IFERROR(VLOOKUP(B90,[2]A!B$1:AH$48,33,0),IFERROR(VLOOKUP(B90,[2]B!B$1:AH$51,33,0),VLOOKUP(B90,[2]C!$B$1:$AH$52,33,0)))","v":0},{"$f":"IFERROR(VLOOKUP(B90,[3]A!B$1:S$48,18,0),IFERROR(VLOOKUP(B90,[3]B!B$1:Q$51,16,0),VLOOKUP(B90,[3]C!B$1:Q$52,16,0)))","v":8},{"$f":"IFERROR(VLOOKUP(B90,[3]A!B$1:T$48,19,0),IFERROR(VLOOKUP(B90,[3]B!B$1:R$51,17,0),VLOOKUP(B90,[3]C!B$1:R$52,17,0)))","v":16},{"$f":"IFERROR(VLOOKUP(B90,[3]A!B$1:V$48,21,0),IFERROR(VLOOKUP(B90,[3]B!B$1:T$51,19,0),VLOOKUP(B90,[3]C!B$1:T$52,19,0)))","v":0},{"$f":"IFERROR(VLOOKUP(B90,[3]A!B$1:W$48,22,0),IFERROR(VLOOKUP(B90,[3]B!B$1:U$51,20,0),VLOOKUP(B90,[3]C!B$1:U$52,20,0)))","v":0},{"$f":"IFERROR(VLOOKUP(B90,[3]A!B$1:X$48,23,0),IFERROR(VLOOKUP(B90,[3]B!B$1:V$51,21,0),VLOOKUP(B90,[3]C!B$1:V$52,21,0)))","v":2},0,{"$f":"IFERROR(VLOOKUP(B90,[4]A!B$1:AA$48,26,0),IFERROR(VLOOKUP(B90,[4]B!B$1:AA$51,26,0),VLOOKUP(B90,[4]C!B$1:AA$52,26,0)))","v":12},{"$f":"IFERROR(VLOOKUP(B90,[4]A!B$1:AB$48,27,0),IFERROR(VLOOKUP(B90,[4]B!B$1:AB$51,27,0),VLOOKUP(B90,[4]C!B$1:AB$52,27,0)))","v":16},{"$f":"IFERROR(VLOOKUP(B90,[4]A!B$1:AD$48,29,0),IFERROR(VLOOKUP(B90,[4]B!B$1:AD$51,29,0),VLOOKUP(B90,[4]C!B$1:AD$52,29,0)))","v":0},{"$f":"IFERROR(VLOOKUP(B90,[4]A!B$1:AE$48,30,0),IFERROR(VLOOKUP(B90,[4]B!B$1:AE$51,30,0),VLOOKUP(B90,[4]C!B$1:AE$52,30,0)))","v":2},{"$f":"IFERROR(VLOOKUP(B90,[4]A!B$1:AF$48,31,0),IFERROR(VLOOKUP(B90,[4]B!B$1:AF$51,31,0),VLOOKUP(B90,[4]C!B$1:AF$52,31,0)))","v":3},{"$f":"IFERROR(VLOOKUP(B90,[4]A!B$1:AH$48,33,0),IFERROR(VLOOKUP(B90,[4]B!B$1:AH$51,33,0),VLOOKUP(B90,[4]C!B$1:AH$52,33,0)))","v":0},2,6,null,null,null,null,74,0,0,50,50,67.567567567567565,1,null,{"$f":"IFERROR(VLOOKUP(B90,[5]A!B$1:Y$48,24,0),IFERROR(VLOOKUP(B90,[5]B!B$1:U$51,20,0),VLOOKUP(B90,[5]C!B$1:U$52,20,0)))","v":8},8,17]
[90,"15BA134",{"$f":"VLOOKUP(B91,[1]B!B$1:AA$48,26,0)","v":9},{"$f":"VLOOKUP(B91,[1]B!B$1:AB$48,27,0)","v":9},{"$f":"VLOOKUP(B91,[1]B!B$1:AD$48,29,0)","v":0},{"$f":"VLOOKUP(B91,[1]B!B$1:AE$48,30,0)","v":0},{"$f":"VLOOKUP(B91,[1]B!B$1:AF$48,31,0)","v":0},{"$f":"VLOOKUP(B91,[1]B!B$1:AH$48,33,0)","v":0},{"$f":"IFERROR(VLOOKUP(B91,[2]A!B$1:AA$48,26,0),IFERROR(VLOOKUP(B91,[2]B!B$1:AA$51,26,0),VLOOKUP(B91,[2]C!B$1:AA$52,26,0)))","v":18},{"$f":"IFERROR(VLOOKUP(B91,[2]A!B$1:AB$48,27,0),IFERROR(VLOOKUP(B91,[2]B!B$1:AB$51,27,0),VLOOKUP(B91,[2]C!B$1:AB$52,27,0)))","v":20},{"$f":"IFERROR(VLOOKUP(B91,[2]A!B$1:AD$48,29,0),IFERROR(VLOOKUP(B91,[2]B!B$1:AD$51,29,0),VLOOKUP(B91,[2]C!B$1:AD$52,29,0)))","v":0},{"$f":"IFERROR(VLOOKUP(B91,[2]A!B$1:AE$48,30,0),IFERROR(VLOOKUP(B91,[2]B!B$1:AE$51,30,0),VLOOKUP(B91,[2]C!B$1:AE$52,30,0)))","v":1},{"$f":"IFERROR(VLOOKUP(B91,[2]A!B$1:AF$48,31,0),IFERROR(VLOOKUP(B91,[2]B!B$1:AF$51,31,0),VLOOKUP(B91,[2]C!B$1:AF$52,31,0)))","v":1},{"$f":"IFERROR(VLOOKUP(B91,[2]A!B$1:AH$48,33,0),IFERROR(VLOOKUP(B91,[2]B!B$1:AH$51,33,0),VLOOKUP(B91,[2]C!$B$1:$AH$52,33,0)))","v":0},{"$f":"IFERROR(VLOOKUP(B91,[3]A!B$1:S$48,18,0),IFERROR(VLOOKUP(B91,[3]B!B$1:Q$51,16,0),VLOOKUP(B91,[3]C!B$1:Q$52,16,0)))","v":12},{"$f":"IFERROR(VLOOKUP(B91,[3]A!B$1:T$48,19,0),IFERROR(VLOOKUP(B91,[3]B!B$1:R$51,17,0),VLOOKUP(B91,[3]C!B$1:R$52,17,0)))","v":16},{"$f":"IFERROR(VLOOKUP(B91,[3]A!B$1:V$48,21,0),IFERROR(VLOOKUP(B91,[3]B!B$1:T$51,19,0),VLOOKUP(B91,[3]C!B$1:T$52,19,0)))","v":0},{"$f":"IFERROR(VLOOKUP(B91,[3]A!B$1:W$48,22,0),IFERROR(VLOOKUP(B91,[3]B!B$1:U$51,20,0),VLOOKUP(B91,[3]C!B$1:U$52,20,0)))","v":1},{"$f":"IFERROR(VLOOKUP(B91,[3]A!B$1:X$48,23,0),IFERROR(VLOOKUP(B91,[3]B!B$1:V$51,21,0),VLOOKUP(B91,[3]C!B$1:V$52,21,0)))","v":1},0,{"$f":"IFERROR(VLOOKUP(B91,[4]A!B$1:AA$48,26,0),IFERROR(VLOOKUP(B91,[4]B!B$1:AA$51,26,0),VLOOKUP(B91,[4]C!B$1:AA$52,26,0)))","v":14},{"$f":"IFERROR(VLOOKUP(B91,[4]A!B$1:AB$48,27,0),IFERROR(VLOOKUP(B91,[4]B!B$1:AB$51,27,0),VLOOKUP(B91,[4]C!B$1:AB$52,27,0)))","v":16},{"$f":"IFERROR(VLOOKUP(B91,[4]A!B$1:AD$48,29,0),IFERROR(VLOOKUP(B91,[4]B!B$1:AD$51,29,0),VLOOKUP(B91,[4]C!B$1:AD$52,29,0)))","v":0},{"$f":"IFERROR(VLOOKUP(B91,[4]A!B$1:AE$48,30,0),IFERROR(VLOOKUP(B91,[4]B!B$1:AE$51,30,0),VLOOKUP(B91,[4]C!B$1:AE$52,30,0)))","v":2},{"$f":"IFERROR(VLOOKUP(B91,[4]A!B$1:AF$48,31,0),IFERROR(VLOOKUP(B91,[4]B!B$1:AF$51,31,0),VLOOKUP(B91,[4]C!B$1:AF$52,31,0)))","v":2},{"$f":"IFERROR(VLOOKUP(B91,[4]A!B$1:AH$48,33,0),IFERROR(VLOOKUP(B91,[4]B!B$1:AH$51,33,0),VLOOKUP(B91,[4]C!B$1:AH$52,33,0)))","v":0},4,6,null,null,null,null,71,0,0,61,61,85.91549295774648,5,null,{"$f":"IFERROR(VLOOKUP(B91,[5]A!B$1:Y$48,24,0),IFERROR(VLOOKUP(B91,[5]B!B$1:U$51,20,0),VLOOKUP(B91,[5]C!B$1:U$52,20,0)))","v":9},8,22]
[91,"15BA135",{"$f":"VLOOKUP(B92,[1]B!B$1:AA$48,26,0)","v":9},{"$f":"VLOOKUP(B92,[1]B!B$1:AB$48,27,0)","v":9},{"$f":"VLOOKUP(B92,[1]B!B$1:AD$48,29,0)","v":0},{"$f":"VLOOKUP(B92,[1]B!B$1:AE$48,30,0)","v":0},{"$f":"VLOOKUP(B92,[1]B!B$1:AF$48,31,0)","v":0},{"$f":"VLOOKUP(B92,[1]B!B$1:AH$48,33,0)","v":0},{"$f":"IFERROR(VLOOKUP(B92,[2]A!B$1:AA$48,26,0),IFERROR(VLOOKUP(B92,[2]B!B$1:AA$51,26,0),VLOOKUP(B92,[2]C!B$1:AA$52,26,0)))","v":16},{"$f":"IFERROR(VLOOKUP(B92,[2]A!B$1:AB$48,27,0),IFERROR(VLOOKUP(B92,[2]B!B$1:AB$51,27,0),VLOOKUP(B92,[2]C!B$1:AB$52,27,0)))","v":20},{"$f":"IFERROR(VLOOKUP(B92,[2]A!B$1:AD$48,29,0),IFERROR(VLOOKUP(B92,[2]B!B$1:AD$51,29,0),VLOOKUP(B92,[2]C!B$1:AD$52,29,0)))","v":0},{"$f":"IFERROR(VLOOKUP(B92,[2]A!B$1:AE$48,30,0),IFERROR(VLOOKUP(B92,[2]B!B$1:AE$51,30,0),VLOOKUP(B92,[2]C!B$1:AE$52,30,0)))","v":1},{"$f":"IFERROR(VLOOKUP(B92,[2]A!B$1:AF$48,31,0),IFERROR(VLOOKUP(B92,[2]B!B$1:AF$51,31,0),VLOOKUP(B92,[2]C!B$1:AF$52,31,0)))","v":1},{"$f":"IFERROR(VLOOKUP(B92,[2]A!B$1:AH$48,33,0),IFERROR(VLOOKUP(B92,[2]B!B$1:AH$51,33,0),VLOOKUP(B92,[2]C!$B$1:$AH$52,33,0)))","v":0},{"$f":"IFERROR(VLOOKUP(B92,[3]A!B$1:S$48,18,0),IFERROR(VLOOKUP(B92,[3]B!B$1:Q$51,16,0),VLOOKUP(B92,[3]C!B$1:Q$52,16,0)))","v":7},{"$f":"IFERROR(VLOOKUP(B92,[3]A!B$1:T$48,19,0),IFERROR(VLOOKUP(B92,[3]B!B$1:R$51,17,0),VLOOKUP(B92,[3]C!B$1:R$52,17,0)))","v":16},{"$f":"IFERROR(VLOOKUP(B92,[3]A!B$1:V$48,21,0),IFERROR(VLOOKUP(B92,[3]B!B$1:T$51,19,0),VLOOKUP(B92,[3]C!B$1:T$52,19,0)))","v":0},{"$f":"IFERROR(VLOOKUP(B92,[3]A!B$1:W$48,22,0),IFERROR(VLOOKUP(B92,[3]B!B$1:U$51,20,0),VLOOKUP(B92,[3]C!B$1:U$52,20,0)))","v":1},{"$f":"IFERROR(VLOOKUP(B92,[3]A!B$1:X$48,23,0),IFERROR(VLOOKUP(B92,[3]B!B$1:V$51,21,0),VLOOKUP(B92,[3]C!B$1:V$52,21,0)))","v":1},0,{"$f":"IFERROR(VLOOKUP(B92,[4]A!B$1:AA$48,26,0),IFERROR(VLOOKUP(B92,[4]B!B$1:AA$51,26,0),VLOOKUP(B92,[4]C!B$1:AA$52,26,0)))","v":14},{"$f":"IFERROR(VLOOKUP(B92,[4]A!B$1:AB$48,27,0),IFERROR(VLOOKUP(B92,[4]B!B$1:AB$51,27,0),VLOOKUP(B92,[4]C!B$1:AB$52,27,0)))","v":16},{"$f":"IFERROR(VLOOKUP(B92,[4]A!B$1:AD$48,29,0),IFERROR(VLOOKUP(B92,[4]B!B$1:AD$51,29,0),VLOOKUP(B92,[4]C!B$1:AD$52,29,0)))","v":2},{"$f":"IFERROR(VLOOKUP(B92,[4]A!B$1:AE$48,30,0),IFERROR(VLOOKUP(B92,[4]B!B$1:AE$51,30,0),VLOOKUP(B92,[4]C!B$1:AE$52,30,0)))","v":2},{"$f":"IFERROR(VLOOKUP(B92,[4]A!B$1:AF$48,31,0),IFERROR(VLOOKUP(B92,[4]B!B$1:AF$51,31,0),VLOOKUP(B92,[4]C!B$1:AF$52,31,0)))","v":2},{"$f":"IFERROR(VLOOKUP(B92,[4]A!B$1:AH$48,33,0),IFERROR(VLOOKUP(B92,[4]B!B$1:AH$51,33,0),VLOOKUP(B92,[4]C!B$1:AH$52,33,0)))","v":0},3,6,null,null,null,null,71,2,2,53,55,77.464788732394368,3,null,{"$f":"IFERROR(VLOOKUP(B92,[5]A!B$1:Y$48,24,0),IFERROR(VLOOKUP(B92,[5]B!B$1:U$51,20,0),VLOOKUP(B92,[5]C!B$1:U$52,20,0)))","v":8},8,19]
[92,"15BA140",{"$f":"VLOOKUP(B93,[1]B!B$1:AA$48,26,0)","v":9},{"$f":"VLOOKUP(B93,[1]B!B$1:AB$48,27,0)","v":9},{"$f":"VLOOKUP(B93,[1]B!B$1:AD$48,29,0)","v":0},{"$f":"VLOOKUP(B93,[1]B!B$1:AE$48,30,0)","v":0},{"$f":"VLOOKUP(B93,[1]B!B$1:AF$48,31,0)","v":0},{"$f":"VLOOKUP(B93,[1]B!B$1:AH$48,33,0)","v":0},{"$f":"IFERROR(VLOOKUP(B93,[2]A!B$1:AA$48,26,0),IFERROR(VLOOKUP(B93,[2]B!B$1:AA$51,26,0),VLOOKUP(B93,[2]C!B$1:AA$52,26,0)))","v":15},{"$f":"IFERROR(VLOOKUP(B93,[2]A!B$1:AB$48,27,0),IFERROR(VLOOKUP(B93,[2]B!B$1:AB$51,27,0),VLOOKUP(B93,[2]C!B$1:AB$52,27,0)))","v":20},{"$f":"IFERROR(VLOOKUP(B93,[2]A!B$1:AD$48,29,0),IFERROR(VLOOKUP(B93,[2]B!B$1:AD$51,29,0),VLOOKUP(B93,[2]C!B$1:AD$52,29,0)))","v":0},{"$f":"IFERROR(VLOOKUP(B93,[2]A!B$1:AE$48,30,0),IFERROR(VLOOKUP(B93,[2]B!B$1:AE$51,30,0),VLOOKUP(B93,[2]C!B$1:AE$52,30,0)))","v":2},{"$f":"IFERROR(VLOOKUP(B93,[2]A!B$1:AF$48,31,0),IFERROR(VLOOKUP(B93,[2]B!B$1:AF$51,31,0),VLOOKUP(B93,[2]C!B$1:AF$52,31,0)))","v":2},{"$f":"IFERROR(VLOOKUP(B93,[2]A!B$1:AH$48,33,0),IFERROR(VLOOKUP(B93,[2]B!B$1:AH$51,33,0),VLOOKUP(B93,[2]C!$B$1:$AH$52,33,0)))","v":0},{"$f":"IFERROR(VLOOKUP(B93,[3]A!B$1:S$48,18,0),IFERROR(VLOOKUP(B93,[3]B!B$1:Q$51,16,0),VLOOKUP(B93,[3]C!B$1:Q$52,16,0)))","v":11},{"$f":"IFERROR(VLOOKUP(B93,[3]A!B$1:T$48,19,0),IFERROR(VLOOKUP(B93,[3]B!B$1:R$51,17,0),VLOOKUP(B93,[3]C!B$1:R$52,17,0)))","v":16},{"$f":"IFERROR(VLOOKUP(B93,[3]A!B$1:V$48,21,0),IFERROR(VLOOKUP(B93,[3]B!B$1:T$51,19,0),VLOOKUP(B93,[3]C!B$1:T$52,19,0)))","v":0},{"$f":"IFERROR(VLOOKUP(B93,[3]A!B$1:W$48,22,0),IFERROR(VLOOKUP(B93,[3]B!B$1:U$51,20,0),VLOOKUP(B93,[3]C!B$1:U$52,20,0)))","v":0},{"$f":"IFERROR(VLOOKUP(B93,[3]A!B$1:X$48,23,0),IFERROR(VLOOKUP(B93,[3]B!B$1:V$51,21,0),VLOOKUP(B93,[3]C!B$1:V$52,21,0)))","v":2},0,{"$f":"IFERROR(VLOOKUP(B93,[4]A!B$1:AA$48,26,0),IFERROR(VLOOKUP(B93,[4]B!B$1:AA$51,26,0),VLOOKUP(B93,[4]C!B$1:AA$52,26,0)))","v":13},{"$f":"IFERROR(VLOOKUP(B93,[4]A!B$1:AB$48,27,0),IFERROR(VLOOKUP(B93,[4]B!B$1:AB$51,27,0),VLOOKUP(B93,[4]C!B$1:AB$52,27,0)))","v":16},{"$f":"IFERROR(VLOOKUP(B93,[4]A!B$1:AD$48,29,0),IFERROR(VLOOKUP(B93,[4]B!B$1:AD$51,29,0),VLOOKUP(B93,[4]C!B$1:AD$52,29,0)))","v":0},{"$f":"IFERROR(VLOOKUP(B93,[4]A!B$1:AE$48,30,0),IFERROR(VLOOKUP(B93,[4]B!B$1:AE$51,30,0),VLOOKUP(B93,[4]C!B$1:AE$52,30,0)))","v":2},{"$f":"IFERROR(VLOOKUP(B93,[4]A!B$1:AF$48,31,0),IFERROR(VLOOKUP(B93,[4]B!B$1:AF$51,31,0),VLOOKUP(B93,[4]C!B$1:AF$52,31,0)))","v":3},{"$f":"IFERROR(VLOOKUP(B93,[4]A!B$1:AH$48,33,0),IFERROR(VLOOKUP(B93,[4]B!B$1:AH$51,33,0),VLOOKUP(B93,[4]C!B$1:AH$52,33,0)))","v":0},2,6,null,null,null,null,74,0,0,54,54,72.972972972972968,2,null,{"$f":"IFERROR(VLOOKUP(B93,[5]A!B$1:Y$48,24,0),IFERROR(VLOOKUP(B93,[5]B!B$1:U$51,20,0),VLOOKUP(B93,[5]C!B$1:U$52,20,0)))","v":8},8,18]
[93,"15BA141",{"$f":"VLOOKUP(B94,[1]B!B$1:AA$48,26,0)","v":9},{"$f":"VLOOKUP(B94,[1]B!B$1:AB$48,27,0)","v":9},{"$f":"VLOOKUP(B94,[1]B!B$1:AD$48,29,0)","v":0},{"$f":"VLOOKUP(B94,[1]B!B$1:AE$48,30,0)","v":0},{"$f":"VLOOKUP(B94,[1]B!B$1:AF$48,31,0)","v":0},{"$f":"VLOOKUP(B94,[1]B!B$1:AH$48,33,0)","v":0},{"$f":"IFERROR(VLOOKUP(B94,[2]A!B$1:AA$48,26,0),IFERROR(VLOOKUP(B94,[2]B!B$1:AA$51,26,0),VLOOKUP(B94,[2]C!B$1:AA$52,26,0)))","v":18},{"$f":"IFERROR(VLOOKUP(B94,[2]A!B$1:AB$48,27,0),IFERROR(VLOOKUP(B94,[2]B!B$1:AB$51,27,0),VLOOKUP(B94,[2]C!B$1:AB$52,27,0)))","v":20},{"$f":"IFERROR(VLOOKUP(B94,[2]A!B$1:AD$48,29,0),IFERROR(VLOOKUP(B94,[2]B!B$1:AD$51,29,0),VLOOKUP(B94,[2]C!B$1:AD$52,29,0)))","v":0},{"$f":"IFERROR(VLOOKUP(B94,[2]A!B$1:AE$48,30,0),IFERROR(VLOOKUP(B94,[2]B!B$1:AE$51,30,0),VLOOKUP(B94,[2]C!B$1:AE$52,30,0)))","v":1},{"$f":"IFERROR(VLOOKUP(B94,[2]A!B$1:AF$48,31,0),IFERROR(VLOOKUP(B94,[2]B!B$1:AF$51,31,0),VLOOKUP(B94,[2]C!B$1:AF$52,31,0)))","v":1},{"$f":"IFERROR(VLOOKUP(B94,[2]A!B$1:AH$48,33,0),IFERROR(VLOOKUP(B94,[2]B!B$1:AH$51,33,0),VLOOKUP(B94,[2]C!$B$1:$AH$52,33,0)))","v":0},{"$f":"IFERROR(VLOOKUP(B94,[3]A!B$1:S$48,18,0),IFERROR(VLOOKUP(B94,[3]B!B$1:Q$51,16,0),VLOOKUP(B94,[3]C!B$1:Q$52,16,0)))","v":12},{"$f":"IFERROR(VLOOKUP(B94,[3]A!B$1:T$48,19,0),IFERROR(VLOOKUP(B94,[3]B!B$1:R$51,17,0),VLOOKUP(B94,[3]C!B$1:R$52,17,0)))","v":16},{"$f":"IFERROR(VLOOKUP(B94,[3]A!B$1:V$48,21,0),IFERROR(VLOOKUP(B94,[3]B!B$1:T$51,19,0),VLOOKUP(B94,[3]C!B$1:T$52,19,0)))","v":0},{"$f":"IFERROR(VLOOKUP(B94,[3]A!B$1:W$48,22,0),IFERROR(VLOOKUP(B94,[3]B!B$1:U$51,20,0),VLOOKUP(B94,[3]C!B$1:U$52,20,0)))","v":1},{"$f":"IFERROR(VLOOKUP(B94,[3]A!B$1:X$48,23,0),IFERROR(VLOOKUP(B94,[3]B!B$1:V$51,21,0),VLOOKUP(B94,[3]C!B$1:V$52,21,0)))","v":1},0,{"$f":"IFERROR(VLOOKUP(B94,[4]A!B$1:AA$48,26,0),IFERROR(VLOOKUP(B94,[4]B!B$1:AA$51,26,0),VLOOKUP(B94,[4]C!B$1:AA$52,26,0)))","v":14},{"$f":"IFERROR(VLOOKUP(B94,[4]A!B$1:AB$48,27,0),IFERROR(VLOOKUP(B94,[4]B!B$1:AB$51,27,0),VLOOKUP(B94,[4]C!B$1:AB$52,27,0)))","v":16},{"$f":"IFERROR(VLOOKUP(B94,[4]A!B$1:AD$48,29,0),IFERROR(VLOOKUP(B94,[4]B!B$1:AD$51,29,0),VLOOKUP(B94,[4]C!B$1:AD$52,29,0)))","v":0},{"$f":"IFERROR(VLOOKUP(B94,[4]A!B$1:AE$48,30,0),IFERROR(VLOOKUP(B94,[4]B!B$1:AE$51,30,0),VLOOKUP(B94,[4]C!B$1:AE$52,30,0)))","v":2},{"$f":"IFERROR(VLOOKUP(B94,[4]A!B$1:AF$48,31,0),IFERROR(VLOOKUP(B94,[4]B!B$1:AF$51,31,0),VLOOKUP(B94,[4]C!B$1:AF$52,31,0)))","v":2},{"$f":"IFERROR(VLOOKUP(B94,[4]A!B$1:AH$48,33,0),IFERROR(VLOOKUP(B94,[4]B!B$1:AH$51,33,0),VLOOKUP(B94,[4]C!B$1:AH$52,33,0)))","v":0},2,6,null,null,null,null,71,0,0,59,59,83.098591549295776,4,null,{"$f":"IFERROR(VLOOKUP(B94,[5]A!B$1:Y$48,24,0),IFERROR(VLOOKUP(B94,[5]B!B$1:U$51,20,0),VLOOKUP(B94,[5]C!B$1:U$52,20,0)))","v":8},9,21]
[94,"15BA149",9,9,0,0,0,0,{"$f":"IFERROR(VLOOKUP(B95,[2]A!B$1:AA$48,26,0),IFERROR(VLOOKUP(B95,[2]B!B$1:AA$51,26,0),VLOOKUP(B95,[2]C!B$1:AA$52,26,0)))","v":16},{"$f":"IFERROR(VLOOKUP(B95,[2]A!B$1:AB$48,27,0),IFERROR(VLOOKUP(B95,[2]B!B$1:AB$51,27,0),VLOOKUP(B95,[2]C!B$1:AB$52,27,0)))","v":20},{"$f":"IFERROR(VLOOKUP(B95,[2]A!B$1:AD$48,29,0),IFERROR(VLOOKUP(B95,[2]B!B$1:AD$51,29,0),VLOOKUP(B95,[2]C!B$1:AD$52,29,0)))","v":0},{"$f":"IFERROR(VLOOKUP(B95,[2]A!B$1:AE$48,30,0),IFERROR(VLOOKUP(B95,[2]B!B$1:AE$51,30,0),VLOOKUP(B95,[2]C!B$1:AE$52,30,0)))","v":2},{"$f":"IFERROR(VLOOKUP(B95,[2]A!B$1:AF$48,31,0),IFERROR(VLOOKUP(B95,[2]B!B$1:AF$51,31,0),VLOOKUP(B95,[2]C!B$1:AF$52,31,0)))","v":2},{"$f":"IFERROR(VLOOKUP(B95,[2]A!B$1:AH$48,33,0),IFERROR(VLOOKUP(B95,[2]B!B$1:AH$51,33,0),VLOOKUP(B95,[2]C!$B$1:$AH$52,33,0)))","v":0},{"$f":"IFERROR(VLOOKUP(B95,[3]A!B$1:S$48,18,0),IFERROR(VLOOKUP(B95,[3]B!B$1:Q$51,16,0),VLOOKUP(B95,[3]C!B$1:Q$52,16,0)))","v":11},{"$f":"IFERROR(VLOOKUP(B95,[3]A!B$1:T$48,19,0),IFERROR(VLOOKUP(B95,[3]B!B$1:R$51,17,0),VLOOKUP(B95,[3]C!B$1:R$52,17,0)))","v":16},{"$f":"IFERROR(VLOOKUP(B95,[3]A!B$1:V$48,21,0),IFERROR(VLOOKUP(B95,[3]B!B$1:T$51,19,0),VLOOKUP(B95,[3]C!B$1:T$52,19,0)))","v":0},{"$f":"IFERROR(VLOOKUP(B95,[3]A!B$1:W$48,22,0),IFERROR(VLOOKUP(B95,[3]B!B$1:U$51,20,0),VLOOKUP(B95,[3]C!B$1:U$52,20,0)))","v":2},{"$f":"IFERROR(VLOOKUP(B95,[3]A!B$1:X$48,23,0),IFERROR(VLOOKUP(B95,[3]B!B$1:V$51,21,0),VLOOKUP(B95,[3]C!B$1:V$52,21,0)))","v":2},0,{"$f":"IFERROR(VLOOKUP(B95,[4]A!B$1:AA$48,26,0),IFERROR(VLOOKUP(B95,[4]B!B$1:AA$51,26,0),VLOOKUP(B95,[4]C!B$1:AA$52,26,0)))","v":0},{"$f":"IFERROR(VLOOKUP(B95,[4]A!B$1:AB$48,27,0),IFERROR(VLOOKUP(B95,[4]B!B$1:AB$51,27,0),VLOOKUP(B95,[4]C!B$1:AB$52,27,0)))","v":0},{"$f":"IFERROR(VLOOKUP(B95,[4]A!B$1:AD$48,29,0),IFERROR(VLOOKUP(B95,[4]B!B$1:AD$51,29,0),VLOOKUP(B95,[4]C!B$1:AD$52,29,0)))","v":0},{"$f":"IFERROR(VLOOKUP(B95,[4]A!B$1:AE$48,30,0),IFERROR(VLOOKUP(B95,[4]B!B$1:AE$51,30,0),VLOOKUP(B95,[4]C!B$1:AE$52,30,0)))","v":3},{"$f":"IFERROR(VLOOKUP(B95,[4]A!B$1:AF$48,31,0),IFERROR(VLOOKUP(B95,[4]B!B$1:AF$51,31,0),VLOOKUP(B95,[4]C!B$1:AF$52,31,0)))","v":3},{"$f":"IFERROR(VLOOKUP(B95,[4]A!B$1:AH$48,33,0),IFERROR(VLOOKUP(B95,[4]B!B$1:AH$51,33,0),VLOOKUP(B95,[4]C!B$1:AH$52,33,0)))","v":0},2,6,null,null,null,null,58,0,0,45,45,77.58620689655173,3,null,{"$f":"IFERROR(VLOOKUP(B95,[5]A!B$1:Y$48,24,0),IFERROR(VLOOKUP(B95,[5]B!B$1:U$51,20,0),VLOOKUP(B95,[5]C!B$1:U$52,20,0)))","v":8},9,20]
[95,"15BA150",null,9,0,0,0,0,{"$f":"IFERROR(VLOOKUP(B96,[2]A!B$1:AA$48,26,0),IFERROR(VLOOKUP(B96,[2]B!B$1:AA$51,26,0),VLOOKUP(B96,[2]C!B$1:AA$52,26,0)))","v":0},{"$f":"IFERROR(VLOOKUP(B96,[2]A!B$1:AB$48,27,0),IFERROR(VLOOKUP(B96,[2]B!B$1:AB$51,27,0),VLOOKUP(B96,[2]C!B$1:AB$52,27,0)))","v":20},{"$f":"IFERROR(VLOOKUP(B96,[2]A!B$1:AD$48,29,0),IFERROR(VLOOKUP(B96,[2]B!B$1:AD$51,29,0),VLOOKUP(B96,[2]C!B$1:AD$52,29,0)))","v":0},{"$f":"IFERROR(VLOOKUP(B96,[2]A!B$1:AE$48,30,0),IFERROR(VLOOKUP(B96,[2]B!B$1:AE$51,30,0),VLOOKUP(B96,[2]C!B$1:AE$52,30,0)))","v":1},{"$f":"IFERROR(VLOOKUP(B96,[2]A!B$1:AF$48,31,0),IFERROR(VLOOKUP(B96,[2]B!B$1:AF$51,31,0),VLOOKUP(B96,[2]C!B$1:AF$52,31,0)))","v":1},{"$f":"IFERROR(VLOOKUP(B96,[2]A!B$1:AH$48,33,0),IFERROR(VLOOKUP(B96,[2]B!B$1:AH$51,33,0),VLOOKUP(B96,[2]C!$B$1:$AH$52,33,0)))","v":0},{"$f":"IFERROR(VLOOKUP(B96,[3]A!B$1:S$48,18,0),IFERROR(VLOOKUP(B96,[3]B!B$1:Q$51,16,0),VLOOKUP(B96,[3]C!B$1:Q$52,16,0)))","v":0},{"$f":"IFERROR(VLOOKUP(B96,[3]A!B$1:T$48,19,0),IFERROR(VLOOKUP(B96,[3]B!B$1:R$51,17,0),VLOOKUP(B96,[3]C!B$1:R$52,17,0)))","v":16},{"$f":"IFERROR(VLOOKUP(B96,[3]A!B$1:V$48,21,0),IFERROR(VLOOKUP(B96,[3]B!B$1:T$51,19,0),VLOOKUP(B96,[3]C!B$1:T$52,19,0)))","v":0},{"$f":"IFERROR(VLOOKUP(B96,[3]A!B$1:W$48,22,0),IFERROR(VLOOKUP(B96,[3]B!B$1:U$51,20,0),VLOOKUP(B96,[3]C!B$1:U$52,20,0)))","v":1},{"$f":"IFERROR(VLOOKUP(B96,[3]A!B$1:X$48,23,0),IFERROR(VLOOKUP(B96,[3]B!B$1:V$51,21,0),VLOOKUP(B96,[3]C!B$1:V$52,21,0)))","v":1},0,{"$f":"IFERROR(VLOOKUP(B96,[4]A!B$1:AA$48,26,0),IFERROR(VLOOKUP(B96,[4]B!B$1:AA$51,26,0),VLOOKUP(B96,[4]C!B$1:AA$52,26,0)))","v":0},{"$f":"IFERROR(VLOOKUP(B96,[4]A!B$1:AB$48,27,0),IFERROR(VLOOKUP(B96,[4]B!B$1:AB$51,27,0),VLOOKUP(B96,[4]C!B$1:AB$52,27,0)))","v":0},{"$f":"IFERROR(VLOOKUP(B96,[4]A!B$1:AD$48,29,0),IFERROR(VLOOKUP(B96,[4]B!B$1:AD$51,29,0),VLOOKUP(B96,[4]C!B$1:AD$52,29,0)))","v":0},{"$f":"IFERROR(VLOOKUP(B96,[4]A!B$1:AE$48,30,0),IFERROR(VLOOKUP(B96,[4]B!B$1:AE$51,30,0),VLOOKUP(B96,[4]C!B$1:AE$52,30,0)))","v":0},{"$f":"IFERROR(VLOOKUP(B96,[4]A!B$1:AF$48,31,0),IFERROR(VLOOKUP(B96,[4]B!B$1:AF$51,31,0),VLOOKUP(B96,[4]C!B$1:AF$52,31,0)))","v":0},{"$f":"IFERROR(VLOOKUP(B96,[4]A!B$1:AH$48,33,0),IFERROR(VLOOKUP(B96,[4]B!B$1:AH$51,33,0),VLOOKUP(B96,[4]C!B$1:AH$52,33,0)))","v":0},0,0,null,null,null,null,47,0,0,2,2,4.2553191489361701,0,null,{"$f":"IFERROR(VLOOKUP(B96,[5]A!B$1:Y$48,24,0),IFERROR(VLOOKUP(B96,[5]B!B$1:U$51,20,0),VLOOKUP(B96,[5]C!B$1:U$52,20,0)))","v":0},0,0]
[96,"15BA155",9,9,0,0,0,0,{"$f":"IFERROR(VLOOKUP(B97,[2]A!B$1:AA$48,26,0),IFERROR(VLOOKUP(B97,[2]B!B$1:AA$51,26,0),VLOOKUP(B97,[2]C!B$1:AA$52,26,0)))","v":17},{"$f":"IFERROR(VLOOKUP(B97,[2]A!B$1:AB$48,27,0),IFERROR(VLOOKUP(B97,[2]B!B$1:AB$51,27,0),VLOOKUP(B97,[2]C!B$1:AB$52,27,0)))","v":20},{"$f":"IFERROR(VLOOKUP(B97,[2]A!B$1:AD$48,29,0),IFERROR(VLOOKUP(B97,[2]B!B$1:AD$51,29,0),VLOOKUP(B97,[2]C!B$1:AD$52,29,0)))","v":0},{"$f":"IFERROR(VLOOKUP(B97,[2]A!B$1:AE$48,30,0),IFERROR(VLOOKUP(B97,[2]B!B$1:AE$51,30,0),VLOOKUP(B97,[2]C!B$1:AE$52,30,0)))","v":0},{"$f":"IFERROR(VLOOKUP(B97,[2]A!B$1:AF$48,31,0),IFERROR(VLOOKUP(B97,[2]B!B$1:AF$51,31,0),VLOOKUP(B97,[2]C!B$1:AF$52,31,0)))","v":0},{"$f":"IFERROR(VLOOKUP(B97,[2]A!B$1:AH$48,33,0),IFERROR(VLOOKUP(B97,[2]B!B$1:AH$51,33,0),VLOOKUP(B97,[2]C!$B$1:$AH$52,33,0)))","v":0},{"$f":"IFERROR(VLOOKUP(B97,[3]A!B$1:S$48,18,0),IFERROR(VLOOKUP(B97,[3]B!B$1:Q$51,16,0),VLOOKUP(B97,[3]C!B$1:Q$52,16,0)))","v":11},{"$f":"IFERROR(VLOOKUP(B97,[3]A!B$1:T$48,19,0),IFERROR(VLOOKUP(B97,[3]B!B$1:R$51,17,0),VLOOKUP(B97,[3]C!B$1:R$52,17,0)))","v":16},{"$f":"IFERROR(VLOOKUP(B97,[3]A!B$1:V$48,21,0),IFERROR(VLOOKUP(B97,[3]B!B$1:T$51,19,0),VLOOKUP(B97,[3]C!B$1:T$52,19,0)))","v":0},{"$f":"IFERROR(VLOOKUP(B97,[3]A!B$1:W$48,22,0),IFERROR(VLOOKUP(B97,[3]B!B$1:U$51,20,0),VLOOKUP(B97,[3]C!B$1:U$52,20,0)))","v":0},{"$f":"IFERROR(VLOOKUP(B97,[3]A!B$1:X$48,23,0),IFERROR(VLOOKUP(B97,[3]B!B$1:V$51,21,0),VLOOKUP(B97,[3]C!B$1:V$52,21,0)))","v":0},0,{"$f":"IFERROR(VLOOKUP(B97,[4]A!B$1:AA$48,26,0),IFERROR(VLOOKUP(B97,[4]B!B$1:AA$51,26,0),VLOOKUP(B97,[4]C!B$1:AA$52,26,0)))","v":0},{"$f":"IFERROR(VLOOKUP(B97,[4]A!B$1:AB$48,27,0),IFERROR(VLOOKUP(B97,[4]B!B$1:AB$51,27,0),VLOOKUP(B97,[4]C!B$1:AB$52,27,0)))","v":0},{"$f":"IFERROR(VLOOKUP(B97,[4]A!B$1:AD$48,29,0),IFERROR(VLOOKUP(B97,[4]B!B$1:AD$51,29,0),VLOOKUP(B97,[4]C!B$1:AD$52,29,0)))","v":0},{"$f":"IFERROR(VLOOKUP(B97,[4]A!B$1:AE$48,30,0),IFERROR(VLOOKUP(B97,[4]B!B$1:AE$51,30,0),VLOOKUP(B97,[4]C!B$1:AE$52,30,0)))","v":2},{"$f":"IFERROR(VLOOKUP(B97,[4]A!B$1:AF$48,31,0),IFERROR(VLOOKUP(B97,[4]B!B$1:AF$51,31,0),VLOOKUP(B97,[4]C!B$1:AF$52,31,0)))","v":2},{"$f":"IFERROR(VLOOKUP(B97,[4]A!B$1:AH$48,33,0),IFERROR(VLOOKUP(B97,[4]B!B$1:AH$51,33,0),VLOOKUP(B97,[4]C!B$1:AH$52,33,0)))","v":0},6,6,null,null,null,null,53,0,0,45,45,84.905660377358487,4,null,{"$f":"IFERROR(VLOOKUP(B97,[5]A!B$1:Y$48,24,0),IFERROR(VLOOKUP(B97,[5]B!B$1:U$51,20,0),VLOOKUP(B97,[5]C!B$1:U$52,20,0)))","v":9},9,22]
[97,"15BA005",{"$f":"VLOOKUP(B98,[1]C!B$1:AA$48,26,0)","v":8},{"$f":"VLOOKUP(B98,[1]C!B$1:AB$48,27,0)","v":9},{"$f":"VLOOKUP(B98,[1]C!B$1:AD$48,29,0)","v":0},{"$f":"VLOOKUP(B98,[1]C!B$1:AE$48,30,0)","v":0},{"$f":"VLOOKUP(B98,[1]C!B$1:AF$48,31,0)","v":0},{"$f":"VLOOKUP(B98,[1]C!B$1:AH$48,33,0)","v":0},{"$f":"IFERROR(VLOOKUP(B98,[2]A!B$1:AA$48,26,0),IFERROR(VLOOKUP(B98,[2]B!B$1:AA$51,26,0),VLOOKUP(B98,[2]C!B$1:AA$52,26,0)))","v":20},{"$f":"IFERROR(VLOOKUP(B98,[2]A!B$1:AB$48,27,0),IFERROR(VLOOKUP(B98,[2]B!B$1:AB$51,27,0),VLOOKUP(B98,[2]C!B$1:AB$52,27,0)))","v":21},{"$f":"IFERROR(VLOOKUP(B98,[2]A!B$1:AD$48,29,0),IFERROR(VLOOKUP(B98,[2]B!B$1:AD$51,29,0),VLOOKUP(B98,[2]C!B$1:AD$52,29,0)))","v":0},{"$f":"IFERROR(VLOOKUP(B98,[2]A!B$1:AE$48,30,0),IFERROR(VLOOKUP(B98,[2]B!B$1:AE$51,30,0),VLOOKUP(B98,[2]C!B$1:AE$52,30,0)))","v":0},{"$f":"IFERROR(VLOOKUP(B98,[2]A!B$1:AF$48,31,0),IFERROR(VLOOKUP(B98,[2]B!B$1:AF$51,31,0),VLOOKUP(B98,[2]C!B$1:AF$52,31,0)))","v":0},{"$f":"IFERROR(VLOOKUP(B98,[2]A!B$1:AH$48,33,0),IFERROR(VLOOKUP(B98,[2]B!B$1:AH$51,33,0),VLOOKUP(B98,[2]C!$B$1:$AH$52,33,0)))","v":0},{"$f":"IFERROR(VLOOKUP(B98,[3]A!B$1:S$48,18,0),IFERROR(VLOOKUP(B98,[3]B!B$1:Q$51,16,0),VLOOKUP(B98,[3]C!B$1:Q$52,16,0)))","v":14},{"$f":"IFERROR(VLOOKUP(B98,[3]A!B$1:T$48,19,0),IFERROR(VLOOKUP(B98,[3]B!B$1:R$51,17,0),VLOOKUP(B98,[3]C!B$1:R$52,17,0)))","v":16},{"$f":"IFERROR(VLOOKUP(B98,[3]A!B$1:V$48,21,0),IFERROR(VLOOKUP(B98,[3]B!B$1:T$51,19,0),VLOOKUP(B98,[3]C!B$1:T$52,19,0)))","v":0},{"$f":"IFERROR(VLOOKUP(B98,[3]A!B$1:W$48,22,0),IFERROR(VLOOKUP(B98,[3]B!B$1:U$51,20,0),VLOOKUP(B98,[3]C!B$1:U$52,20,0)))","v":0},{"$f":"IFERROR(VLOOKUP(B98,[3]A!B$1:X$48,23,0),IFERROR(VLOOKUP(B98,[3]B!B$1:V$51,21,0),VLOOKUP(B98,[3]C!B$1:V$52,21,0)))","v":1},0,{"$f":"IFERROR(VLOOKUP(B98,[4]A!B$1:AA$48,26,0),IFERROR(VLOOKUP(B98,[4]B!B$1:AA$51,26,0),VLOOKUP(B98,[4]C!B$1:AA$52,26,0)))","v":15},{"$f":"IFERROR(VLOOKUP(B98,[4]A!B$1:AB$48,27,0),IFERROR(VLOOKUP(B98,[4]B!B$1:AB$51,27,0),VLOOKUP(B98,[4]C!B$1:AB$52,27,0)))","v":17},{"$f":"IFERROR(VLOOKUP(B98,[4]A!B$1:AD$48,29,0),IFERROR(VLOOKUP(B98,[4]B!B$1:AD$51,29,0),VLOOKUP(B98,[4]C!B$1:AD$52,29,0)))","v":0},{"$f":"IFERROR(VLOOKUP(B98,[4]A!B$1:AE$48,30,0),IFERROR(VLOOKUP(B98,[4]B!B$1:AE$51,30,0),VLOOKUP(B98,[4]C!B$1:AE$52,30,0)))","v":2},{"$f":"IFERROR(VLOOKUP(B98,[4]A!B$1:AF$48,31,0),IFERROR(VLOOKUP(B98,[4]B!B$1:AF$51,31,0),VLOOKUP(B98,[4]C!B$1:AF$52,31,0)))","v":4},{"$f":"IFERROR(VLOOKUP(B98,[4]A!B$1:AH$48,33,0),IFERROR(VLOOKUP(B98,[4]B!B$1:AH$51,33,0),VLOOKUP(B98,[4]C!B$1:AH$52,33,0)))","v":0},5,6,null,null,null,null,74,0,0,64,64,86.486486486486484,5,null,9,7,21]
[98,"15BA010",{"$f":"VLOOKUP(B99,[1]C!B$1:AA$48,26,0)","v":8},{"$f":"VLOOKUP(B99,[1]C!B$1:AB$48,27,0)","v":9},{"$f":"VLOOKUP(B99,[1]C!B$1:AD$48,29,0)","v":0},{"$f":"VLOOKUP(B99,[1]C!B$1:AE$48,30,0)","v":0},{"$f":"VLOOKUP(B99,[1]C!B$1:AF$48,31,0)","v":0},{"$f":"VLOOKUP(B99,[1]C!B$1:AH$48,33,0)","v":0},{"$f":"IFERROR(VLOOKUP(B99,[2]A!B$1:AA$48,26,0),IFERROR(VLOOKUP(B99,[2]B!B$1:AA$51,26,0),VLOOKUP(B99,[2]C!B$1:AA$52,26,0)))","v":20},{"$f":"IFERROR(VLOOKUP(B99,[2]A!B$1:AB$48,27,0),IFERROR(VLOOKUP(B99,[2]B!B$1:AB$51,27,0),VLOOKUP(B99,[2]C!B$1:AB$52,27,0)))","v":21},{"$f":"IFERROR(VLOOKUP(B99,[2]A!B$1:AD$48,29,0),IFERROR(VLOOKUP(B99,[2]B!B$1:AD$51,29,0),VLOOKUP(B99,[2]C!B$1:AD$52,29,0)))","v":0},{"$f":"IFERROR(VLOOKUP(B99,[2]A!B$1:AE$48,30,0),IFERROR(VLOOKUP(B99,[2]B!B$1:AE$51,30,0),VLOOKUP(B99,[2]C!B$1:AE$52,30,0)))","v":0},{"$f":"IFERROR(VLOOKUP(B99,[2]A!B$1:AF$48,31,0),IFERROR(VLOOKUP(B99,[2]B!B$1:AF$51,31,0),VLOOKUP(B99,[2]C!B$1:AF$52,31,0)))","v":0},{"$f":"IFERROR(VLOOKUP(B99,[2]A!B$1:AH$48,33,0),IFERROR(VLOOKUP(B99,[2]B!B$1:AH$51,33,0),VLOOKUP(B99,[2]C!$B$1:$AH$52,33,0)))","v":0},{"$f":"IFERROR(VLOOKUP(B99,[3]A!B$1:S$48,18,0),IFERROR(VLOOKUP(B99,[3]B!B$1:Q$51,16,0),VLOOKUP(B99,[3]C!B$1:Q$52,16,0)))","v":14},{"$f":"IFERROR(VLOOKUP(B99,[3]A!B$1:T$48,19,0),IFERROR(VLOOKUP(B99,[3]B!B$1:R$51,17,0),VLOOKUP(B99,[3]C!B$1:R$52,17,0)))","v":16},{"$f":"IFERROR(VLOOKUP(B99,[3]A!B$1:V$48,21,0),IFERROR(VLOOKUP(B99,[3]B!B$1:T$51,19,0),VLOOKUP(B99,[3]C!B$1:T$52,19,0)))","v":0},{"$f":"IFERROR(VLOOKUP(B99,[3]A!B$1:W$48,22,0),IFERROR(VLOOKUP(B99,[3]B!B$1:U$51,20,0),VLOOKUP(B99,[3]C!B$1:U$52,20,0)))","v":0},{"$f":"IFERROR(VLOOKUP(B99,[3]A!B$1:X$48,23,0),IFERROR(VLOOKUP(B99,[3]B!B$1:V$51,21,0),VLOOKUP(B99,[3]C!B$1:V$52,21,0)))","v":1},0,{"$f":"IFERROR(VLOOKUP(B99,[4]A!B$1:AA$48,26,0),IFERROR(VLOOKUP(B99,[4]B!B$1:AA$51,26,0),VLOOKUP(B99,[4]C!B$1:AA$52,26,0)))","v":17},{"$f":"IFERROR(VLOOKUP(B99,[4]A!B$1:AB$48,27,0),IFERROR(VLOOKUP(B99,[4]B!B$1:AB$51,27,0),VLOOKUP(B99,[4]C!B$1:AB$52,27,0)))","v":17},{"$f":"IFERROR(VLOOKUP(B99,[4]A!B$1:AD$48,29,0),IFERROR(VLOOKUP(B99,[4]B!B$1:AD$51,29,0),VLOOKUP(B99,[4]C!B$1:AD$52,29,0)))","v":0},{"$f":"IFERROR(VLOOKUP(B99,[4]A!B$1:AE$48,30,0),IFERROR(VLOOKUP(B99,[4]B!B$1:AE$51,30,0),VLOOKUP(B99,[4]C!B$1:AE$52,30,0)))","v":2},{"$f":"IFERROR(VLOOKUP(B99,[4]A!B$1:AF$48,31,0),IFERROR(VLOOKUP(B99,[4]B!B$1:AF$51,31,0),VLOOKUP(B99,[4]C!B$1:AF$52,31,0)))","v":4},{"$f":"IFERROR(VLOOKUP(B99,[4]A!B$1:AH$48,33,0),IFERROR(VLOOKUP(B99,[4]B!B$1:AH$51,33,0),VLOOKUP(B99,[4]C!B$1:AH$52,33,0)))","v":0},6,6,null,null,null,null,74,0,0,67,67,90.540540540540533,5,null,10,9,24]
[99,"15BA013",{"$f":"VLOOKUP(B100,[1]C!B$1:AA$48,26,0)","v":8},{"$f":"VLOOKUP(B100,[1]C!B$1:AB$48,27,0)","v":9},{"$f":"VLOOKUP(B100,[1]C!B$1:AD$48,29,0)","v":0},{"$f":"VLOOKUP(B100,[1]C!B$1:AE$48,30,0)","v":0},{"$f":"VLOOKUP(B100,[1]C!B$1:AF$48,31,0)","v":0},{"$f":"VLOOKUP(B100,[1]C!B$1:AH$48,33,0)","v":0},{"$f":"IFERROR(VLOOKUP(B100,[2]A!B$1:AA$48,26,0),IFERROR(VLOOKUP(B100,[2]B!B$1:AA$51,26,0),VLOOKUP(B100,[2]C!B$1:AA$52,26,0)))","v":20},{"$f":"IFERROR(VLOOKUP(B100,[2]A!B$1:AB$48,27,0),IFERROR(VLOOKUP(B100,[2]B!B$1:AB$51,27,0),VLOOKUP(B100,[2]C!B$1:AB$52,27,0)))","v":21},{"$f":"IFERROR(VLOOKUP(B100,[2]A!B$1:AD$48,29,0),IFERROR(VLOOKUP(B100,[2]B!B$1:AD$51,29,0),VLOOKUP(B100,[2]C!B$1:AD$52,29,0)))","v":0},{"$f":"IFERROR(VLOOKUP(B100,[2]A!B$1:AE$48,30,0),IFERROR(VLOOKUP(B100,[2]B!B$1:AE$51,30,0),VLOOKUP(B100,[2]C!B$1:AE$52,30,0)))","v":3},{"$f":"IFERROR(VLOOKUP(B100,[2]A!B$1:AF$48,31,0),IFERROR(VLOOKUP(B100,[2]B!B$1:AF$51,31,0),VLOOKUP(B100,[2]C!B$1:AF$52,31,0)))","v":4},{"$f":"IFERROR(VLOOKUP(B100,[2]A!B$1:AH$48,33,0),IFERROR(VLOOKUP(B100,[2]B!B$1:AH$51,33,0),VLOOKUP(B100,[2]C!$B$1:$AH$52,33,0)))","v":0},{"$f":"IFERROR(VLOOKUP(B100,[3]A!B$1:S$48,18,0),IFERROR(VLOOKUP(B100,[3]B!B$1:Q$51,16,0),VLOOKUP(B100,[3]C!B$1:Q$52,16,0)))","v":14},{"$f":"IFERROR(VLOOKUP(B100,[3]A!B$1:T$48,19,0),IFERROR(VLOOKUP(B100,[3]B!B$1:R$51,17,0),VLOOKUP(B100,[3]C!B$1:R$52,17,0)))","v":16},{"$f":"IFERROR(VLOOKUP(B100,[3]A!B$1:V$48,21,0),IFERROR(VLOOKUP(B100,[3]B!B$1:T$51,19,0),VLOOKUP(B100,[3]C!B$1:T$52,19,0)))","v":0},{"$f":"IFERROR(VLOOKUP(B100,[3]A!B$1:W$48,22,0),IFERROR(VLOOKUP(B100,[3]B!B$1:U$51,20,0),VLOOKUP(B100,[3]C!B$1:U$52,20,0)))","v":2},{"$f":"IFERROR(VLOOKUP(B100,[3]A!B$1:X$48,23,0),IFERROR(VLOOKUP(B100,[3]B!B$1:V$51,21,0),VLOOKUP(B100,[3]C!B$1:V$52,21,0)))","v":3},0,{"$f":"IFERROR(VLOOKUP(B100,[4]A!B$1:AA$48,26,0),IFERROR(VLOOKUP(B100,[4]B!B$1:AA$51,26,0),VLOOKUP(B100,[4]C!B$1:AA$52,26,0)))","v":15},{"$f":"IFERROR(VLOOKUP(B100,[4]A!B$1:AB$48,27,0),IFERROR(VLOOKUP(B100,[4]B!B$1:AB$51,27,0),VLOOKUP(B100,[4]C!B$1:AB$52,27,0)))","v":17},{"$f":"IFERROR(VLOOKUP(B100,[4]A!B$1:AD$48,29,0),IFERROR(VLOOKUP(B100,[4]B!B$1:AD$51,29,0),VLOOKUP(B100,[4]C!B$1:AD$52,29,0)))","v":0},{"$f":"IFERROR(VLOOKUP(B100,[4]A!B$1:AE$48,30,0),IFERROR(VLOOKUP(B100,[4]B!B$1:AE$51,30,0),VLOOKUP(B100,[4]C!B$1:AE$52,30,0)))","v":2},{"$f":"IFERROR(VLOOKUP(B100,[4]A!B$1:AF$48,31,0),IFERROR(VLOOKUP(B100,[4]B!B$1:AF$51,31,0),VLOOKUP(B100,[4]C!B$1:AF$52,31,0)))","v":3},{"$f":"IFERROR(VLOOKUP(B100,[4]A!B$1:AH$48,33,0),IFERROR(VLOOKUP(B100,[4]B!B$1:AH$51,33,0),VLOOKUP(B100,[4]C!B$1:AH$52,33,0)))","v":0},6,6,null,1,1,null,80,0,0,71,71,88.75,5,"C-12",9,8,22]
[100,"15BA018",{"$f":"VLOOKUP(B101,[1]C!B$1:AA$48,26,0)","v":9},{"$f":"VLOOKUP(B101,[1]C!B$1:AB$48,27,0)","v":9},{"$f":"VLOOKUP(B101,[1]C!B$1:AD$48,29,0)","v":0},{"$f":"VLOOKUP(B101,[1]C!B$1:AE$48,30,0)","v":0},{"$f":"VLOOKUP(B101,[1]C!B$1:AF$48,31,0)","v":0},{"$f":"VLOOKUP(B101,[1]C!B$1:AH$48,33,0)","v":0},{"$f":"IFERROR(VLOOKUP(B101,[2]A!B$1:AA$48,26,0),IFERROR(VLOOKUP(B101,[2]B!B$1:AA$51,26,0),VLOOKUP(B101,[2]C!B$1:AA$52,26,0)))","v":21},{"$f":"IFERROR(VLOOKUP(B101,[2]A!B$1:AB$48,27,0),IFERROR(VLOOKUP(B101,[2]B!B$1:AB$51,27,0),VLOOKUP(B101,[2]C!B$1:AB$52,27,0)))","v":21},{"$f":"IFERROR(VLOOKUP(B101,[2]A!B$1:AD$48,29,0),IFERROR(VLOOKUP(B101,[2]B!B$1:AD$51,29,0),VLOOKUP(B101,[2]C!B$1:AD$52,29,0)))","v":0},{"$f":"IFERROR(VLOOKUP(B101,[2]A!B$1:AE$48,30,0),IFERROR(VLOOKUP(B101,[2]B!B$1:AE$51,30,0),VLOOKUP(B101,[2]C!B$1:AE$52,30,0)))","v":0},{"$f":"IFERROR(VLOOKUP(B101,[2]A!B$1:AF$48,31,0),IFERROR(VLOOKUP(B101,[2]B!B$1:AF$51,31,0),VLOOKUP(B101,[2]C!B$1:AF$52,31,0)))","v":0},{"$f":"IFERROR(VLOOKUP(B101,[2]A!B$1:AH$48,33,0),IFERROR(VLOOKUP(B101,[2]B!B$1:AH$51,33,0),VLOOKUP(B101,[2]C!$B$1:$AH$52,33,0)))","v":0},{"$f":"IFERROR(VLOOKUP(B101,[3]A!B$1:S$48,18,0),IFERROR(VLOOKUP(B101,[3]B!B$1:Q$51,16,0),VLOOKUP(B101,[3]C!B$1:Q$52,16,0)))","v":16},{"$f":"IFERROR(VLOOKUP(B101,[3]A!B$1:T$48,19,0),IFERROR(VLOOKUP(B101,[3]B!B$1:R$51,17,0),VLOOKUP(B101,[3]C!B$1:R$52,17,0)))","v":16},{"$f":"IFERROR(VLOOKUP(B101,[3]A!B$1:V$48,21,0),IFERROR(VLOOKUP(B101,[3]B!B$1:T$51,19,0),VLOOKUP(B101,[3]C!B$1:T$52,19,0)))","v":0},{"$f":"IFERROR(VLOOKUP(B101,[3]A!B$1:W$48,22,0),IFERROR(VLOOKUP(B101,[3]B!B$1:U$51,20,0),VLOOKUP(B101,[3]C!B$1:U$52,20,0)))","v":0},{"$f":"IFERROR(VLOOKUP(B101,[3]A!B$1:X$48,23,0),IFERROR(VLOOKUP(B101,[3]B!B$1:V$51,21,0),VLOOKUP(B101,[3]C!B$1:V$52,21,0)))","v":1},0,{"$f":"IFERROR(VLOOKUP(B101,[4]A!B$1:AA$48,26,0),IFERROR(VLOOKUP(B101,[4]B!B$1:AA$51,26,0),VLOOKUP(B101,[4]C!B$1:AA$52,26,0)))","v":17},{"$f":"IFERROR(VLOOKUP(B101,[4]A!B$1:AB$48,27,0),IFERROR(VLOOKUP(B101,[4]B!B$1:AB$51,27,0),VLOOKUP(B101,[4]C!B$1:AB$52,27,0)))","v":17},{"$f":"IFERROR(VLOOKUP(B101,[4]A!B$1:AD$48,29,0),IFERROR(VLOOKUP(B101,[4]B!B$1:AD$51,29,0),VLOOKUP(B101,[4]C!B$1:AD$52,29,0)))","v":0},{"$f":"IFERROR(VLOOKUP(B101,[4]A!B$1:AE$48,30,0),IFERROR(VLOOKUP(B101,[4]B!B$1:AE$51,30,0),VLOOKUP(B101,[4]C!B$1:AE$52,30,0)))","v":0},{"$f":"IFERROR(VLOOKUP(B101,[4]A!B$1:AF$48,31,0),IFERROR(VLOOKUP(B101,[4]B!B$1:AF$51,31,0),VLOOKUP(B101,[4]C!B$1:AF$52,31,0)))","v":4},{"$f":"IFERROR(VLOOKUP(B101,[4]A!B$1:AH$48,33,0),IFERROR(VLOOKUP(B101,[4]B!B$1:AH$51,33,0),VLOOKUP(B101,[4]C!B$1:AH$52,33,0)))","v":0},6,6,null,null,null,null,74,0,0,69,69,93.243243243243242,5,null,10,10,25]
[101,"15BA020",{"$f":"VLOOKUP(B102,[1]C!B$1:AA$48,26,0)","v":8},{"$f":"VLOOKUP(B102,[1]C!B$1:AB$48,27,0)","v":9},{"$f":"VLOOKUP(B102,[1]C!B$1:AD$48,29,0)","v":0},{"$f":"VLOOKUP(B102,[1]C!B$1:AE$48,30,0)","v":0},{"$f":"VLOOKUP(B102,[1]C!B$1:AF$48,31,0)","v":0},{"$f":"VLOOKUP(B102,[1]C!B$1:AH$48,33,0)","v":0},{"$f":"IFERROR(VLOOKUP(B102,[2]A!B$1:AA$48,26,0),IFERROR(VLOOKUP(B102,[2]B!B$1:AA$51,26,0),VLOOKUP(B102,[2]C!B$1:AA$52,26,0)))","v":19},{"$f":"IFERROR(VLOOKUP(B102,[2]A!B$1:AB$48,27,0),IFERROR(VLOOKUP(B102,[2]B!B$1:AB$51,27,0),VLOOKUP(B102,[2]C!B$1:AB$52,27,0)))","v":21},{"$f":"IFERROR(VLOOKUP(B102,[2]A!B$1:AD$48,29,0),IFERROR(VLOOKUP(B102,[2]B!B$1:AD$51,29,0),VLOOKUP(B102,[2]C!B$1:AD$52,29,0)))","v":0},{"$f":"IFERROR(VLOOKUP(B102,[2]A!B$1:AE$48,30,0),IFERROR(VLOOKUP(B102,[2]B!B$1:AE$51,30,0),VLOOKUP(B102,[2]C!B$1:AE$52,30,0)))","v":3},{"$f":"IFERROR(VLOOKUP(B102,[2]A!B$1:AF$48,31,0),IFERROR(VLOOKUP(B102,[2]B!B$1:AF$51,31,0),VLOOKUP(B102,[2]C!B$1:AF$52,31,0)))","v":4},{"$f":"IFERROR(VLOOKUP(B102,[2]A!B$1:AH$48,33,0),IFERROR(VLOOKUP(B102,[2]B!B$1:AH$51,33,0),VLOOKUP(B102,[2]C!$B$1:$AH$52,33,0)))","v":0},{"$f":"IFERROR(VLOOKUP(B102,[3]A!B$1:S$48,18,0),IFERROR(VLOOKUP(B102,[3]B!B$1:Q$51,16,0),VLOOKUP(B102,[3]C!B$1:Q$52,16,0)))","v":15},{"$f":"IFERROR(VLOOKUP(B102,[3]A!B$1:T$48,19,0),IFERROR(VLOOKUP(B102,[3]B!B$1:R$51,17,0),VLOOKUP(B102,[3]C!B$1:R$52,17,0)))","v":16},{"$f":"IFERROR(VLOOKUP(B102,[3]A!B$1:V$48,21,0),IFERROR(VLOOKUP(B102,[3]B!B$1:T$51,19,0),VLOOKUP(B102,[3]C!B$1:T$52,19,0)))","v":0},{"$f":"IFERROR(VLOOKUP(B102,[3]A!B$1:W$48,22,0),IFERROR(VLOOKUP(B102,[3]B!B$1:U$51,20,0),VLOOKUP(B102,[3]C!B$1:U$52,20,0)))","v":2},{"$f":"IFERROR(VLOOKUP(B102,[3]A!B$1:X$48,23,0),IFERROR(VLOOKUP(B102,[3]B!B$1:V$51,21,0),VLOOKUP(B102,[3]C!B$1:V$52,21,0)))","v":3},0,{"$f":"IFERROR(VLOOKUP(B102,[4]A!B$1:AA$48,26,0),IFERROR(VLOOKUP(B102,[4]B!B$1:AA$51,26,0),VLOOKUP(B102,[4]C!B$1:AA$52,26,0)))","v":15},{"$f":"IFERROR(VLOOKUP(B102,[4]A!B$1:AB$48,27,0),IFERROR(VLOOKUP(B102,[4]B!B$1:AB$51,27,0),VLOOKUP(B102,[4]C!B$1:AB$52,27,0)))","v":17},{"$f":"IFERROR(VLOOKUP(B102,[4]A!B$1:AD$48,29,0),IFERROR(VLOOKUP(B102,[4]B!B$1:AD$51,29,0),VLOOKUP(B102,[4]C!B$1:AD$52,29,0)))","v":0},{"$f":"IFERROR(VLOOKUP(B102,[4]A!B$1:AE$48,30,0),IFERROR(VLOOKUP(B102,[4]B!B$1:AE$51,30,0),VLOOKUP(B102,[4]C!B$1:AE$52,30,0)))","v":2},{"$f":"IFERROR(VLOOKUP(B102,[4]A!B$1:AF$48,31,0),IFERROR(VLOOKUP(B102,[4]B!B$1:AF$51,31,0),VLOOKUP(B102,[4]C!B$1:AF$52,31,0)))","v":3},{"$f":"IFERROR(VLOOKUP(B102,[4]A!B$1:AH$48,33,0),IFERROR(VLOOKUP(B102,[4]B!B$1:AH$51,33,0),VLOOKUP(B102,[4]C!B$1:AH$52,33,0)))","v":0},6,6,null,1,1,null,80,0,0,71,71,88.75,5,"C-12",8,8,21]
[102,"15BA025",{"$f":"VLOOKUP(B103,[1]C!B$1:AA$48,26,0)","v":8},{"$f":"VLOOKUP(B103,[1]C!B$1:AB$48,27,0)","v":9},{"$f":"VLOOKUP(B103,[1]C!B$1:AD$48,29,0)","v":0},{"$f":"VLOOKUP(B103,[1]C!B$1:AE$48,30,0)","v":0},{"$f":"VLOOKUP(B103,[1]C!B$1:AF$48,31,0)","v":0},{"$f":"VLOOKUP(B103,[1]C!B$1:AH$48,33,0)","v":0},{"$f":"IFERROR(VLOOKUP(B103,[2]A!B$1:AA$48,26,0),IFERROR(VLOOKUP(B103,[2]B!B$1:AA$51,26,0),VLOOKUP(B103,[2]C!B$1:AA$52,26,0)))","v":20},{"$f":"IFERROR(VLOOKUP(B103,[2]A!B$1:AB$48,27,0),IFERROR(VLOOKUP(B103,[2]B!B$1:AB$51,27,0),VLOOKUP(B103,[2]C!B$1:AB$52,27,0)))","v":21},{"$f":"IFERROR(VLOOKUP(B103,[2]A!B$1:AD$48,29,0),IFERROR(VLOOKUP(B103,[2]B!B$1:AD$51,29,0),VLOOKUP(B103,[2]C!B$1:AD$52,29,0)))","v":0},{"$f":"IFERROR(VLOOKUP(B103,[2]A!B$1:AE$48,30,0),IFERROR(VLOOKUP(B103,[2]B!B$1:AE$51,30,0),VLOOKUP(B103,[2]C!B$1:AE$52,30,0)))","v":0},{"$f":"IFERROR(VLOOKUP(B103,[2]A!B$1:AF$48,31,0),IFERROR(VLOOKUP(B103,[2]B!B$1:AF$51,31,0),VLOOKUP(B103,[2]C!B$1:AF$52,31,0)))","v":0},{"$f":"IFERROR(VLOOKUP(B103,[2]A!B$1:AH$48,33,0),IFERROR(VLOOKUP(B103,[2]B!B$1:AH$51,33,0),VLOOKUP(B103,[2]C!$B$1:$AH$52,33,0)))","v":0},{"$f":"IFERROR(VLOOKUP(B103,[3]A!B$1:S$48,18,0),IFERROR(VLOOKUP(B103,[3]B!B$1:Q$51,16,0),VLOOKUP(B103,[3]C!B$1:Q$52,16,0)))","v":15},{"$f":"IFERROR(VLOOKUP(B103,[3]A!B$1:T$48,19,0),IFERROR(VLOOKUP(B103,[3]B!B$1:R$51,17,0),VLOOKUP(B103,[3]C!B$1:R$52,17,0)))","v":16},{"$f":"IFERROR(VLOOKUP(B103,[3]A!B$1:V$48,21,0),IFERROR(VLOOKUP(B103,[3]B!B$1:T$51,19,0),VLOOKUP(B103,[3]C!B$1:T$52,19,0)))","v":0},{"$f":"IFERROR(VLOOKUP(B103,[3]A!B$1:W$48,22,0),IFERROR(VLOOKUP(B103,[3]B!B$1:U$51,20,0),VLOOKUP(B103,[3]C!B$1:U$52,20,0)))","v":0},{"$f":"IFERROR(VLOOKUP(B103,[3]A!B$1:X$48,23,0),IFERROR(VLOOKUP(B103,[3]B!B$1:V$51,21,0),VLOOKUP(B103,[3]C!B$1:V$52,21,0)))","v":1},0,{"$f":"IFERROR(VLOOKUP(B103,[4]A!B$1:AA$48,26,0),IFERROR(VLOOKUP(B103,[4]B!B$1:AA$51,26,0),VLOOKUP(B103,[4]C!B$1:AA$52,26,0)))","v":15},{"$f":"IFERROR(VLOOKUP(B103,[4]A!B$1:AB$48,27,0),IFERROR(VLOOKUP(B103,[4]B!B$1:AB$51,27,0),VLOOKUP(B103,[4]C!B$1:AB$52,27,0)))","v":17},{"$f":"IFERROR(VLOOKUP(B103,[4]A!B$1:AD$48,29,0),IFERROR(VLOOKUP(B103,[4]B!B$1:AD$51,29,0),VLOOKUP(B103,[4]C!B$1:AD$52,29,0)))","v":0},{"$f":"IFERROR(VLOOKUP(B103,[4]A!B$1:AE$48,30,0),IFERROR(VLOOKUP(B103,[4]B!B$1:AE$51,30,0),VLOOKUP(B103,[4]C!B$1:AE$52,30,0)))","v":0},{"$f":"IFERROR(VLOOKUP(B103,[4]A!B$1:AF$48,31,0),IFERROR(VLOOKUP(B103,[4]B!B$1:AF$51,31,0),VLOOKUP(B103,[4]C!B$1:AF$52,31,0)))","v":4},{"$f":"IFERROR(VLOOKUP(B103,[4]A!B$1:AH$48,33,0),IFERROR(VLOOKUP(B103,[4]B!B$1:AH$51,33,0),VLOOKUP(B103,[4]C!B$1:AH$52,33,0)))","v":0},5,6,null,null,null,null,74,0,0,63,63,85.13513513513513,5,null,8,6,19]
[103,"15BA028",{"$f":"VLOOKUP(B104,[1]C!B$1:AA$48,26,0)","v":8},{"$f":"VLOOKUP(B104,[1]C!B$1:AB$48,27,0)","v":9},{"$f":"VLOOKUP(B104,[1]C!B$1:AD$48,29,0)","v":0},{"$f":"VLOOKUP(B104,[1]C!B$1:AE$48,30,0)","v":0},{"$f":"VLOOKUP(B104,[1]C!B$1:AF$48,31,0)","v":0},{"$f":"VLOOKUP(B104,[1]C!B$1:AH$48,33,0)","v":0},{"$f":"IFERROR(VLOOKUP(B104,[2]A!B$1:AA$48,26,0),IFERROR(VLOOKUP(B104,[2]B!B$1:AA$51,26,0),VLOOKUP(B104,[2]C!B$1:AA$52,26,0)))","v":19},{"$f":"IFERROR(VLOOKUP(B104,[2]A!B$1:AB$48,27,0),IFERROR(VLOOKUP(B104,[2]B!B$1:AB$51,27,0),VLOOKUP(B104,[2]C!B$1:AB$52,27,0)))","v":21},{"$f":"IFERROR(VLOOKUP(B104,[2]A!B$1:AD$48,29,0),IFERROR(VLOOKUP(B104,[2]B!B$1:AD$51,29,0),VLOOKUP(B104,[2]C!B$1:AD$52,29,0)))","v":0},{"$f":"IFERROR(VLOOKUP(B104,[2]A!B$1:AE$48,30,0),IFERROR(VLOOKUP(B104,[2]B!B$1:AE$51,30,0),VLOOKUP(B104,[2]C!B$1:AE$52,30,0)))","v":0},{"$f":"IFERROR(VLOOKUP(B104,[2]A!B$1:AF$48,31,0),IFERROR(VLOOKUP(B104,[2]B!B$1:AF$51,31,0),VLOOKUP(B104,[2]C!B$1:AF$52,31,0)))","v":0},{"$f":"IFERROR(VLOOKUP(B104,[2]A!B$1:AH$48,33,0),IFERROR(VLOOKUP(B104,[2]B!B$1:AH$51,33,0),VLOOKUP(B104,[2]C!$B$1:$AH$52,33,0)))","v":0},{"$f":"IFERROR(VLOOKUP(B104,[3]A!B$1:S$48,18,0),IFERROR(VLOOKUP(B104,[3]B!B$1:Q$51,16,0),VLOOKUP(B104,[3]C!B$1:Q$52,16,0)))","v":15},{"$f":"IFERROR(VLOOKUP(B104,[3]A!B$1:T$48,19,0),IFERROR(VLOOKUP(B104,[3]B!B$1:R$51,17,0),VLOOKUP(B104,[3]C!B$1:R$52,17,0)))","v":16},{"$f":"IFERROR(VLOOKUP(B104,[3]A!B$1:V$48,21,0),IFERROR(VLOOKUP(B104,[3]B!B$1:T$51,19,0),VLOOKUP(B104,[3]C!B$1:T$52,19,0)))","v":0},{"$f":"IFERROR(VLOOKUP(B104,[3]A!B$1:W$48,22,0),IFERROR(VLOOKUP(B104,[3]B!B$1:U$51,20,0),VLOOKUP(B104,[3]C!B$1:U$52,20,0)))","v":0},{"$f":"IFERROR(VLOOKUP(B104,[3]A!B$1:X$48,23,0),IFERROR(VLOOKUP(B104,[3]B!B$1:V$51,21,0),VLOOKUP(B104,[3]C!B$1:V$52,21,0)))","v":1},0,{"$f":"IFERROR(VLOOKUP(B104,[4]A!B$1:AA$48,26,0),IFERROR(VLOOKUP(B104,[4]B!B$1:AA$51,26,0),VLOOKUP(B104,[4]C!B$1:AA$52,26,0)))","v":15},{"$f":"IFERROR(VLOOKUP(B104,[4]A!B$1:AB$48,27,0),IFERROR(VLOOKUP(B104,[4]B!B$1:AB$51,27,0),VLOOKUP(B104,[4]C!B$1:AB$52,27,0)))","v":17},{"$f":"IFERROR(VLOOKUP(B104,[4]A!B$1:AD$48,29,0),IFERROR(VLOOKUP(B104,[4]B!B$1:AD$51,29,0),VLOOKUP(B104,[4]C!B$1:AD$52,29,0)))","v":0},{"$f":"IFERROR(VLOOKUP(B104,[4]A!B$1:AE$48,30,0),IFERROR(VLOOKUP(B104,[4]B!B$1:AE$51,30,0),VLOOKUP(B104,[4]C!B$1:AE$52,30,0)))","v":0},{"$f":"IFERROR(VLOOKUP(B104,[4]A!B$1:AF$48,31,0),IFERROR(VLOOKUP(B104,[4]B!B$1:AF$51,31,0),VLOOKUP(B104,[4]C!B$1:AF$52,31,0)))","v":4},{"$f":"IFERROR(VLOOKUP(B104,[4]A!B$1:AH$48,33,0),IFERROR(VLOOKUP(B104,[4]B!B$1:AH$51,33,0),VLOOKUP(B104,[4]C!B$1:AH$52,33,0)))","v":0},5,6,null,null,null,null,74,0,0,62,62,83.78378378378379,4,null,7,5,16]
[104,"15BA031",{"$f":"VLOOKUP(B105,[1]C!B$1:AA$48,26,0)","v":8},{"$f":"VLOOKUP(B105,[1]C!B$1:AB$48,27,0)","v":9},{"$f":"VLOOKUP(B105,[1]C!B$1:AD$48,29,0)","v":0},{"$f":"VLOOKUP(B105,[1]C!B$1:AE$48,30,0)","v":0},{"$f":"VLOOKUP(B105,[1]C!B$1:AF$48,31,0)","v":0},{"$f":"VLOOKUP(B105,[1]C!B$1:AH$48,33,0)","v":0},{"$f":"IFERROR(VLOOKUP(B105,[2]A!B$1:AA$48,26,0),IFERROR(VLOOKUP(B105,[2]B!B$1:AA$51,26,0),VLOOKUP(B105,[2]C!B$1:AA$52,26,0)))","v":19},{"$f":"IFERROR(VLOOKUP(B105,[2]A!B$1:AB$48,27,0),IFERROR(VLOOKUP(B105,[2]B!B$1:AB$51,27,0),VLOOKUP(B105,[2]C!B$1:AB$52,27,0)))","v":21},{"$f":"IFERROR(VLOOKUP(B105,[2]A!B$1:AD$48,29,0),IFERROR(VLOOKUP(B105,[2]B!B$1:AD$51,29,0),VLOOKUP(B105,[2]C!B$1:AD$52,29,0)))","v":0},{"$f":"IFERROR(VLOOKUP(B105,[2]A!B$1:AE$48,30,0),IFERROR(VLOOKUP(B105,[2]B!B$1:AE$51,30,0),VLOOKUP(B105,[2]C!B$1:AE$52,30,0)))","v":0},{"$f":"IFERROR(VLOOKUP(B105,[2]A!B$1:AF$48,31,0),IFERROR(VLOOKUP(B105,[2]B!B$1:AF$51,31,0),VLOOKUP(B105,[2]C!B$1:AF$52,31,0)))","v":0},{"$f":"IFERROR(VLOOKUP(B105,[2]A!B$1:AH$48,33,0),IFERROR(VLOOKUP(B105,[2]B!B$1:AH$51,33,0),VLOOKUP(B105,[2]C!$B$1:$AH$52,33,0)))","v":0},{"$f":"IFERROR(VLOOKUP(B105,[3]A!B$1:S$48,18,0),IFERROR(VLOOKUP(B105,[3]B!B$1:Q$51,16,0),VLOOKUP(B105,[3]C!B$1:Q$52,16,0)))","v":15},{"$f":"IFERROR(VLOOKUP(B105,[3]A!B$1:T$48,19,0),IFERROR(VLOOKUP(B105,[3]B!B$1:R$51,17,0),VLOOKUP(B105,[3]C!B$1:R$52,17,0)))","v":16},{"$f":"IFERROR(VLOOKUP(B105,[3]A!B$1:V$48,21,0),IFERROR(VLOOKUP(B105,[3]B!B$1:T$51,19,0),VLOOKUP(B105,[3]C!B$1:T$52,19,0)))","v":0},{"$f":"IFERROR(VLOOKUP(B105,[3]A!B$1:W$48,22,0),IFERROR(VLOOKUP(B105,[3]B!B$1:U$51,20,0),VLOOKUP(B105,[3]C!B$1:U$52,20,0)))","v":0},{"$f":"IFERROR(VLOOKUP(B105,[3]A!B$1:X$48,23,0),IFERROR(VLOOKUP(B105,[3]B!B$1:V$51,21,0),VLOOKUP(B105,[3]C!B$1:V$52,21,0)))","v":1},0,{"$f":"IFERROR(VLOOKUP(B105,[4]A!B$1:AA$48,26,0),IFERROR(VLOOKUP(B105,[4]B!B$1:AA$51,26,0),VLOOKUP(B105,[4]C!B$1:AA$52,26,0)))","v":15},{"$f":"IFERROR(VLOOKUP(B105,[4]A!B$1:AB$48,27,0),IFERROR(VLOOKUP(B105,[4]B!B$1:AB$51,27,0),VLOOKUP(B105,[4]C!B$1:AB$52,27,0)))","v":17},{"$f":"IFERROR(VLOOKUP(B105,[4]A!B$1:AD$48,29,0),IFERROR(VLOOKUP(B105,[4]B!B$1:AD$51,29,0),VLOOKUP(B105,[4]C!B$1:AD$52,29,0)))","v":0},{"$f":"IFERROR(VLOOKUP(B105,[4]A!B$1:AE$48,30,0),IFERROR(VLOOKUP(B105,[4]B!B$1:AE$51,30,0),VLOOKUP(B105,[4]C!B$1:AE$52,30,0)))","v":0},{"$f":"IFERROR(VLOOKUP(B105,[4]A!B$1:AF$48,31,0),IFERROR(VLOOKUP(B105,[4]B!B$1:AF$51,31,0),VLOOKUP(B105,[4]C!B$1:AF$52,31,0)))","v":4},{"$f":"IFERROR(VLOOKUP(B105,[4]A!B$1:AH$48,33,0),IFERROR(VLOOKUP(B105,[4]B!B$1:AH$51,33,0),VLOOKUP(B105,[4]C!B$1:AH$52,33,0)))","v":0},5,6,null,null,null,null,74,0,0,62,62,83.78378378378379,4,null,8,7,19]
[105,"15BA032",{"$f":"VLOOKUP(B106,[1]C!B$1:AA$48,26,0)","v":8},{"$f":"VLOOKUP(B106,[1]C!B$1:AB$48,27,0)","v":9},{"$f":"VLOOKUP(B106,[1]C!B$1:AD$48,29,0)","v":0},{"$f":"VLOOKUP(B106,[1]C!B$1:AE$48,30,0)","v":0},{"$f":"VLOOKUP(B106,[1]C!B$1:AF$48,31,0)","v":0},{"$f":"VLOOKUP(B106,[1]C!B$1:AH$48,33,0)","v":0},{"$f":"IFERROR(VLOOKUP(B106,[2]A!B$1:AA$48,26,0),IFERROR(VLOOKUP(B106,[2]B!B$1:AA$51,26,0),VLOOKUP(B106,[2]C!B$1:AA$52,26,0)))","v":19},{"$f":"IFERROR(VLOOKUP(B106,[2]A!B$1:AB$48,27,0),IFERROR(VLOOKUP(B106,[2]B!B$1:AB$51,27,0),VLOOKUP(B106,[2]C!B$1:AB$52,27,0)))","v":21},{"$f":"IFERROR(VLOOKUP(B106,[2]A!B$1:AD$48,29,0),IFERROR(VLOOKUP(B106,[2]B!B$1:AD$51,29,0),VLOOKUP(B106,[2]C!B$1:AD$52,29,0)))","v":0},{"$f":"IFERROR(VLOOKUP(B106,[2]A!B$1:AE$48,30,0),IFERROR(VLOOKUP(B106,[2]B!B$1:AE$51,30,0),VLOOKUP(B106,[2]C!B$1:AE$52,30,0)))","v":0},{"$f":"IFERROR(VLOOKUP(B106,[2]A!B$1:AF$48,31,0),IFERROR(VLOOKUP(B106,[2]B!B$1:AF$51,31,0),VLOOKUP(B106,[2]C!B$1:AF$52,31,0)))","v":0},{"$f":"IFERROR(VLOOKUP(B106,[2]A!B$1:AH$48,33,0),IFERROR(VLOOKUP(B106,[2]B!B$1:AH$51,33,0),VLOOKUP(B106,[2]C!$B$1:$AH$52,33,0)))","v":0},{"$f":"IFERROR(VLOOKUP(B106,[3]A!B$1:S$48,18,0),IFERROR(VLOOKUP(B106,[3]B!B$1:Q$51,16,0),VLOOKUP(B106,[3]C!B$1:Q$52,16,0)))","v":14},{"$f":"IFERROR(VLOOKUP(B106,[3]A!B$1:T$48,19,0),IFERROR(VLOOKUP(B106,[3]B!B$1:R$51,17,0),VLOOKUP(B106,[3]C!B$1:R$52,17,0)))","v":16},{"$f":"IFERROR(VLOOKUP(B106,[3]A!B$1:V$48,21,0),IFERROR(VLOOKUP(B106,[3]B!B$1:T$51,19,0),VLOOKUP(B106,[3]C!B$1:T$52,19,0)))","v":0},{"$f":"IFERROR(VLOOKUP(B106,[3]A!B$1:W$48,22,0),IFERROR(VLOOKUP(B106,[3]B!B$1:U$51,20,0),VLOOKUP(B106,[3]C!B$1:U$52,20,0)))","v":0},{"$f":"IFERROR(VLOOKUP(B106,[3]A!B$1:X$48,23,0),IFERROR(VLOOKUP(B106,[3]B!B$1:V$51,21,0),VLOOKUP(B106,[3]C!B$1:V$52,21,0)))","v":1},0,{"$f":"IFERROR(VLOOKUP(B106,[4]A!B$1:AA$48,26,0),IFERROR(VLOOKUP(B106,[4]B!B$1:AA$51,26,0),VLOOKUP(B106,[4]C!B$1:AA$52,26,0)))","v":15},{"$f":"IFERROR(VLOOKUP(B106,[4]A!B$1:AB$48,27,0),IFERROR(VLOOKUP(B106,[4]B!B$1:AB$51,27,0),VLOOKUP(B106,[4]C!B$1:AB$52,27,0)))","v":17},{"$f":"IFERROR(VLOOKUP(B106,[4]A!B$1:AD$48,29,0),IFERROR(VLOOKUP(B106,[4]B!B$1:AD$51,29,0),VLOOKUP(B106,[4]C!B$1:AD$52,29,0)))","v":0},{"$f":"IFERROR(VLOOKUP(B106,[4]A!B$1:AE$48,30,0),IFERROR(VLOOKUP(B106,[4]B!B$1:AE$51,30,0),VLOOKUP(B106,[4]C!B$1:AE$52,30,0)))","v":0},{"$f":"IFERROR(VLOOKUP(B106,[4]A!B$1:AF$48,31,0),IFERROR(VLOOKUP(B106,[4]B!B$1:AF$51,31,0),VLOOKUP(B106,[4]C!B$1:AF$52,31,0)))","v":4},{"$f":"IFERROR(VLOOKUP(B106,[4]A!B$1:AH$48,33,0),IFERROR(VLOOKUP(B106,[4]B!B$1:AH$51,33,0),VLOOKUP(B106,[4]C!B$1:AH$52,33,0)))","v":0},5,6,null,null,null,null,74,0,0,61,61,82.432432432432435,4,null,8,5,17]
[106,"15BA034",{"$f":"VLOOKUP(B107,[1]C!B$1:AA$48,26,0)","v":8},{"$f":"VLOOKUP(B107,[1]C!B$1:AB$48,27,0)","v":9},{"$f":"VLOOKUP(B107,[1]C!B$1:AD$48,29,0)","v":0},{"$f":"VLOOKUP(B107,[1]C!B$1:AE$48,30,0)","v":0},{"$f":"VLOOKUP(B107,[1]C!B$1:AF$48,31,0)","v":0},{"$f":"VLOOKUP(B107,[1]C!B$1:AH$48,33,0)","v":0},{"$f":"IFERROR(VLOOKUP(B107,[2]A!B$1:AA$48,26,0),IFERROR(VLOOKUP(B107,[2]B!B$1:AA$51,26,0),VLOOKUP(B107,[2]C!B$1:AA$52,26,0)))","v":19},{"$f":"IFERROR(VLOOKUP(B107,[2]A!B$1:AB$48,27,0),IFERROR(VLOOKUP(B107,[2]B!B$1:AB$51,27,0),VLOOKUP(B107,[2]C!B$1:AB$52,27,0)))","v":21},{"$f":"IFERROR(VLOOKUP(B107,[2]A!B$1:AD$48,29,0),IFERROR(VLOOKUP(B107,[2]B!B$1:AD$51,29,0),VLOOKUP(B107,[2]C!B$1:AD$52,29,0)))","v":0},{"$f":"IFERROR(VLOOKUP(B107,[2]A!B$1:AE$48,30,0),IFERROR(VLOOKUP(B107,[2]B!B$1:AE$51,30,0),VLOOKUP(B107,[2]C!B$1:AE$52,30,0)))","v":0},{"$f":"IFERROR(VLOOKUP(B107,[2]A!B$1:AF$48,31,0),IFERROR(VLOOKUP(B107,[2]B!B$1:AF$51,31,0),VLOOKUP(B107,[2]C!B$1:AF$52,31,0)))","v":0},{"$f":"IFERROR(VLOOKUP(B107,[2]A!B$1:AH$48,33,0),IFERROR(VLOOKUP(B107,[2]B!B$1:AH$51,33,0),VLOOKUP(B107,[2]C!$B$1:$AH$52,33,0)))","v":0},{"$f":"IFERROR(VLOOKUP(B107,[3]A!B$1:S$48,18,0),IFERROR(VLOOKUP(B107,[3]B!B$1:Q$51,16,0),VLOOKUP(B107,[3]C!B$1:Q$52,16,0)))","v":15},{"$f":"IFERROR(VLOOKUP(B107,[3]A!B$1:T$48,19,0),IFERROR(VLOOKUP(B107,[3]B!B$1:R$51,17,0),VLOOKUP(B107,[3]C!B$1:R$52,17,0)))","v":16},{"$f":"IFERROR(VLOOKUP(B107,[3]A!B$1:V$48,21,0),IFERROR(VLOOKUP(B107,[3]B!B$1:T$51,19,0),VLOOKUP(B107,[3]C!B$1:T$52,19,0)))","v":0},{"$f":"IFERROR(VLOOKUP(B107,[3]A!B$1:W$48,22,0),IFERROR(VLOOKUP(B107,[3]B!B$1:U$51,20,0),VLOOKUP(B107,[3]C!B$1:U$52,20,0)))","v":0},{"$f":"IFERROR(VLOOKUP(B107,[3]A!B$1:X$48,23,0),IFERROR(VLOOKUP(B107,[3]B!B$1:V$51,21,0),VLOOKUP(B107,[3]C!B$1:V$52,21,0)))","v":1},0,{"$f":"IFERROR(VLOOKUP(B107,[4]A!B$1:AA$48,26,0),IFERROR(VLOOKUP(B107,[4]B!B$1:AA$51,26,0),VLOOKUP(B107,[4]C!B$1:AA$52,26,0)))","v":15},{"$f":"IFERROR(VLOOKUP(B107,[4]A!B$1:AB$48,27,0),IFERROR(VLOOKUP(B107,[4]B!B$1:AB$51,27,0),VLOOKUP(B107,[4]C!B$1:AB$52,27,0)))","v":17},{"$f":"IFERROR(VLOOKUP(B107,[4]A!B$1:AD$48,29,0),IFERROR(VLOOKUP(B107,[4]B!B$1:AD$51,29,0),VLOOKUP(B107,[4]C!B$1:AD$52,29,0)))","v":0},{"$f":"IFERROR(VLOOKUP(B107,[4]A!B$1:AE$48,30,0),IFERROR(VLOOKUP(B107,[4]B!B$1:AE$51,30,0),VLOOKUP(B107,[4]C!B$1:AE$52,30,0)))","v":2},{"$f":"IFERROR(VLOOKUP(B107,[4]A!B$1:AF$48,31,0),IFERROR(VLOOKUP(B107,[4]B!B$1:AF$51,31,0),VLOOKUP(B107,[4]C!B$1:AF$52,31,0)))","v":4},{"$f":"IFERROR(VLOOKUP(B107,[4]A!B$1:AH$48,33,0),IFERROR(VLOOKUP(B107,[4]B!B$1:AH$51,33,0),VLOOKUP(B107,[4]C!B$1:AH$52,33,0)))","v":0},5,6,null,null,null,null,74,0,0,64,64,86.486486486486484,5,null,8,7,20]
[107,"15BA037",{"$f":"VLOOKUP(B108,[1]C!B$1:AA$48,26,0)","v":8},{"$f":"VLOOKUP(B108,[1]C!B$1:AB$48,27,0)","v":9},{"$f":"VLOOKUP(B108,[1]C!B$1:AD$48,29,0)","v":0},{"$f":"VLOOKUP(B108,[1]C!B$1:AE$48,30,0)","v":0},{"$f":"VLOOKUP(B108,[1]C!B$1:AF$48,31,0)","v":0},{"$f":"VLOOKUP(B108,[1]C!B$1:AH$48,33,0)","v":0},{"$f":"IFERROR(VLOOKUP(B108,[2]A!B$1:AA$48,26,0),IFERROR(VLOOKUP(B108,[2]B!B$1:AA$51,26,0),VLOOKUP(B108,[2]C!B$1:AA$52,26,0)))","v":19},{"$f":"IFERROR(VLOOKUP(B108,[2]A!B$1:AB$48,27,0),IFERROR(VLOOKUP(B108,[2]B!B$1:AB$51,27,0),VLOOKUP(B108,[2]C!B$1:AB$52,27,0)))","v":21},{"$f":"IFERROR(VLOOKUP(B108,[2]A!B$1:AD$48,29,0),IFERROR(VLOOKUP(B108,[2]B!B$1:AD$51,29,0),VLOOKUP(B108,[2]C!B$1:AD$52,29,0)))","v":0},{"$f":"IFERROR(VLOOKUP(B108,[2]A!B$1:AE$48,30,0),IFERROR(VLOOKUP(B108,[2]B!B$1:AE$51,30,0),VLOOKUP(B108,[2]C!B$1:AE$52,30,0)))","v":0},{"$f":"IFERROR(VLOOKUP(B108,[2]A!B$1:AF$48,31,0),IFERROR(VLOOKUP(B108,[2]B!B$1:AF$51,31,0),VLOOKUP(B108,[2]C!B$1:AF$52,31,0)))","v":0},{"$f":"IFERROR(VLOOKUP(B108,[2]A!B$1:AH$48,33,0),IFERROR(VLOOKUP(B108,[2]B!B$1:AH$51,33,0),VLOOKUP(B108,[2]C!$B$1:$AH$52,33,0)))","v":0},{"$f":"IFERROR(VLOOKUP(B108,[3]A!B$1:S$48,18,0),IFERROR(VLOOKUP(B108,[3]B!B$1:Q$51,16,0),VLOOKUP(B108,[3]C!B$1:Q$52,16,0)))","v":14},{"$f":"IFERROR(VLOOKUP(B108,[3]A!B$1:T$48,19,0),IFERROR(VLOOKUP(B108,[3]B!B$1:R$51,17,0),VLOOKUP(B108,[3]C!B$1:R$52,17,0)))","v":16},{"$f":"IFERROR(VLOOKUP(B108,[3]A!B$1:V$48,21,0),IFERROR(VLOOKUP(B108,[3]B!B$1:T$51,19,0),VLOOKUP(B108,[3]C!B$1:T$52,19,0)))","v":0},{"$f":"IFERROR(VLOOKUP(B108,[3]A!B$1:W$48,22,0),IFERROR(VLOOKUP(B108,[3]B!B$1:U$51,20,0),VLOOKUP(B108,[3]C!B$1:U$52,20,0)))","v":0},{"$f":"IFERROR(VLOOKUP(B108,[3]A!B$1:X$48,23,0),IFERROR(VLOOKUP(B108,[3]B!B$1:V$51,21,0),VLOOKUP(B108,[3]C!B$1:V$52,21,0)))","v":1},0,{"$f":"IFERROR(VLOOKUP(B108,[4]A!B$1:AA$48,26,0),IFERROR(VLOOKUP(B108,[4]B!B$1:AA$51,26,0),VLOOKUP(B108,[4]C!B$1:AA$52,26,0)))","v":15},{"$f":"IFERROR(VLOOKUP(B108,[4]A!B$1:AB$48,27,0),IFERROR(VLOOKUP(B108,[4]B!B$1:AB$51,27,0),VLOOKUP(B108,[4]C!B$1:AB$52,27,0)))","v":17},{"$f":"IFERROR(VLOOKUP(B108,[4]A!B$1:AD$48,29,0),IFERROR(VLOOKUP(B108,[4]B!B$1:AD$51,29,0),VLOOKUP(B108,[4]C!B$1:AD$52,29,0)))","v":0},{"$f":"IFERROR(VLOOKUP(B108,[4]A!B$1:AE$48,30,0),IFERROR(VLOOKUP(B108,[4]B!B$1:AE$51,30,0),VLOOKUP(B108,[4]C!B$1:AE$52,30,0)))","v":0},{"$f":"IFERROR(VLOOKUP(B108,[4]A!B$1:AF$48,31,0),IFERROR(VLOOKUP(B108,[4]B!B$1:AF$51,31,0),VLOOKUP(B108,[4]C!B$1:AF$52,31,0)))","v":4},{"$f":"IFERROR(VLOOKUP(B108,[4]A!B$1:AH$48,33,0),IFERROR(VLOOKUP(B108,[4]B!B$1:AH$51,33,0),VLOOKUP(B108,[4]C!B$1:AH$52,33,0)))","v":0},6,6,null,null,null,null,74,0,0,62,62,83.78378378378379,4,null,9,8,21]
[108,"15BA045",{"$f":"VLOOKUP(B109,[1]C!B$1:AA$48,26,0)","v":8},{"$f":"VLOOKUP(B109,[1]C!B$1:AB$48,27,0)","v":9},{"$f":"VLOOKUP(B109,[1]C!B$1:AD$48,29,0)","v":0},{"$f":"VLOOKUP(B109,[1]C!B$1:AE$48,30,0)","v":0},{"$f":"VLOOKUP(B109,[1]C!B$1:AF$48,31,0)","v":0},{"$f":"VLOOKUP(B109,[1]C!B$1:AH$48,33,0)","v":0},{"$f":"IFERROR(VLOOKUP(B109,[2]A!B$1:AA$48,26,0),IFERROR(VLOOKUP(B109,[2]B!B$1:AA$51,26,0),VLOOKUP(B109,[2]C!B$1:AA$52,26,0)))","v":19},{"$f":"IFERROR(VLOOKUP(B109,[2]A!B$1:AB$48,27,0),IFERROR(VLOOKUP(B109,[2]B!B$1:AB$51,27,0),VLOOKUP(B109,[2]C!B$1:AB$52,27,0)))","v":21},{"$f":"IFERROR(VLOOKUP(B109,[2]A!B$1:AD$48,29,0),IFERROR(VLOOKUP(B109,[2]B!B$1:AD$51,29,0),VLOOKUP(B109,[2]C!B$1:AD$52,29,0)))","v":0},{"$f":"IFERROR(VLOOKUP(B109,[2]A!B$1:AE$48,30,0),IFERROR(VLOOKUP(B109,[2]B!B$1:AE$51,30,0),VLOOKUP(B109,[2]C!B$1:AE$52,30,0)))","v":3},{"$f":"IFERROR(VLOOKUP(B109,[2]A!B$1:AF$48,31,0),IFERROR(VLOOKUP(B109,[2]B!B$1:AF$51,31,0),VLOOKUP(B109,[2]C!B$1:AF$52,31,0)))","v":4},{"$f":"IFERROR(VLOOKUP(B109,[2]A!B$1:AH$48,33,0),IFERROR(VLOOKUP(B109,[2]B!B$1:AH$51,33,0),VLOOKUP(B109,[2]C!$B$1:$AH$52,33,0)))","v":0},{"$f":"IFERROR(VLOOKUP(B109,[3]A!B$1:S$48,18,0),IFERROR(VLOOKUP(B109,[3]B!B$1:Q$51,16,0),VLOOKUP(B109,[3]C!B$1:Q$52,16,0)))","v":14},{"$f":"IFERROR(VLOOKUP(B109,[3]A!B$1:T$48,19,0),IFERROR(VLOOKUP(B109,[3]B!B$1:R$51,17,0),VLOOKUP(B109,[3]C!B$1:R$52,17,0)))","v":16},{"$f":"IFERROR(VLOOKUP(B109,[3]A!B$1:V$48,21,0),IFERROR(VLOOKUP(B109,[3]B!B$1:T$51,19,0),VLOOKUP(B109,[3]C!B$1:T$52,19,0)))","v":0},{"$f":"IFERROR(VLOOKUP(B109,[3]A!B$1:W$48,22,0),IFERROR(VLOOKUP(B109,[3]B!B$1:U$51,20,0),VLOOKUP(B109,[3]C!B$1:U$52,20,0)))","v":2},{"$f":"IFERROR(VLOOKUP(B109,[3]A!B$1:X$48,23,0),IFERROR(VLOOKUP(B109,[3]B!B$1:V$51,21,0),VLOOKUP(B109,[3]C!B$1:V$52,21,0)))","v":3},0,{"$f":"IFERROR(VLOOKUP(B109,[4]A!B$1:AA$48,26,0),IFERROR(VLOOKUP(B109,[4]B!B$1:AA$51,26,0),VLOOKUP(B109,[4]C!B$1:AA$52,26,0)))","v":15},{"$f":"IFERROR(VLOOKUP(B109,[4]A!B$1:AB$48,27,0),IFERROR(VLOOKUP(B109,[4]B!B$1:AB$51,27,0),VLOOKUP(B109,[4]C!B$1:AB$52,27,0)))","v":17},{"$f":"IFERROR(VLOOKUP(B109,[4]A!B$1:AD$48,29,0),IFERROR(VLOOKUP(B109,[4]B!B$1:AD$51,29,0),VLOOKUP(B109,[4]C!B$1:AD$52,29,0)))","v":0},{"$f":"IFERROR(VLOOKUP(B109,[4]A!B$1:AE$48,30,0),IFERROR(VLOOKUP(B109,[4]B!B$1:AE$51,30,0),VLOOKUP(B109,[4]C!B$1:AE$52,30,0)))","v":2},{"$f":"IFERROR(VLOOKUP(B109,[4]A!B$1:AF$48,31,0),IFERROR(VLOOKUP(B109,[4]B!B$1:AF$51,31,0),VLOOKUP(B109,[4]C!B$1:AF$52,31,0)))","v":3},{"$f":"IFERROR(VLOOKUP(B109,[4]A!B$1:AH$48,33,0),IFERROR(VLOOKUP(B109,[4]B!B$1:AH$51,33,0),VLOOKUP(B109,[4]C!B$1:AH$52,33,0)))","v":0},5,6,null,1,1,null,80,0,0,69,69,86.25,5,"C-11",8,7,20]
[109,"15BA046",{"$f":"VLOOKUP(B110,[1]C!B$1:AA$48,26,0)","v":8},{"$f":"VLOOKUP(B110,[1]C!B$1:AB$48,27,0)","v":9},{"$f":"VLOOKUP(B110,[1]C!B$1:AD$48,29,0)","v":0},{"$f":"VLOOKUP(B110,[1]C!B$1:AE$48,30,0)","v":0},{"$f":"VLOOKUP(B110,[1]C!B$1:AF$48,31,0)","v":0},{"$f":"VLOOKUP(B110,[1]C!B$1:AH$48,33,0)","v":0},{"$f":"IFERROR(VLOOKUP(B110,[2]A!B$1:AA$48,26,0),IFERROR(VLOOKUP(B110,[2]B!B$1:AA$51,26,0),VLOOKUP(B110,[2]C!B$1:AA$52,26,0)))","v":19},{"$f":"IFERROR(VLOOKUP(B110,[2]A!B$1:AB$48,27,0),IFERROR(VLOOKUP(B110,[2]B!B$1:AB$51,27,0),VLOOKUP(B110,[2]C!B$1:AB$52,27,0)))","v":21},{"$f":"IFERROR(VLOOKUP(B110,[2]A!B$1:AD$48,29,0),IFERROR(VLOOKUP(B110,[2]B!B$1:AD$51,29,0),VLOOKUP(B110,[2]C!B$1:AD$52,29,0)))","v":0},{"$f":"IFERROR(VLOOKUP(B110,[2]A!B$1:AE$48,30,0),IFERROR(VLOOKUP(B110,[2]B!B$1:AE$51,30,0),VLOOKUP(B110,[2]C!B$1:AE$52,30,0)))","v":3},{"$f":"IFERROR(VLOOKUP(B110,[2]A!B$1:AF$48,31,0),IFERROR(VLOOKUP(B110,[2]B!B$1:AF$51,31,0),VLOOKUP(B110,[2]C!B$1:AF$52,31,0)))","v":4},{"$f":"IFERROR(VLOOKUP(B110,[2]A!B$1:AH$48,33,0),IFERROR(VLOOKUP(B110,[2]B!B$1:AH$51,33,0),VLOOKUP(B110,[2]C!$B$1:$AH$52,33,0)))","v":0},{"$f":"IFERROR(VLOOKUP(B110,[3]A!B$1:S$48,18,0),IFERROR(VLOOKUP(B110,[3]B!B$1:Q$51,16,0),VLOOKUP(B110,[3]C!B$1:Q$52,16,0)))","v":14},{"$f":"IFERROR(VLOOKUP(B110,[3]A!B$1:T$48,19,0),IFERROR(VLOOKUP(B110,[3]B!B$1:R$51,17,0),VLOOKUP(B110,[3]C!B$1:R$52,17,0)))","v":16},{"$f":"IFERROR(VLOOKUP(B110,[3]A!B$1:V$48,21,0),IFERROR(VLOOKUP(B110,[3]B!B$1:T$51,19,0),VLOOKUP(B110,[3]C!B$1:T$52,19,0)))","v":2},{"$f":"IFERROR(VLOOKUP(B110,[3]A!B$1:W$48,22,0),IFERROR(VLOOKUP(B110,[3]B!B$1:U$51,20,0),VLOOKUP(B110,[3]C!B$1:U$52,20,0)))","v":2},{"$f":"IFERROR(VLOOKUP(B110,[3]A!B$1:X$48,23,0),IFERROR(VLOOKUP(B110,[3]B!B$1:V$51,21,0),VLOOKUP(B110,[3]C!B$1:V$52,21,0)))","v":3},0,{"$f":"IFERROR(VLOOKUP(B110,[4]A!B$1:AA$48,26,0),IFERROR(VLOOKUP(B110,[4]B!B$1:AA$51,26,0),VLOOKUP(B110,[4]C!B$1:AA$52,26,0)))","v":16},{"$f":"IFERROR(VLOOKUP(B110,[4]A!B$1:AB$48,27,0),IFERROR(VLOOKUP(B110,[4]B!B$1:AB$51,27,0),VLOOKUP(B110,[4]C!B$1:AB$52,27,0)))","v":17},{"$f":"IFERROR(VLOOKUP(B110,[4]A!B$1:AD$48,29,0),IFERROR(VLOOKUP(B110,[4]B!B$1:AD$51,29,0),VLOOKUP(B110,[4]C!B$1:AD$52,29,0)))","v":0},{"$f":"IFERROR(VLOOKUP(B110,[4]A!B$1:AE$48,30,0),IFERROR(VLOOKUP(B110,[4]B!B$1:AE$51,30,0),VLOOKUP(B110,[4]C!B$1:AE$52,30,0)))","v":2},{"$f":"IFERROR(VLOOKUP(B110,[4]A!B$1:AF$48,31,0),IFERROR(VLOOKUP(B110,[4]B!B$1:AF$51,31,0),VLOOKUP(B110,[4]C!B$1:AF$52,31,0)))","v":3},{"$f":"IFERROR(VLOOKUP(B110,[4]A!B$1:AH$48,33,0),IFERROR(VLOOKUP(B110,[4]B!B$1:AH$51,33,0),VLOOKUP(B110,[4]C!B$1:AH$52,33,0)))","v":0},6,6,null,1,1,null,80,2,2,71,73,91.25,5,"C-11",9,8,22]
[110,"15BA052",{"$f":"VLOOKUP(B111,[1]C!B$1:AA$48,26,0)","v":9},{"$f":"VLOOKUP(B111,[1]C!B$1:AB$48,27,0)","v":9},{"$f":"VLOOKUP(B111,[1]C!B$1:AD$48,29,0)","v":0},{"$f":"VLOOKUP(B111,[1]C!B$1:AE$48,30,0)","v":0},{"$f":"VLOOKUP(B111,[1]C!B$1:AF$48,31,0)","v":0},{"$f":"VLOOKUP(B111,[1]C!B$1:AH$48,33,0)","v":0},{"$f":"IFERROR(VLOOKUP(B111,[2]A!B$1:AA$48,26,0),IFERROR(VLOOKUP(B111,[2]B!B$1:AA$51,26,0),VLOOKUP(B111,[2]C!B$1:AA$52,26,0)))","v":21},{"$f":"IFERROR(VLOOKUP(B111,[2]A!B$1:AB$48,27,0),IFERROR(VLOOKUP(B111,[2]B!B$1:AB$51,27,0),VLOOKUP(B111,[2]C!B$1:AB$52,27,0)))","v":21},{"$f":"IFERROR(VLOOKUP(B111,[2]A!B$1:AD$48,29,0),IFERROR(VLOOKUP(B111,[2]B!B$1:AD$51,29,0),VLOOKUP(B111,[2]C!B$1:AD$52,29,0)))","v":0},{"$f":"IFERROR(VLOOKUP(B111,[2]A!B$1:AE$48,30,0),IFERROR(VLOOKUP(B111,[2]B!B$1:AE$51,30,0),VLOOKUP(B111,[2]C!B$1:AE$52,30,0)))","v":0},{"$f":"IFERROR(VLOOKUP(B111,[2]A!B$1:AF$48,31,0),IFERROR(VLOOKUP(B111,[2]B!B$1:AF$51,31,0),VLOOKUP(B111,[2]C!B$1:AF$52,31,0)))","v":0},{"$f":"IFERROR(VLOOKUP(B111,[2]A!B$1:AH$48,33,0),IFERROR(VLOOKUP(B111,[2]B!B$1:AH$51,33,0),VLOOKUP(B111,[2]C!$B$1:$AH$52,33,0)))","v":0},{"$f":"IFERROR(VLOOKUP(B111,[3]A!B$1:S$48,18,0),IFERROR(VLOOKUP(B111,[3]B!B$1:Q$51,16,0),VLOOKUP(B111,[3]C!B$1:Q$52,16,0)))","v":14},{"$f":"IFERROR(VLOOKUP(B111,[3]A!B$1:T$48,19,0),IFERROR(VLOOKUP(B111,[3]B!B$1:R$51,17,0),VLOOKUP(B111,[3]C!B$1:R$52,17,0)))","v":16},{"$f":"IFERROR(VLOOKUP(B111,[3]A!B$1:V$48,21,0),IFERROR(VLOOKUP(B111,[3]B!B$1:T$51,19,0),VLOOKUP(B111,[3]C!B$1:T$52,19,0)))","v":2},{"$f":"IFERROR(VLOOKUP(B111,[3]A!B$1:W$48,22,0),IFERROR(VLOOKUP(B111,[3]B!B$1:U$51,20,0),VLOOKUP(B111,[3]C!B$1:U$52,20,0)))","v":0},{"$f":"IFERROR(VLOOKUP(B111,[3]A!B$1:X$48,23,0),IFERROR(VLOOKUP(B111,[3]B!B$1:V$51,21,0),VLOOKUP(B111,[3]C!B$1:V$52,21,0)))","v":1},0,{"$f":"IFERROR(VLOOKUP(B111,[4]A!B$1:AA$48,26,0),IFERROR(VLOOKUP(B111,[4]B!B$1:AA$51,26,0),VLOOKUP(B111,[4]C!B$1:AA$52,26,0)))","v":17},{"$f":"IFERROR(VLOOKUP(B111,[4]A!B$1:AB$48,27,0),IFERROR(VLOOKUP(B111,[4]B!B$1:AB$51,27,0),VLOOKUP(B111,[4]C!B$1:AB$52,27,0)))","v":17},{"$f":"IFERROR(VLOOKUP(B111,[4]A!B$1:AD$48,29,0),IFERROR(VLOOKUP(B111,[4]B!B$1:AD$51,29,0),VLOOKUP(B111,[4]C!B$1:AD$52,29,0)))","v":0},{"$f":"IFERROR(VLOOKUP(B111,[4]A!B$1:AE$48,30,0),IFERROR(VLOOKUP(B111,[4]B!B$1:AE$51,30,0),VLOOKUP(B111,[4]C!B$1:AE$52,30,0)))","v":2},{"$f":"IFERROR(VLOOKUP(B111,[4]A!B$1:AF$48,31,0),IFERROR(VLOOKUP(B111,[4]B!B$1:AF$51,31,0),VLOOKUP(B111,[4]C!B$1:AF$52,31,0)))","v":4},{"$f":"IFERROR(VLOOKUP(B111,[4]A!B$1:AH$48,33,0),IFERROR(VLOOKUP(B111,[4]B!B$1:AH$51,33,0),VLOOKUP(B111,[4]C!B$1:AH$52,33,0)))","v":0},6,6,null,null,null,null,74,2,2,69,71,95.945945945945937,5,null,10,10,25]
[111,"15BA056",{"$f":"VLOOKUP(B112,[1]C!B$1:AA$48,26,0)","v":9},{"$f":"VLOOKUP(B112,[1]C!B$1:AB$48,27,0)","v":9},{"$f":"VLOOKUP(B112,[1]C!B$1:AD$48,29,0)","v":0},{"$f":"VLOOKUP(B112,[1]C!B$1:AE$48,30,0)","v":0},{"$f":"VLOOKUP(B112,[1]C!B$1:AF$48,31,0)","v":0},{"$f":"VLOOKUP(B112,[1]C!B$1:AH$48,33,0)","v":0},{"$f":"IFERROR(VLOOKUP(B112,[2]A!B$1:AA$48,26,0),IFERROR(VLOOKUP(B112,[2]B!B$1:AA$51,26,0),VLOOKUP(B112,[2]C!B$1:AA$52,26,0)))","v":21},{"$f":"IFERROR(VLOOKUP(B112,[2]A!B$1:AB$48,27,0),IFERROR(VLOOKUP(B112,[2]B!B$1:AB$51,27,0),VLOOKUP(B112,[2]C!B$1:AB$52,27,0)))","v":21},{"$f":"IFERROR(VLOOKUP(B112,[2]A!B$1:AD$48,29,0),IFERROR(VLOOKUP(B112,[2]B!B$1:AD$51,29,0),VLOOKUP(B112,[2]C!B$1:AD$52,29,0)))","v":0},{"$f":"IFERROR(VLOOKUP(B112,[2]A!B$1:AE$48,30,0),IFERROR(VLOOKUP(B112,[2]B!B$1:AE$51,30,0),VLOOKUP(B112,[2]C!B$1:AE$52,30,0)))","v":4},{"$f":"IFERROR(VLOOKUP(B112,[2]A!B$1:AF$48,31,0),IFERROR(VLOOKUP(B112,[2]B!B$1:AF$51,31,0),VLOOKUP(B112,[2]C!B$1:AF$52,31,0)))","v":4},{"$f":"IFERROR(VLOOKUP(B112,[2]A!B$1:AH$48,33,0),IFERROR(VLOOKUP(B112,[2]B!B$1:AH$51,33,0),VLOOKUP(B112,[2]C!$B$1:$AH$52,33,0)))","v":0},{"$f":"IFERROR(VLOOKUP(B112,[3]A!B$1:S$48,18,0),IFERROR(VLOOKUP(B112,[3]B!B$1:Q$51,16,0),VLOOKUP(B112,[3]C!B$1:Q$52,16,0)))","v":16},{"$f":"IFERROR(VLOOKUP(B112,[3]A!B$1:T$48,19,0),IFERROR(VLOOKUP(B112,[3]B!B$1:R$51,17,0),VLOOKUP(B112,[3]C!B$1:R$52,17,0)))","v":16},{"$f":"IFERROR(VLOOKUP(B112,[3]A!B$1:V$48,21,0),IFERROR(VLOOKUP(B112,[3]B!B$1:T$51,19,0),VLOOKUP(B112,[3]C!B$1:T$52,19,0)))","v":0},{"$f":"IFERROR(VLOOKUP(B112,[3]A!B$1:W$48,22,0),IFERROR(VLOOKUP(B112,[3]B!B$1:U$51,20,0),VLOOKUP(B112,[3]C!B$1:U$52,20,0)))","v":3},{"$f":"IFERROR(VLOOKUP(B112,[3]A!B$1:X$48,23,0),IFERROR(VLOOKUP(B112,[3]B!B$1:V$51,21,0),VLOOKUP(B112,[3]C!B$1:V$52,21,0)))","v":3},0,{"$f":"IFERROR(VLOOKUP(B112,[4]A!B$1:AA$48,26,0),IFERROR(VLOOKUP(B112,[4]B!B$1:AA$51,26,0),VLOOKUP(B112,[4]C!B$1:AA$52,26,0)))","v":17},{"$f":"IFERROR(VLOOKUP(B112,[4]A!B$1:AB$48,27,0),IFERROR(VLOOKUP(B112,[4]B!B$1:AB$51,27,0),VLOOKUP(B112,[4]C!B$1:AB$52,27,0)))","v":17},{"$f":"IFERROR(VLOOKUP(B112,[4]A!B$1:AD$48,29,0),IFERROR(VLOOKUP(B112,[4]B!B$1:AD$51,29,0),VLOOKUP(B112,[4]C!B$1:AD$52,29,0)))","v":0},{"$f":"IFERROR(VLOOKUP(B112,[4]A!B$1:AE$48,30,0),IFERROR(VLOOKUP(B112,[4]B!B$1:AE$51,30,0),VLOOKUP(B112,[4]C!B$1:AE$52,30,0)))","v":2},{"$f":"IFERROR(VLOOKUP(B112,[4]A!B$1:AF$48,31,0),IFERROR(VLOOKUP(B112,[4]B!B$1:AF$51,31,0),VLOOKUP(B112,[4]C!B$1:AF$52,31,0)))","v":3},{"$f":"IFERROR(VLOOKUP(B112,[4]A!B$1:AH$48,33,0),IFERROR(VLOOKUP(B112,[4]B!B$1:AH$51,33,0),VLOOKUP(B112,[4]C!B$1:AH$52,33,0)))","v":0},6,6,null,1,1,null,80,0,0,79,79,98.75,5,"C-12",10,10,25]
[112,"15BA058",{"$f":"VLOOKUP(B113,[1]C!B$1:AA$48,26,0)","v":8},{"$f":"VLOOKUP(B113,[1]C!B$1:AB$48,27,0)","v":9},{"$f":"VLOOKUP(B113,[1]C!B$1:AD$48,29,0)","v":0},{"$f":"VLOOKUP(B113,[1]C!B$1:AE$48,30,0)","v":0},{"$f":"VLOOKUP(B113,[1]C!B$1:AF$48,31,0)","v":0},{"$f":"VLOOKUP(B113,[1]C!B$1:AH$48,33,0)","v":0},{"$f":"IFERROR(VLOOKUP(B113,[2]A!B$1:AA$48,26,0),IFERROR(VLOOKUP(B113,[2]B!B$1:AA$51,26,0),VLOOKUP(B113,[2]C!B$1:AA$52,26,0)))","v":19},{"$f":"IFERROR(VLOOKUP(B113,[2]A!B$1:AB$48,27,0),IFERROR(VLOOKUP(B113,[2]B!B$1:AB$51,27,0),VLOOKUP(B113,[2]C!B$1:AB$52,27,0)))","v":21},{"$f":"IFERROR(VLOOKUP(B113,[2]A!B$1:AD$48,29,0),IFERROR(VLOOKUP(B113,[2]B!B$1:AD$51,29,0),VLOOKUP(B113,[2]C!B$1:AD$52,29,0)))","v":0},{"$f":"IFERROR(VLOOKUP(B113,[2]A!B$1:AE$48,30,0),IFERROR(VLOOKUP(B113,[2]B!B$1:AE$51,30,0),VLOOKUP(B113,[2]C!B$1:AE$52,30,0)))","v":3},{"$f":"IFERROR(VLOOKUP(B113,[2]A!B$1:AF$48,31,0),IFERROR(VLOOKUP(B113,[2]B!B$1:AF$51,31,0),VLOOKUP(B113,[2]C!B$1:AF$52,31,0)))","v":4},{"$f":"IFERROR(VLOOKUP(B113,[2]A!B$1:AH$48,33,0),IFERROR(VLOOKUP(B113,[2]B!B$1:AH$51,33,0),VLOOKUP(B113,[2]C!$B$1:$AH$52,33,0)))","v":0},{"$f":"IFERROR(VLOOKUP(B113,[3]A!B$1:S$48,18,0),IFERROR(VLOOKUP(B113,[3]B!B$1:Q$51,16,0),VLOOKUP(B113,[3]C!B$1:Q$52,16,0)))","v":14},{"$f":"IFERROR(VLOOKUP(B113,[3]A!B$1:T$48,19,0),IFERROR(VLOOKUP(B113,[3]B!B$1:R$51,17,0),VLOOKUP(B113,[3]C!B$1:R$52,17,0)))","v":16},{"$f":"IFERROR(VLOOKUP(B113,[3]A!B$1:V$48,21,0),IFERROR(VLOOKUP(B113,[3]B!B$1:T$51,19,0),VLOOKUP(B113,[3]C!B$1:T$52,19,0)))","v":0},{"$f":"IFERROR(VLOOKUP(B113,[3]A!B$1:W$48,22,0),IFERROR(VLOOKUP(B113,[3]B!B$1:U$51,20,0),VLOOKUP(B113,[3]C!B$1:U$52,20,0)))","v":3},{"$f":"IFERROR(VLOOKUP(B113,[3]A!B$1:X$48,23,0),IFERROR(VLOOKUP(B113,[3]B!B$1:V$51,21,0),VLOOKUP(B113,[3]C!B$1:V$52,21,0)))","v":3},0,{"$f":"IFERROR(VLOOKUP(B113,[4]A!B$1:AA$48,26,0),IFERROR(VLOOKUP(B113,[4]B!B$1:AA$51,26,0),VLOOKUP(B113,[4]C!B$1:AA$52,26,0)))","v":15},{"$f":"IFERROR(VLOOKUP(B113,[4]A!B$1:AB$48,27,0),IFERROR(VLOOKUP(B113,[4]B!B$1:AB$51,27,0),VLOOKUP(B113,[4]C!B$1:AB$52,27,0)))","v":17},{"$f":"IFERROR(VLOOKUP(B113,[4]A!B$1:AD$48,29,0),IFERROR(VLOOKUP(B113,[4]B!B$1:AD$51,29,0),VLOOKUP(B113,[4]C!B$1:AD$52,29,0)))","v":0},{"$f":"IFERROR(VLOOKUP(B113,[4]A!B$1:AE$48,30,0),IFERROR(VLOOKUP(B113,[4]B!B$1:AE$51,30,0),VLOOKUP(B113,[4]C!B$1:AE$52,30,0)))","v":2},{"$f":"IFERROR(VLOOKUP(B113,[4]A!B$1:AF$48,31,0),IFERROR(VLOOKUP(B113,[4]B!B$1:AF$51,31,0),VLOOKUP(B113,[4]C!B$1:AF$52,31,0)))","v":3},{"$f":"IFERROR(VLOOKUP(B113,[4]A!B$1:AH$48,33,0),IFERROR(VLOOKUP(B113,[4]B!B$1:AH$51,33,0),VLOOKUP(B113,[4]C!B$1:AH$52,33,0)))","v":0},5,6,null,1,1,null,80,0,0,70,70,87.5,5,"C-12",6,4,15]
[113,"15BA059",{"$f":"VLOOKUP(B114,[1]C!B$1:AA$48,26,0)","v":8},{"$f":"VLOOKUP(B114,[1]C!B$1:AB$48,27,0)","v":9},{"$f":"VLOOKUP(B114,[1]C!B$1:AD$48,29,0)","v":0},{"$f":"VLOOKUP(B114,[1]C!B$1:AE$48,30,0)","v":0},{"$f":"VLOOKUP(B114,[1]C!B$1:AF$48,31,0)","v":0},{"$f":"VLOOKUP(B114,[1]C!B$1:AH$48,33,0)","v":0},{"$f":"IFERROR(VLOOKUP(B114,[2]A!B$1:AA$48,26,0),IFERROR(VLOOKUP(B114,[2]B!B$1:AA$51,26,0),VLOOKUP(B114,[2]C!B$1:AA$52,26,0)))","v":20},{"$f":"IFERROR(VLOOKUP(B114,[2]A!B$1:AB$48,27,0),IFERROR(VLOOKUP(B114,[2]B!B$1:AB$51,27,0),VLOOKUP(B114,[2]C!B$1:AB$52,27,0)))","v":21},{"$f":"IFERROR(VLOOKUP(B114,[2]A!B$1:AD$48,29,0),IFERROR(VLOOKUP(B114,[2]B!B$1:AD$51,29,0),VLOOKUP(B114,[2]C!B$1:AD$52,29,0)))","v":0},{"$f":"IFERROR(VLOOKUP(B114,[2]A!B$1:AE$48,30,0),IFERROR(VLOOKUP(B114,[2]B!B$1:AE$51,30,0),VLOOKUP(B114,[2]C!B$1:AE$52,30,0)))","v":3},{"$f":"IFERROR(VLOOKUP(B114,[2]A!B$1:AF$48,31,0),IFERROR(VLOOKUP(B114,[2]B!B$1:AF$51,31,0),VLOOKUP(B114,[2]C!B$1:AF$52,31,0)))","v":4},{"$f":"IFERROR(VLOOKUP(B114,[2]A!B$1:AH$48,33,0),IFERROR(VLOOKUP(B114,[2]B!B$1:AH$51,33,0),VLOOKUP(B114,[2]C!$B$1:$AH$52,33,0)))","v":0},{"$f":"IFERROR(VLOOKUP(B114,[3]A!B$1:S$48,18,0),IFERROR(VLOOKUP(B114,[3]B!B$1:Q$51,16,0),VLOOKUP(B114,[3]C!B$1:Q$52,16,0)))","v":15},{"$f":"IFERROR(VLOOKUP(B114,[3]A!B$1:T$48,19,0),IFERROR(VLOOKUP(B114,[3]B!B$1:R$51,17,0),VLOOKUP(B114,[3]C!B$1:R$52,17,0)))","v":16},{"$f":"IFERROR(VLOOKUP(B114,[3]A!B$1:V$48,21,0),IFERROR(VLOOKUP(B114,[3]B!B$1:T$51,19,0),VLOOKUP(B114,[3]C!B$1:T$52,19,0)))","v":0},{"$f":"IFERROR(VLOOKUP(B114,[3]A!B$1:W$48,22,0),IFERROR(VLOOKUP(B114,[3]B!B$1:U$51,20,0),VLOOKUP(B114,[3]C!B$1:U$52,20,0)))","v":2},{"$f":"IFERROR(VLOOKUP(B114,[3]A!B$1:X$48,23,0),IFERROR(VLOOKUP(B114,[3]B!B$1:V$51,21,0),VLOOKUP(B114,[3]C!B$1:V$52,21,0)))","v":3},0,{"$f":"IFERROR(VLOOKUP(B114,[4]A!B$1:AA$48,26,0),IFERROR(VLOOKUP(B114,[4]B!B$1:AA$51,26,0),VLOOKUP(B114,[4]C!B$1:AA$52,26,0)))","v":16},{"$f":"IFERROR(VLOOKUP(B114,[4]A!B$1:AB$48,27,0),IFERROR(VLOOKUP(B114,[4]B!B$1:AB$51,27,0),VLOOKUP(B114,[4]C!B$1:AB$52,27,0)))","v":17},{"$f":"IFERROR(VLOOKUP(B114,[4]A!B$1:AD$48,29,0),IFERROR(VLOOKUP(B114,[4]B!B$1:AD$51,29,0),VLOOKUP(B114,[4]C!B$1:AD$52,29,0)))","v":0},{"$f":"IFERROR(VLOOKUP(B114,[4]A!B$1:AE$48,30,0),IFERROR(VLOOKUP(B114,[4]B!B$1:AE$51,30,0),VLOOKUP(B114,[4]C!B$1:AE$52,30,0)))","v":2},{"$f":"IFERROR(VLOOKUP(B114,[4]A!B$1:AF$48,31,0),IFERROR(VLOOKUP(B114,[4]B!B$1:AF$51,31,0),VLOOKUP(B114,[4]C!B$1:AF$52,31,0)))","v":3},{"$f":"IFERROR(VLOOKUP(B114,[4]A!B$1:AH$48,33,0),IFERROR(VLOOKUP(B114,[4]B!B$1:AH$51,33,0),VLOOKUP(B114,[4]C!B$1:AH$52,33,0)))","v":0},5,6,null,1,1,null,80,0,0,72,72,90,5,"C-12",8,7,20]
[114,"15BA063",{"$f":"VLOOKUP(B115,[1]C!B$1:AA$48,26,0)","v":9},{"$f":"VLOOKUP(B115,[1]C!B$1:AB$48,27,0)","v":9},{"$f":"VLOOKUP(B115,[1]C!B$1:AD$48,29,0)","v":0},{"$f":"VLOOKUP(B115,[1]C!B$1:AE$48,30,0)","v":0},{"$f":"VLOOKUP(B115,[1]C!B$1:AF$48,31,0)","v":0},{"$f":"VLOOKUP(B115,[1]C!B$1:AH$48,33,0)","v":0},{"$f":"IFERROR(VLOOKUP(B115,[2]A!B$1:AA$48,26,0),IFERROR(VLOOKUP(B115,[2]B!B$1:AA$51,26,0),VLOOKUP(B115,[2]C!B$1:AA$52,26,0)))","v":21},{"$f":"IFERROR(VLOOKUP(B115,[2]A!B$1:AB$48,27,0),IFERROR(VLOOKUP(B115,[2]B!B$1:AB$51,27,0),VLOOKUP(B115,[2]C!B$1:AB$52,27,0)))","v":21},{"$f":"IFERROR(VLOOKUP(B115,[2]A!B$1:AD$48,29,0),IFERROR(VLOOKUP(B115,[2]B!B$1:AD$51,29,0),VLOOKUP(B115,[2]C!B$1:AD$52,29,0)))","v":0},{"$f":"IFERROR(VLOOKUP(B115,[2]A!B$1:AE$48,30,0),IFERROR(VLOOKUP(B115,[2]B!B$1:AE$51,30,0),VLOOKUP(B115,[2]C!B$1:AE$52,30,0)))","v":0},{"$f":"IFERROR(VLOOKUP(B115,[2]A!B$1:AF$48,31,0),IFERROR(VLOOKUP(B115,[2]B!B$1:AF$51,31,0),VLOOKUP(B115,[2]C!B$1:AF$52,31,0)))","v":0},{"$f":"IFERROR(VLOOKUP(B115,[2]A!B$1:AH$48,33,0),IFERROR(VLOOKUP(B115,[2]B!B$1:AH$51,33,0),VLOOKUP(B115,[2]C!$B$1:$AH$52,33,0)))","v":0},{"$f":"IFERROR(VLOOKUP(B115,[3]A!B$1:S$48,18,0),IFERROR(VLOOKUP(B115,[3]B!B$1:Q$51,16,0),VLOOKUP(B115,[3]C!B$1:Q$52,16,0)))","v":16},{"$f":"IFERROR(VLOOKUP(B115,[3]A!B$1:T$48,19,0),IFERROR(VLOOKUP(B115,[3]B!B$1:R$51,17,0),VLOOKUP(B115,[3]C!B$1:R$52,17,0)))","v":16},{"$f":"IFERROR(VLOOKUP(B115,[3]A!B$1:V$48,21,0),IFERROR(VLOOKUP(B115,[3]B!B$1:T$51,19,0),VLOOKUP(B115,[3]C!B$1:T$52,19,0)))","v":0},{"$f":"IFERROR(VLOOKUP(B115,[3]A!B$1:W$48,22,0),IFERROR(VLOOKUP(B115,[3]B!B$1:U$51,20,0),VLOOKUP(B115,[3]C!B$1:U$52,20,0)))","v":0},{"$f":"IFERROR(VLOOKUP(B115,[3]A!B$1:X$48,23,0),IFERROR(VLOOKUP(B115,[3]B!B$1:V$51,21,0),VLOOKUP(B115,[3]C!B$1:V$52,21,0)))","v":1},0,{"$f":"IFERROR(VLOOKUP(B115,[4]A!B$1:AA$48,26,0),IFERROR(VLOOKUP(B115,[4]B!B$1:AA$51,26,0),VLOOKUP(B115,[4]C!B$1:AA$52,26,0)))","v":17},{"$f":"IFERROR(VLOOKUP(B115,[4]A!B$1:AB$48,27,0),IFERROR(VLOOKUP(B115,[4]B!B$1:AB$51,27,0),VLOOKUP(B115,[4]C!B$1:AB$52,27,0)))","v":17},{"$f":"IFERROR(VLOOKUP(B115,[4]A!B$1:AD$48,29,0),IFERROR(VLOOKUP(B115,[4]B!B$1:AD$51,29,0),VLOOKUP(B115,[4]C!B$1:AD$52,29,0)))","v":0},{"$f":"IFERROR(VLOOKUP(B115,[4]A!B$1:AE$48,30,0),IFERROR(VLOOKUP(B115,[4]B!B$1:AE$51,30,0),VLOOKUP(B115,[4]C!B$1:AE$52,30,0)))","v":2},{"$f":"IFERROR(VLOOKUP(B115,[4]A!B$1:AF$48,31,0),IFERROR(VLOOKUP(B115,[4]B!B$1:AF$51,31,0),VLOOKUP(B115,[4]C!B$1:AF$52,31,0)))","v":4},{"$f":"IFERROR(VLOOKUP(B115,[4]A!B$1:AH$48,33,0),IFERROR(VLOOKUP(B115,[4]B!B$1:AH$51,33,0),VLOOKUP(B115,[4]C!B$1:AH$52,33,0)))","v":0},6,6,null,null,null,null,74,0,0,71,71,95.945945945945937,5,null,10,10,25]
[115,"15BA069",{"$f":"VLOOKUP(B116,[1]C!B$1:AA$48,26,0)","v":8},{"$f":"VLOOKUP(B116,[1]C!B$1:AB$48,27,0)","v":9},{"$f":"VLOOKUP(B116,[1]C!B$1:AD$48,29,0)","v":0},{"$f":"VLOOKUP(B116,[1]C!B$1:AE$48,30,0)","v":0},{"$f":"VLOOKUP(B116,[1]C!B$1:AF$48,31,0)","v":0},{"$f":"VLOOKUP(B116,[1]C!B$1:AH$48,33,0)","v":0},{"$f":"IFERROR(VLOOKUP(B116,[2]A!B$1:AA$48,26,0),IFERROR(VLOOKUP(B116,[2]B!B$1:AA$51,26,0),VLOOKUP(B116,[2]C!B$1:AA$52,26,0)))","v":20},{"$f":"IFERROR(VLOOKUP(B116,[2]A!B$1:AB$48,27,0),IFERROR(VLOOKUP(B116,[2]B!B$1:AB$51,27,0),VLOOKUP(B116,[2]C!B$1:AB$52,27,0)))","v":21},{"$f":"IFERROR(VLOOKUP(B116,[2]A!B$1:AD$48,29,0),IFERROR(VLOOKUP(B116,[2]B!B$1:AD$51,29,0),VLOOKUP(B116,[2]C!B$1:AD$52,29,0)))","v":0},{"$f":"IFERROR(VLOOKUP(B116,[2]A!B$1:AE$48,30,0),IFERROR(VLOOKUP(B116,[2]B!B$1:AE$51,30,0),VLOOKUP(B116,[2]C!B$1:AE$52,30,0)))","v":3},{"$f":"IFERROR(VLOOKUP(B116,[2]A!B$1:AF$48,31,0),IFERROR(VLOOKUP(B116,[2]B!B$1:AF$51,31,0),VLOOKUP(B116,[2]C!B$1:AF$52,31,0)))","v":4},{"$f":"IFERROR(VLOOKUP(B116,[2]A!B$1:AH$48,33,0),IFERROR(VLOOKUP(B116,[2]B!B$1:AH$51,33,0),VLOOKUP(B116,[2]C!$B$1:$AH$52,33,0)))","v":0},{"$f":"IFERROR(VLOOKUP(B116,[3]A!B$1:S$48,18,0),IFERROR(VLOOKUP(B116,[3]B!B$1:Q$51,16,0),VLOOKUP(B116,[3]C!B$1:Q$52,16,0)))","v":15},{"$f":"IFERROR(VLOOKUP(B116,[3]A!B$1:T$48,19,0),IFERROR(VLOOKUP(B116,[3]B!B$1:R$51,17,0),VLOOKUP(B116,[3]C!B$1:R$52,17,0)))","v":16},{"$f":"IFERROR(VLOOKUP(B116,[3]A!B$1:V$48,21,0),IFERROR(VLOOKUP(B116,[3]B!B$1:T$51,19,0),VLOOKUP(B116,[3]C!B$1:T$52,19,0)))","v":0},{"$f":"IFERROR(VLOOKUP(B116,[3]A!B$1:W$48,22,0),IFERROR(VLOOKUP(B116,[3]B!B$1:U$51,20,0),VLOOKUP(B116,[3]C!B$1:U$52,20,0)))","v":3},{"$f":"IFERROR(VLOOKUP(B116,[3]A!B$1:X$48,23,0),IFERROR(VLOOKUP(B116,[3]B!B$1:V$51,21,0),VLOOKUP(B116,[3]C!B$1:V$52,21,0)))","v":3},0,{"$f":"IFERROR(VLOOKUP(B116,[4]A!B$1:AA$48,26,0),IFERROR(VLOOKUP(B116,[4]B!B$1:AA$51,26,0),VLOOKUP(B116,[4]C!B$1:AA$52,26,0)))","v":15},{"$f":"IFERROR(VLOOKUP(B116,[4]A!B$1:AB$48,27,0),IFERROR(VLOOKUP(B116,[4]B!B$1:AB$51,27,0),VLOOKUP(B116,[4]C!B$1:AB$52,27,0)))","v":17},{"$f":"IFERROR(VLOOKUP(B116,[4]A!B$1:AD$48,29,0),IFERROR(VLOOKUP(B116,[4]B!B$1:AD$51,29,0),VLOOKUP(B116,[4]C!B$1:AD$52,29,0)))","v":0},{"$f":"IFERROR(VLOOKUP(B116,[4]A!B$1:AE$48,30,0),IFERROR(VLOOKUP(B116,[4]B!B$1:AE$51,30,0),VLOOKUP(B116,[4]C!B$1:AE$52,30,0)))","v":2},{"$f":"IFERROR(VLOOKUP(B116,[4]A!B$1:AF$48,31,0),IFERROR(VLOOKUP(B116,[4]B!B$1:AF$51,31,0),VLOOKUP(B116,[4]C!B$1:AF$52,31,0)))","v":3},{"$f":"IFERROR(VLOOKUP(B116,[4]A!B$1:AH$48,33,0),IFERROR(VLOOKUP(B116,[4]B!B$1:AH$51,33,0),VLOOKUP(B116,[4]C!B$1:AH$52,33,0)))","v":0},5,6,null,1,1,null,80,0,0,72,72,90,5,"C-12",7,6,18]
[116,"15BA073",{"$f":"VLOOKUP(B117,[1]C!B$1:AA$48,26,0)","v":9},{"$f":"VLOOKUP(B117,[1]C!B$1:AB$48,27,0)","v":9},{"$f":"VLOOKUP(B117,[1]C!B$1:AD$48,29,0)","v":0},{"$f":"VLOOKUP(B117,[1]C!B$1:AE$48,30,0)","v":0},{"$f":"VLOOKUP(B117,[1]C!B$1:AF$48,31,0)","v":0},{"$f":"VLOOKUP(B117,[1]C!B$1:AH$48,33,0)","v":0},{"$f":"IFERROR(VLOOKUP(B117,[2]A!B$1:AA$48,26,0),IFERROR(VLOOKUP(B117,[2]B!B$1:AA$51,26,0),VLOOKUP(B117,[2]C!B$1:AA$52,26,0)))","v":21},{"$f":"IFERROR(VLOOKUP(B117,[2]A!B$1:AB$48,27,0),IFERROR(VLOOKUP(B117,[2]B!B$1:AB$51,27,0),VLOOKUP(B117,[2]C!B$1:AB$52,27,0)))","v":21},{"$f":"IFERROR(VLOOKUP(B117,[2]A!B$1:AD$48,29,0),IFERROR(VLOOKUP(B117,[2]B!B$1:AD$51,29,0),VLOOKUP(B117,[2]C!B$1:AD$52,29,0)))","v":0},{"$f":"IFERROR(VLOOKUP(B117,[2]A!B$1:AE$48,30,0),IFERROR(VLOOKUP(B117,[2]B!B$1:AE$51,30,0),VLOOKUP(B117,[2]C!B$1:AE$52,30,0)))","v":0},{"$f":"IFERROR(VLOOKUP(B117,[2]A!B$1:AF$48,31,0),IFERROR(VLOOKUP(B117,[2]B!B$1:AF$51,31,0),VLOOKUP(B117,[2]C!B$1:AF$52,31,0)))","v":0},{"$f":"IFERROR(VLOOKUP(B117,[2]A!B$1:AH$48,33,0),IFERROR(VLOOKUP(B117,[2]B!B$1:AH$51,33,0),VLOOKUP(B117,[2]C!$B$1:$AH$52,33,0)))","v":0},{"$f":"IFERROR(VLOOKUP(B117,[3]A!B$1:S$48,18,0),IFERROR(VLOOKUP(B117,[3]B!B$1:Q$51,16,0),VLOOKUP(B117,[3]C!B$1:Q$52,16,0)))","v":16},{"$f":"IFERROR(VLOOKUP(B117,[3]A!B$1:T$48,19,0),IFERROR(VLOOKUP(B117,[3]B!B$1:R$51,17,0),VLOOKUP(B117,[3]C!B$1:R$52,17,0)))","v":16},{"$f":"IFERROR(VLOOKUP(B117,[3]A!B$1:V$48,21,0),IFERROR(VLOOKUP(B117,[3]B!B$1:T$51,19,0),VLOOKUP(B117,[3]C!B$1:T$52,19,0)))","v":0},{"$f":"IFERROR(VLOOKUP(B117,[3]A!B$1:W$48,22,0),IFERROR(VLOOKUP(B117,[3]B!B$1:U$51,20,0),VLOOKUP(B117,[3]C!B$1:U$52,20,0)))","v":1},{"$f":"IFERROR(VLOOKUP(B117,[3]A!B$1:X$48,23,0),IFERROR(VLOOKUP(B117,[3]B!B$1:V$51,21,0),VLOOKUP(B117,[3]C!B$1:V$52,21,0)))","v":2},0,{"$f":"IFERROR(VLOOKUP(B117,[4]A!B$1:AA$48,26,0),IFERROR(VLOOKUP(B117,[4]B!B$1:AA$51,26,0),VLOOKUP(B117,[4]C!B$1:AA$52,26,0)))","v":17},{"$f":"IFERROR(VLOOKUP(B117,[4]A!B$1:AB$48,27,0),IFERROR(VLOOKUP(B117,[4]B!B$1:AB$51,27,0),VLOOKUP(B117,[4]C!B$1:AB$52,27,0)))","v":17},{"$f":"IFERROR(VLOOKUP(B117,[4]A!B$1:AD$48,29,0),IFERROR(VLOOKUP(B117,[4]B!B$1:AD$51,29,0),VLOOKUP(B117,[4]C!B$1:AD$52,29,0)))","v":0},4,4,{"$f":"IFERROR(VLOOKUP(B117,[4]A!B$1:AH$48,33,0),IFERROR(VLOOKUP(B117,[4]B!B$1:AH$51,33,0),VLOOKUP(B117,[4]C!B$1:AH$52,33,0)))","v":0},6,6,null,1,1,null,76,0,0,75,75,98.68421052631578,5,"C-13",10,9,24]
[117,"15BA076",{"$f":"VLOOKUP(B118,[1]C!B$1:AA$48,26,0)","v":9},{"$f":"VLOOKUP(B118,[1]C!B$1:AB$48,27,0)","v":9},{"$f":"VLOOKUP(B118,[1]C!B$1:AD$48,29,0)","v":0},{"$f":"VLOOKUP(B118,[1]C!B$1:AE$48,30,0)","v":0},{"$f":"VLOOKUP(B118,[1]C!B$1:AF$48,31,0)","v":0},{"$f":"VLOOKUP(B118,[1]C!B$1:AH$48,33,0)","v":0},{"$f":"IFERROR(VLOOKUP(B118,[2]A!B$1:AA$48,26,0),IFERROR(VLOOKUP(B118,[2]B!B$1:AA$51,26,0),VLOOKUP(B118,[2]C!B$1:AA$52,26,0)))","v":21},{"$f":"IFERROR(VLOOKUP(B118,[2]A!B$1:AB$48,27,0),IFERROR(VLOOKUP(B118,[2]B!B$1:AB$51,27,0),VLOOKUP(B118,[2]C!B$1:AB$52,27,0)))","v":21},{"$f":"IFERROR(VLOOKUP(B118,[2]A!B$1:AD$48,29,0),IFERROR(VLOOKUP(B118,[2]B!B$1:AD$51,29,0),VLOOKUP(B118,[2]C!B$1:AD$52,29,0)))","v":0},{"$f":"IFERROR(VLOOKUP(B118,[2]A!B$1:AE$48,30,0),IFERROR(VLOOKUP(B118,[2]B!B$1:AE$51,30,0),VLOOKUP(B118,[2]C!B$1:AE$52,30,0)))","v":4},{"$f":"IFERROR(VLOOKUP(B118,[2]A!B$1:AF$48,31,0),IFERROR(VLOOKUP(B118,[2]B!B$1:AF$51,31,0),VLOOKUP(B118,[2]C!B$1:AF$52,31,0)))","v":4},{"$f":"IFERROR(VLOOKUP(B118,[2]A!B$1:AH$48,33,0),IFERROR(VLOOKUP(B118,[2]B!B$1:AH$51,33,0),VLOOKUP(B118,[2]C!$B$1:$AH$52,33,0)))","v":0},{"$f":"IFERROR(VLOOKUP(B118,[3]A!B$1:S$48,18,0),IFERROR(VLOOKUP(B118,[3]B!B$1:Q$51,16,0),VLOOKUP(B118,[3]C!B$1:Q$52,16,0)))","v":16},{"$f":"IFERROR(VLOOKUP(B118,[3]A!B$1:T$48,19,0),IFERROR(VLOOKUP(B118,[3]B!B$1:R$51,17,0),VLOOKUP(B118,[3]C!B$1:R$52,17,0)))","v":16},{"$f":"IFERROR(VLOOKUP(B118,[3]A!B$1:V$48,21,0),IFERROR(VLOOKUP(B118,[3]B!B$1:T$51,19,0),VLOOKUP(B118,[3]C!B$1:T$52,19,0)))","v":0},{"$f":"IFERROR(VLOOKUP(B118,[3]A!B$1:W$48,22,0),IFERROR(VLOOKUP(B118,[3]B!B$1:U$51,20,0),VLOOKUP(B118,[3]C!B$1:U$52,20,0)))","v":3},{"$f":"IFERROR(VLOOKUP(B118,[3]A!B$1:X$48,23,0),IFERROR(VLOOKUP(B118,[3]B!B$1:V$51,21,0),VLOOKUP(B118,[3]C!B$1:V$52,21,0)))","v":3},0,{"$f":"IFERROR(VLOOKUP(B118,[4]A!B$1:AA$48,26,0),IFERROR(VLOOKUP(B118,[4]B!B$1:AA$51,26,0),VLOOKUP(B118,[4]C!B$1:AA$52,26,0)))","v":17},{"$f":"IFERROR(VLOOKUP(B118,[4]A!B$1:AB$48,27,0),IFERROR(VLOOKUP(B118,[4]B!B$1:AB$51,27,0),VLOOKUP(B118,[4]C!B$1:AB$52,27,0)))","v":17},{"$f":"IFERROR(VLOOKUP(B118,[4]A!B$1:AD$48,29,0),IFERROR(VLOOKUP(B118,[4]B!B$1:AD$51,29,0),VLOOKUP(B118,[4]C!B$1:AD$52,29,0)))","v":0},{"$f":"IFERROR(VLOOKUP(B118,[4]A!B$1:AE$48,30,0),IFERROR(VLOOKUP(B118,[4]B!B$1:AE$51,30,0),VLOOKUP(B118,[4]C!B$1:AE$52,30,0)))","v":3},{"$f":"IFERROR(VLOOKUP(B118,[4]A!B$1:AF$48,31,0),IFERROR(VLOOKUP(B118,[4]B!B$1:AF$51,31,0),VLOOKUP(B118,[4]C!B$1:AF$52,31,0)))","v":3},{"$f":"IFERROR(VLOOKUP(B118,[4]A!B$1:AH$48,33,0),IFERROR(VLOOKUP(B118,[4]B!B$1:AH$51,33,0),VLOOKUP(B118,[4]C!B$1:AH$52,33,0)))","v":0},6,6,null,1,1,null,80,0,0,80,80,100,5,"C-11",10,10,25]
[118,"15BA077",{"$f":"VLOOKUP(B119,[1]C!B$1:AA$48,26,0)","v":8},{"$f":"VLOOKUP(B119,[1]C!B$1:AB$48,27,0)","v":9},{"$f":"VLOOKUP(B119,[1]C!B$1:AD$48,29,0)","v":0},{"$f":"VLOOKUP(B119,[1]C!B$1:AE$48,30,0)","v":0},{"$f":"VLOOKUP(B119,[1]C!B$1:AF$48,31,0)","v":0},{"$f":"VLOOKUP(B119,[1]C!B$1:AH$48,33,0)","v":0},{"$f":"IFERROR(VLOOKUP(B119,[2]A!B$1:AA$48,26,0),IFERROR(VLOOKUP(B119,[2]B!B$1:AA$51,26,0),VLOOKUP(B119,[2]C!B$1:AA$52,26,0)))","v":19},{"$f":"IFERROR(VLOOKUP(B119,[2]A!B$1:AB$48,27,0),IFERROR(VLOOKUP(B119,[2]B!B$1:AB$51,27,0),VLOOKUP(B119,[2]C!B$1:AB$52,27,0)))","v":21},{"$f":"IFERROR(VLOOKUP(B119,[2]A!B$1:AD$48,29,0),IFERROR(VLOOKUP(B119,[2]B!B$1:AD$51,29,0),VLOOKUP(B119,[2]C!B$1:AD$52,29,0)))","v":0},{"$f":"IFERROR(VLOOKUP(B119,[2]A!B$1:AE$48,30,0),IFERROR(VLOOKUP(B119,[2]B!B$1:AE$51,30,0),VLOOKUP(B119,[2]C!B$1:AE$52,30,0)))","v":0},{"$f":"IFERROR(VLOOKUP(B119,[2]A!B$1:AF$48,31,0),IFERROR(VLOOKUP(B119,[2]B!B$1:AF$51,31,0),VLOOKUP(B119,[2]C!B$1:AF$52,31,0)))","v":0},{"$f":"IFERROR(VLOOKUP(B119,[2]A!B$1:AH$48,33,0),IFERROR(VLOOKUP(B119,[2]B!B$1:AH$51,33,0),VLOOKUP(B119,[2]C!$B$1:$AH$52,33,0)))","v":0},{"$f":"IFERROR(VLOOKUP(B119,[3]A!B$1:S$48,18,0),IFERROR(VLOOKUP(B119,[3]B!B$1:Q$51,16,0),VLOOKUP(B119,[3]C!B$1:Q$52,16,0)))","v":14},{"$f":"IFERROR(VLOOKUP(B119,[3]A!B$1:T$48,19,0),IFERROR(VLOOKUP(B119,[3]B!B$1:R$51,17,0),VLOOKUP(B119,[3]C!B$1:R$52,17,0)))","v":16},{"$f":"IFERROR(VLOOKUP(B119,[3]A!B$1:V$48,21,0),IFERROR(VLOOKUP(B119,[3]B!B$1:T$51,19,0),VLOOKUP(B119,[3]C!B$1:T$52,19,0)))","v":0},{"$f":"IFERROR(VLOOKUP(B119,[3]A!B$1:W$48,22,0),IFERROR(VLOOKUP(B119,[3]B!B$1:U$51,20,0),VLOOKUP(B119,[3]C!B$1:U$52,20,0)))","v":0},{"$f":"IFERROR(VLOOKUP(B119,[3]A!B$1:X$48,23,0),IFERROR(VLOOKUP(B119,[3]B!B$1:V$51,21,0),VLOOKUP(B119,[3]C!B$1:V$52,21,0)))","v":1},0,{"$f":"IFERROR(VLOOKUP(B119,[4]A!B$1:AA$48,26,0),IFERROR(VLOOKUP(B119,[4]B!B$1:AA$51,26,0),VLOOKUP(B119,[4]C!B$1:AA$52,26,0)))","v":15},{"$f":"IFERROR(VLOOKUP(B119,[4]A!B$1:AB$48,27,0),IFERROR(VLOOKUP(B119,[4]B!B$1:AB$51,27,0),VLOOKUP(B119,[4]C!B$1:AB$52,27,0)))","v":17},{"$f":"IFERROR(VLOOKUP(B119,[4]A!B$1:AD$48,29,0),IFERROR(VLOOKUP(B119,[4]B!B$1:AD$51,29,0),VLOOKUP(B119,[4]C!B$1:AD$52,29,0)))","v":0},{"$f":"IFERROR(VLOOKUP(B119,[4]A!B$1:AE$48,30,0),IFERROR(VLOOKUP(B119,[4]B!B$1:AE$51,30,0),VLOOKUP(B119,[4]C!B$1:AE$52,30,0)))","v":0},{"$f":"IFERROR(VLOOKUP(B119,[4]A!B$1:AF$48,31,0),IFERROR(VLOOKUP(B119,[4]B!B$1:AF$51,31,0),VLOOKUP(B119,[4]C!B$1:AF$52,31,0)))","v":4},{"$f":"IFERROR(VLOOKUP(B119,[4]A!B$1:AH$48,33,0),IFERROR(VLOOKUP(B119,[4]B!B$1:AH$51,33,0),VLOOKUP(B119,[4]C!B$1:AH$52,33,0)))","v":0},6,6,null,null,null,null,74,0,0,62,62,83.78378378378379,4,null,8,8,20]
[119,"15BA079",{"$f":"VLOOKUP(B120,[1]C!B$1:AA$48,26,0)","v":9},{"$f":"VLOOKUP(B120,[1]C!B$1:AB$48,27,0)","v":9},{"$f":"VLOOKUP(B120,[1]C!B$1:AD$48,29,0)","v":0},{"$f":"VLOOKUP(B120,[1]C!B$1:AE$48,30,0)","v":0},{"$f":"VLOOKUP(B120,[1]C!B$1:AF$48,31,0)","v":0},{"$f":"VLOOKUP(B120,[1]C!B$1:AH$48,33,0)","v":0},{"$f":"IFERROR(VLOOKUP(B120,[2]A!B$1:AA$48,26,0),IFERROR(VLOOKUP(B120,[2]B!B$1:AA$51,26,0),VLOOKUP(B120,[2]C!B$1:AA$52,26,0)))","v":21},{"$f":"IFERROR(VLOOKUP(B120,[2]A!B$1:AB$48,27,0),IFERROR(VLOOKUP(B120,[2]B!B$1:AB$51,27,0),VLOOKUP(B120,[2]C!B$1:AB$52,27,0)))","v":21},{"$f":"IFERROR(VLOOKUP(B120,[2]A!B$1:AD$48,29,0),IFERROR(VLOOKUP(B120,[2]B!B$1:AD$51,29,0),VLOOKUP(B120,[2]C!B$1:AD$52,29,0)))","v":0},{"$f":"IFERROR(VLOOKUP(B120,[2]A!B$1:AE$48,30,0),IFERROR(VLOOKUP(B120,[2]B!B$1:AE$51,30,0),VLOOKUP(B120,[2]C!B$1:AE$52,30,0)))","v":4},{"$f":"IFERROR(VLOOKUP(B120,[2]A!B$1:AF$48,31,0),IFERROR(VLOOKUP(B120,[2]B!B$1:AF$51,31,0),VLOOKUP(B120,[2]C!B$1:AF$52,31,0)))","v":4},{"$f":"IFERROR(VLOOKUP(B120,[2]A!B$1:AH$48,33,0),IFERROR(VLOOKUP(B120,[2]B!B$1:AH$51,33,0),VLOOKUP(B120,[2]C!$B$1:$AH$52,33,0)))","v":0},{"$f":"IFERROR(VLOOKUP(B120,[3]A!B$1:S$48,18,0),IFERROR(VLOOKUP(B120,[3]B!B$1:Q$51,16,0),VLOOKUP(B120,[3]C!B$1:Q$52,16,0)))","v":16},{"$f":"IFERROR(VLOOKUP(B120,[3]A!B$1:T$48,19,0),IFERROR(VLOOKUP(B120,[3]B!B$1:R$51,17,0),VLOOKUP(B120,[3]C!B$1:R$52,17,0)))","v":16},{"$f":"IFERROR(VLOOKUP(B120,[3]A!B$1:V$48,21,0),IFERROR(VLOOKUP(B120,[3]B!B$1:T$51,19,0),VLOOKUP(B120,[3]C!B$1:T$52,19,0)))","v":0},{"$f":"IFERROR(VLOOKUP(B120,[3]A!B$1:W$48,22,0),IFERROR(VLOOKUP(B120,[3]B!B$1:U$51,20,0),VLOOKUP(B120,[3]C!B$1:U$52,20,0)))","v":3},{"$f":"IFERROR(VLOOKUP(B120,[3]A!B$1:X$48,23,0),IFERROR(VLOOKUP(B120,[3]B!B$1:V$51,21,0),VLOOKUP(B120,[3]C!B$1:V$52,21,0)))","v":3},0,{"$f":"IFERROR(VLOOKUP(B120,[4]A!B$1:AA$48,26,0),IFERROR(VLOOKUP(B120,[4]B!B$1:AA$51,26,0),VLOOKUP(B120,[4]C!B$1:AA$52,26,0)))","v":17},{"$f":"IFERROR(VLOOKUP(B120,[4]A!B$1:AB$48,27,0),IFERROR(VLOOKUP(B120,[4]B!B$1:AB$51,27,0),VLOOKUP(B120,[4]C!B$1:AB$52,27,0)))","v":17},{"$f":"IFERROR(VLOOKUP(B120,[4]A!B$1:AD$48,29,0),IFERROR(VLOOKUP(B120,[4]B!B$1:AD$51,29,0),VLOOKUP(B120,[4]C!B$1:AD$52,29,0)))","v":0},{"$f":"IFERROR(VLOOKUP(B120,[4]A!B$1:AE$48,30,0),IFERROR(VLOOKUP(B120,[4]B!B$1:AE$51,30,0),VLOOKUP(B120,[4]C!B$1:AE$52,30,0)))","v":3},{"$f":"IFERROR(VLOOKUP(B120,[4]A!B$1:AF$48,31,0),IFERROR(VLOOKUP(B120,[4]B!B$1:AF$51,31,0),VLOOKUP(B120,[4]C!B$1:AF$52,31,0)))","v":3},{"$f":"IFERROR(VLOOKUP(B120,[4]A!B$1:AH$48,33,0),IFERROR(VLOOKUP(B120,[4]B!B$1:AH$51,33,0),VLOOKUP(B120,[4]C!B$1:AH$52,33,0)))","v":0},6,6,null,1,1,null,80,0,0,80,80,100,5,"C-11",10,10,25]
[120,"15BA082",{"$f":"VLOOKUP(B121,[1]C!B$1:AA$48,26,0)","v":9},{"$f":"VLOOKUP(B121,[1]C!B$1:AB$48,27,0)","v":9},{"$f":"VLOOKUP(B121,[1]C!B$1:AD$48,29,0)","v":0},{"$f":"VLOOKUP(B121,[1]C!B$1:AE$48,30,0)","v":0},{"$f":"VLOOKUP(B121,[1]C!B$1:AF$48,31,0)","v":0},{"$f":"VLOOKUP(B121,[1]C!B$1:AH$48,33,0)","v":0},{"$f":"IFERROR(VLOOKUP(B121,[2]A!B$1:AA$48,26,0),IFERROR(VLOOKUP(B121,[2]B!B$1:AA$51,26,0),VLOOKUP(B121,[2]C!B$1:AA$52,26,0)))","v":21},{"$f":"IFERROR(VLOOKUP(B121,[2]A!B$1:AB$48,27,0),IFERROR(VLOOKUP(B121,[2]B!B$1:AB$51,27,0),VLOOKUP(B121,[2]C!B$1:AB$52,27,0)))","v":21},{"$f":"IFERROR(VLOOKUP(B121,[2]A!B$1:AD$48,29,0),IFERROR(VLOOKUP(B121,[2]B!B$1:AD$51,29,0),VLOOKUP(B121,[2]C!B$1:AD$52,29,0)))","v":0},{"$f":"IFERROR(VLOOKUP(B121,[2]A!B$1:AE$48,30,0),IFERROR(VLOOKUP(B121,[2]B!B$1:AE$51,30,0),VLOOKUP(B121,[2]C!B$1:AE$52,30,0)))","v":0},{"$f":"IFERROR(VLOOKUP(B121,[2]A!B$1:AF$48,31,0),IFERROR(VLOOKUP(B121,[2]B!B$1:AF$51,31,0),VLOOKUP(B121,[2]C!B$1:AF$52,31,0)))","v":0},{"$f":"IFERROR(VLOOKUP(B121,[2]A!B$1:AH$48,33,0),IFERROR(VLOOKUP(B121,[2]B!B$1:AH$51,33,0),VLOOKUP(B121,[2]C!$B$1:$AH$52,33,0)))","v":0},{"$f":"IFERROR(VLOOKUP(B121,[3]A!B$1:S$48,18,0),IFERROR(VLOOKUP(B121,[3]B!B$1:Q$51,16,0),VLOOKUP(B121,[3]C!B$1:Q$52,16,0)))","v":16},{"$f":"IFERROR(VLOOKUP(B121,[3]A!B$1:T$48,19,0),IFERROR(VLOOKUP(B121,[3]B!B$1:R$51,17,0),VLOOKUP(B121,[3]C!B$1:R$52,17,0)))","v":16},{"$f":"IFERROR(VLOOKUP(B121,[3]A!B$1:V$48,21,0),IFERROR(VLOOKUP(B121,[3]B!B$1:T$51,19,0),VLOOKUP(B121,[3]C!B$1:T$52,19,0)))","v":0},{"$f":"IFERROR(VLOOKUP(B121,[3]A!B$1:W$48,22,0),IFERROR(VLOOKUP(B121,[3]B!B$1:U$51,20,0),VLOOKUP(B121,[3]C!B$1:U$52,20,0)))","v":0},{"$f":"IFERROR(VLOOKUP(B121,[3]A!B$1:X$48,23,0),IFERROR(VLOOKUP(B121,[3]B!B$1:V$51,21,0),VLOOKUP(B121,[3]C!B$1:V$52,21,0)))","v":1},0,{"$f":"IFERROR(VLOOKUP(B121,[4]A!B$1:AA$48,26,0),IFERROR(VLOOKUP(B121,[4]B!B$1:AA$51,26,0),VLOOKUP(B121,[4]C!B$1:AA$52,26,0)))","v":17},{"$f":"IFERROR(VLOOKUP(B121,[4]A!B$1:AB$48,27,0),IFERROR(VLOOKUP(B121,[4]B!B$1:AB$51,27,0),VLOOKUP(B121,[4]C!B$1:AB$52,27,0)))","v":17},{"$f":"IFERROR(VLOOKUP(B121,[4]A!B$1:AD$48,29,0),IFERROR(VLOOKUP(B121,[4]B!B$1:AD$51,29,0),VLOOKUP(B121,[4]C!B$1:AD$52,29,0)))","v":0},3,4,{"$f":"IFERROR(VLOOKUP(B121,[4]A!B$1:AH$48,33,0),IFERROR(VLOOKUP(B121,[4]B!B$1:AH$51,33,0),VLOOKUP(B121,[4]C!B$1:AH$52,33,0)))","v":0},6,6,null,1,1,null,75,0,0,73,73,97.333333333333343,5,"C-13",10,9,24]
[121,"15BA087",{"$f":"VLOOKUP(B122,[1]C!B$1:AA$48,26,0)","v":8},{"$f":"VLOOKUP(B122,[1]C!B$1:AB$48,27,0)","v":9},{"$f":"VLOOKUP(B122,[1]C!B$1:AD$48,29,0)","v":0},{"$f":"VLOOKUP(B122,[1]C!B$1:AE$48,30,0)","v":0},{"$f":"VLOOKUP(B122,[1]C!B$1:AF$48,31,0)","v":0},{"$f":"VLOOKUP(B122,[1]C!B$1:AH$48,33,0)","v":0},{"$f":"IFERROR(VLOOKUP(B122,[2]A!B$1:AA$48,26,0),IFERROR(VLOOKUP(B122,[2]B!B$1:AA$51,26,0),VLOOKUP(B122,[2]C!B$1:AA$52,26,0)))","v":20},{"$f":"IFERROR(VLOOKUP(B122,[2]A!B$1:AB$48,27,0),IFERROR(VLOOKUP(B122,[2]B!B$1:AB$51,27,0),VLOOKUP(B122,[2]C!B$1:AB$52,27,0)))","v":21},{"$f":"IFERROR(VLOOKUP(B122,[2]A!B$1:AD$48,29,0),IFERROR(VLOOKUP(B122,[2]B!B$1:AD$51,29,0),VLOOKUP(B122,[2]C!B$1:AD$52,29,0)))","v":0},{"$f":"IFERROR(VLOOKUP(B122,[2]A!B$1:AE$48,30,0),IFERROR(VLOOKUP(B122,[2]B!B$1:AE$51,30,0),VLOOKUP(B122,[2]C!B$1:AE$52,30,0)))","v":3},{"$f":"IFERROR(VLOOKUP(B122,[2]A!B$1:AF$48,31,0),IFERROR(VLOOKUP(B122,[2]B!B$1:AF$51,31,0),VLOOKUP(B122,[2]C!B$1:AF$52,31,0)))","v":4},{"$f":"IFERROR(VLOOKUP(B122,[2]A!B$1:AH$48,33,0),IFERROR(VLOOKUP(B122,[2]B!B$1:AH$51,33,0),VLOOKUP(B122,[2]C!$B$1:$AH$52,33,0)))","v":0},{"$f":"IFERROR(VLOOKUP(B122,[3]A!B$1:S$48,18,0),IFERROR(VLOOKUP(B122,[3]B!B$1:Q$51,16,0),VLOOKUP(B122,[3]C!B$1:Q$52,16,0)))","v":14},{"$f":"IFERROR(VLOOKUP(B122,[3]A!B$1:T$48,19,0),IFERROR(VLOOKUP(B122,[3]B!B$1:R$51,17,0),VLOOKUP(B122,[3]C!B$1:R$52,17,0)))","v":16},{"$f":"IFERROR(VLOOKUP(B122,[3]A!B$1:V$48,21,0),IFERROR(VLOOKUP(B122,[3]B!B$1:T$51,19,0),VLOOKUP(B122,[3]C!B$1:T$52,19,0)))","v":0},{"$f":"IFERROR(VLOOKUP(B122,[3]A!B$1:W$48,22,0),IFERROR(VLOOKUP(B122,[3]B!B$1:U$51,20,0),VLOOKUP(B122,[3]C!B$1:U$52,20,0)))","v":2},{"$f":"IFERROR(VLOOKUP(B122,[3]A!B$1:X$48,23,0),IFERROR(VLOOKUP(B122,[3]B!B$1:V$51,21,0),VLOOKUP(B122,[3]C!B$1:V$52,21,0)))","v":3},0,{"$f":"IFERROR(VLOOKUP(B122,[4]A!B$1:AA$48,26,0),IFERROR(VLOOKUP(B122,[4]B!B$1:AA$51,26,0),VLOOKUP(B122,[4]C!B$1:AA$52,26,0)))","v":15},{"$f":"IFERROR(VLOOKUP(B122,[4]A!B$1:AB$48,27,0),IFERROR(VLOOKUP(B122,[4]B!B$1:AB$51,27,0),VLOOKUP(B122,[4]C!B$1:AB$52,27,0)))","v":17},{"$f":"IFERROR(VLOOKUP(B122,[4]A!B$1:AD$48,29,0),IFERROR(VLOOKUP(B122,[4]B!B$1:AD$51,29,0),VLOOKUP(B122,[4]C!B$1:AD$52,29,0)))","v":0},{"$f":"IFERROR(VLOOKUP(B122,[4]A!B$1:AE$48,30,0),IFERROR(VLOOKUP(B122,[4]B!B$1:AE$51,30,0),VLOOKUP(B122,[4]C!B$1:AE$52,30,0)))","v":2},{"$f":"IFERROR(VLOOKUP(B122,[4]A!B$1:AF$48,31,0),IFERROR(VLOOKUP(B122,[4]B!B$1:AF$51,31,0),VLOOKUP(B122,[4]C!B$1:AF$52,31,0)))","v":3},{"$f":"IFERROR(VLOOKUP(B122,[4]A!B$1:AH$48,33,0),IFERROR(VLOOKUP(B122,[4]B!B$1:AH$51,33,0),VLOOKUP(B122,[4]C!B$1:AH$52,33,0)))","v":0},5,6,null,1,1,null,80,0,0,70,70,87.5,5,"C-11",8,7,20]
[122,"15BA094",{"$f":"VLOOKUP(B123,[1]C!B$1:AA$48,26,0)","v":8},{"$f":"VLOOKUP(B123,[1]C!B$1:AB$48,27,0)","v":9},{"$f":"VLOOKUP(B123,[1]C!B$1:AD$48,29,0)","v":0},{"$f":"VLOOKUP(B123,[1]C!B$1:AE$48,30,0)","v":0},{"$f":"VLOOKUP(B123,[1]C!B$1:AF$48,31,0)","v":0},{"$f":"VLOOKUP(B123,[1]C!B$1:AH$48,33,0)","v":0},{"$f":"IFERROR(VLOOKUP(B123,[2]A!B$1:AA$48,26,0),IFERROR(VLOOKUP(B123,[2]B!B$1:AA$51,26,0),VLOOKUP(B123,[2]C!B$1:AA$52,26,0)))","v":19},{"$f":"IFERROR(VLOOKUP(B123,[2]A!B$1:AB$48,27,0),IFERROR(VLOOKUP(B123,[2]B!B$1:AB$51,27,0),VLOOKUP(B123,[2]C!B$1:AB$52,27,0)))","v":21},{"$f":"IFERROR(VLOOKUP(B123,[2]A!B$1:AD$48,29,0),IFERROR(VLOOKUP(B123,[2]B!B$1:AD$51,29,0),VLOOKUP(B123,[2]C!B$1:AD$52,29,0)))","v":0},{"$f":"IFERROR(VLOOKUP(B123,[2]A!B$1:AE$48,30,0),IFERROR(VLOOKUP(B123,[2]B!B$1:AE$51,30,0),VLOOKUP(B123,[2]C!B$1:AE$52,30,0)))","v":0},{"$f":"IFERROR(VLOOKUP(B123,[2]A!B$1:AF$48,31,0),IFERROR(VLOOKUP(B123,[2]B!B$1:AF$51,31,0),VLOOKUP(B123,[2]C!B$1:AF$52,31,0)))","v":0},{"$f":"IFERROR(VLOOKUP(B123,[2]A!B$1:AH$48,33,0),IFERROR(VLOOKUP(B123,[2]B!B$1:AH$51,33,0),VLOOKUP(B123,[2]C!$B$1:$AH$52,33,0)))","v":0},{"$f":"IFERROR(VLOOKUP(B123,[3]A!B$1:S$48,18,0),IFERROR(VLOOKUP(B123,[3]B!B$1:Q$51,16,0),VLOOKUP(B123,[3]C!B$1:Q$52,16,0)))","v":14},{"$f":"IFERROR(VLOOKUP(B123,[3]A!B$1:T$48,19,0),IFERROR(VLOOKUP(B123,[3]B!B$1:R$51,17,0),VLOOKUP(B123,[3]C!B$1:R$52,17,0)))","v":16},{"$f":"IFERROR(VLOOKUP(B123,[3]A!B$1:V$48,21,0),IFERROR(VLOOKUP(B123,[3]B!B$1:T$51,19,0),VLOOKUP(B123,[3]C!B$1:T$52,19,0)))","v":0},{"$f":"IFERROR(VLOOKUP(B123,[3]A!B$1:W$48,22,0),IFERROR(VLOOKUP(B123,[3]B!B$1:U$51,20,0),VLOOKUP(B123,[3]C!B$1:U$52,20,0)))","v":1},{"$f":"IFERROR(VLOOKUP(B123,[3]A!B$1:X$48,23,0),IFERROR(VLOOKUP(B123,[3]B!B$1:V$51,21,0),VLOOKUP(B123,[3]C!B$1:V$52,21,0)))","v":1},0,{"$f":"IFERROR(VLOOKUP(B123,[4]A!B$1:AA$48,26,0),IFERROR(VLOOKUP(B123,[4]B!B$1:AA$51,26,0),VLOOKUP(B123,[4]C!B$1:AA$52,26,0)))","v":15},{"$f":"IFERROR(VLOOKUP(B123,[4]A!B$1:AB$48,27,0),IFERROR(VLOOKUP(B123,[4]B!B$1:AB$51,27,0),VLOOKUP(B123,[4]C!B$1:AB$52,27,0)))","v":17},{"$f":"IFERROR(VLOOKUP(B123,[4]A!B$1:AD$48,29,0),IFERROR(VLOOKUP(B123,[4]B!B$1:AD$51,29,0),VLOOKUP(B123,[4]C!B$1:AD$52,29,0)))","v":0},{"$f":"IFERROR(VLOOKUP(B123,[4]A!B$1:AE$48,30,0),IFERROR(VLOOKUP(B123,[4]B!B$1:AE$51,30,0),VLOOKUP(B123,[4]C!B$1:AE$52,30,0)))","v":1},{"$f":"IFERROR(VLOOKUP(B123,[4]A!B$1:AF$48,31,0),IFERROR(VLOOKUP(B123,[4]B!B$1:AF$51,31,0),VLOOKUP(B123,[4]C!B$1:AF$52,31,0)))","v":3},{"$f":"IFERROR(VLOOKUP(B123,[4]A!B$1:AH$48,33,0),IFERROR(VLOOKUP(B123,[4]B!B$1:AH$51,33,0),VLOOKUP(B123,[4]C!B$1:AH$52,33,0)))","v":0},6,6,null,null,null,null,73,0,0,64,64,87.671232876712324,5,null,9,9,23]
[123,"15BA097",{"$f":"VLOOKUP(B124,[1]C!B$1:AA$48,26,0)","v":8},{"$f":"VLOOKUP(B124,[1]C!B$1:AB$48,27,0)","v":9},{"$f":"VLOOKUP(B124,[1]C!B$1:AD$48,29,0)","v":0},{"$f":"VLOOKUP(B124,[1]C!B$1:AE$48,30,0)","v":0},{"$f":"VLOOKUP(B124,[1]C!B$1:AF$48,31,0)","v":0},{"$f":"VLOOKUP(B124,[1]C!B$1:AH$48,33,0)","v":0},{"$f":"IFERROR(VLOOKUP(B124,[2]A!B$1:AA$48,26,0),IFERROR(VLOOKUP(B124,[2]B!B$1:AA$51,26,0),VLOOKUP(B124,[2]C!B$1:AA$52,26,0)))","v":20},{"$f":"IFERROR(VLOOKUP(B124,[2]A!B$1:AB$48,27,0),IFERROR(VLOOKUP(B124,[2]B!B$1:AB$51,27,0),VLOOKUP(B124,[2]C!B$1:AB$52,27,0)))","v":21},{"$f":"IFERROR(VLOOKUP(B124,[2]A!B$1:AD$48,29,0),IFERROR(VLOOKUP(B124,[2]B!B$1:AD$51,29,0),VLOOKUP(B124,[2]C!B$1:AD$52,29,0)))","v":0},{"$f":"IFERROR(VLOOKUP(B124,[2]A!B$1:AE$48,30,0),IFERROR(VLOOKUP(B124,[2]B!B$1:AE$51,30,0),VLOOKUP(B124,[2]C!B$1:AE$52,30,0)))","v":0},{"$f":"IFERROR(VLOOKUP(B124,[2]A!B$1:AF$48,31,0),IFERROR(VLOOKUP(B124,[2]B!B$1:AF$51,31,0),VLOOKUP(B124,[2]C!B$1:AF$52,31,0)))","v":0},{"$f":"IFERROR(VLOOKUP(B124,[2]A!B$1:AH$48,33,0),IFERROR(VLOOKUP(B124,[2]B!B$1:AH$51,33,0),VLOOKUP(B124,[2]C!$B$1:$AH$52,33,0)))","v":0},{"$f":"IFERROR(VLOOKUP(B124,[3]A!B$1:S$48,18,0),IFERROR(VLOOKUP(B124,[3]B!B$1:Q$51,16,0),VLOOKUP(B124,[3]C!B$1:Q$52,16,0)))","v":14},{"$f":"IFERROR(VLOOKUP(B124,[3]A!B$1:T$48,19,0),IFERROR(VLOOKUP(B124,[3]B!B$1:R$51,17,0),VLOOKUP(B124,[3]C!B$1:R$52,17,0)))","v":16},{"$f":"IFERROR(VLOOKUP(B124,[3]A!B$1:V$48,21,0),IFERROR(VLOOKUP(B124,[3]B!B$1:T$51,19,0),VLOOKUP(B124,[3]C!B$1:T$52,19,0)))","v":0},{"$f":"IFERROR(VLOOKUP(B124,[3]A!B$1:W$48,22,0),IFERROR(VLOOKUP(B124,[3]B!B$1:U$51,20,0),VLOOKUP(B124,[3]C!B$1:U$52,20,0)))","v":0},{"$f":"IFERROR(VLOOKUP(B124,[3]A!B$1:X$48,23,0),IFERROR(VLOOKUP(B124,[3]B!B$1:V$51,21,0),VLOOKUP(B124,[3]C!B$1:V$52,21,0)))","v":1},0,{"$f":"IFERROR(VLOOKUP(B124,[4]A!B$1:AA$48,26,0),IFERROR(VLOOKUP(B124,[4]B!B$1:AA$51,26,0),VLOOKUP(B124,[4]C!B$1:AA$52,26,0)))","v":15},{"$f":"IFERROR(VLOOKUP(B124,[4]A!B$1:AB$48,27,0),IFERROR(VLOOKUP(B124,[4]B!B$1:AB$51,27,0),VLOOKUP(B124,[4]C!B$1:AB$52,27,0)))","v":17},{"$f":"IFERROR(VLOOKUP(B124,[4]A!B$1:AD$48,29,0),IFERROR(VLOOKUP(B124,[4]B!B$1:AD$51,29,0),VLOOKUP(B124,[4]C!B$1:AD$52,29,0)))","v":0},{"$f":"IFERROR(VLOOKUP(B124,[4]A!B$1:AE$48,30,0),IFERROR(VLOOKUP(B124,[4]B!B$1:AE$51,30,0),VLOOKUP(B124,[4]C!B$1:AE$52,30,0)))","v":3},{"$f":"IFERROR(VLOOKUP(B124,[4]A!B$1:AF$48,31,0),IFERROR(VLOOKUP(B124,[4]B!B$1:AF$51,31,0),VLOOKUP(B124,[4]C!B$1:AF$52,31,0)))","v":3},{"$f":"IFERROR(VLOOKUP(B124,[4]A!B$1:AH$48,33,0),IFERROR(VLOOKUP(B124,[4]B!B$1:AH$51,33,0),VLOOKUP(B124,[4]C!B$1:AH$52,33,0)))","v":0},6,6,null,null,null,null,73,0,0,66,66,90.410958904109577,5,null,8,8,21]
[124,"15BA099",{"$f":"VLOOKUP(B125,[1]C!B$1:AA$48,26,0)","v":8},{"$f":"VLOOKUP(B125,[1]C!B$1:AB$48,27,0)","v":9},{"$f":"VLOOKUP(B125,[1]C!B$1:AD$48,29,0)","v":0},{"$f":"VLOOKUP(B125,[1]C!B$1:AE$48,30,0)","v":0},{"$f":"VLOOKUP(B125,[1]C!B$1:AF$48,31,0)","v":0},{"$f":"VLOOKUP(B125,[1]C!B$1:AH$48,33,0)","v":0},{"$f":"IFERROR(VLOOKUP(B125,[2]A!B$1:AA$48,26,0),IFERROR(VLOOKUP(B125,[2]B!B$1:AA$51,26,0),VLOOKUP(B125,[2]C!B$1:AA$52,26,0)))","v":19},{"$f":"IFERROR(VLOOKUP(B125,[2]A!B$1:AB$48,27,0),IFERROR(VLOOKUP(B125,[2]B!B$1:AB$51,27,0),VLOOKUP(B125,[2]C!B$1:AB$52,27,0)))","v":21},{"$f":"IFERROR(VLOOKUP(B125,[2]A!B$1:AD$48,29,0),IFERROR(VLOOKUP(B125,[2]B!B$1:AD$51,29,0),VLOOKUP(B125,[2]C!B$1:AD$52,29,0)))","v":0},{"$f":"IFERROR(VLOOKUP(B125,[2]A!B$1:AE$48,30,0),IFERROR(VLOOKUP(B125,[2]B!B$1:AE$51,30,0),VLOOKUP(B125,[2]C!B$1:AE$52,30,0)))","v":0},{"$f":"IFERROR(VLOOKUP(B125,[2]A!B$1:AF$48,31,0),IFERROR(VLOOKUP(B125,[2]B!B$1:AF$51,31,0),VLOOKUP(B125,[2]C!B$1:AF$52,31,0)))","v":0},{"$f":"IFERROR(VLOOKUP(B125,[2]A!B$1:AH$48,33,0),IFERROR(VLOOKUP(B125,[2]B!B$1:AH$51,33,0),VLOOKUP(B125,[2]C!$B$1:$AH$52,33,0)))","v":0},{"$f":"IFERROR(VLOOKUP(B125,[3]A!B$1:S$48,18,0),IFERROR(VLOOKUP(B125,[3]B!B$1:Q$51,16,0),VLOOKUP(B125,[3]C!B$1:Q$52,16,0)))","v":14},{"$f":"IFERROR(VLOOKUP(B125,[3]A!B$1:T$48,19,0),IFERROR(VLOOKUP(B125,[3]B!B$1:R$51,17,0),VLOOKUP(B125,[3]C!B$1:R$52,17,0)))","v":16},{"$f":"IFERROR(VLOOKUP(B125,[3]A!B$1:V$48,21,0),IFERROR(VLOOKUP(B125,[3]B!B$1:T$51,19,0),VLOOKUP(B125,[3]C!B$1:T$52,19,0)))","v":0},{"$f":"IFERROR(VLOOKUP(B125,[3]A!B$1:W$48,22,0),IFERROR(VLOOKUP(B125,[3]B!B$1:U$51,20,0),VLOOKUP(B125,[3]C!B$1:U$52,20,0)))","v":0},{"$f":"IFERROR(VLOOKUP(B125,[3]A!B$1:X$48,23,0),IFERROR(VLOOKUP(B125,[3]B!B$1:V$51,21,0),VLOOKUP(B125,[3]C!B$1:V$52,21,0)))","v":1},0,{"$f":"IFERROR(VLOOKUP(B125,[4]A!B$1:AA$48,26,0),IFERROR(VLOOKUP(B125,[4]B!B$1:AA$51,26,0),VLOOKUP(B125,[4]C!B$1:AA$52,26,0)))","v":15},{"$f":"IFERROR(VLOOKUP(B125,[4]A!B$1:AB$48,27,0),IFERROR(VLOOKUP(B125,[4]B!B$1:AB$51,27,0),VLOOKUP(B125,[4]C!B$1:AB$52,27,0)))","v":17},{"$f":"IFERROR(VLOOKUP(B125,[4]A!B$1:AD$48,29,0),IFERROR(VLOOKUP(B125,[4]B!B$1:AD$51,29,0),VLOOKUP(B125,[4]C!B$1:AD$52,29,0)))","v":0},{"$f":"IFERROR(VLOOKUP(B125,[4]A!B$1:AE$48,30,0),IFERROR(VLOOKUP(B125,[4]B!B$1:AE$51,30,0),VLOOKUP(B125,[4]C!B$1:AE$52,30,0)))","v":0},{"$f":"IFERROR(VLOOKUP(B125,[4]A!B$1:AF$48,31,0),IFERROR(VLOOKUP(B125,[4]B!B$1:AF$51,31,0),VLOOKUP(B125,[4]C!B$1:AF$52,31,0)))","v":3},{"$f":"IFERROR(VLOOKUP(B125,[4]A!B$1:AH$48,33,0),IFERROR(VLOOKUP(B125,[4]B!B$1:AH$51,33,0),VLOOKUP(B125,[4]C!B$1:AH$52,33,0)))","v":0},5,6,null,null,null,null,73,0,0,61,61,83.561643835616437,4,null,7,5,16]
[125,"15BA102",{"$f":"VLOOKUP(B126,[1]C!B$1:AA$48,26,0)","v":8},{"$f":"VLOOKUP(B126,[1]C!B$1:AB$48,27,0)","v":9},{"$f":"VLOOKUP(B126,[1]C!B$1:AD$48,29,0)","v":0},{"$f":"VLOOKUP(B126,[1]C!B$1:AE$48,30,0)","v":0},{"$f":"VLOOKUP(B126,[1]C!B$1:AF$48,31,0)","v":0},{"$f":"VLOOKUP(B126,[1]C!B$1:AH$48,33,0)","v":0},{"$f":"IFERROR(VLOOKUP(B126,[2]A!B$1:AA$48,26,0),IFERROR(VLOOKUP(B126,[2]B!B$1:AA$51,26,0),VLOOKUP(B126,[2]C!B$1:AA$52,26,0)))","v":19},{"$f":"IFERROR(VLOOKUP(B126,[2]A!B$1:AB$48,27,0),IFERROR(VLOOKUP(B126,[2]B!B$1:AB$51,27,0),VLOOKUP(B126,[2]C!B$1:AB$52,27,0)))","v":21},{"$f":"IFERROR(VLOOKUP(B126,[2]A!B$1:AD$48,29,0),IFERROR(VLOOKUP(B126,[2]B!B$1:AD$51,29,0),VLOOKUP(B126,[2]C!B$1:AD$52,29,0)))","v":0},{"$f":"IFERROR(VLOOKUP(B126,[2]A!B$1:AE$48,30,0),IFERROR(VLOOKUP(B126,[2]B!B$1:AE$51,30,0),VLOOKUP(B126,[2]C!B$1:AE$52,30,0)))","v":0},{"$f":"IFERROR(VLOOKUP(B126,[2]A!B$1:AF$48,31,0),IFERROR(VLOOKUP(B126,[2]B!B$1:AF$51,31,0),VLOOKUP(B126,[2]C!B$1:AF$52,31,0)))","v":0},{"$f":"IFERROR(VLOOKUP(B126,[2]A!B$1:AH$48,33,0),IFERROR(VLOOKUP(B126,[2]B!B$1:AH$51,33,0),VLOOKUP(B126,[2]C!$B$1:$AH$52,33,0)))","v":0},{"$f":"IFERROR(VLOOKUP(B126,[3]A!B$1:S$48,18,0),IFERROR(VLOOKUP(B126,[3]B!B$1:Q$51,16,0),VLOOKUP(B126,[3]C!B$1:Q$52,16,0)))","v":14},{"$f":"IFERROR(VLOOKUP(B126,[3]A!B$1:T$48,19,0),IFERROR(VLOOKUP(B126,[3]B!B$1:R$51,17,0),VLOOKUP(B126,[3]C!B$1:R$52,17,0)))","v":16},{"$f":"IFERROR(VLOOKUP(B126,[3]A!B$1:V$48,21,0),IFERROR(VLOOKUP(B126,[3]B!B$1:T$51,19,0),VLOOKUP(B126,[3]C!B$1:T$52,19,0)))","v":0},{"$f":"IFERROR(VLOOKUP(B126,[3]A!B$1:W$48,22,0),IFERROR(VLOOKUP(B126,[3]B!B$1:U$51,20,0),VLOOKUP(B126,[3]C!B$1:U$52,20,0)))","v":0},{"$f":"IFERROR(VLOOKUP(B126,[3]A!B$1:X$48,23,0),IFERROR(VLOOKUP(B126,[3]B!B$1:V$51,21,0),VLOOKUP(B126,[3]C!B$1:V$52,21,0)))","v":1},0,{"$f":"IFERROR(VLOOKUP(B126,[4]A!B$1:AA$48,26,0),IFERROR(VLOOKUP(B126,[4]B!B$1:AA$51,26,0),VLOOKUP(B126,[4]C!B$1:AA$52,26,0)))","v":15},{"$f":"IFERROR(VLOOKUP(B126,[4]A!B$1:AB$48,27,0),IFERROR(VLOOKUP(B126,[4]B!B$1:AB$51,27,0),VLOOKUP(B126,[4]C!B$1:AB$52,27,0)))","v":17},{"$f":"IFERROR(VLOOKUP(B126,[4]A!B$1:AD$48,29,0),IFERROR(VLOOKUP(B126,[4]B!B$1:AD$51,29,0),VLOOKUP(B126,[4]C!B$1:AD$52,29,0)))","v":0},{"$f":"IFERROR(VLOOKUP(B126,[4]A!B$1:AE$48,30,0),IFERROR(VLOOKUP(B126,[4]B!B$1:AE$51,30,0),VLOOKUP(B126,[4]C!B$1:AE$52,30,0)))","v":1},{"$f":"IFERROR(VLOOKUP(B126,[4]A!B$1:AF$48,31,0),IFERROR(VLOOKUP(B126,[4]B!B$1:AF$51,31,0),VLOOKUP(B126,[4]C!B$1:AF$52,31,0)))","v":3},{"$f":"IFERROR(VLOOKUP(B126,[4]A!B$1:AH$48,33,0),IFERROR(VLOOKUP(B126,[4]B!B$1:AH$51,33,0),VLOOKUP(B126,[4]C!B$1:AH$52,33,0)))","v":0},6,6,null,null,null,null,73,0,0,63,63,86.301369863013704,5,null,9,9,23]
[126,"15BA103",{"$f":"VLOOKUP(B127,[1]C!B$1:AA$48,26,0)","v":8},{"$f":"VLOOKUP(B127,[1]C!B$1:AB$48,27,0)","v":9},{"$f":"VLOOKUP(B127,[1]C!B$1:AD$48,29,0)","v":0},{"$f":"VLOOKUP(B127,[1]C!B$1:AE$48,30,0)","v":0},{"$f":"VLOOKUP(B127,[1]C!B$1:AF$48,31,0)","v":0},{"$f":"VLOOKUP(B127,[1]C!B$1:AH$48,33,0)","v":0},{"$f":"IFERROR(VLOOKUP(B127,[2]A!B$1:AA$48,26,0),IFERROR(VLOOKUP(B127,[2]B!B$1:AA$51,26,0),VLOOKUP(B127,[2]C!B$1:AA$52,26,0)))","v":19},{"$f":"IFERROR(VLOOKUP(B127,[2]A!B$1:AB$48,27,0),IFERROR(VLOOKUP(B127,[2]B!B$1:AB$51,27,0),VLOOKUP(B127,[2]C!B$1:AB$52,27,0)))","v":21},{"$f":"IFERROR(VLOOKUP(B127,[2]A!B$1:AD$48,29,0),IFERROR(VLOOKUP(B127,[2]B!B$1:AD$51,29,0),VLOOKUP(B127,[2]C!B$1:AD$52,29,0)))","v":0},{"$f":"IFERROR(VLOOKUP(B127,[2]A!B$1:AE$48,30,0),IFERROR(VLOOKUP(B127,[2]B!B$1:AE$51,30,0),VLOOKUP(B127,[2]C!B$1:AE$52,30,0)))","v":0},{"$f":"IFERROR(VLOOKUP(B127,[2]A!B$1:AF$48,31,0),IFERROR(VLOOKUP(B127,[2]B!B$1:AF$51,31,0),VLOOKUP(B127,[2]C!B$1:AF$52,31,0)))","v":0},{"$f":"IFERROR(VLOOKUP(B127,[2]A!B$1:AH$48,33,0),IFERROR(VLOOKUP(B127,[2]B!B$1:AH$51,33,0),VLOOKUP(B127,[2]C!$B$1:$AH$52,33,0)))","v":0},{"$f":"IFERROR(VLOOKUP(B127,[3]A!B$1:S$48,18,0),IFERROR(VLOOKUP(B127,[3]B!B$1:Q$51,16,0),VLOOKUP(B127,[3]C!B$1:Q$52,16,0)))","v":15},{"$f":"IFERROR(VLOOKUP(B127,[3]A!B$1:T$48,19,0),IFERROR(VLOOKUP(B127,[3]B!B$1:R$51,17,0),VLOOKUP(B127,[3]C!B$1:R$52,17,0)))","v":16},{"$f":"IFERROR(VLOOKUP(B127,[3]A!B$1:V$48,21,0),IFERROR(VLOOKUP(B127,[3]B!B$1:T$51,19,0),VLOOKUP(B127,[3]C!B$1:T$52,19,0)))","v":0},{"$f":"IFERROR(VLOOKUP(B127,[3]A!B$1:W$48,22,0),IFERROR(VLOOKUP(B127,[3]B!B$1:U$51,20,0),VLOOKUP(B127,[3]C!B$1:U$52,20,0)))","v":0},{"$f":"IFERROR(VLOOKUP(B127,[3]A!B$1:X$48,23,0),IFERROR(VLOOKUP(B127,[3]B!B$1:V$51,21,0),VLOOKUP(B127,[3]C!B$1:V$52,21,0)))","v":2},0,{"$f":"IFERROR(VLOOKUP(B127,[4]A!B$1:AA$48,26,0),IFERROR(VLOOKUP(B127,[4]B!B$1:AA$51,26,0),VLOOKUP(B127,[4]C!B$1:AA$52,26,0)))","v":15},{"$f":"IFERROR(VLOOKUP(B127,[4]A!B$1:AB$48,27,0),IFERROR(VLOOKUP(B127,[4]B!B$1:AB$51,27,0),VLOOKUP(B127,[4]C!B$1:AB$52,27,0)))","v":17},{"$f":"IFERROR(VLOOKUP(B127,[4]A!B$1:AD$48,29,0),IFERROR(VLOOKUP(B127,[4]B!B$1:AD$51,29,0),VLOOKUP(B127,[4]C!B$1:AD$52,29,0)))","v":0},{"$f":"IFERROR(VLOOKUP(B127,[4]A!B$1:AE$48,30,0),IFERROR(VLOOKUP(B127,[4]B!B$1:AE$51,30,0),VLOOKUP(B127,[4]C!B$1:AE$52,30,0)))","v":0},4,{"$f":"IFERROR(VLOOKUP(B127,[4]A!B$1:AH$48,33,0),IFERROR(VLOOKUP(B127,[4]B!B$1:AH$51,33,0),VLOOKUP(B127,[4]C!B$1:AH$52,33,0)))","v":0},6,6,null,0,1,null,76,0,0,63,63,82.89473684210526,4,"C-13",9,10,23]
[127,"15BA104",{"$f":"VLOOKUP(B128,[1]C!B$1:AA$48,26,0)","v":8},{"$f":"VLOOKUP(B128,[1]C!B$1:AB$48,27,0)","v":9},{"$f":"VLOOKUP(B128,[1]C!B$1:AD$48,29,0)","v":0},{"$f":"VLOOKUP(B128,[1]C!B$1:AE$48,30,0)","v":0},{"$f":"VLOOKUP(B128,[1]C!B$1:AF$48,31,0)","v":0},{"$f":"VLOOKUP(B128,[1]C!B$1:AH$48,33,0)","v":0},{"$f":"IFERROR(VLOOKUP(B128,[2]A!B$1:AA$48,26,0),IFERROR(VLOOKUP(B128,[2]B!B$1:AA$51,26,0),VLOOKUP(B128,[2]C!B$1:AA$52,26,0)))","v":19},{"$f":"IFERROR(VLOOKUP(B128,[2]A!B$1:AB$48,27,0),IFERROR(VLOOKUP(B128,[2]B!B$1:AB$51,27,0),VLOOKUP(B128,[2]C!B$1:AB$52,27,0)))","v":21},{"$f":"IFERROR(VLOOKUP(B128,[2]A!B$1:AD$48,29,0),IFERROR(VLOOKUP(B128,[2]B!B$1:AD$51,29,0),VLOOKUP(B128,[2]C!B$1:AD$52,29,0)))","v":0},{"$f":"IFERROR(VLOOKUP(B128,[2]A!B$1:AE$48,30,0),IFERROR(VLOOKUP(B128,[2]B!B$1:AE$51,30,0),VLOOKUP(B128,[2]C!B$1:AE$52,30,0)))","v":0},{"$f":"IFERROR(VLOOKUP(B128,[2]A!B$1:AF$48,31,0),IFERROR(VLOOKUP(B128,[2]B!B$1:AF$51,31,0),VLOOKUP(B128,[2]C!B$1:AF$52,31,0)))","v":0},{"$f":"IFERROR(VLOOKUP(B128,[2]A!B$1:AH$48,33,0),IFERROR(VLOOKUP(B128,[2]B!B$1:AH$51,33,0),VLOOKUP(B128,[2]C!$B$1:$AH$52,33,0)))","v":0},{"$f":"IFERROR(VLOOKUP(B128,[3]A!B$1:S$48,18,0),IFERROR(VLOOKUP(B128,[3]B!B$1:Q$51,16,0),VLOOKUP(B128,[3]C!B$1:Q$52,16,0)))","v":14},{"$f":"IFERROR(VLOOKUP(B128,[3]A!B$1:T$48,19,0),IFERROR(VLOOKUP(B128,[3]B!B$1:R$51,17,0),VLOOKUP(B128,[3]C!B$1:R$52,17,0)))","v":16},{"$f":"IFERROR(VLOOKUP(B128,[3]A!B$1:V$48,21,0),IFERROR(VLOOKUP(B128,[3]B!B$1:T$51,19,0),VLOOKUP(B128,[3]C!B$1:T$52,19,0)))","v":0},{"$f":"IFERROR(VLOOKUP(B128,[3]A!B$1:W$48,22,0),IFERROR(VLOOKUP(B128,[3]B!B$1:U$51,20,0),VLOOKUP(B128,[3]C!B$1:U$52,20,0)))","v":1},{"$f":"IFERROR(VLOOKUP(B128,[3]A!B$1:X$48,23,0),IFERROR(VLOOKUP(B128,[3]B!B$1:V$51,21,0),VLOOKUP(B128,[3]C!B$1:V$52,21,0)))","v":1},0,{"$f":"IFERROR(VLOOKUP(B128,[4]A!B$1:AA$48,26,0),IFERROR(VLOOKUP(B128,[4]B!B$1:AA$51,26,0),VLOOKUP(B128,[4]C!B$1:AA$52,26,0)))","v":15},{"$f":"IFERROR(VLOOKUP(B128,[4]A!B$1:AB$48,27,0),IFERROR(VLOOKUP(B128,[4]B!B$1:AB$51,27,0),VLOOKUP(B128,[4]C!B$1:AB$52,27,0)))","v":17},{"$f":"IFERROR(VLOOKUP(B128,[4]A!B$1:AD$48,29,0),IFERROR(VLOOKUP(B128,[4]B!B$1:AD$51,29,0),VLOOKUP(B128,[4]C!B$1:AD$52,29,0)))","v":0},{"$f":"IFERROR(VLOOKUP(B128,[4]A!B$1:AE$48,30,0),IFERROR(VLOOKUP(B128,[4]B!B$1:AE$51,30,0),VLOOKUP(B128,[4]C!B$1:AE$52,30,0)))","v":0},{"$f":"IFERROR(VLOOKUP(B128,[4]A!B$1:AF$48,31,0),IFERROR(VLOOKUP(B128,[4]B!B$1:AF$51,31,0),VLOOKUP(B128,[4]C!B$1:AF$52,31,0)))","v":3},{"$f":"IFERROR(VLOOKUP(B128,[4]A!B$1:AH$48,33,0),IFERROR(VLOOKUP(B128,[4]B!B$1:AH$51,33,0),VLOOKUP(B128,[4]C!B$1:AH$52,33,0)))","v":0},5,6,null,null,null,null,73,0,0,62,62,84.93150684931507,4,null,6,5,15]
[128,"15BA109",{"$f":"VLOOKUP(B129,[1]C!B$1:AA$48,26,0)","v":8},{"$f":"VLOOKUP(B129,[1]C!B$1:AB$48,27,0)","v":9},{"$f":"VLOOKUP(B129,[1]C!B$1:AD$48,29,0)","v":0},{"$f":"VLOOKUP(B129,[1]C!B$1:AE$48,30,0)","v":0},{"$f":"VLOOKUP(B129,[1]C!B$1:AF$48,31,0)","v":0},{"$f":"VLOOKUP(B129,[1]C!B$1:AH$48,33,0)","v":0},{"$f":"IFERROR(VLOOKUP(B129,[2]A!B$1:AA$48,26,0),IFERROR(VLOOKUP(B129,[2]B!B$1:AA$51,26,0),VLOOKUP(B129,[2]C!B$1:AA$52,26,0)))","v":20},{"$f":"IFERROR(VLOOKUP(B129,[2]A!B$1:AB$48,27,0),IFERROR(VLOOKUP(B129,[2]B!B$1:AB$51,27,0),VLOOKUP(B129,[2]C!B$1:AB$52,27,0)))","v":21},{"$f":"IFERROR(VLOOKUP(B129,[2]A!B$1:AD$48,29,0),IFERROR(VLOOKUP(B129,[2]B!B$1:AD$51,29,0),VLOOKUP(B129,[2]C!B$1:AD$52,29,0)))","v":0},{"$f":"IFERROR(VLOOKUP(B129,[2]A!B$1:AE$48,30,0),IFERROR(VLOOKUP(B129,[2]B!B$1:AE$51,30,0),VLOOKUP(B129,[2]C!B$1:AE$52,30,0)))","v":0},{"$f":"IFERROR(VLOOKUP(B129,[2]A!B$1:AF$48,31,0),IFERROR(VLOOKUP(B129,[2]B!B$1:AF$51,31,0),VLOOKUP(B129,[2]C!B$1:AF$52,31,0)))","v":0},{"$f":"IFERROR(VLOOKUP(B129,[2]A!B$1:AH$48,33,0),IFERROR(VLOOKUP(B129,[2]B!B$1:AH$51,33,0),VLOOKUP(B129,[2]C!$B$1:$AH$52,33,0)))","v":0},{"$f":"IFERROR(VLOOKUP(B129,[3]A!B$1:S$48,18,0),IFERROR(VLOOKUP(B129,[3]B!B$1:Q$51,16,0),VLOOKUP(B129,[3]C!B$1:Q$52,16,0)))","v":15},{"$f":"IFERROR(VLOOKUP(B129,[3]A!B$1:T$48,19,0),IFERROR(VLOOKUP(B129,[3]B!B$1:R$51,17,0),VLOOKUP(B129,[3]C!B$1:R$52,17,0)))","v":16},{"$f":"IFERROR(VLOOKUP(B129,[3]A!B$1:V$48,21,0),IFERROR(VLOOKUP(B129,[3]B!B$1:T$51,19,0),VLOOKUP(B129,[3]C!B$1:T$52,19,0)))","v":0},{"$f":"IFERROR(VLOOKUP(B129,[3]A!B$1:W$48,22,0),IFERROR(VLOOKUP(B129,[3]B!B$1:U$51,20,0),VLOOKUP(B129,[3]C!B$1:U$52,20,0)))","v":1},{"$f":"IFERROR(VLOOKUP(B129,[3]A!B$1:X$48,23,0),IFERROR(VLOOKUP(B129,[3]B!B$1:V$51,21,0),VLOOKUP(B129,[3]C!B$1:V$52,21,0)))","v":1},0,{"$f":"IFERROR(VLOOKUP(B129,[4]A!B$1:AA$48,26,0),IFERROR(VLOOKUP(B129,[4]B!B$1:AA$51,26,0),VLOOKUP(B129,[4]C!B$1:AA$52,26,0)))","v":15},{"$f":"IFERROR(VLOOKUP(B129,[4]A!B$1:AB$48,27,0),IFERROR(VLOOKUP(B129,[4]B!B$1:AB$51,27,0),VLOOKUP(B129,[4]C!B$1:AB$52,27,0)))","v":17},{"$f":"IFERROR(VLOOKUP(B129,[4]A!B$1:AD$48,29,0),IFERROR(VLOOKUP(B129,[4]B!B$1:AD$51,29,0),VLOOKUP(B129,[4]C!B$1:AD$52,29,0)))","v":0},{"$f":"IFERROR(VLOOKUP(B129,[4]A!B$1:AE$48,30,0),IFERROR(VLOOKUP(B129,[4]B!B$1:AE$51,30,0),VLOOKUP(B129,[4]C!B$1:AE$52,30,0)))","v":3},{"$f":"IFERROR(VLOOKUP(B129,[4]A!B$1:AF$48,31,0),IFERROR(VLOOKUP(B129,[4]B!B$1:AF$51,31,0),VLOOKUP(B129,[4]C!B$1:AF$52,31,0)))","v":3},{"$f":"IFERROR(VLOOKUP(B129,[4]A!B$1:AH$48,33,0),IFERROR(VLOOKUP(B129,[4]B!B$1:AH$51,33,0),VLOOKUP(B129,[4]C!B$1:AH$52,33,0)))","v":0},5,6,null,null,null,null,73,0,0,67,67,91.780821917808225,5,null,8,7,20]
[129,"15BA114",{"$f":"VLOOKUP(B130,[1]C!B$1:AA$48,26,0)","v":8},{"$f":"VLOOKUP(B130,[1]C!B$1:AB$48,27,0)","v":9},{"$f":"VLOOKUP(B130,[1]C!B$1:AD$48,29,0)","v":0},{"$f":"VLOOKUP(B130,[1]C!B$1:AE$48,30,0)","v":0},{"$f":"VLOOKUP(B130,[1]C!B$1:AF$48,31,0)","v":0},{"$f":"VLOOKUP(B130,[1]C!B$1:AH$48,33,0)","v":0},{"$f":"IFERROR(VLOOKUP(B130,[2]A!B$1:AA$48,26,0),IFERROR(VLOOKUP(B130,[2]B!B$1:AA$51,26,0),VLOOKUP(B130,[2]C!B$1:AA$52,26,0)))","v":19},{"$f":"IFERROR(VLOOKUP(B130,[2]A!B$1:AB$48,27,0),IFERROR(VLOOKUP(B130,[2]B!B$1:AB$51,27,0),VLOOKUP(B130,[2]C!B$1:AB$52,27,0)))","v":21},{"$f":"IFERROR(VLOOKUP(B130,[2]A!B$1:AD$48,29,0),IFERROR(VLOOKUP(B130,[2]B!B$1:AD$51,29,0),VLOOKUP(B130,[2]C!B$1:AD$52,29,0)))","v":0},{"$f":"IFERROR(VLOOKUP(B130,[2]A!B$1:AE$48,30,0),IFERROR(VLOOKUP(B130,[2]B!B$1:AE$51,30,0),VLOOKUP(B130,[2]C!B$1:AE$52,30,0)))","v":3},{"$f":"IFERROR(VLOOKUP(B130,[2]A!B$1:AF$48,31,0),IFERROR(VLOOKUP(B130,[2]B!B$1:AF$51,31,0),VLOOKUP(B130,[2]C!B$1:AF$52,31,0)))","v":4},{"$f":"IFERROR(VLOOKUP(B130,[2]A!B$1:AH$48,33,0),IFERROR(VLOOKUP(B130,[2]B!B$1:AH$51,33,0),VLOOKUP(B130,[2]C!$B$1:$AH$52,33,0)))","v":0},{"$f":"IFERROR(VLOOKUP(B130,[3]A!B$1:S$48,18,0),IFERROR(VLOOKUP(B130,[3]B!B$1:Q$51,16,0),VLOOKUP(B130,[3]C!B$1:Q$52,16,0)))","v":14},{"$f":"IFERROR(VLOOKUP(B130,[3]A!B$1:T$48,19,0),IFERROR(VLOOKUP(B130,[3]B!B$1:R$51,17,0),VLOOKUP(B130,[3]C!B$1:R$52,17,0)))","v":16},{"$f":"IFERROR(VLOOKUP(B130,[3]A!B$1:V$48,21,0),IFERROR(VLOOKUP(B130,[3]B!B$1:T$51,19,0),VLOOKUP(B130,[3]C!B$1:T$52,19,0)))","v":0},{"$f":"IFERROR(VLOOKUP(B130,[3]A!B$1:W$48,22,0),IFERROR(VLOOKUP(B130,[3]B!B$1:U$51,20,0),VLOOKUP(B130,[3]C!B$1:U$52,20,0)))","v":2},{"$f":"IFERROR(VLOOKUP(B130,[3]A!B$1:X$48,23,0),IFERROR(VLOOKUP(B130,[3]B!B$1:V$51,21,0),VLOOKUP(B130,[3]C!B$1:V$52,21,0)))","v":3},0,{"$f":"IFERROR(VLOOKUP(B130,[4]A!B$1:AA$48,26,0),IFERROR(VLOOKUP(B130,[4]B!B$1:AA$51,26,0),VLOOKUP(B130,[4]C!B$1:AA$52,26,0)))","v":15},{"$f":"IFERROR(VLOOKUP(B130,[4]A!B$1:AB$48,27,0),IFERROR(VLOOKUP(B130,[4]B!B$1:AB$51,27,0),VLOOKUP(B130,[4]C!B$1:AB$52,27,0)))","v":17},{"$f":"IFERROR(VLOOKUP(B130,[4]A!B$1:AD$48,29,0),IFERROR(VLOOKUP(B130,[4]B!B$1:AD$51,29,0),VLOOKUP(B130,[4]C!B$1:AD$52,29,0)))","v":0},{"$f":"IFERROR(VLOOKUP(B130,[4]A!B$1:AE$48,30,0),IFERROR(VLOOKUP(B130,[4]B!B$1:AE$51,30,0),VLOOKUP(B130,[4]C!B$1:AE$52,30,0)))","v":2},{"$f":"IFERROR(VLOOKUP(B130,[4]A!B$1:AF$48,31,0),IFERROR(VLOOKUP(B130,[4]B!B$1:AF$51,31,0),VLOOKUP(B130,[4]C!B$1:AF$52,31,0)))","v":3},{"$f":"IFERROR(VLOOKUP(B130,[4]A!B$1:AH$48,33,0),IFERROR(VLOOKUP(B130,[4]B!B$1:AH$51,33,0),VLOOKUP(B130,[4]C!B$1:AH$52,33,0)))","v":0},5,6,null,1,1,null,{"$f":"SUM(D130,G130,J130,M130,P130,S130,V130,Y130,AB130,AE130)","v":80},{"$f":"SUM(E130,H130,K130,N130,Q130,T130,W130,Z130,AC130,AF130)","v":0},{"$f":"FLOOR(IF(AH130<(1/3*(AG130)),AH130,(1/3*(AG130))),1)","v":0},{"$f":"SUM(C130,F130,I130,L130,O130,R130,U130,X130,AA130,AD130)","v":69},{"$f":"IF(SUM(AJ130,AI130)>AG130,AG130,SUM(AJ130,AI130))","v":69},{"$f":"(AK130/AG130)*100","v":86.25},{"$f":"IF(AL130>=85,5,(IF(AND(AL130>=80,AL130<85),4,(IF(AND(AL130>=75,AL130<80),3,(IF(AND(AL130>=70,AL130<75),2,(IF(AND(AL130>67,AL130<70),1,0)))))))))","v":5},"C-11",7,6,{"$f":"SUM(AM130,AO130,AP130,)","v":18}]
[130,"15BA118",{"$f":"VLOOKUP(B131,[1]C!B$1:AA$48,26,0)","v":8},{"$f":"VLOOKUP(B131,[1]C!B$1:AB$48,27,0)","v":9},{"$f":"VLOOKUP(B131,[1]C!B$1:AD$48,29,0)","v":0},{"$f":"VLOOKUP(B131,[1]C!B$1:AE$48,30,0)","v":0},{"$f":"VLOOKUP(B131,[1]C!B$1:AF$48,31,0)","v":0},{"$f":"VLOOKUP(B131,[1]C!B$1:AH$48,33,0)","v":0},{"$f":"IFERROR(VLOOKUP(B131,[2]A!B$1:AA$48,26,0),IFERROR(VLOOKUP(B131,[2]B!B$1:AA$51,26,0),VLOOKUP(B131,[2]C!B$1:AA$52,26,0)))","v":19},{"$f":"IFERROR(VLOOKUP(B131,[2]A!B$1:AB$48,27,0),IFERROR(VLOOKUP(B131,[2]B!B$1:AB$51,27,0),VLOOKUP(B131,[2]C!B$1:AB$52,27,0)))","v":21},{"$f":"IFERROR(VLOOKUP(B131,[2]A!B$1:AD$48,29,0),IFERROR(VLOOKUP(B131,[2]B!B$1:AD$51,29,0),VLOOKUP(B131,[2]C!B$1:AD$52,29,0)))","v":0},{"$f":"IFERROR(VLOOKUP(B131,[2]A!B$1:AE$48,30,0),IFERROR(VLOOKUP(B131,[2]B!B$1:AE$51,30,0),VLOOKUP(B131,[2]C!B$1:AE$52,30,0)))","v":0},{"$f":"IFERROR(VLOOKUP(B131,[2]A!B$1:AF$48,31,0),IFERROR(VLOOKUP(B131,[2]B!B$1:AF$51,31,0),VLOOKUP(B131,[2]C!B$1:AF$52,31,0)))","v":0},{"$f":"IFERROR(VLOOKUP(B131,[2]A!B$1:AH$48,33,0),IFERROR(VLOOKUP(B131,[2]B!B$1:AH$51,33,0),VLOOKUP(B131,[2]C!$B$1:$AH$52,33,0)))","v":0},{"$f":"IFERROR(VLOOKUP(B131,[3]A!B$1:S$48,18,0),IFERROR(VLOOKUP(B131,[3]B!B$1:Q$51,16,0),VLOOKUP(B131,[3]C!B$1:Q$52,16,0)))","v":14},{"$f":"IFERROR(VLOOKUP(B131,[3]A!B$1:T$48,19,0),IFERROR(VLOOKUP(B131,[3]B!B$1:R$51,17,0),VLOOKUP(B131,[3]C!B$1:R$52,17,0)))","v":16},{"$f":"IFERROR(VLOOKUP(B131,[3]A!B$1:V$48,21,0),IFERROR(VLOOKUP(B131,[3]B!B$1:T$51,19,0),VLOOKUP(B131,[3]C!B$1:T$52,19,0)))","v":0},{"$f":"IFERROR(VLOOKUP(B131,[3]A!B$1:W$48,22,0),IFERROR(VLOOKUP(B131,[3]B!B$1:U$51,20,0),VLOOKUP(B131,[3]C!B$1:U$52,20,0)))","v":1},{"$f":"IFERROR(VLOOKUP(B131,[3]A!B$1:X$48,23,0),IFERROR(VLOOKUP(B131,[3]B!B$1:V$51,21,0),VLOOKUP(B131,[3]C!B$1:V$52,21,0)))","v":1},0,{"$f":"IFERROR(VLOOKUP(B131,[4]A!B$1:AA$48,26,0),IFERROR(VLOOKUP(B131,[4]B!B$1:AA$51,26,0),VLOOKUP(B131,[4]C!B$1:AA$52,26,0)))","v":15},{"$f":"IFERROR(VLOOKUP(B131,[4]A!B$1:AB$48,27,0),IFERROR(VLOOKUP(B131,[4]B!B$1:AB$51,27,0),VLOOKUP(B131,[4]C!B$1:AB$52,27,0)))","v":17},{"$f":"IFERROR(VLOOKUP(B131,[4]A!B$1:AD$48,29,0),IFERROR(VLOOKUP(B131,[4]B!B$1:AD$51,29,0),VLOOKUP(B131,[4]C!B$1:AD$52,29,0)))","v":0},{"$f":"IFERROR(VLOOKUP(B131,[4]A!B$1:AE$48,30,0),IFERROR(VLOOKUP(B131,[4]B!B$1:AE$51,30,0),VLOOKUP(B131,[4]C!B$1:AE$52,30,0)))","v":1},{"$f":"IFERROR(VLOOKUP(B131,[4]A!B$1:AF$48,31,0),IFERROR(VLOOKUP(B131,[4]B!B$1:AF$51,31,0),VLOOKUP(B131,[4]C!B$1:AF$52,31,0)))","v":3},{"$f":"IFERROR(VLOOKUP(B131,[4]A!B$1:AH$48,33,0),IFERROR(VLOOKUP(B131,[4]B!B$1:AH$51,33,0),VLOOKUP(B131,[4]C!B$1:AH$52,33,0)))","v":0},5,6,null,null,null,null,73,0,0,63,63,86.301369863013704,5,null,7,6,18]
[131,"15BA121",{"$f":"VLOOKUP(B132,[1]C!B$1:AA$48,26,0)","v":8},{"$f":"VLOOKUP(B132,[1]C!B$1:AB$48,27,0)","v":9},{"$f":"VLOOKUP(B132,[1]C!B$1:AD$48,29,0)","v":0},{"$f":"VLOOKUP(B132,[1]C!B$1:AE$48,30,0)","v":0},{"$f":"VLOOKUP(B132,[1]C!B$1:AF$48,31,0)","v":0},{"$f":"VLOOKUP(B132,[1]C!B$1:AH$48,33,0)","v":0},{"$f":"IFERROR(VLOOKUP(B132,[2]A!B$1:AA$48,26,0),IFERROR(VLOOKUP(B132,[2]B!B$1:AA$51,26,0),VLOOKUP(B132,[2]C!B$1:AA$52,26,0)))","v":19},{"$f":"IFERROR(VLOOKUP(B132,[2]A!B$1:AB$48,27,0),IFERROR(VLOOKUP(B132,[2]B!B$1:AB$51,27,0),VLOOKUP(B132,[2]C!B$1:AB$52,27,0)))","v":21},{"$f":"IFERROR(VLOOKUP(B132,[2]A!B$1:AD$48,29,0),IFERROR(VLOOKUP(B132,[2]B!B$1:AD$51,29,0),VLOOKUP(B132,[2]C!B$1:AD$52,29,0)))","v":0},{"$f":"IFERROR(VLOOKUP(B132,[2]A!B$1:AE$48,30,0),IFERROR(VLOOKUP(B132,[2]B!B$1:AE$51,30,0),VLOOKUP(B132,[2]C!B$1:AE$52,30,0)))","v":0},{"$f":"IFERROR(VLOOKUP(B132,[2]A!B$1:AF$48,31,0),IFERROR(VLOOKUP(B132,[2]B!B$1:AF$51,31,0),VLOOKUP(B132,[2]C!B$1:AF$52,31,0)))","v":0},{"$f":"IFERROR(VLOOKUP(B132,[2]A!B$1:AH$48,33,0),IFERROR(VLOOKUP(B132,[2]B!B$1:AH$51,33,0),VLOOKUP(B132,[2]C!$B$1:$AH$52,33,0)))","v":0},{"$f":"IFERROR(VLOOKUP(B132,[3]A!B$1:S$48,18,0),IFERROR(VLOOKUP(B132,[3]B!B$1:Q$51,16,0),VLOOKUP(B132,[3]C!B$1:Q$52,16,0)))","v":14},{"$f":"IFERROR(VLOOKUP(B132,[3]A!B$1:T$48,19,0),IFERROR(VLOOKUP(B132,[3]B!B$1:R$51,17,0),VLOOKUP(B132,[3]C!B$1:R$52,17,0)))","v":16},{"$f":"IFERROR(VLOOKUP(B132,[3]A!B$1:V$48,21,0),IFERROR(VLOOKUP(B132,[3]B!B$1:T$51,19,0),VLOOKUP(B132,[3]C!B$1:T$52,19,0)))","v":0},{"$f":"IFERROR(VLOOKUP(B132,[3]A!B$1:W$48,22,0),IFERROR(VLOOKUP(B132,[3]B!B$1:U$51,20,0),VLOOKUP(B132,[3]C!B$1:U$52,20,0)))","v":0},{"$f":"IFERROR(VLOOKUP(B132,[3]A!B$1:X$48,23,0),IFERROR(VLOOKUP(B132,[3]B!B$1:V$51,21,0),VLOOKUP(B132,[3]C!B$1:V$52,21,0)))","v":1},0,{"$f":"IFERROR(VLOOKUP(B132,[4]A!B$1:AA$48,26,0),IFERROR(VLOOKUP(B132,[4]B!B$1:AA$51,26,0),VLOOKUP(B132,[4]C!B$1:AA$52,26,0)))","v":15},{"$f":"IFERROR(VLOOKUP(B132,[4]A!B$1:AB$48,27,0),IFERROR(VLOOKUP(B132,[4]B!B$1:AB$51,27,0),VLOOKUP(B132,[4]C!B$1:AB$52,27,0)))","v":17},{"$f":"IFERROR(VLOOKUP(B132,[4]A!B$1:AD$48,29,0),IFERROR(VLOOKUP(B132,[4]B!B$1:AD$51,29,0),VLOOKUP(B132,[4]C!B$1:AD$52,29,0)))","v":0},{"$f":"IFERROR(VLOOKUP(B132,[4]A!B$1:AE$48,30,0),IFERROR(VLOOKUP(B132,[4]B!B$1:AE$51,30,0),VLOOKUP(B132,[4]C!B$1:AE$52,30,0)))","v":0},{"$f":"IFERROR(VLOOKUP(B132,[4]A!B$1:AF$48,31,0),IFERROR(VLOOKUP(B132,[4]B!B$1:AF$51,31,0),VLOOKUP(B132,[4]C!B$1:AF$52,31,0)))","v":3},{"$f":"IFERROR(VLOOKUP(B132,[4]A!B$1:AH$48,33,0),IFERROR(VLOOKUP(B132,[4]B!B$1:AH$51,33,0),VLOOKUP(B132,[4]C!B$1:AH$52,33,0)))","v":0},5,6,null,null,null,null,73,0,0,61,61,83.561643835616437,4,null,9,10,23]
[132,"15BA122",{"$f":"VLOOKUP(B133,[1]C!B$1:AA$48,26,0)","v":9},{"$f":"VLOOKUP(B133,[1]C!B$1:AB$48,27,0)","v":9},{"$f":"VLOOKUP(B133,[1]C!B$1:AD$48,29,0)","v":0},{"$f":"VLOOKUP(B133,[1]C!B$1:AE$48,30,0)","v":0},{"$f":"VLOOKUP(B133,[1]C!B$1:AF$48,31,0)","v":0},{"$f":"VLOOKUP(B133,[1]C!B$1:AH$48,33,0)","v":0},{"$f":"IFERROR(VLOOKUP(B133,[2]A!B$1:AA$48,26,0),IFERROR(VLOOKUP(B133,[2]B!B$1:AA$51,26,0),VLOOKUP(B133,[2]C!B$1:AA$52,26,0)))","v":21},{"$f":"IFERROR(VLOOKUP(B133,[2]A!B$1:AB$48,27,0),IFERROR(VLOOKUP(B133,[2]B!B$1:AB$51,27,0),VLOOKUP(B133,[2]C!B$1:AB$52,27,0)))","v":21},{"$f":"IFERROR(VLOOKUP(B133,[2]A!B$1:AD$48,29,0),IFERROR(VLOOKUP(B133,[2]B!B$1:AD$51,29,0),VLOOKUP(B133,[2]C!B$1:AD$52,29,0)))","v":0},{"$f":"IFERROR(VLOOKUP(B133,[2]A!B$1:AE$48,30,0),IFERROR(VLOOKUP(B133,[2]B!B$1:AE$51,30,0),VLOOKUP(B133,[2]C!B$1:AE$52,30,0)))","v":4},{"$f":"IFERROR(VLOOKUP(B133,[2]A!B$1:AF$48,31,0),IFERROR(VLOOKUP(B133,[2]B!B$1:AF$51,31,0),VLOOKUP(B133,[2]C!B$1:AF$52,31,0)))","v":4},{"$f":"IFERROR(VLOOKUP(B133,[2]A!B$1:AH$48,33,0),IFERROR(VLOOKUP(B133,[2]B!B$1:AH$51,33,0),VLOOKUP(B133,[2]C!$B$1:$AH$52,33,0)))","v":0},{"$f":"IFERROR(VLOOKUP(B133,[3]A!B$1:S$48,18,0),IFERROR(VLOOKUP(B133,[3]B!B$1:Q$51,16,0),VLOOKUP(B133,[3]C!B$1:Q$52,16,0)))","v":16},{"$f":"IFERROR(VLOOKUP(B133,[3]A!B$1:T$48,19,0),IFERROR(VLOOKUP(B133,[3]B!B$1:R$51,17,0),VLOOKUP(B133,[3]C!B$1:R$52,17,0)))","v":16},{"$f":"IFERROR(VLOOKUP(B133,[3]A!B$1:V$48,21,0),IFERROR(VLOOKUP(B133,[3]B!B$1:T$51,19,0),VLOOKUP(B133,[3]C!B$1:T$52,19,0)))","v":0},{"$f":"IFERROR(VLOOKUP(B133,[3]A!B$1:W$48,22,0),IFERROR(VLOOKUP(B133,[3]B!B$1:U$51,20,0),VLOOKUP(B133,[3]C!B$1:U$52,20,0)))","v":3},{"$f":"IFERROR(VLOOKUP(B133,[3]A!B$1:X$48,23,0),IFERROR(VLOOKUP(B133,[3]B!B$1:V$51,21,0),VLOOKUP(B133,[3]C!B$1:V$52,21,0)))","v":3},0,{"$f":"IFERROR(VLOOKUP(B133,[4]A!B$1:AA$48,26,0),IFERROR(VLOOKUP(B133,[4]B!B$1:AA$51,26,0),VLOOKUP(B133,[4]C!B$1:AA$52,26,0)))","v":16},{"$f":"IFERROR(VLOOKUP(B133,[4]A!B$1:AB$48,27,0),IFERROR(VLOOKUP(B133,[4]B!B$1:AB$51,27,0),VLOOKUP(B133,[4]C!B$1:AB$52,27,0)))","v":17},{"$f":"IFERROR(VLOOKUP(B133,[4]A!B$1:AD$48,29,0),IFERROR(VLOOKUP(B133,[4]B!B$1:AD$51,29,0),VLOOKUP(B133,[4]C!B$1:AD$52,29,0)))","v":0},{"$f":"IFERROR(VLOOKUP(B133,[4]A!B$1:AE$48,30,0),IFERROR(VLOOKUP(B133,[4]B!B$1:AE$51,30,0),VLOOKUP(B133,[4]C!B$1:AE$52,30,0)))","v":2},{"$f":"IFERROR(VLOOKUP(B133,[4]A!B$1:AF$48,31,0),IFERROR(VLOOKUP(B133,[4]B!B$1:AF$51,31,0),VLOOKUP(B133,[4]C!B$1:AF$52,31,0)))","v":3},{"$f":"IFERROR(VLOOKUP(B133,[4]A!B$1:AH$48,33,0),IFERROR(VLOOKUP(B133,[4]B!B$1:AH$51,33,0),VLOOKUP(B133,[4]C!B$1:AH$52,33,0)))","v":0},5,6,null,1,1,null,80,0,0,77,77,96.25,5,"C-11",8,6,19]
[133,"15BA125",{"$f":"VLOOKUP(B134,[1]C!B$1:AA$48,26,0)","v":9},{"$f":"VLOOKUP(B134,[1]C!B$1:AB$48,27,0)","v":9},{"$f":"VLOOKUP(B134,[1]C!B$1:AD$48,29,0)","v":0},{"$f":"VLOOKUP(B134,[1]C!B$1:AE$48,30,0)","v":0},{"$f":"VLOOKUP(B134,[1]C!B$1:AF$48,31,0)","v":0},{"$f":"VLOOKUP(B134,[1]C!B$1:AH$48,33,0)","v":0},{"$f":"IFERROR(VLOOKUP(B134,[2]A!B$1:AA$48,26,0),IFERROR(VLOOKUP(B134,[2]B!B$1:AA$51,26,0),VLOOKUP(B134,[2]C!B$1:AA$52,26,0)))","v":21},{"$f":"IFERROR(VLOOKUP(B134,[2]A!B$1:AB$48,27,0),IFERROR(VLOOKUP(B134,[2]B!B$1:AB$51,27,0),VLOOKUP(B134,[2]C!B$1:AB$52,27,0)))","v":21},{"$f":"IFERROR(VLOOKUP(B134,[2]A!B$1:AD$48,29,0),IFERROR(VLOOKUP(B134,[2]B!B$1:AD$51,29,0),VLOOKUP(B134,[2]C!B$1:AD$52,29,0)))","v":0},{"$f":"IFERROR(VLOOKUP(B134,[2]A!B$1:AE$48,30,0),IFERROR(VLOOKUP(B134,[2]B!B$1:AE$51,30,0),VLOOKUP(B134,[2]C!B$1:AE$52,30,0)))","v":0},{"$f":"IFERROR(VLOOKUP(B134,[2]A!B$1:AF$48,31,0),IFERROR(VLOOKUP(B134,[2]B!B$1:AF$51,31,0),VLOOKUP(B134,[2]C!B$1:AF$52,31,0)))","v":0},{"$f":"IFERROR(VLOOKUP(B134,[2]A!B$1:AH$48,33,0),IFERROR(VLOOKUP(B134,[2]B!B$1:AH$51,33,0),VLOOKUP(B134,[2]C!$B$1:$AH$52,33,0)))","v":0},{"$f":"IFERROR(VLOOKUP(B134,[3]A!B$1:S$48,18,0),IFERROR(VLOOKUP(B134,[3]B!B$1:Q$51,16,0),VLOOKUP(B134,[3]C!B$1:Q$52,16,0)))","v":16},{"$f":"IFERROR(VLOOKUP(B134,[3]A!B$1:T$48,19,0),IFERROR(VLOOKUP(B134,[3]B!B$1:R$51,17,0),VLOOKUP(B134,[3]C!B$1:R$52,17,0)))","v":16},{"$f":"IFERROR(VLOOKUP(B134,[3]A!B$1:V$48,21,0),IFERROR(VLOOKUP(B134,[3]B!B$1:T$51,19,0),VLOOKUP(B134,[3]C!B$1:T$52,19,0)))","v":0},{"$f":"IFERROR(VLOOKUP(B134,[3]A!B$1:W$48,22,0),IFERROR(VLOOKUP(B134,[3]B!B$1:U$51,20,0),VLOOKUP(B134,[3]C!B$1:U$52,20,0)))","v":0},{"$f":"IFERROR(VLOOKUP(B134,[3]A!B$1:X$48,23,0),IFERROR(VLOOKUP(B134,[3]B!B$1:V$51,21,0),VLOOKUP(B134,[3]C!B$1:V$52,21,0)))","v":1},0,{"$f":"IFERROR(VLOOKUP(B134,[4]A!B$1:AA$48,26,0),IFERROR(VLOOKUP(B134,[4]B!B$1:AA$51,26,0),VLOOKUP(B134,[4]C!B$1:AA$52,26,0)))","v":17},{"$f":"IFERROR(VLOOKUP(B134,[4]A!B$1:AB$48,27,0),IFERROR(VLOOKUP(B134,[4]B!B$1:AB$51,27,0),VLOOKUP(B134,[4]C!B$1:AB$52,27,0)))","v":17},{"$f":"IFERROR(VLOOKUP(B134,[4]A!B$1:AD$48,29,0),IFERROR(VLOOKUP(B134,[4]B!B$1:AD$51,29,0),VLOOKUP(B134,[4]C!B$1:AD$52,29,0)))","v":0},{"$f":"IFERROR(VLOOKUP(B134,[4]A!B$1:AE$48,30,0),IFERROR(VLOOKUP(B134,[4]B!B$1:AE$51,30,0),VLOOKUP(B134,[4]C!B$1:AE$52,30,0)))","v":2},{"$f":"IFERROR(VLOOKUP(B134,[4]A!B$1:AF$48,31,0),IFERROR(VLOOKUP(B134,[4]B!B$1:AF$51,31,0),VLOOKUP(B134,[4]C!B$1:AF$52,31,0)))","v":3},{"$f":"IFERROR(VLOOKUP(B134,[4]A!B$1:AH$48,33,0),IFERROR(VLOOKUP(B134,[4]B!B$1:AH$51,33,0),VLOOKUP(B134,[4]C!B$1:AH$52,33,0)))","v":0},6,6,null,null,null,null,73,0,0,71,71,97.260273972602747,5,null,10,9,24]
[134,"15BA131",{"$f":"VLOOKUP(B135,[1]C!B$1:AA$48,26,0)","v":8},{"$f":"VLOOKUP(B135,[1]C!B$1:AB$48,27,0)","v":9},{"$f":"VLOOKUP(B135,[1]C!B$1:AD$48,29,0)","v":0},{"$f":"VLOOKUP(B135,[1]C!B$1:AE$48,30,0)","v":0},{"$f":"VLOOKUP(B135,[1]C!B$1:AF$48,31,0)","v":0},{"$f":"VLOOKUP(B135,[1]C!B$1:AH$48,33,0)","v":0},{"$f":"IFERROR(VLOOKUP(B135,[2]A!B$1:AA$48,26,0),IFERROR(VLOOKUP(B135,[2]B!B$1:AA$51,26,0),VLOOKUP(B135,[2]C!B$1:AA$52,26,0)))","v":19},{"$f":"IFERROR(VLOOKUP(B135,[2]A!B$1:AB$48,27,0),IFERROR(VLOOKUP(B135,[2]B!B$1:AB$51,27,0),VLOOKUP(B135,[2]C!B$1:AB$52,27,0)))","v":21},{"$f":"IFERROR(VLOOKUP(B135,[2]A!B$1:AD$48,29,0),IFERROR(VLOOKUP(B135,[2]B!B$1:AD$51,29,0),VLOOKUP(B135,[2]C!B$1:AD$52,29,0)))","v":0},{"$f":"IFERROR(VLOOKUP(B135,[2]A!B$1:AE$48,30,0),IFERROR(VLOOKUP(B135,[2]B!B$1:AE$51,30,0),VLOOKUP(B135,[2]C!B$1:AE$52,30,0)))","v":0},{"$f":"IFERROR(VLOOKUP(B135,[2]A!B$1:AF$48,31,0),IFERROR(VLOOKUP(B135,[2]B!B$1:AF$51,31,0),VLOOKUP(B135,[2]C!B$1:AF$52,31,0)))","v":0},{"$f":"IFERROR(VLOOKUP(B135,[2]A!B$1:AH$48,33,0),IFERROR(VLOOKUP(B135,[2]B!B$1:AH$51,33,0),VLOOKUP(B135,[2]C!$B$1:$AH$52,33,0)))","v":0},{"$f":"IFERROR(VLOOKUP(B135,[3]A!B$1:S$48,18,0),IFERROR(VLOOKUP(B135,[3]B!B$1:Q$51,16,0),VLOOKUP(B135,[3]C!B$1:Q$52,16,0)))","v":15},{"$f":"IFERROR(VLOOKUP(B135,[3]A!B$1:T$48,19,0),IFERROR(VLOOKUP(B135,[3]B!B$1:R$51,17,0),VLOOKUP(B135,[3]C!B$1:R$52,17,0)))","v":16},{"$f":"IFERROR(VLOOKUP(B135,[3]A!B$1:V$48,21,0),IFERROR(VLOOKUP(B135,[3]B!B$1:T$51,19,0),VLOOKUP(B135,[3]C!B$1:T$52,19,0)))","v":0},{"$f":"IFERROR(VLOOKUP(B135,[3]A!B$1:W$48,22,0),IFERROR(VLOOKUP(B135,[3]B!B$1:U$51,20,0),VLOOKUP(B135,[3]C!B$1:U$52,20,0)))","v":0},{"$f":"IFERROR(VLOOKUP(B135,[3]A!B$1:X$48,23,0),IFERROR(VLOOKUP(B135,[3]B!B$1:V$51,21,0),VLOOKUP(B135,[3]C!B$1:V$52,21,0)))","v":2},0,{"$f":"IFERROR(VLOOKUP(B135,[4]A!B$1:AA$48,26,0),IFERROR(VLOOKUP(B135,[4]B!B$1:AA$51,26,0),VLOOKUP(B135,[4]C!B$1:AA$52,26,0)))","v":15},{"$f":"IFERROR(VLOOKUP(B135,[4]A!B$1:AB$48,27,0),IFERROR(VLOOKUP(B135,[4]B!B$1:AB$51,27,0),VLOOKUP(B135,[4]C!B$1:AB$52,27,0)))","v":17},{"$f":"IFERROR(VLOOKUP(B135,[4]A!B$1:AD$48,29,0),IFERROR(VLOOKUP(B135,[4]B!B$1:AD$51,29,0),VLOOKUP(B135,[4]C!B$1:AD$52,29,0)))","v":0},{"$f":"IFERROR(VLOOKUP(B135,[4]A!B$1:AE$48,30,0),IFERROR(VLOOKUP(B135,[4]B!B$1:AE$51,30,0),VLOOKUP(B135,[4]C!B$1:AE$52,30,0)))","v":0},4,{"$f":"IFERROR(VLOOKUP(B135,[4]A!B$1:AH$48,33,0),IFERROR(VLOOKUP(B135,[4]B!B$1:AH$51,33,0),VLOOKUP(B135,[4]C!B$1:AH$52,33,0)))","v":0},5,6,null,0,1,null,76,0,0,62,62,81.578947368421055,4,"C-13",7,6,17]
[135,"15BA132",{"$f":"VLOOKUP(B136,[1]C!B$1:AA$48,26,0)","v":9},{"$f":"VLOOKUP(B136,[1]C!B$1:AB$48,27,0)","v":9},{"$f":"VLOOKUP(B136,[1]C!B$1:AD$48,29,0)","v":0},{"$f":"VLOOKUP(B136,[1]C!B$1:AE$48,30,0)","v":0},{"$f":"VLOOKUP(B136,[1]C!B$1:AF$48,31,0)","v":0},{"$f":"VLOOKUP(B136,[1]C!B$1:AH$48,33,0)","v":0},{"$f":"IFERROR(VLOOKUP(B136,[2]A!B$1:AA$48,26,0),IFERROR(VLOOKUP(B136,[2]B!B$1:AA$51,26,0),VLOOKUP(B136,[2]C!B$1:AA$52,26,0)))","v":21},{"$f":"IFERROR(VLOOKUP(B136,[2]A!B$1:AB$48,27,0),IFERROR(VLOOKUP(B136,[2]B!B$1:AB$51,27,0),VLOOKUP(B136,[2]C!B$1:AB$52,27,0)))","v":21},{"$f":"IFERROR(VLOOKUP(B136,[2]A!B$1:AD$48,29,0),IFERROR(VLOOKUP(B136,[2]B!B$1:AD$51,29,0),VLOOKUP(B136,[2]C!B$1:AD$52,29,0)))","v":0},{"$f":"IFERROR(VLOOKUP(B136,[2]A!B$1:AE$48,30,0),IFERROR(VLOOKUP(B136,[2]B!B$1:AE$51,30,0),VLOOKUP(B136,[2]C!B$1:AE$52,30,0)))","v":4},{"$f":"IFERROR(VLOOKUP(B136,[2]A!B$1:AF$48,31,0),IFERROR(VLOOKUP(B136,[2]B!B$1:AF$51,31,0),VLOOKUP(B136,[2]C!B$1:AF$52,31,0)))","v":4},{"$f":"IFERROR(VLOOKUP(B136,[2]A!B$1:AH$48,33,0),IFERROR(VLOOKUP(B136,[2]B!B$1:AH$51,33,0),VLOOKUP(B136,[2]C!$B$1:$AH$52,33,0)))","v":0},{"$f":"IFERROR(VLOOKUP(B136,[3]A!B$1:S$48,18,0),IFERROR(VLOOKUP(B136,[3]B!B$1:Q$51,16,0),VLOOKUP(B136,[3]C!B$1:Q$52,16,0)))","v":16},{"$f":"IFERROR(VLOOKUP(B136,[3]A!B$1:T$48,19,0),IFERROR(VLOOKUP(B136,[3]B!B$1:R$51,17,0),VLOOKUP(B136,[3]C!B$1:R$52,17,0)))","v":16},{"$f":"IFERROR(VLOOKUP(B136,[3]A!B$1:V$48,21,0),IFERROR(VLOOKUP(B136,[3]B!B$1:T$51,19,0),VLOOKUP(B136,[3]C!B$1:T$52,19,0)))","v":0},{"$f":"IFERROR(VLOOKUP(B136,[3]A!B$1:W$48,22,0),IFERROR(VLOOKUP(B136,[3]B!B$1:U$51,20,0),VLOOKUP(B136,[3]C!B$1:U$52,20,0)))","v":3},{"$f":"IFERROR(VLOOKUP(B136,[3]A!B$1:X$48,23,0),IFERROR(VLOOKUP(B136,[3]B!B$1:V$51,21,0),VLOOKUP(B136,[3]C!B$1:V$52,21,0)))","v":3},0,{"$f":"IFERROR(VLOOKUP(B136,[4]A!B$1:AA$48,26,0),IFERROR(VLOOKUP(B136,[4]B!B$1:AA$51,26,0),VLOOKUP(B136,[4]C!B$1:AA$52,26,0)))","v":17},{"$f":"IFERROR(VLOOKUP(B136,[4]A!B$1:AB$48,27,0),IFERROR(VLOOKUP(B136,[4]B!B$1:AB$51,27,0),VLOOKUP(B136,[4]C!B$1:AB$52,27,0)))","v":17},{"$f":"IFERROR(VLOOKUP(B136,[4]A!B$1:AD$48,29,0),IFERROR(VLOOKUP(B136,[4]B!B$1:AD$51,29,0),VLOOKUP(B136,[4]C!B$1:AD$52,29,0)))","v":0},{"$f":"IFERROR(VLOOKUP(B136,[4]A!B$1:AE$48,30,0),IFERROR(VLOOKUP(B136,[4]B!B$1:AE$51,30,0),VLOOKUP(B136,[4]C!B$1:AE$52,30,0)))","v":3},{"$f":"IFERROR(VLOOKUP(B136,[4]A!B$1:AF$48,31,0),IFERROR(VLOOKUP(B136,[4]B!B$1:AF$51,31,0),VLOOKUP(B136,[4]C!B$1:AF$52,31,0)))","v":3},{"$f":"IFERROR(VLOOKUP(B136,[4]A!B$1:AH$48,33,0),IFERROR(VLOOKUP(B136,[4]B!B$1:AH$51,33,0),VLOOKUP(B136,[4]C!B$1:AH$52,33,0)))","v":0},6,6,null,1,1,null,80,0,0,80,80,100,5,"C-11",10,9,24]
[136,"15BA136",{"$f":"VLOOKUP(B137,[1]C!B$1:AA$48,26,0)","v":8},{"$f":"VLOOKUP(B137,[1]C!B$1:AB$48,27,0)","v":9},{"$f":"VLOOKUP(B137,[1]C!B$1:AD$48,29,0)","v":0},{"$f":"VLOOKUP(B137,[1]C!B$1:AE$48,30,0)","v":0},{"$f":"VLOOKUP(B137,[1]C!B$1:AF$48,31,0)","v":0},{"$f":"VLOOKUP(B137,[1]C!B$1:AH$48,33,0)","v":0},{"$f":"IFERROR(VLOOKUP(B137,[2]A!B$1:AA$48,26,0),IFERROR(VLOOKUP(B137,[2]B!B$1:AA$51,26,0),VLOOKUP(B137,[2]C!B$1:AA$52,26,0)))","v":20},{"$f":"IFERROR(VLOOKUP(B137,[2]A!B$1:AB$48,27,0),IFERROR(VLOOKUP(B137,[2]B!B$1:AB$51,27,0),VLOOKUP(B137,[2]C!B$1:AB$52,27,0)))","v":21},{"$f":"IFERROR(VLOOKUP(B137,[2]A!B$1:AD$48,29,0),IFERROR(VLOOKUP(B137,[2]B!B$1:AD$51,29,0),VLOOKUP(B137,[2]C!B$1:AD$52,29,0)))","v":0},{"$f":"IFERROR(VLOOKUP(B137,[2]A!B$1:AE$48,30,0),IFERROR(VLOOKUP(B137,[2]B!B$1:AE$51,30,0),VLOOKUP(B137,[2]C!B$1:AE$52,30,0)))","v":3},{"$f":"IFERROR(VLOOKUP(B137,[2]A!B$1:AF$48,31,0),IFERROR(VLOOKUP(B137,[2]B!B$1:AF$51,31,0),VLOOKUP(B137,[2]C!B$1:AF$52,31,0)))","v":4},{"$f":"IFERROR(VLOOKUP(B137,[2]A!B$1:AH$48,33,0),IFERROR(VLOOKUP(B137,[2]B!B$1:AH$51,33,0),VLOOKUP(B137,[2]C!$B$1:$AH$52,33,0)))","v":0},{"$f":"IFERROR(VLOOKUP(B137,[3]A!B$1:S$48,18,0),IFERROR(VLOOKUP(B137,[3]B!B$1:Q$51,16,0),VLOOKUP(B137,[3]C!B$1:Q$52,16,0)))","v":14},{"$f":"IFERROR(VLOOKUP(B137,[3]A!B$1:T$48,19,0),IFERROR(VLOOKUP(B137,[3]B!B$1:R$51,17,0),VLOOKUP(B137,[3]C!B$1:R$52,17,0)))","v":16},{"$f":"IFERROR(VLOOKUP(B137,[3]A!B$1:V$48,21,0),IFERROR(VLOOKUP(B137,[3]B!B$1:T$51,19,0),VLOOKUP(B137,[3]C!B$1:T$52,19,0)))","v":0},{"$f":"IFERROR(VLOOKUP(B137,[3]A!B$1:W$48,22,0),IFERROR(VLOOKUP(B137,[3]B!B$1:U$51,20,0),VLOOKUP(B137,[3]C!B$1:U$52,20,0)))","v":2},{"$f":"IFERROR(VLOOKUP(B137,[3]A!B$1:X$48,23,0),IFERROR(VLOOKUP(B137,[3]B!B$1:V$51,21,0),VLOOKUP(B137,[3]C!B$1:V$52,21,0)))","v":3},0,{"$f":"IFERROR(VLOOKUP(B137,[4]A!B$1:AA$48,26,0),IFERROR(VLOOKUP(B137,[4]B!B$1:AA$51,26,0),VLOOKUP(B137,[4]C!B$1:AA$52,26,0)))","v":15},{"$f":"IFERROR(VLOOKUP(B137,[4]A!B$1:AB$48,27,0),IFERROR(VLOOKUP(B137,[4]B!B$1:AB$51,27,0),VLOOKUP(B137,[4]C!B$1:AB$52,27,0)))","v":17},{"$f":"IFERROR(VLOOKUP(B137,[4]A!B$1:AD$48,29,0),IFERROR(VLOOKUP(B137,[4]B!B$1:AD$51,29,0),VLOOKUP(B137,[4]C!B$1:AD$52,29,0)))","v":0},{"$f":"IFERROR(VLOOKUP(B137,[4]A!B$1:AE$48,30,0),IFERROR(VLOOKUP(B137,[4]B!B$1:AE$51,30,0),VLOOKUP(B137,[4]C!B$1:AE$52,30,0)))","v":2},{"$f":"IFERROR(VLOOKUP(B137,[4]A!B$1:AF$48,31,0),IFERROR(VLOOKUP(B137,[4]B!B$1:AF$51,31,0),VLOOKUP(B137,[4]C!B$1:AF$52,31,0)))","v":3},{"$f":"IFERROR(VLOOKUP(B137,[4]A!B$1:AH$48,33,0),IFERROR(VLOOKUP(B137,[4]B!B$1:AH$51,33,0),VLOOKUP(B137,[4]C!B$1:AH$52,33,0)))","v":0},5,6,null,1,1,null,80,0,0,70,70,87.5,5,"C-11",8,6,19]
[137,"15BA137",{"$f":"VLOOKUP(B138,[1]C!B$1:AA$48,26,0)","v":8},{"$f":"VLOOKUP(B138,[1]C!B$1:AB$48,27,0)","v":9},{"$f":"VLOOKUP(B138,[1]C!B$1:AD$48,29,0)","v":0},{"$f":"VLOOKUP(B138,[1]C!B$1:AE$48,30,0)","v":0},{"$f":"VLOOKUP(B138,[1]C!B$1:AF$48,31,0)","v":0},{"$f":"VLOOKUP(B138,[1]C!B$1:AH$48,33,0)","v":0},{"$f":"IFERROR(VLOOKUP(B138,[2]A!B$1:AA$48,26,0),IFERROR(VLOOKUP(B138,[2]B!B$1:AA$51,26,0),VLOOKUP(B138,[2]C!B$1:AA$52,26,0)))","v":19},{"$f":"IFERROR(VLOOKUP(B138,[2]A!B$1:AB$48,27,0),IFERROR(VLOOKUP(B138,[2]B!B$1:AB$51,27,0),VLOOKUP(B138,[2]C!B$1:AB$52,27,0)))","v":21},{"$f":"IFERROR(VLOOKUP(B138,[2]A!B$1:AD$48,29,0),IFERROR(VLOOKUP(B138,[2]B!B$1:AD$51,29,0),VLOOKUP(B138,[2]C!B$1:AD$52,29,0)))","v":0},{"$f":"IFERROR(VLOOKUP(B138,[2]A!B$1:AE$48,30,0),IFERROR(VLOOKUP(B138,[2]B!B$1:AE$51,30,0),VLOOKUP(B138,[2]C!B$1:AE$52,30,0)))","v":3},{"$f":"IFERROR(VLOOKUP(B138,[2]A!B$1:AF$48,31,0),IFERROR(VLOOKUP(B138,[2]B!B$1:AF$51,31,0),VLOOKUP(B138,[2]C!B$1:AF$52,31,0)))","v":4},{"$f":"IFERROR(VLOOKUP(B138,[2]A!B$1:AH$48,33,0),IFERROR(VLOOKUP(B138,[2]B!B$1:AH$51,33,0),VLOOKUP(B138,[2]C!$B$1:$AH$52,33,0)))","v":0},{"$f":"IFERROR(VLOOKUP(B138,[3]A!B$1:S$48,18,0),IFERROR(VLOOKUP(B138,[3]B!B$1:Q$51,16,0),VLOOKUP(B138,[3]C!B$1:Q$52,16,0)))","v":14},{"$f":"IFERROR(VLOOKUP(B138,[3]A!B$1:T$48,19,0),IFERROR(VLOOKUP(B138,[3]B!B$1:R$51,17,0),VLOOKUP(B138,[3]C!B$1:R$52,17,0)))","v":16},{"$f":"IFERROR(VLOOKUP(B138,[3]A!B$1:V$48,21,0),IFERROR(VLOOKUP(B138,[3]B!B$1:T$51,19,0),VLOOKUP(B138,[3]C!B$1:T$52,19,0)))","v":0},{"$f":"IFERROR(VLOOKUP(B138,[3]A!B$1:W$48,22,0),IFERROR(VLOOKUP(B138,[3]B!B$1:U$51,20,0),VLOOKUP(B138,[3]C!B$1:U$52,20,0)))","v":2},{"$f":"IFERROR(VLOOKUP(B138,[3]A!B$1:X$48,23,0),IFERROR(VLOOKUP(B138,[3]B!B$1:V$51,21,0),VLOOKUP(B138,[3]C!B$1:V$52,21,0)))","v":3},0,{"$f":"IFERROR(VLOOKUP(B138,[4]A!B$1:AA$48,26,0),IFERROR(VLOOKUP(B138,[4]B!B$1:AA$51,26,0),VLOOKUP(B138,[4]C!B$1:AA$52,26,0)))","v":15},{"$f":"IFERROR(VLOOKUP(B138,[4]A!B$1:AB$48,27,0),IFERROR(VLOOKUP(B138,[4]B!B$1:AB$51,27,0),VLOOKUP(B138,[4]C!B$1:AB$52,27,0)))","v":17},{"$f":"IFERROR(VLOOKUP(B138,[4]A!B$1:AD$48,29,0),IFERROR(VLOOKUP(B138,[4]B!B$1:AD$51,29,0),VLOOKUP(B138,[4]C!B$1:AD$52,29,0)))","v":0},{"$f":"IFERROR(VLOOKUP(B138,[4]A!B$1:AE$48,30,0),IFERROR(VLOOKUP(B138,[4]B!B$1:AE$51,30,0),VLOOKUP(B138,[4]C!B$1:AE$52,30,0)))","v":2},{"$f":"IFERROR(VLOOKUP(B138,[4]A!B$1:AF$48,31,0),IFERROR(VLOOKUP(B138,[4]B!B$1:AF$51,31,0),VLOOKUP(B138,[4]C!B$1:AF$52,31,0)))","v":3},{"$f":"IFERROR(VLOOKUP(B138,[4]A!B$1:AH$48,33,0),IFERROR(VLOOKUP(B138,[4]B!B$1:AH$51,33,0),VLOOKUP(B138,[4]C!B$1:AH$52,33,0)))","v":0},5,6,null,1,1,null,80,0,0,69,69,86.25,5,"C-11",6,6,17]
[138,"15BA142",{"$f":"VLOOKUP(B139,[1]C!B$1:AA$48,26,0)","v":8},{"$f":"VLOOKUP(B139,[1]C!B$1:AB$48,27,0)","v":9},{"$f":"VLOOKUP(B139,[1]C!B$1:AD$48,29,0)","v":0},{"$f":"VLOOKUP(B139,[1]C!B$1:AE$48,30,0)","v":0},{"$f":"VLOOKUP(B139,[1]C!B$1:AF$48,31,0)","v":0},{"$f":"VLOOKUP(B139,[1]C!B$1:AH$48,33,0)","v":0},{"$f":"IFERROR(VLOOKUP(B139,[2]A!B$1:AA$48,26,0),IFERROR(VLOOKUP(B139,[2]B!B$1:AA$51,26,0),VLOOKUP(B139,[2]C!B$1:AA$52,26,0)))","v":19},{"$f":"IFERROR(VLOOKUP(B139,[2]A!B$1:AB$48,27,0),IFERROR(VLOOKUP(B139,[2]B!B$1:AB$51,27,0),VLOOKUP(B139,[2]C!B$1:AB$52,27,0)))","v":21},{"$f":"IFERROR(VLOOKUP(B139,[2]A!B$1:AD$48,29,0),IFERROR(VLOOKUP(B139,[2]B!B$1:AD$51,29,0),VLOOKUP(B139,[2]C!B$1:AD$52,29,0)))","v":0},{"$f":"IFERROR(VLOOKUP(B139,[2]A!B$1:AE$48,30,0),IFERROR(VLOOKUP(B139,[2]B!B$1:AE$51,30,0),VLOOKUP(B139,[2]C!B$1:AE$52,30,0)))","v":3},{"$f":"IFERROR(VLOOKUP(B139,[2]A!B$1:AF$48,31,0),IFERROR(VLOOKUP(B139,[2]B!B$1:AF$51,31,0),VLOOKUP(B139,[2]C!B$1:AF$52,31,0)))","v":4},{"$f":"IFERROR(VLOOKUP(B139,[2]A!B$1:AH$48,33,0),IFERROR(VLOOKUP(B139,[2]B!B$1:AH$51,33,0),VLOOKUP(B139,[2]C!$B$1:$AH$52,33,0)))","v":0},{"$f":"IFERROR(VLOOKUP(B139,[3]A!B$1:S$48,18,0),IFERROR(VLOOKUP(B139,[3]B!B$1:Q$51,16,0),VLOOKUP(B139,[3]C!B$1:Q$52,16,0)))","v":14},{"$f":"IFERROR(VLOOKUP(B139,[3]A!B$1:T$48,19,0),IFERROR(VLOOKUP(B139,[3]B!B$1:R$51,17,0),VLOOKUP(B139,[3]C!B$1:R$52,17,0)))","v":16},{"$f":"IFERROR(VLOOKUP(B139,[3]A!B$1:V$48,21,0),IFERROR(VLOOKUP(B139,[3]B!B$1:T$51,19,0),VLOOKUP(B139,[3]C!B$1:T$52,19,0)))","v":0},{"$f":"IFERROR(VLOOKUP(B139,[3]A!B$1:W$48,22,0),IFERROR(VLOOKUP(B139,[3]B!B$1:U$51,20,0),VLOOKUP(B139,[3]C!B$1:U$52,20,0)))","v":2},{"$f":"IFERROR(VLOOKUP(B139,[3]A!B$1:X$48,23,0),IFERROR(VLOOKUP(B139,[3]B!B$1:V$51,21,0),VLOOKUP(B139,[3]C!B$1:V$52,21,0)))","v":3},0,{"$f":"IFERROR(VLOOKUP(B139,[4]A!B$1:AA$48,26,0),IFERROR(VLOOKUP(B139,[4]B!B$1:AA$51,26,0),VLOOKUP(B139,[4]C!B$1:AA$52,26,0)))","v":15},{"$f":"IFERROR(VLOOKUP(B139,[4]A!B$1:AB$48,27,0),IFERROR(VLOOKUP(B139,[4]B!B$1:AB$51,27,0),VLOOKUP(B139,[4]C!B$1:AB$52,27,0)))","v":17},{"$f":"IFERROR(VLOOKUP(B139,[4]A!B$1:AD$48,29,0),IFERROR(VLOOKUP(B139,[4]B!B$1:AD$51,29,0),VLOOKUP(B139,[4]C!B$1:AD$52,29,0)))","v":0},{"$f":"IFERROR(VLOOKUP(B139,[4]A!B$1:AE$48,30,0),IFERROR(VLOOKUP(B139,[4]B!B$1:AE$51,30,0),VLOOKUP(B139,[4]C!B$1:AE$52,30,0)))","v":2},{"$f":"IFERROR(VLOOKUP(B139,[4]A!B$1:AF$48,31,0),IFERROR(VLOOKUP(B139,[4]B!B$1:AF$51,31,0),VLOOKUP(B139,[4]C!B$1:AF$52,31,0)))","v":3},{"$f":"IFERROR(VLOOKUP(B139,[4]A!B$1:AH$48,33,0),IFERROR(VLOOKUP(B139,[4]B!B$1:AH$51,33,0),VLOOKUP(B139,[4]C!B$1:AH$52,33,0)))","v":0},5,6,null,1,1,null,80,0,0,69,69,86.25,5,"C-11",5,5,15]
[139,"15BA145",{"$f":"VLOOKUP(B140,[1]C!B$1:AA$48,26,0)","v":8},{"$f":"VLOOKUP(B140,[1]C!B$1:AB$48,27,0)","v":9},{"$f":"VLOOKUP(B140,[1]C!B$1:AD$48,29,0)","v":0},{"$f":"VLOOKUP(B140,[1]C!B$1:AE$48,30,0)","v":0},{"$f":"VLOOKUP(B140,[1]C!B$1:AF$48,31,0)","v":0},{"$f":"VLOOKUP(B140,[1]C!B$1:AH$48,33,0)","v":0},{"$f":"IFERROR(VLOOKUP(B140,[2]A!B$1:AA$48,26,0),IFERROR(VLOOKUP(B140,[2]B!B$1:AA$51,26,0),VLOOKUP(B140,[2]C!B$1:AA$52,26,0)))","v":20},{"$f":"IFERROR(VLOOKUP(B140,[2]A!B$1:AB$48,27,0),IFERROR(VLOOKUP(B140,[2]B!B$1:AB$51,27,0),VLOOKUP(B140,[2]C!B$1:AB$52,27,0)))","v":21},{"$f":"IFERROR(VLOOKUP(B140,[2]A!B$1:AD$48,29,0),IFERROR(VLOOKUP(B140,[2]B!B$1:AD$51,29,0),VLOOKUP(B140,[2]C!B$1:AD$52,29,0)))","v":0},{"$f":"IFERROR(VLOOKUP(B140,[2]A!B$1:AE$48,30,0),IFERROR(VLOOKUP(B140,[2]B!B$1:AE$51,30,0),VLOOKUP(B140,[2]C!B$1:AE$52,30,0)))","v":0},{"$f":"IFERROR(VLOOKUP(B140,[2]A!B$1:AF$48,31,0),IFERROR(VLOOKUP(B140,[2]B!B$1:AF$51,31,0),VLOOKUP(B140,[2]C!B$1:AF$52,31,0)))","v":0},{"$f":"IFERROR(VLOOKUP(B140,[2]A!B$1:AH$48,33,0),IFERROR(VLOOKUP(B140,[2]B!B$1:AH$51,33,0),VLOOKUP(B140,[2]C!$B$1:$AH$52,33,0)))","v":0},{"$f":"IFERROR(VLOOKUP(B140,[3]A!B$1:S$48,18,0),IFERROR(VLOOKUP(B140,[3]B!B$1:Q$51,16,0),VLOOKUP(B140,[3]C!B$1:Q$52,16,0)))","v":14},{"$f":"IFERROR(VLOOKUP(B140,[3]A!B$1:T$48,19,0),IFERROR(VLOOKUP(B140,[3]B!B$1:R$51,17,0),VLOOKUP(B140,[3]C!B$1:R$52,17,0)))","v":16},{"$f":"IFERROR(VLOOKUP(B140,[3]A!B$1:V$48,21,0),IFERROR(VLOOKUP(B140,[3]B!B$1:T$51,19,0),VLOOKUP(B140,[3]C!B$1:T$52,19,0)))","v":0},{"$f":"IFERROR(VLOOKUP(B140,[3]A!B$1:W$48,22,0),IFERROR(VLOOKUP(B140,[3]B!B$1:U$51,20,0),VLOOKUP(B140,[3]C!B$1:U$52,20,0)))","v":1},{"$f":"IFERROR(VLOOKUP(B140,[3]A!B$1:X$48,23,0),IFERROR(VLOOKUP(B140,[3]B!B$1:V$51,21,0),VLOOKUP(B140,[3]C!B$1:V$52,21,0)))","v":1},0,{"$f":"IFERROR(VLOOKUP(B140,[4]A!B$1:AA$48,26,0),IFERROR(VLOOKUP(B140,[4]B!B$1:AA$51,26,0),VLOOKUP(B140,[4]C!B$1:AA$52,26,0)))","v":15},{"$f":"IFERROR(VLOOKUP(B140,[4]A!B$1:AB$48,27,0),IFERROR(VLOOKUP(B140,[4]B!B$1:AB$51,27,0),VLOOKUP(B140,[4]C!B$1:AB$52,27,0)))","v":17},{"$f":"IFERROR(VLOOKUP(B140,[4]A!B$1:AD$48,29,0),IFERROR(VLOOKUP(B140,[4]B!B$1:AD$51,29,0),VLOOKUP(B140,[4]C!B$1:AD$52,29,0)))","v":0},{"$f":"IFERROR(VLOOKUP(B140,[4]A!B$1:AE$48,30,0),IFERROR(VLOOKUP(B140,[4]B!B$1:AE$51,30,0),VLOOKUP(B140,[4]C!B$1:AE$52,30,0)))","v":1},{"$f":"IFERROR(VLOOKUP(B140,[4]A!B$1:AF$48,31,0),IFERROR(VLOOKUP(B140,[4]B!B$1:AF$51,31,0),VLOOKUP(B140,[4]C!B$1:AF$52,31,0)))","v":3},{"$f":"IFERROR(VLOOKUP(B140,[4]A!B$1:AH$48,33,0),IFERROR(VLOOKUP(B140,[4]B!B$1:AH$51,33,0),VLOOKUP(B140,[4]C!B$1:AH$52,33,0)))","v":0},5,6,null,null,null,null,73,0,0,64,64,87.671232876712324,5,null,7,5,17]
[140,"15BA146",{"$f":"VLOOKUP(B141,[1]C!B$1:AA$48,26,0)","v":8},{"$f":"VLOOKUP(B141,[1]C!B$1:AB$48,27,0)","v":9},{"$f":"VLOOKUP(B141,[1]C!B$1:AD$48,29,0)","v":0},{"$f":"VLOOKUP(B141,[1]C!B$1:AE$48,30,0)","v":0},{"$f":"VLOOKUP(B141,[1]C!B$1:AF$48,31,0)","v":0},{"$f":"VLOOKUP(B141,[1]C!B$1:AH$48,33,0)","v":0},{"$f":"IFERROR(VLOOKUP(B141,[2]A!B$1:AA$48,26,0),IFERROR(VLOOKUP(B141,[2]B!B$1:AA$51,26,0),VLOOKUP(B141,[2]C!B$1:AA$52,26,0)))","v":19},{"$f":"IFERROR(VLOOKUP(B141,[2]A!B$1:AB$48,27,0),IFERROR(VLOOKUP(B141,[2]B!B$1:AB$51,27,0),VLOOKUP(B141,[2]C!B$1:AB$52,27,0)))","v":21},{"$f":"IFERROR(VLOOKUP(B141,[2]A!B$1:AD$48,29,0),IFERROR(VLOOKUP(B141,[2]B!B$1:AD$51,29,0),VLOOKUP(B141,[2]C!B$1:AD$52,29,0)))","v":0},{"$f":"IFERROR(VLOOKUP(B141,[2]A!B$1:AE$48,30,0),IFERROR(VLOOKUP(B141,[2]B!B$1:AE$51,30,0),VLOOKUP(B141,[2]C!B$1:AE$52,30,0)))","v":0},{"$f":"IFERROR(VLOOKUP(B141,[2]A!B$1:AF$48,31,0),IFERROR(VLOOKUP(B141,[2]B!B$1:AF$51,31,0),VLOOKUP(B141,[2]C!B$1:AF$52,31,0)))","v":0},{"$f":"IFERROR(VLOOKUP(B141,[2]A!B$1:AH$48,33,0),IFERROR(VLOOKUP(B141,[2]B!B$1:AH$51,33,0),VLOOKUP(B141,[2]C!$B$1:$AH$52,33,0)))","v":0},{"$f":"IFERROR(VLOOKUP(B141,[3]A!B$1:S$48,18,0),IFERROR(VLOOKUP(B141,[3]B!B$1:Q$51,16,0),VLOOKUP(B141,[3]C!B$1:Q$52,16,0)))","v":14},{"$f":"IFERROR(VLOOKUP(B141,[3]A!B$1:T$48,19,0),IFERROR(VLOOKUP(B141,[3]B!B$1:R$51,17,0),VLOOKUP(B141,[3]C!B$1:R$52,17,0)))","v":16},{"$f":"IFERROR(VLOOKUP(B141,[3]A!B$1:V$48,21,0),IFERROR(VLOOKUP(B141,[3]B!B$1:T$51,19,0),VLOOKUP(B141,[3]C!B$1:T$52,19,0)))","v":0},{"$f":"IFERROR(VLOOKUP(B141,[3]A!B$1:W$48,22,0),IFERROR(VLOOKUP(B141,[3]B!B$1:U$51,20,0),VLOOKUP(B141,[3]C!B$1:U$52,20,0)))","v":1},{"$f":"IFERROR(VLOOKUP(B141,[3]A!B$1:X$48,23,0),IFERROR(VLOOKUP(B141,[3]B!B$1:V$51,21,0),VLOOKUP(B141,[3]C!B$1:V$52,21,0)))","v":2},0,{"$f":"IFERROR(VLOOKUP(B141,[4]A!B$1:AA$48,26,0),IFERROR(VLOOKUP(B141,[4]B!B$1:AA$51,26,0),VLOOKUP(B141,[4]C!B$1:AA$52,26,0)))","v":15},{"$f":"IFERROR(VLOOKUP(B141,[4]A!B$1:AB$48,27,0),IFERROR(VLOOKUP(B141,[4]B!B$1:AB$51,27,0),VLOOKUP(B141,[4]C!B$1:AB$52,27,0)))","v":17},{"$f":"IFERROR(VLOOKUP(B141,[4]A!B$1:AD$48,29,0),IFERROR(VLOOKUP(B141,[4]B!B$1:AD$51,29,0),VLOOKUP(B141,[4]C!B$1:AD$52,29,0)))","v":0},2,4,{"$f":"IFERROR(VLOOKUP(B141,[4]A!B$1:AH$48,33,0),IFERROR(VLOOKUP(B141,[4]B!B$1:AH$51,33,0),VLOOKUP(B141,[4]C!B$1:AH$52,33,0)))","v":0},5,6,null,1,1,null,76,0,0,65,65,85.526315789473685,5,"C-13",6,5,16]
[141,"15BA147",{"$f":"VLOOKUP(B142,[1]C!B$1:AA$48,26,0)","v":8},{"$f":"VLOOKUP(B142,[1]C!B$1:AB$48,27,0)","v":9},{"$f":"VLOOKUP(B142,[1]C!B$1:AD$48,29,0)","v":0},{"$f":"VLOOKUP(B142,[1]C!B$1:AE$48,30,0)","v":0},{"$f":"VLOOKUP(B142,[1]C!B$1:AF$48,31,0)","v":0},{"$f":"VLOOKUP(B142,[1]C!B$1:AH$48,33,0)","v":0},{"$f":"IFERROR(VLOOKUP(B142,[2]A!B$1:AA$48,26,0),IFERROR(VLOOKUP(B142,[2]B!B$1:AA$51,26,0),VLOOKUP(B142,[2]C!B$1:AA$52,26,0)))","v":20},{"$f":"IFERROR(VLOOKUP(B142,[2]A!B$1:AB$48,27,0),IFERROR(VLOOKUP(B142,[2]B!B$1:AB$51,27,0),VLOOKUP(B142,[2]C!B$1:AB$52,27,0)))","v":21},{"$f":"IFERROR(VLOOKUP(B142,[2]A!B$1:AD$48,29,0),IFERROR(VLOOKUP(B142,[2]B!B$1:AD$51,29,0),VLOOKUP(B142,[2]C!B$1:AD$52,29,0)))","v":0},{"$f":"IFERROR(VLOOKUP(B142,[2]A!B$1:AE$48,30,0),IFERROR(VLOOKUP(B142,[2]B!B$1:AE$51,30,0),VLOOKUP(B142,[2]C!B$1:AE$52,30,0)))","v":0},{"$f":"IFERROR(VLOOKUP(B142,[2]A!B$1:AF$48,31,0),IFERROR(VLOOKUP(B142,[2]B!B$1:AF$51,31,0),VLOOKUP(B142,[2]C!B$1:AF$52,31,0)))","v":0},{"$f":"IFERROR(VLOOKUP(B142,[2]A!B$1:AH$48,33,0),IFERROR(VLOOKUP(B142,[2]B!B$1:AH$51,33,0),VLOOKUP(B142,[2]C!$B$1:$AH$52,33,0)))","v":0},{"$f":"IFERROR(VLOOKUP(B142,[3]A!B$1:S$48,18,0),IFERROR(VLOOKUP(B142,[3]B!B$1:Q$51,16,0),VLOOKUP(B142,[3]C!B$1:Q$52,16,0)))","v":15},{"$f":"IFERROR(VLOOKUP(B142,[3]A!B$1:T$48,19,0),IFERROR(VLOOKUP(B142,[3]B!B$1:R$51,17,0),VLOOKUP(B142,[3]C!B$1:R$52,17,0)))","v":16},{"$f":"IFERROR(VLOOKUP(B142,[3]A!B$1:V$48,21,0),IFERROR(VLOOKUP(B142,[3]B!B$1:T$51,19,0),VLOOKUP(B142,[3]C!B$1:T$52,19,0)))","v":0},{"$f":"IFERROR(VLOOKUP(B142,[3]A!B$1:W$48,22,0),IFERROR(VLOOKUP(B142,[3]B!B$1:U$51,20,0),VLOOKUP(B142,[3]C!B$1:U$52,20,0)))","v":0},{"$f":"IFERROR(VLOOKUP(B142,[3]A!B$1:X$48,23,0),IFERROR(VLOOKUP(B142,[3]B!B$1:V$51,21,0),VLOOKUP(B142,[3]C!B$1:V$52,21,0)))","v":1},0,{"$f":"IFERROR(VLOOKUP(B142,[4]A!B$1:AA$48,26,0),IFERROR(VLOOKUP(B142,[4]B!B$1:AA$51,26,0),VLOOKUP(B142,[4]C!B$1:AA$52,26,0)))","v":15},{"$f":"IFERROR(VLOOKUP(B142,[4]A!B$1:AB$48,27,0),IFERROR(VLOOKUP(B142,[4]B!B$1:AB$51,27,0),VLOOKUP(B142,[4]C!B$1:AB$52,27,0)))","v":17},{"$f":"IFERROR(VLOOKUP(B142,[4]A!B$1:AD$48,29,0),IFERROR(VLOOKUP(B142,[4]B!B$1:AD$51,29,0),VLOOKUP(B142,[4]C!B$1:AD$52,29,0)))","v":0},{"$f":"IFERROR(VLOOKUP(B142,[4]A!B$1:AE$48,30,0),IFERROR(VLOOKUP(B142,[4]B!B$1:AE$51,30,0),VLOOKUP(B142,[4]C!B$1:AE$52,30,0)))","v":0},{"$f":"IFERROR(VLOOKUP(B142,[4]A!B$1:AF$48,31,0),IFERROR(VLOOKUP(B142,[4]B!B$1:AF$51,31,0),VLOOKUP(B142,[4]C!B$1:AF$52,31,0)))","v":3},{"$f":"IFERROR(VLOOKUP(B142,[4]A!B$1:AH$48,33,0),IFERROR(VLOOKUP(B142,[4]B!B$1:AH$51,33,0),VLOOKUP(B142,[4]C!B$1:AH$52,33,0)))","v":0},5,6,null,null,null,null,73,0,0,63,63,86.301369863013704,5,null,5,4,14]
[142,"15BA148",{"$f":"VLOOKUP(B143,[1]C!B$1:AA$48,26,0)","v":8},{"$f":"VLOOKUP(B143,[1]C!B$1:AB$48,27,0)","v":9},{"$f":"VLOOKUP(B143,[1]C!B$1:AD$48,29,0)","v":0},{"$f":"VLOOKUP(B143,[1]C!B$1:AE$48,30,0)","v":0},{"$f":"VLOOKUP(B143,[1]C!B$1:AF$48,31,0)","v":0},{"$f":"VLOOKUP(B143,[1]C!B$1:AH$48,33,0)","v":0},{"$f":"IFERROR(VLOOKUP(B143,[2]A!B$1:AA$48,26,0),IFERROR(VLOOKUP(B143,[2]B!B$1:AA$51,26,0),VLOOKUP(B143,[2]C!B$1:AA$52,26,0)))","v":20},{"$f":"IFERROR(VLOOKUP(B143,[2]A!B$1:AB$48,27,0),IFERROR(VLOOKUP(B143,[2]B!B$1:AB$51,27,0),VLOOKUP(B143,[2]C!B$1:AB$52,27,0)))","v":21},{"$f":"IFERROR(VLOOKUP(B143,[2]A!B$1:AD$48,29,0),IFERROR(VLOOKUP(B143,[2]B!B$1:AD$51,29,0),VLOOKUP(B143,[2]C!B$1:AD$52,29,0)))","v":0},{"$f":"IFERROR(VLOOKUP(B143,[2]A!B$1:AE$48,30,0),IFERROR(VLOOKUP(B143,[2]B!B$1:AE$51,30,0),VLOOKUP(B143,[2]C!B$1:AE$52,30,0)))","v":0},{"$f":"IFERROR(VLOOKUP(B143,[2]A!B$1:AF$48,31,0),IFERROR(VLOOKUP(B143,[2]B!B$1:AF$51,31,0),VLOOKUP(B143,[2]C!B$1:AF$52,31,0)))","v":0},{"$f":"IFERROR(VLOOKUP(B143,[2]A!B$1:AH$48,33,0),IFERROR(VLOOKUP(B143,[2]B!B$1:AH$51,33,0),VLOOKUP(B143,[2]C!$B$1:$AH$52,33,0)))","v":0},{"$f":"IFERROR(VLOOKUP(B143,[3]A!B$1:S$48,18,0),IFERROR(VLOOKUP(B143,[3]B!B$1:Q$51,16,0),VLOOKUP(B143,[3]C!B$1:Q$52,16,0)))","v":15},{"$f":"IFERROR(VLOOKUP(B143,[3]A!B$1:T$48,19,0),IFERROR(VLOOKUP(B143,[3]B!B$1:R$51,17,0),VLOOKUP(B143,[3]C!B$1:R$52,17,0)))","v":16},{"$f":"IFERROR(VLOOKUP(B143,[3]A!B$1:V$48,21,0),IFERROR(VLOOKUP(B143,[3]B!B$1:T$51,19,0),VLOOKUP(B143,[3]C!B$1:T$52,19,0)))","v":0},{"$f":"IFERROR(VLOOKUP(B143,[3]A!B$1:W$48,22,0),IFERROR(VLOOKUP(B143,[3]B!B$1:U$51,20,0),VLOOKUP(B143,[3]C!B$1:U$52,20,0)))","v":1},{"$f":"IFERROR(VLOOKUP(B143,[3]A!B$1:X$48,23,0),IFERROR(VLOOKUP(B143,[3]B!B$1:V$51,21,0),VLOOKUP(B143,[3]C!B$1:V$52,21,0)))","v":2},0,{"$f":"IFERROR(VLOOKUP(B143,[4]A!B$1:AA$48,26,0),IFERROR(VLOOKUP(B143,[4]B!B$1:AA$51,26,0),VLOOKUP(B143,[4]C!B$1:AA$52,26,0)))","v":15},{"$f":"IFERROR(VLOOKUP(B143,[4]A!B$1:AB$48,27,0),IFERROR(VLOOKUP(B143,[4]B!B$1:AB$51,27,0),VLOOKUP(B143,[4]C!B$1:AB$52,27,0)))","v":17},{"$f":"IFERROR(VLOOKUP(B143,[4]A!B$1:AD$48,29,0),IFERROR(VLOOKUP(B143,[4]B!B$1:AD$51,29,0),VLOOKUP(B143,[4]C!B$1:AD$52,29,0)))","v":0},2,4,{"$f":"IFERROR(VLOOKUP(B143,[4]A!B$1:AH$48,33,0),IFERROR(VLOOKUP(B143,[4]B!B$1:AH$51,33,0),VLOOKUP(B143,[4]C!B$1:AH$52,33,0)))","v":0},5,6,null,1,1,null,76,0,0,67,67,88.157894736842096,5,"C-13",8,5,18]
[143,"15BA150",{"$f":"VLOOKUP(B144,[1]C!B$1:AA$48,26,0)","v":8},{"$f":"VLOOKUP(B144,[1]C!B$1:AB$48,27,0)","v":9},{"$f":"VLOOKUP(B144,[1]C!B$1:AD$48,29,0)","v":0},{"$f":"VLOOKUP(B144,[1]C!B$1:AE$48,30,0)","v":0},{"$f":"VLOOKUP(B144,[1]C!B$1:AF$48,31,0)","v":0},{"$f":"VLOOKUP(B144,[1]C!B$1:AH$48,33,0)","v":0},{"$f":"IFERROR(VLOOKUP(B144,[2]A!B$1:AA$48,26,0),IFERROR(VLOOKUP(B144,[2]B!B$1:AA$51,26,0),VLOOKUP(B144,[2]C!B$1:AA$52,26,0)))","v":0},{"$f":"IFERROR(VLOOKUP(B144,[2]A!B$1:AB$48,27,0),IFERROR(VLOOKUP(B144,[2]B!B$1:AB$51,27,0),VLOOKUP(B144,[2]C!B$1:AB$52,27,0)))","v":20},{"$f":"IFERROR(VLOOKUP(B144,[2]A!B$1:AD$48,29,0),IFERROR(VLOOKUP(B144,[2]B!B$1:AD$51,29,0),VLOOKUP(B144,[2]C!B$1:AD$52,29,0)))","v":0},{"$f":"IFERROR(VLOOKUP(B144,[2]A!B$1:AE$48,30,0),IFERROR(VLOOKUP(B144,[2]B!B$1:AE$51,30,0),VLOOKUP(B144,[2]C!B$1:AE$52,30,0)))","v":1},{"$f":"IFERROR(VLOOKUP(B144,[2]A!B$1:AF$48,31,0),IFERROR(VLOOKUP(B144,[2]B!B$1:AF$51,31,0),VLOOKUP(B144,[2]C!B$1:AF$52,31,0)))","v":1},{"$f":"IFERROR(VLOOKUP(B144,[2]A!B$1:AH$48,33,0),IFERROR(VLOOKUP(B144,[2]B!B$1:AH$51,33,0),VLOOKUP(B144,[2]C!$B$1:$AH$52,33,0)))","v":0},{"$f":"IFERROR(VLOOKUP(B144,[3]A!B$1:S$48,18,0),IFERROR(VLOOKUP(B144,[3]B!B$1:Q$51,16,0),VLOOKUP(B144,[3]C!B$1:Q$52,16,0)))","v":0},{"$f":"IFERROR(VLOOKUP(B144,[3]A!B$1:T$48,19,0),IFERROR(VLOOKUP(B144,[3]B!B$1:R$51,17,0),VLOOKUP(B144,[3]C!B$1:R$52,17,0)))","v":16},{"$f":"IFERROR(VLOOKUP(B144,[3]A!B$1:V$48,21,0),IFERROR(VLOOKUP(B144,[3]B!B$1:T$51,19,0),VLOOKUP(B144,[3]C!B$1:T$52,19,0)))","v":0},{"$f":"IFERROR(VLOOKUP(B144,[3]A!B$1:W$48,22,0),IFERROR(VLOOKUP(B144,[3]B!B$1:U$51,20,0),VLOOKUP(B144,[3]C!B$1:U$52,20,0)))","v":1},{"$f":"IFERROR(VLOOKUP(B144,[3]A!B$1:X$48,23,0),IFERROR(VLOOKUP(B144,[3]B!B$1:V$51,21,0),VLOOKUP(B144,[3]C!B$1:V$52,21,0)))","v":1},0,15,17,{"$f":"IFERROR(VLOOKUP(B144,[4]A!B$1:AD$48,29,0),IFERROR(VLOOKUP(B144,[4]B!B$1:AD$51,29,0),VLOOKUP(B144,[4]C!B$1:AD$52,29,0)))","v":0},2,4,{"$f":"IFERROR(VLOOKUP(B144,[4]A!B$1:AH$48,33,0),IFERROR(VLOOKUP(B144,[4]B!B$1:AH$51,33,0),VLOOKUP(B144,[4]C!B$1:AH$52,33,0)))","v":0},5,6,null,1,1,null,75,0,0,33,33,44,0,"C-13",6,5,11]
[144,"15BA152",8,9,0,0,0,0,{"$f":"IFERROR(VLOOKUP(B145,[2]A!B$1:AA$48,26,0),IFERROR(VLOOKUP(B145,[2]B!B$1:AA$51,26,0),VLOOKUP(B145,[2]C!B$1:AA$52,26,0)))","v":19},{"$f":"IFERROR(VLOOKUP(B145,[2]A!B$1:AB$48,27,0),IFERROR(VLOOKUP(B145,[2]B!B$1:AB$51,27,0),VLOOKUP(B145,[2]C!B$1:AB$52,27,0)))","v":21},{"$f":"IFERROR(VLOOKUP(B145,[2]A!B$1:AD$48,29,0),IFERROR(VLOOKUP(B145,[2]B!B$1:AD$51,29,0),VLOOKUP(B145,[2]C!B$1:AD$52,29,0)))","v":0},{"$f":"IFERROR(VLOOKUP(B145,[2]A!B$1:AE$48,30,0),IFERROR(VLOOKUP(B145,[2]B!B$1:AE$51,30,0),VLOOKUP(B145,[2]C!B$1:AE$52,30,0)))","v":0},{"$f":"IFERROR(VLOOKUP(B145,[2]A!B$1:AF$48,31,0),IFERROR(VLOOKUP(B145,[2]B!B$1:AF$51,31,0),VLOOKUP(B145,[2]C!B$1:AF$52,31,0)))","v":0},{"$f":"IFERROR(VLOOKUP(B145,[2]A!B$1:AH$48,33,0),IFERROR(VLOOKUP(B145,[2]B!B$1:AH$51,33,0),VLOOKUP(B145,[2]C!$B$1:$AH$52,33,0)))","v":0},{"$f":"IFERROR(VLOOKUP(B145,[3]A!B$1:S$48,18,0),IFERROR(VLOOKUP(B145,[3]B!B$1:Q$51,16,0),VLOOKUP(B145,[3]C!B$1:Q$52,16,0)))","v":14},{"$f":"IFERROR(VLOOKUP(B145,[3]A!B$1:T$48,19,0),IFERROR(VLOOKUP(B145,[3]B!B$1:R$51,17,0),VLOOKUP(B145,[3]C!B$1:R$52,17,0)))","v":16},{"$f":"IFERROR(VLOOKUP(B145,[3]A!B$1:V$48,21,0),IFERROR(VLOOKUP(B145,[3]B!B$1:T$51,19,0),VLOOKUP(B145,[3]C!B$1:T$52,19,0)))","v":0},{"$f":"IFERROR(VLOOKUP(B145,[3]A!B$1:W$48,22,0),IFERROR(VLOOKUP(B145,[3]B!B$1:U$51,20,0),VLOOKUP(B145,[3]C!B$1:U$52,20,0)))","v":1},{"$f":"IFERROR(VLOOKUP(B145,[3]A!B$1:X$48,23,0),IFERROR(VLOOKUP(B145,[3]B!B$1:V$51,21,0),VLOOKUP(B145,[3]C!B$1:V$52,21,0)))","v":1},0,{"$f":"IFERROR(VLOOKUP(B145,[4]A!B$1:AA$48,26,0),IFERROR(VLOOKUP(B145,[4]B!B$1:AA$51,26,0),VLOOKUP(B145,[4]C!B$1:AA$52,26,0)))","v":15},{"$f":"IFERROR(VLOOKUP(B145,[4]A!B$1:AB$48,27,0),IFERROR(VLOOKUP(B145,[4]B!B$1:AB$51,27,0),VLOOKUP(B145,[4]C!B$1:AB$52,27,0)))","v":17},{"$f":"IFERROR(VLOOKUP(B145,[4]A!B$1:AD$48,29,0),IFERROR(VLOOKUP(B145,[4]B!B$1:AD$51,29,0),VLOOKUP(B145,[4]C!B$1:AD$52,29,0)))","v":0},{"$f":"IFERROR(VLOOKUP(B145,[4]A!B$1:AE$48,30,0),IFERROR(VLOOKUP(B145,[4]B!B$1:AE$51,30,0),VLOOKUP(B145,[4]C!B$1:AE$52,30,0)))","v":1},{"$f":"IFERROR(VLOOKUP(B145,[4]A!B$1:AF$48,31,0),IFERROR(VLOOKUP(B145,[4]B!B$1:AF$51,31,0),VLOOKUP(B145,[4]C!B$1:AF$52,31,0)))","v":3},{"$f":"IFERROR(VLOOKUP(B145,[4]A!B$1:AH$48,33,0),IFERROR(VLOOKUP(B145,[4]B!B$1:AH$51,33,0),VLOOKUP(B145,[4]C!B$1:AH$52,33,0)))","v":0},5,6,null,null,null,null,73,0,0,63,63,86.301369863013704,5,null,6,5,16]
[145,"15BA154",8,9,0,0,0,0,{"$f":"IFERROR(VLOOKUP(B146,[2]A!B$1:AA$48,26,0),IFERROR(VLOOKUP(B146,[2]B!B$1:AA$51,26,0),VLOOKUP(B146,[2]C!B$1:AA$52,26,0)))","v":19},{"$f":"IFERROR(VLOOKUP(B146,[2]A!B$1:AB$48,27,0),IFERROR(VLOOKUP(B146,[2]B!B$1:AB$51,27,0),VLOOKUP(B146,[2]C!B$1:AB$52,27,0)))","v":21},{"$f":"IFERROR(VLOOKUP(B146,[2]A!B$1:AD$48,29,0),IFERROR(VLOOKUP(B146,[2]B!B$1:AD$51,29,0),VLOOKUP(B146,[2]C!B$1:AD$52,29,0)))","v":0},{"$f":"IFERROR(VLOOKUP(B146,[2]A!B$1:AE$48,30,0),IFERROR(VLOOKUP(B146,[2]B!B$1:AE$51,30,0),VLOOKUP(B146,[2]C!B$1:AE$52,30,0)))","v":3},{"$f":"IFERROR(VLOOKUP(B146,[2]A!B$1:AF$48,31,0),IFERROR(VLOOKUP(B146,[2]B!B$1:AF$51,31,0),VLOOKUP(B146,[2]C!B$1:AF$52,31,0)))","v":4},{"$f":"IFERROR(VLOOKUP(B146,[2]A!B$1:AH$48,33,0),IFERROR(VLOOKUP(B146,[2]B!B$1:AH$51,33,0),VLOOKUP(B146,[2]C!$B$1:$AH$52,33,0)))","v":0},{"$f":"IFERROR(VLOOKUP(B146,[3]A!B$1:S$48,18,0),IFERROR(VLOOKUP(B146,[3]B!B$1:Q$51,16,0),VLOOKUP(B146,[3]C!B$1:Q$52,16,0)))","v":14},{"$f":"IFERROR(VLOOKUP(B146,[3]A!B$1:T$48,19,0),IFERROR(VLOOKUP(B146,[3]B!B$1:R$51,17,0),VLOOKUP(B146,[3]C!B$1:R$52,17,0)))","v":16},{"$f":"IFERROR(VLOOKUP(B146,[3]A!B$1:V$48,21,0),IFERROR(VLOOKUP(B146,[3]B!B$1:T$51,19,0),VLOOKUP(B146,[3]C!B$1:T$52,19,0)))","v":0},{"$f":"IFERROR(VLOOKUP(B146,[3]A!B$1:W$48,22,0),IFERROR(VLOOKUP(B146,[3]B!B$1:U$51,20,0),VLOOKUP(B146,[3]C!B$1:U$52,20,0)))","v":2},{"$f":"IFERROR(VLOOKUP(B146,[3]A!B$1:X$48,23,0),IFERROR(VLOOKUP(B146,[3]B!B$1:V$51,21,0),VLOOKUP(B146,[3]C!B$1:V$52,21,0)))","v":3},0,{"$f":"IFERROR(VLOOKUP(B146,[4]A!B$1:AA$48,26,0),IFERROR(VLOOKUP(B146,[4]B!B$1:AA$51,26,0),VLOOKUP(B146,[4]C!B$1:AA$52,26,0)))","v":15},{"$f":"IFERROR(VLOOKUP(B146,[4]A!B$1:AB$48,27,0),IFERROR(VLOOKUP(B146,[4]B!B$1:AB$51,27,0),VLOOKUP(B146,[4]C!B$1:AB$52,27,0)))","v":17},{"$f":"IFERROR(VLOOKUP(B146,[4]A!B$1:AD$48,29,0),IFERROR(VLOOKUP(B146,[4]B!B$1:AD$51,29,0),VLOOKUP(B146,[4]C!B$1:AD$52,29,0)))","v":0},{"$f":"IFERROR(VLOOKUP(B146,[4]A!B$1:AE$48,30,0),IFERROR(VLOOKUP(B146,[4]B!B$1:AE$51,30,0),VLOOKUP(B146,[4]C!B$1:AE$52,30,0)))","v":2},{"$f":"IFERROR(VLOOKUP(B146,[4]A!B$1:AF$48,31,0),IFERROR(VLOOKUP(B146,[4]B!B$1:AF$51,31,0),VLOOKUP(B146,[4]C!B$1:AF$52,31,0)))","v":3},{"$f":"IFERROR(VLOOKUP(B146,[4]A!B$1:AH$48,33,0),IFERROR(VLOOKUP(B146,[4]B!B$1:AH$51,33,0),VLOOKUP(B146,[4]C!B$1:AH$52,33,0)))","v":0},5,6,null,1,1,null,80,0,0,69,69,86.25,5,"C-11",6,5,16]
[146,"15BA157",9,9,0,0,0,0,{"$f":"IFERROR(VLOOKUP(B147,[2]A!B$1:AA$48,26,0),IFERROR(VLOOKUP(B147,[2]B!B$1:AA$51,26,0),VLOOKUP(B147,[2]C!B$1:AA$52,26,0)))","v":21},{"$f":"IFERROR(VLOOKUP(B147,[2]A!B$1:AB$48,27,0),IFERROR(VLOOKUP(B147,[2]B!B$1:AB$51,27,0),VLOOKUP(B147,[2]C!B$1:AB$52,27,0)))","v":21},{"$f":"IFERROR(VLOOKUP(B147,[2]A!B$1:AD$48,29,0),IFERROR(VLOOKUP(B147,[2]B!B$1:AD$51,29,0),VLOOKUP(B147,[2]C!B$1:AD$52,29,0)))","v":0},{"$f":"IFERROR(VLOOKUP(B147,[2]A!B$1:AE$48,30,0),IFERROR(VLOOKUP(B147,[2]B!B$1:AE$51,30,0),VLOOKUP(B147,[2]C!B$1:AE$52,30,0)))","v":4},{"$f":"IFERROR(VLOOKUP(B147,[2]A!B$1:AF$48,31,0),IFERROR(VLOOKUP(B147,[2]B!B$1:AF$51,31,0),VLOOKUP(B147,[2]C!B$1:AF$52,31,0)))","v":4},{"$f":"IFERROR(VLOOKUP(B147,[2]A!B$1:AH$48,33,0),IFERROR(VLOOKUP(B147,[2]B!B$1:AH$51,33,0),VLOOKUP(B147,[2]C!$B$1:$AH$52,33,0)))","v":0},{"$f":"IFERROR(VLOOKUP(B147,[3]A!B$1:S$48,18,0),IFERROR(VLOOKUP(B147,[3]B!B$1:Q$51,16,0),VLOOKUP(B147,[3]C!B$1:Q$52,16,0)))","v":16},{"$f":"IFERROR(VLOOKUP(B147,[3]A!B$1:T$48,19,0),IFERROR(VLOOKUP(B147,[3]B!B$1:R$51,17,0),VLOOKUP(B147,[3]C!B$1:R$52,17,0)))","v":16},{"$f":"IFERROR(VLOOKUP(B147,[3]A!B$1:V$48,21,0),IFERROR(VLOOKUP(B147,[3]B!B$1:T$51,19,0),VLOOKUP(B147,[3]C!B$1:T$52,19,0)))","v":0},{"$f":"IFERROR(VLOOKUP(B147,[3]A!B$1:W$48,22,0),IFERROR(VLOOKUP(B147,[3]B!B$1:U$51,20,0),VLOOKUP(B147,[3]C!B$1:U$52,20,0)))","v":3},{"$f":"IFERROR(VLOOKUP(B147,[3]A!B$1:X$48,23,0),IFERROR(VLOOKUP(B147,[3]B!B$1:V$51,21,0),VLOOKUP(B147,[3]C!B$1:V$52,21,0)))","v":3},0,{"$f":"IFERROR(VLOOKUP(B147,[4]A!B$1:AA$48,26,0),IFERROR(VLOOKUP(B147,[4]B!B$1:AA$51,26,0),VLOOKUP(B147,[4]C!B$1:AA$52,26,0)))","v":17},{"$f":"IFERROR(VLOOKUP(B147,[4]A!B$1:AB$48,27,0),IFERROR(VLOOKUP(B147,[4]B!B$1:AB$51,27,0),VLOOKUP(B147,[4]C!B$1:AB$52,27,0)))","v":17},{"$f":"IFERROR(VLOOKUP(B147,[4]A!B$1:AD$48,29,0),IFERROR(VLOOKUP(B147,[4]B!B$1:AD$51,29,0),VLOOKUP(B147,[4]C!B$1:AD$52,29,0)))","v":0},{"$f":"IFERROR(VLOOKUP(B147,[4]A!B$1:AE$48,30,0),IFERROR(VLOOKUP(B147,[4]B!B$1:AE$51,30,0),VLOOKUP(B147,[4]C!B$1:AE$52,30,0)))","v":3},{"$f":"IFERROR(VLOOKUP(B147,[4]A!B$1:AF$48,31,0),IFERROR(VLOOKUP(B147,[4]B!B$1:AF$51,31,0),VLOOKUP(B147,[4]C!B$1:AF$52,31,0)))","v":3},{"$f":"IFERROR(VLOOKUP(B147,[4]A!B$1:AH$48,33,0),IFERROR(VLOOKUP(B147,[4]B!B$1:AH$51,33,0),VLOOKUP(B147,[4]C!B$1:AH$52,33,0)))","v":0},6,6,null,1,1,null,80,0,0,80,80,100,5,"C-11",10,8,23]
[147,"15BA158",9,9,0,0,0,0,{"$f":"IFERROR(VLOOKUP(B148,[2]A!B$1:AA$48,26,0),IFERROR(VLOOKUP(B148,[2]B!B$1:AA$51,26,0),VLOOKUP(B148,[2]C!B$1:AA$52,26,0)))","v":21},{"$f":"IFERROR(VLOOKUP(B148,[2]A!B$1:AB$48,27,0),IFERROR(VLOOKUP(B148,[2]B!B$1:AB$51,27,0),VLOOKUP(B148,[2]C!B$1:AB$52,27,0)))","v":21},{"$f":"IFERROR(VLOOKUP(B148,[2]A!B$1:AD$48,29,0),IFERROR(VLOOKUP(B148,[2]B!B$1:AD$51,29,0),VLOOKUP(B148,[2]C!B$1:AD$52,29,0)))","v":0},{"$f":"IFERROR(VLOOKUP(B148,[2]A!B$1:AE$48,30,0),IFERROR(VLOOKUP(B148,[2]B!B$1:AE$51,30,0),VLOOKUP(B148,[2]C!B$1:AE$52,30,0)))","v":0},{"$f":"IFERROR(VLOOKUP(B148,[2]A!B$1:AF$48,31,0),IFERROR(VLOOKUP(B148,[2]B!B$1:AF$51,31,0),VLOOKUP(B148,[2]C!B$1:AF$52,31,0)))","v":0},{"$f":"IFERROR(VLOOKUP(B148,[2]A!B$1:AH$48,33,0),IFERROR(VLOOKUP(B148,[2]B!B$1:AH$51,33,0),VLOOKUP(B148,[2]C!$B$1:$AH$52,33,0)))","v":0},{"$f":"IFERROR(VLOOKUP(B148,[3]A!B$1:S$48,18,0),IFERROR(VLOOKUP(B148,[3]B!B$1:Q$51,16,0),VLOOKUP(B148,[3]C!B$1:Q$52,16,0)))","v":16},{"$f":"IFERROR(VLOOKUP(B148,[3]A!B$1:T$48,19,0),IFERROR(VLOOKUP(B148,[3]B!B$1:R$51,17,0),VLOOKUP(B148,[3]C!B$1:R$52,17,0)))","v":16},{"$f":"IFERROR(VLOOKUP(B148,[3]A!B$1:V$48,21,0),IFERROR(VLOOKUP(B148,[3]B!B$1:T$51,19,0),VLOOKUP(B148,[3]C!B$1:T$52,19,0)))","v":0},{"$f":"IFERROR(VLOOKUP(B148,[3]A!B$1:W$48,22,0),IFERROR(VLOOKUP(B148,[3]B!B$1:U$51,20,0),VLOOKUP(B148,[3]C!B$1:U$52,20,0)))","v":0},{"$f":"IFERROR(VLOOKUP(B148,[3]A!B$1:X$48,23,0),IFERROR(VLOOKUP(B148,[3]B!B$1:V$51,21,0),VLOOKUP(B148,[3]C!B$1:V$52,21,0)))","v":0},0,{"$f":"IFERROR(VLOOKUP(B148,[4]A!B$1:AA$48,26,0),IFERROR(VLOOKUP(B148,[4]B!B$1:AA$51,26,0),VLOOKUP(B148,[4]C!B$1:AA$52,26,0)))","v":17},{"$f":"IFERROR(VLOOKUP(B148,[4]A!B$1:AB$48,27,0),IFERROR(VLOOKUP(B148,[4]B!B$1:AB$51,27,0),VLOOKUP(B148,[4]C!B$1:AB$52,27,0)))","v":17},{"$f":"IFERROR(VLOOKUP(B148,[4]A!B$1:AD$48,29,0),IFERROR(VLOOKUP(B148,[4]B!B$1:AD$51,29,0),VLOOKUP(B148,[4]C!B$1:AD$52,29,0)))","v":0},{"$f":"IFERROR(VLOOKUP(B148,[4]A!B$1:AE$48,30,0),IFERROR(VLOOKUP(B148,[4]B!B$1:AE$51,30,0),VLOOKUP(B148,[4]C!B$1:AE$52,30,0)))","v":0},{"$f":"IFERROR(VLOOKUP(B148,[4]A!B$1:AF$48,31,0),IFERROR(VLOOKUP(B148,[4]B!B$1:AF$51,31,0),VLOOKUP(B148,[4]C!B$1:AF$52,31,0)))","v":0},{"$f":"IFERROR(VLOOKUP(B148,[4]A!B$1:AH$48,33,0),IFERROR(VLOOKUP(B148,[4]B!B$1:AH$51,33,0),VLOOKUP(B148,[4]C!B$1:AH$52,33,0)))","v":0},6,6,null,null,null,null,69,0,0,69,69,100,5,null,8,6,19]

{"sheet":"IRM","index":4,"n_rows":86,"n_cols":43,"rows_kept":86,"cut":false,"hidden":false,"merged":[]}
["Sr. No.","Roll No.","July  Th ClassesAttended","July  Th Classes Held","July Final Calculated Benefits ","July  Tut ClassesAttended","July  Tut Classes Held","July Tut Final Calculated Benefits ","Aug  Th ClassesAttended","Aug  Th Classes Held","Aug Final Calculated Benefits ","Aug  Tut ClassesAttended","Aug  Tut Classes Held","Aug Tut Final Calculated Benefits ","Sep  Th ClassesAttended","Sep  Th Classes Held","Sep Final Calculated Benefits ","Sep  Tut ClassesAttended","Sep  Tut Classes Held","Sep Tut Final Calculated Benefits ","Oct  Th ClassesAttended","Oct  Th Classes Held","Oct Final Calculated Benefits ","Oct  Tut ClassesAttended","Oct  Tut Classes Held","Oct Tut Final Calculated Benefits ","nOV  Th ClassesAttended","Nov  Th Classes Held","Nov Final Calculated Benefits ","Nov  Tut ClassesAttended","Nov  Tut Classes Held","Nov Tut Final Calculated Benefits ","Total Classes Held in Semester","Total Benefits initially given in the semester","Final Benefits given to the student","Total Classes Attended by the student","Total classes attended + attendance benefits","Attendance Percentage","Attendance Marks","Tut Group"," Assignment (tutorial test) marks out of 10","Assignment (class test) marks out of 10","Final Marks Out of 25"]
[1,"15BA001",{"$f":"VLOOKUP(B2,[1]A!B$1:AI$48,34,0)","v":0},{"$f":"VLOOKUP(B2,[1]A!B$1:AJ$48,35,0)","v":0},{"$f":"VLOOKUP(B2,[1]A!B$1:AL$48,37,0)","v":0},{"$f":"VLOOKUP(B2,[1]A!B$1:AM$48,38,0)","v":0},{"$f":"VLOOKUP(B2,[1]A!B$1:AN$48,39,0)","v":0},{"$f":"VLOOKUP(B2,[1]A!B$1:AP$48,41,0)","v":0},0,0,0,0,0,0,{"$f":"IFERROR(VLOOKUP(B2,[3]A!B$1:Y$48,24,0),IFERROR(VLOOKUP(B2,[3]B!B$1:Y$51,24,0),VLOOKUP(B2,[3]C!B$1:W$52,22,0)))","v":0},{"$f":"IFERROR(VLOOKUP(B2,[3]A!B$1:Z$48,25,0),IFERROR(VLOOKUP(B2,[3]B!B$1:Z$51,25,0),VLOOKUP(B2,[3]C!B$1:X$52,23,0)))","v":8},0,{"$f":"IFERROR(VLOOKUP(B2,[3]A!B$1:AA$48,26,0),IFERROR(VLOOKUP(B2,[3]B!B$1:AA$51,26,0),VLOOKUP(B2,[3]C!B$1:Y$52,24,0)))","v":0},{"$f":"IFERROR(VLOOKUP(B2,[3]A!B$1:AB$48,27,0),IFERROR(VLOOKUP(B2,[3]B!B$1:AB$51,27,0),VLOOKUP(B2,[3]C!B$1:Z$52,25,0)))","v":2},0,12,15,{"$f":"IFERROR(VLOOKUP(B2,[4]A!B$1:AL$48,37,0),IFERROR(VLOOKUP(B2,[4]B!B$1:AL$51,37,0),VLOOKUP(B2,[4]C!B$1:AL$52,37,0)))","v":0},3,3,{"$f":"IFERROR(VLOOKUP(B2,[4]A!B$1:AP$48,41,0),IFERROR(VLOOKUP(B2,[4]B!B$1:AP$51,41,0),VLOOKUP(B2,[4]C!B$1:AP$52,41,0)))","v":0},4,5,null,0,1,null,{"$f":"SUM(D2,G2,J2,M2,P2,S2,V2,Y2,AB2,AE2)","v":34},{"$f":"SUM(E2,H2,K2,N2,Q2,T2,W2,Z2,AC2,AF2)","v":0},{"$f":"FLOOR(IF(AH2<(1/3*(AG2)),AH2,(1/3*(AG2))),1)","v":0},{"$f":"SUM(C2,F2,I2,L2,O2,R2,U2,X2,AA2,AD2)","v":19},{"$f":"IF(SUM(AJ2,AI2)>AG2,AG2,SUM(AJ2,AI2))","v":19},{"$f":"(AK2/AG2)*100","v":55.882352941176471},{"$f":"IF(AL2>=85,5,(IF(AND(AL2>=80,AL2<85),4,(IF(AND(AL2>=75,AL2<80),3,(IF(AND(AL2>=70,AL2<75),2,(IF(AND(AL2>67,AL2<70),1,0)))))))))","v":0},"A-1",9,9,{"$f":"SUM(AM2,AO2,AP2,)","v":18}]
[2,"15BA003",{"$f":"VLOOKUP(B3,[1]A!B$1:AI$48,34,0)","v":0},{"$f":"VLOOKUP(B3,[1]A!B$1:AJ$48,35,0)","v":0},{"$f":"VLOOKUP(B3,[1]A!B$1:AL$48,37,0)","v":0},{"$f":"VLOOKUP(B3,[1]A!B$1:AM$48,38,0)","v":0},{"$f":"VLOOKUP(B3,[1]A!B$1:AN$48,39,0)","v":0},{"$f":"VLOOKUP(B3,[1]A!B$1:AP$48,41,0)","v":0},0,0,0,0,0,0,{"$f":"IFERROR(VLOOKUP(B3,[3]A!B$1:Y$48,24,0),IFERROR(VLOOKUP(B3,[3]B!B$1:Y$51,24,0),VLOOKUP(B3,[3]C!B$1:W$52,22,0)))","v":6},{"$f":"IFERROR(VLOOKUP(B3,[3]A!B$1:Z$48,25,0),IFERROR(VLOOKUP(B3,[3]B!B$1:Z$51,25,0),VLOOKUP(B3,[3]C!B$1:X$52,23,0)))","v":8},0,{"$f":"IFERROR(VLOOKUP(B3,[3]A!B$1:AA$48,26,0),IFERROR(VLOOKUP(B3,[3]B!B$1:AA$51,26,0),VLOOKUP(B3,[3]C!B$1:Y$52,24,0)))","v":2},{"$f":"IFERROR(VLOOKUP(B3,[3]A!B$1:AB$48,27,0),IFERROR(VLOOKUP(B3,[3]B!B$1:AB$51,27,0),VLOOKUP(B3,[3]C!B$1:Z$52,25,0)))","v":2},0,15,15,{"$f":"IFERROR(VLOOKUP(B3,[4]A!B$1:AL$48,37,0),IFERROR(VLOOKUP(B3,[4]B!B$1:AL$51,37,0),VLOOKUP(B3,[4]C!B$1:AL$52,37,0)))","v":0},3,3,{"$f":"IFERROR(VLOOKUP(B3,[4]A!B$1:AP$48,41,0),IFERROR(VLOOKUP(B3,[4]B!B$1:AP$51,41,0),VLOOKUP(B3,[4]C!B$1:AP$52,41,0)))","v":0},5,5,null,1,1,null,{"$f":"SUM(D3,G3,J3,M3,P3,S3,V3,Y3,AB3,AE3)","v":34},{"$f":"SUM(E3,H3,K3,N3,Q3,T3,W3,Z3,AC3,AF3)","v":0},{"$f":"FLOOR(IF(AH3<(1/3*(AG3)),AH3,(1/3*(AG3))),1)","v":0},{"$f":"SUM(C3,F3,I3,L3,O3,R3,U3,X3,AA3,AD3)","v":32},{"$f":"IF(SUM(AJ3,AI3)>AG3,AG3,SUM(AJ3,AI3))","v":32},{"$f":"(AK3/AG3)*100","v":94.117647058823522},{"$f":"IF(AL3>=85,5,(IF(AND(AL3>=80,AL3<85),4,(IF(AND(AL3>=75,AL3<80),3,(IF(AND(AL3>=70,AL3<75),2,(IF(AND(AL3>67,AL3<70),1,0)))))))))","v":5},"A-1",10,10,{"$f":"SUM(AM3,AO3,AP3,)","v":25}]
[3,"15BA006",{"$f":"VLOOKUP(B4,[1]A!B$1:AI$48,34,0)","v":0},{"$f":"VLOOKUP(B4,[1]A!B$1:AJ$48,35,0)","v":0},{"$f":"VLOOKUP(B4,[1]A!B$1:AL$48,37,0)","v":0},{"$f":"VLOOKUP(B4,[1]A!B$1:AM$48,38,0)","v":0},{"$f":"VLOOKUP(B4,[1]A!B$1:AN$48,39,0)","v":0},{"$f":"VLOOKUP(B4,[1]A!B$1:AP$48,41,0)","v":0},0,0,0,0,0,0,{"$f":"IFERROR(VLOOKUP(B4,[3]A!B$1:Y$48,24,0),IFERROR(VLOOKUP(B4,[3]B!B$1:Y$51,24,0),VLOOKUP(B4,[3]C!B$1:W$52,22,0)))","v":6},{"$f":"IFERROR(VLOOKUP(B4,[3]A!B$1:Z$48,25,0),IFERROR(VLOOKUP(B4,[3]B!B$1:Z$51,25,0),VLOOKUP(B4,[3]C!B$1:X$52,23,0)))","v":8},0,{"$f":"IFERROR(VLOOKUP(B4,[3]A!B$1:AA$48,26,0),IFERROR(VLOOKUP(B4,[3]B!B$1:AA$51,26,0),VLOOKUP(B4,[3]C!B$1:Y$52,24,0)))","v":2},{"$f":"IFERROR(VLOOKUP(B4,[3]A!B$1:AB$48,27,0),IFERROR(VLOOKUP(B4,[3]B!B$1:AB$51,27,0),VLOOKUP(B4,[3]C!B$1:Z$52,25,0)))","v":2},0,14,15,{"$f":"IFERROR(VLOOKUP(B4,[4]A!B$1:AL$48,37,0),IFERROR(VLOOKUP(B4,[4]B!B$1:AL$51,37,0),VLOOKUP(B4,[4]C!B$1:AL$52,37,0)))","v":0},2,3,{"$f":"IFERROR(VLOOKUP(B4,[4]A!B$1:AP$48,41,0),IFERROR(VLOOKUP(B4,[4]B!B$1:AP$51,41,0),VLOOKUP(B4,[4]C!B$1:AP$52,41,0)))","v":0},4,5,null,1,1,null,34,0,0,29,29,85.294117647058826,5,"A-1",10,10,25]
[4,"15BA011",{"$f":"VLOOKUP(B5,[1]A!B$1:AI$48,34,0)","v":0},{"$f":"VLOOKUP(B5,[1]A!B$1:AJ$48,35,0)","v":0},{"$f":"VLOOKUP(B5,[1]A!B$1:AL$48,37,0)","v":0},{"$f":"VLOOKUP(B5,[1]A!B$1:AM$48,38,0)","v":0},{"$f":"VLOOKUP(B5,[1]A!B$1:AN$48,39,0)","v":0},{"$f":"VLOOKUP(B5,[1]A!B$1:AP$48,41,0)","v":0},0,0,0,0,0,0,{"$f":"IFERROR(VLOOKUP(B5,[3]A!B$1:Y$48,24,0),IFERROR(VLOOKUP(B5,[3]B!B$1:Y$51,24,0),VLOOKUP(B5,[3]C!B$1:W$52,22,0)))","v":8},{"$f":"IFERROR(VLOOKUP(B5,[3]A!B$1:Z$48,25,0),IFERROR(VLOOKUP(B5,[3]B!B$1:Z$51,25,0),VLOOKUP(B5,[3]C!B$1:X$52,23,0)))","v":8},0,{"$f":"IFERROR(VLOOKUP(B5,[3]A!B$1:AA$48,26,0),IFERROR(VLOOKUP(B5,[3]B!B$1:AA$51,26,0),VLOOKUP(B5,[3]C!B$1:Y$52,24,0)))","v":2},{"$f":"IFERROR(VLOOKUP(B5,[3]A!B$1:AB$48,27,0),IFERROR(VLOOKUP(B5,[3]B!B$1:AB$51,27,0),VLOOKUP(B5,[3]C!B$1:Z$52,25,0)))","v":2},0,14,15,{"$f":"IFERROR(VLOOKUP(B5,[4]A!B$1:AL$48,37,0),IFERROR(VLOOKUP(B5,[4]B!B$1:AL$51,37,0),VLOOKUP(B5,[4]C!B$1:AL$52,37,0)))","v":0},2,3,{"$f":"IFERROR(VLOOKUP(B5,[4]A!B$1:AP$48,41,0),IFERROR(VLOOKUP(B5,[4]B!B$1:AP$51,41,0),VLOOKUP(B5,[4]C!B$1:AP$52,41,0)))","v":0},4,5,null,1,1,null,34,0,0,31,31,91.17647058823529,5,"A-1",10,10,25]
[5,"15BA015",{"$f":"VLOOKUP(B6,[1]A!B$1:AI$48,34,0)","v":0},{"$f":"VLOOKUP(B6,[1]A!B$1:AJ$48,35,0)","v":0},{"$f":"VLOOKUP(B6,[1]A!B$1:AL$48,37,0)","v":0},{"$f":"VLOOKUP(B6,[1]A!B$1:AM$48,38,0)","v":0},{"$f":"VLOOKUP(B6,[1]A!B$1:AN$48,39,0)","v":0},{"$f":"VLOOKUP(B6,[1]A!B$1:AP$48,41,0)","v":0},0,0,0,0,0,0,{"$f":"IFERROR(VLOOKUP(B6,[3]A!B$1:Y$48,24,0),IFERROR(VLOOKUP(B6,[3]B!B$1:Y$51,24,0),VLOOKUP(B6,[3]C!B$1:W$52,22,0)))","v":6},{"$f":"IFERROR(VLOOKUP(B6,[3]A!B$1:Z$48,25,0),IFERROR(VLOOKUP(B6,[3]B!B$1:Z$51,25,0),VLOOKUP(B6,[3]C!B$1:X$52,23,0)))","v":8},0,{"$f":"IFERROR(VLOOKUP(B6,[3]A!B$1:AA$48,26,0),IFERROR(VLOOKUP(B6,[3]B!B$1:AA$51,26,0),VLOOKUP(B6,[3]C!B$1:Y$52,24,0)))","v":1},{"$f":"IFERROR(VLOOKUP(B6,[3]A!B$1:AB$48,27,0),IFERROR(VLOOKUP(B6,[3]B!B$1:AB$51,27,0),VLOOKUP(B6,[3]C!B$1:Z$52,25,0)))","v":2},0,12,15,{"$f":"IFERROR(VLOOKUP(B6,[4]A!B$1:AL$48,37,0),IFERROR(VLOOKUP(B6,[4]B!B$1:AL$51,37,0),VLOOKUP(B6,[4]C!B$1:AL$52,37,0)))","v":0},2,3,{"$f":"IFERROR(VLOOKUP(B6,[4]A!B$1:AP$48,41,0),IFERROR(VLOOKUP(B6,[4]B!B$1:AP$51,41,0),VLOOKUP(B6,[4]C!B$1:AP$52,41,0)))","v":0},4,5,null,1,1,null,34,0,0,26,26,76.470588235294116,3,"A-1",10,10,23]
[6,"15BA019",{"$f":"VLOOKUP(B7,[1]A!B$1:AI$48,34,0)","v":0},{"$f":"VLOOKUP(B7,[1]A!B$1:AJ$48,35,0)","v":0},{"$f":"VLOOKUP(B7,[1]A!B$1:AL$48,37,0)","v":0},{"$f":"VLOOKUP(B7,[1]A!B$1:AM$48,38,0)","v":0},{"$f":"VLOOKUP(B7,[1]A!B$1:AN$48,39,0)","v":0},{"$f":"VLOOKUP(B7,[1]A!B$1:AP$48,41,0)","v":0},0,0,0,0,0,0,{"$f":"IFERROR(VLOOKUP(B7,[3]A!B$1:Y$48,24,0),IFERROR(VLOOKUP(B7,[3]B!B$1:Y$51,24,0),VLOOKUP(B7,[3]C!B$1:W$52,22,0)))","v":0},{"$f":"IFERROR(VLOOKUP(B7,[3]A!B$1:Z$48,25,0),IFERROR(VLOOKUP(B7,[3]B!B$1:Z$51,25,0),VLOOKUP(B7,[3]C!B$1:X$52,23,0)))","v":8},0,{"$f":"IFERROR(VLOOKUP(B7,[3]A!B$1:AA$48,26,0),IFERROR(VLOOKUP(B7,[3]B!B$1:AA$51,26,0),VLOOKUP(B7,[3]C!B$1:Y$52,24,0)))","v":0},{"$f":"IFERROR(VLOOKUP(B7,[3]A!B$1:AB$48,27,0),IFERROR(VLOOKUP(B7,[3]B!B$1:AB$51,27,0),VLOOKUP(B7,[3]C!B$1:Z$52,25,0)))","v":2},0,12,15,{"$f":"IFERROR(VLOOKUP(B7,[4]A!B$1:AL$48,37,0),IFERROR(VLOOKUP(B7,[4]B!B$1:AL$51,37,0),VLOOKUP(B7,[4]C!B$1:AL$52,37,0)))","v":0},2,3,{"$f":"IFERROR(VLOOKUP(B7,[4]A!B$1:AP$48,41,0),IFERROR(VLOOKUP(B7,[4]B!B$1:AP$51,41,0),VLOOKUP(B7,[4]C!B$1:AP$52,41,0)))","v":0},3,5,null,1,1,null,34,0,0,18,18,52.941176470588239,0,"A-1",10,10,20]
[7,"15BA023",{"$f":"VLOOKUP(B8,[1]A!B$1:AI$48,34,0)","v":0},{"$f":"VLOOKUP(B8,[1]A!B$1:AJ$48,35,0)","v":0},{"$f":"VLOOKUP(B8,[1]A!B$1:AL$48,37,0)","v":0},{"$f":"VLOOKUP(B8,[1]A!B$1:AM$48,38,0)","v":0},{"$f":"VLOOKUP(B8,[1]A!B$1:AN$48,39,0)","v":0},{"$f":"VLOOKUP(B8,[1]A!B$1:AP$48,41,0)","v":0},0,0,0,0,0,0,{"$f":"IFERROR(VLOOKUP(B8,[3]A!B$1:Y$48,24,0),IFERROR(VLOOKUP(B8,[3]B!B$1:Y$51,24,0),VLOOKUP(B8,[3]C!B$1:W$52,22,0)))","v":5},{"$f":"IFERROR(VLOOKUP(B8,[3]A!B$1:Z$48,25,0),IFERROR(VLOOKUP(B8,[3]B!B$1:Z$51,25,0),VLOOKUP(B8,[3]C!B$1:X$52,23,0)))","v":8},0,{"$f":"IFERROR(VLOOKUP(B8,[3]A!B$1:AA$48,26,0),IFERROR(VLOOKUP(B8,[3]B!B$1:AA$51,26,0),VLOOKUP(B8,[3]C!B$1:Y$52,24,0)))","v":1},{"$f":"IFERROR(VLOOKUP(B8,[3]A!B$1:AB$48,27,0),IFERROR(VLOOKUP(B8,[3]B!B$1:AB$51,27,0),VLOOKUP(B8,[3]C!B$1:Z$52,25,0)))","v":2},0,13,15,{"$f":"IFERROR(VLOOKUP(B8,[4]A!B$1:AL$48,37,0),IFERROR(VLOOKUP(B8,[4]B!B$1:AL$51,37,0),VLOOKUP(B8,[4]C!B$1:AL$52,37,0)))","v":0},3,3,{"$f":"IFERROR(VLOOKUP(B8,[4]A!B$1:AP$48,41,0),IFERROR(VLOOKUP(B8,[4]B!B$1:AP$51,41,0),VLOOKUP(B8,[4]C!B$1:AP$52,41,0)))","v":0},3,5,null,0,1,null,34,0,0,25,25,73.529411764705884,2,"A-1",10,9,21]
[8,"15BA033",{"$f":"VLOOKUP(B9,[1]A!B$1:AI$48,34,0)","v":0},{"$f":"VLOOKUP(B9,[1]A!B$1:AJ$48,35,0)","v":0},{"$f":"VLOOKUP(B9,[1]A!B$1:AL$48,37,0)","v":0},{"$f":"VLOOKUP(B9,[1]A!B$1:AM$48,38,0)","v":0},{"$f":"VLOOKUP(B9,[1]A!B$1:AN$48,39,0)","v":0},{"$f":"VLOOKUP(B9,[1]A!B$1:AP$48,41,0)","v":0},0,0,0,0,0,0,{"$f":"IFERROR(VLOOKUP(B9,[3]A!B$1:Y$48,24,0),IFERROR(VLOOKUP(B9,[3]B!B$1:Y$51,24,0),VLOOKUP(B9,[3]C!B$1:W$52,22,0)))","v":5},{"$f":"IFERROR(VLOOKUP(B9,[3]A!B$1:Z$48,25,0),IFERROR(VLOOKUP(B9,[3]B!B$1:Z$51,25,0),VLOOKUP(B9,[3]C!B$1:X$52,23,0)))","v":8},0,{"$f":"IFERROR(VLOOKUP(B9,[3]A!B$1:AA$48,26,0),IFERROR(VLOOKUP(B9,[3]B!B$1:AA$51,26,0),VLOOKUP(B9,[3]C!B$1:Y$52,24,0)))","v":2},{"$f":"IFERROR(VLOOKUP(B9,[3]A!B$1:AB$48,27,0),IFERROR(VLOOKUP(B9,[3]B!B$1:AB$51,27,0),VLOOKUP(B9,[3]C!B$1:Z$52,25,0)))","v":2},0,14,15,{"$f":"IFERROR(VLOOKUP(B9,[4]A!B$1:AL$48,37,0),IFERROR(VLOOKUP(B9,[4]B!B$1:AL$51,37,0),VLOOKUP(B9,[4]C!B$1:AL$52,37,0)))","v":0},2,3,{"$f":"IFERROR(VLOOKUP(B9,[4]A!B$1:AP$48,41,0),IFERROR(VLOOKUP(B9,[4]B!B$1:AP$51,41,0),VLOOKUP(B9,[4]C!B$1:AP$52,41,0)))","v":0},4,5,null,1,1,null,34,0,0,28,28,82.35294117647058,4,"A-1",10,9,23]
[9,"15BA038",{"$f":"VLOOKUP(B10,[1]A!B$1:AI$48,34,0)","v":0},{"$f":"VLOOKUP(B10,[1]A!B$1:AJ$48,35,0)","v":0},{"$f":"VLOOKUP(B10,[1]A!B$1:AL$48,37,0)","v":0},{"$f":"VLOOKUP(B10,[1]A!B$1:AM$48,38,0)","v":0},{"$f":"VLOOKUP(B10,[1]A!B$1:AN$48,39,0)","v":0},{"$f":"VLOOKUP(B10,[1]A!B$1:AP$48,41,0)","v":0},0,0,0,0,0,0,{"$f":"IFERROR(VLOOKUP(B10,[3]A!B$1:Y$48,24,0),IFERROR(VLOOKUP(B10,[3]B!B$1:Y$51,24,0),VLOOKUP(B10,[3]C!B$1:W$52,22,0)))","v":0},{"$f":"IFERROR(VLOOKUP(B10,[3]A!B$1:Z$48,25,0),IFERROR(VLOOKUP(B10,[3]B!B$1:Z$51,25,0),VLOOKUP(B10,[3]C!B$1:X$52,23,0)))","v":8},0,{"$f":"IFERROR(VLOOKUP(B10,[3]A!B$1:AA$48,26,0),IFERROR(VLOOKUP(B10,[3]B!B$1:AA$51,26,0),VLOOKUP(B10,[3]C!B$1:Y$52,24,0)))","v":0},{"$f":"IFERROR(VLOOKUP(B10,[3]A!B$1:AB$48,27,0),IFERROR(VLOOKUP(B10,[3]B!B$1:AB$51,27,0),VLOOKUP(B10,[3]C!B$1:Z$52,25,0)))","v":2},0,10,15,{"$f":"IFERROR(VLOOKUP(B10,[4]A!B$1:AL$48,37,0),IFERROR(VLOOKUP(B10,[4]B!B$1:AL$51,37,0),VLOOKUP(B10,[4]C!B$1:AL$52,37,0)))","v":0},1,3,{"$f":"IFERROR(VLOOKUP(B10,[4]A!B$1:AP$48,41,0),IFERROR(VLOOKUP(B10,[4]B!B$1:AP$51,41,0),VLOOKUP(B10,[4]C!B$1:AP$52,41,0)))","v":0},3,5,null,0,1,null,34,0,0,14,14,41.17647058823529,0,"A-1",10,9,19]
[10,"15BA042",{"$f":"VLOOKUP(B11,[1]A!B$1:AI$48,34,0)","v":0},{"$f":"VLOOKUP(B11,[1]A!B$1:AJ$48,35,0)","v":0},{"$f":"VLOOKUP(B11,[1]A!B$1:AL$48,37,0)","v":0},{"$f":"VLOOKUP(B11,[1]A!B$1:AM$48,38,0)","v":0},{"$f":"VLOOKUP(B11,[1]A!B$1:AN$48,39,0)","v":0},{"$f":"VLOOKUP(B11,[1]A!B$1:AP$48,41,0)","v":0},0,0,0,0,0,0,{"$f":"IFERROR(VLOOKUP(B11,[3]A!B$1:Y$48,24,0),IFERROR(VLOOKUP(B11,[3]B!B$1:Y$51,24,0),VLOOKUP(B11,[3]C!B$1:W$52,22,0)))","v":4},{"$f":"IFERROR(VLOOKUP(B11,[3]A!B$1:Z$48,25,0),IFERROR(VLOOKUP(B11,[3]B!B$1:Z$51,25,0),VLOOKUP(B11,[3]C!B$1:X$52,23,0)))","v":8},0,{"$f":"IFERROR(VLOOKUP(B11,[3]A!B$1:AA$48,26,0),IFERROR(VLOOKUP(B11,[3]B!B$1:AA$51,26,0),VLOOKUP(B11,[3]C!B$1:Y$52,24,0)))","v":1},{"$f":"IFERROR(VLOOKUP(B11,[3]A!B$1:AB$48,27,0),IFERROR(VLOOKUP(B11,[3]B!B$1:AB$51,27,0),VLOOKUP(B11,[3]C!B$1:Z$52,25,0)))","v":2},0,12,15,{"$f":"IFERROR(VLOOKUP(B11,[4]A!B$1:AL$48,37,0),IFERROR(VLOOKUP(B11,[4]B!B$1:AL$51,37,0),VLOOKUP(B11,[4]C!B$1:AL$52,37,0)))","v":0},2,3,{"$f":"IFERROR(VLOOKUP(B11,[4]A!B$1:AP$48,41,0),IFERROR(VLOOKUP(B11,[4]B!B$1:AP$51,41,0),VLOOKUP(B11,[4]C!B$1:AP$52,41,0)))","v":0},2,5,null,1,1,null,34,0,0,22,22,64.705882352941174,0,"A-2",9,9,18]
[11,"15BA043",{"$f":"VLOOKUP(B12,[1]A!B$1:AI$48,34,0)","v":0},{"$f":"VLOOKUP(B12,[1]A!B$1:AJ$48,35,0)","v":0},{"$f":"VLOOKUP(B12,[1]A!B$1:AL$48,37,0)","v":0},{"$f":"VLOOKUP(B12,[1]A!B$1:AM$48,38,0)","v":0},{"$f":"VLOOKUP(B12,[1]A!B$1:AN$48,39,0)","v":0},{"$f":"VLOOKUP(B12,[1]A!B$1:AP$48,41,0)","v":0},0,0,0,0,0,0,{"$f":"IFERROR(VLOOKUP(B12,[3]A!B$1:Y$48,24,0),IFERROR(VLOOKUP(B12,[3]B!B$1:Y$51,24,0),VLOOKUP(B12,[3]C!B$1:W$52,22,0)))","v":6},{"$f":"IFERROR(VLOOKUP(B12,[3]A!B$1:Z$48,25,0),IFERROR(VLOOKUP(B12,[3]B!B$1:Z$51,25,0),VLOOKUP(B12,[3]C!B$1:X$52,23,0)))","v":8},0,{"$f":"IFERROR(VLOOKUP(B12,[3]A!B$1:AA$48,26,0),IFERROR(VLOOKUP(B12,[3]B!B$1:AA$51,26,0),VLOOKUP(B12,[3]C!B$1:Y$52,24,0)))","v":2},{"$f":"IFERROR(VLOOKUP(B12,[3]A!B$1:AB$48,27,0),IFERROR(VLOOKUP(B12,[3]B!B$1:AB$51,27,0),VLOOKUP(B12,[3]C!B$1:Z$52,25,0)))","v":2},0,14,15,{"$f":"IFERROR(VLOOKUP(B12,[4]A!B$1:AL$48,37,0),IFERROR(VLOOKUP(B12,[4]B!B$1:AL$51,37,0),VLOOKUP(B12,[4]C!B$1:AL$52,37,0)))","v":0},2,3,{"$f":"IFERROR(VLOOKUP(B12,[4]A!B$1:AP$48,41,0),IFERROR(VLOOKUP(B12,[4]B!B$1:AP$51,41,0),VLOOKUP(B12,[4]C!B$1:AP$52,41,0)))","v":0},3,5,null,1,1,null,34,0,0,28,28,82.35294117647058,4,"A-2",9,9,22]
[12,"15BA053",{"$f":"VLOOKUP(B13,[1]A!B$1:AI$48,34,0)","v":0},{"$f":"VLOOKUP(B13,[1]A!B$1:AJ$48,35,0)","v":0},{"$f":"VLOOKUP(B13,[1]A!B$1:AL$48,37,0)","v":0},{"$f":"VLOOKUP(B13,[1]A!B$1:AM$48,38,0)","v":0},{"$f":"VLOOKUP(B13,[1]A!B$1:AN$48,39,0)","v":0},{"$f":"VLOOKUP(B13,[1]A!B$1:AP$48,41,0)","v":0},0,0,0,0,0,0,{"$f":"IFERROR(VLOOKUP(B13,[3]A!B$1:Y$48,24,0),IFERROR(VLOOKUP(B13,[3]B!B$1:Y$51,24,0),VLOOKUP(B13,[3]C!B$1:W$52,22,0)))","v":8},{"$f":"IFERROR(VLOOKUP(B13,[3]A!B$1:Z$48,25,0),IFERROR(VLOOKUP(B13,[3]B!B$1:Z$51,25,0),VLOOKUP(B13,[3]C!B$1:X$52,23,0)))","v":8},0,{"$f":"IFERROR(VLOOKUP(B13,[3]A!B$1:AA$48,26,0),IFERROR(VLOOKUP(B13,[3]B!B$1:AA$51,26,0),VLOOKUP(B13,[3]C!B$1:Y$52,24,0)))","v":2},{"$f":"IFERROR(VLOOKUP(B13,[3]A!B$1:AB$48,27,0),IFERROR(VLOOKUP(B13,[3]B!B$1:AB$51,27,0),VLOOKUP(B13,[3]C!B$1:Z$52,25,0)))","v":2},0,13,15,{"$f":"IFERROR(VLOOKUP(B13,[4]A!B$1:AL$48,37,0),IFERROR(VLOOKUP(B13,[4]B!B$1:AL$51,37,0),VLOOKUP(B13,[4]C!B$1:AL$52,37,0)))","v":0},2,3,{"$f":"IFERROR(VLOOKUP(B13,[4]A!B$1:AP$48,41,0),IFERROR(VLOOKUP(B13,[4]B!B$1:AP$51,41,0),VLOOKUP(B13,[4]C!B$1:AP$52,41,0)))","v":0},4,5,null,1,1,null,34,0,0,30,30,88.235294117647058,5,"A-2",10,10,25]
[13,"15BA060",{"$f":"VLOOKUP(B14,[1]A!B$1:AI$48,34,0)","v":0},{"$f":"VLOOKUP(B14,[1]A!B$1:AJ$48,35,0)","v":0},{"$f":"VLOOKUP(B14,[1]A!B$1:AL$48,37,0)","v":0},{"$f":"VLOOKUP(B14,[1]A!B$1:AM$48,38,0)","v":0},{"$f":"VLOOKUP(B14,[1]A!B$1:AN$48,39,0)","v":0},{"$f":"VLOOKUP(B14,[1]A!B$1:AP$48,41,0)","v":0},0,0,0,0,0,0,{"$f":"IFERROR(VLOOKUP(B14,[3]A!B$1:Y$48,24,0),IFERROR(VLOOKUP(B14,[3]B!B$1:Y$51,24,0),VLOOKUP(B14,[3]C!B$1:W$52,22,0)))","v":8},{"$f":"IFERROR(VLOOKUP(B14,[3]A!B$1:Z$48,25,0),IFERROR(VLOOKUP(B14,[3]B!B$1:Z$51,25,0),VLOOKUP(B14,[3]C!B$1:X$52,23,0)))","v":8},0,{"$f":"IFERROR(VLOOKUP(B14,[3]A!B$1:AA$48,26,0),IFERROR(VLOOKUP(B14,[3]B!B$1:AA$51,26,0),VLOOKUP(B14,[3]C!B$1:Y$52,24,0)))","v":2},{"$f":"IFERROR(VLOOKUP(B14,[3]A!B$1:AB$48,27,0),IFERROR(VLOOKUP(B14,[3]B!B$1:AB$51,27,0),VLOOKUP(B14,[3]C!B$1:Z$52,25,0)))","v":2},0,12,15,{"$f":"IFERROR(VLOOKUP(B14,[4]A!B$1:AL$48,37,0),IFERROR(VLOOKUP(B14,[4]B!B$1:AL$51,37,0),VLOOKUP(B14,[4]C!B$1:AL$52,37,0)))","v":0},2,3,{"$f":"IFERROR(VLOOKUP(B14,[4]A!B$1:AP$48,41,0),IFERROR(VLOOKUP(B14,[4]B!B$1:AP$51,41,0),VLOOKUP(B14,[4]C!B$1:AP$52,41,0)))","v":0},4,5,null,1,1,null,34,0,0,29,29,85.294117647058826,5,"A-2",10,10,25]
[14,"15BA062",{"$f":"VLOOKUP(B15,[1]A!B$1:AI$48,34,0)","v":0},{"$f":"VLOOKUP(B15,[1]A!B$1:AJ$48,35,0)","v":0},{"$f":"VLOOKUP(B15,[1]A!B$1:AL$48,37,0)","v":0},{"$f":"VLOOKUP(B15,[1]A!B$1:AM$48,38,0)","v":0},{"$f":"VLOOKUP(B15,[1]A!B$1:AN$48,39,0)","v":0},{"$f":"VLOOKUP(B15,[1]A!B$1:AP$48,41,0)","v":0},0,0,0,0,0,0,{"$f":"IFERROR(VLOOKUP(B15,[3]A!B$1:Y$48,24,0),IFERROR(VLOOKUP(B15,[3]B!B$1:Y$51,24,0),VLOOKUP(B15,[3]C!B$1:W$52,22,0)))","v":4},{"$f":"IFERROR(VLOOKUP(B15,[3]A!B$1:Z$48,25,0),IFERROR(VLOOKUP(B15,[3]B!B$1:Z$51,25,0),VLOOKUP(B15,[3]C!B$1:X$52,23,0)))","v":8},0,{"$f":"IFERROR(VLOOKUP(B15,[3]A!B$1:AA$48,26,0),IFERROR(VLOOKUP(B15,[3]B!B$1:AA$51,26,0),VLOOKUP(B15,[3]C!B$1:Y$52,24,0)))","v":2},{"$f":"IFERROR(VLOOKUP(B15,[3]A!B$1:AB$48,27,0),IFERROR(VLOOKUP(B15,[3]B!B$1:AB$51,27,0),VLOOKUP(B15,[3]C!B$1:Z$52,25,0)))","v":2},0,13,15,{"$f":"IFERROR(VLOOKUP(B15,[4]A!B$1:AL$48,37,0),IFERROR(VLOOKUP(B15,[4]B!B$1:AL$51,37,0),VLOOKUP(B15,[4]C!B$1:AL$52,37,0)))","v":0},2,3,{"$f":"IFERROR(VLOOKUP(B15,[4]A!B$1:AP$48,41,0),IFERROR(VLOOKUP(B15,[4]B!B$1:AP$51,41,0),VLOOKUP(B15,[4]C!B$1:AP$52,41,0)))","v":0},4,5,null,1,1,null,34,0,0,26,26,76.470588235294116,3,"A-2",9,10,22]
[15,"15BA064",{"$f":"VLOOKUP(B16,[1]A!B$1:AI$48,34,0)","v":0},{"$f":"VLOOKUP(B16,[1]A!B$1:AJ$48,35,0)","v":0},{"$f":"VLOOKUP(B16,[1]A!B$1:AL$48,37,0)","v":0},{"$f":"VLOOKUP(B16,[1]A!B$1:AM$48,38,0)","v":0},{"$f":"VLOOKUP(B16,[1]A!B$1:AN$48,39,0)","v":0},{"$f":"VLOOKUP(B16,[1]A!B$1:AP$48,41,0)","v":0},0,0,0,0,0,0,{"$f":"IFERROR(VLOOKUP(B16,[3]A!B$1:Y$48,24,0),IFERROR(VLOOKUP(B16,[3]B!B$1:Y$51,24,0),VLOOKUP(B16,[3]C!B$1:W$52,22,0)))","v":4},{"$f":"IFERROR(VLOOKUP(B16,[3]A!B$1:Z$48,25,0),IFERROR(VLOOKUP(B16,[3]B!B$1:Z$51,25,0),VLOOKUP(B16,[3]C!B$1:X$52,23,0)))","v":8},0,{"$f":"IFERROR(VLOOKUP(B16,[3]A!B$1:AA$48,26,0),IFERROR(VLOOKUP(B16,[3]B!B$1:AA$51,26,0),VLOOKUP(B16,[3]C!B$1:Y$52,24,0)))","v":2},{"$f":"IFERROR(VLOOKUP(B16,[3]A!B$1:AB$48,27,0),IFERROR(VLOOKUP(B16,[3]B!B$1:AB$51,27,0),VLOOKUP(B16,[3]C!B$1:Z$52,25,0)))","v":2},0,12,15,{"$f":"IFERROR(VLOOKUP(B16,[4]A!B$1:AL$48,37,0),IFERROR(VLOOKUP(B16,[4]B!B$1:AL$51,37,0),VLOOKUP(B16,[4]C!B$1:AL$52,37,0)))","v":0},2,3,{"$f":"IFERROR(VLOOKUP(B16,[4]A!B$1:AP$48,41,0),IFERROR(VLOOKUP(B16,[4]B!B$1:AP$51,41,0),VLOOKUP(B16,[4]C!B$1:AP$52,41,0)))","v":0},4,5,null,1,1,null,34,0,0,25,25,73.529411764705884,2,"A-2",10,10,22]
[16,"15BA065",{"$f":"VLOOKUP(B17,[1]A!B$1:AI$48,34,0)","v":0},{"$f":"VLOOKUP(B17,[1]A!B$1:AJ$48,35,0)","v":0},{"$f":"VLOOKUP(B17,[1]A!B$1:AL$48,37,0)","v":0},{"$f":"VLOOKUP(B17,[1]A!B$1:AM$48,38,0)","v":0},{"$f":"VLOOKUP(B17,[1]A!B$1:AN$48,39,0)","v":0},{"$f":"VLOOKUP(B17,[1]A!B$1:AP$48,41,0)","v":0},0,0,0,0,0,0,{"$f":"IFERROR(VLOOKUP(B17,[3]A!B$1:Y$48,24,0),IFERROR(VLOOKUP(B17,[3]B!B$1:Y$51,24,0),VLOOKUP(B17,[3]C!B$1:W$52,22,0)))","v":5},{"$f":"IFERROR(VLOOKUP(B17,[3]A!B$1:Z$48,25,0),IFERROR(VLOOKUP(B17,[3]B!B$1:Z$51,25,0),VLOOKUP(B17,[3]C!B$1:X$52,23,0)))","v":8},0,{"$f":"IFERROR(VLOOKUP(B17,[3]A!B$1:AA$48,26,0),IFERROR(VLOOKUP(B17,[3]B!B$1:AA$51,26,0),VLOOKUP(B17,[3]C!B$1:Y$52,24,0)))","v":2},{"$f":"IFERROR(VLOOKUP(B17,[3]A!B$1:AB$48,27,0),IFERROR(VLOOKUP(B17,[3]B!B$1:AB$51,27,0),VLOOKUP(B17,[3]C!B$1:Z$52,25,0)))","v":2},0,12,15,{"$f":"IFERROR(VLOOKUP(B17,[4]A!B$1:AL$48,37,0),IFERROR(VLOOKUP(B17,[4]B!B$1:AL$51,37,0),VLOOKUP(B17,[4]C!B$1:AL$52,37,0)))","v":0},2,3,{"$f":"IFERROR(VLOOKUP(B17,[4]A!B$1:AP$48,41,0),IFERROR(VLOOKUP(B17,[4]B!B$1:AP$51,41,0),VLOOKUP(B17,[4]C!B$1:AP$52,41,0)))","v":0},4,5,null,1,1,null,34,0,0,26,26,76.470588235294116,3,"A-2",9,10,22]
[17,"15BA068",{"$f":"VLOOKUP(B18,[1]A!B$1:AI$48,34,0)","v":0},{"$f":"VLOOKUP(B18,[1]A!B$1:AJ$48,35,0)","v":0},{"$f":"VLOOKUP(B18,[1]A!B$1:AL$48,37,0)","v":0},{"$f":"VLOOKUP(B18,[1]A!B$1:AM$48,38,0)","v":0},{"$f":"VLOOKUP(B18,[1]A!B$1:AN$48,39,0)","v":0},{"$f":"VLOOKUP(B18,[1]A!B$1:AP$48,41,0)","v":0},0,0,0,0,0,0,{"$f":"IFERROR(VLOOKUP(B18,[3]A!B$1:Y$48,24,0),IFERROR(VLOOKUP(B18,[3]B!B$1:Y$51,24,0),VLOOKUP(B18,[3]C!B$1:W$52,22,0)))","v":4},{"$f":"IFERROR(VLOOKUP(B18,[3]A!B$1:Z$48,25,0),IFERROR(VLOOKUP(B18,[3]B!B$1:Z$51,25,0),VLOOKUP(B18,[3]C!B$1:X$52,23,0)))","v":8},0,{"$f":"IFERROR(VLOOKUP(B18,[3]A!B$1:AA$48,26,0),IFERROR(VLOOKUP(B18,[3]B!B$1:AA$51,26,0),VLOOKUP(B18,[3]C!B$1:Y$52,24,0)))","v":2},{"$f":"IFERROR(VLOOKUP(B18,[3]A!B$1:AB$48,27,0),IFERROR(VLOOKUP(B18,[3]B!B$1:AB$51,27,0),VLOOKUP(B18,[3]C!B$1:Z$52,25,0)))","v":2},0,13,15,{"$f":"IFERROR(VLOOKUP(B18,[4]A!B$1:AL$48,37,0),IFERROR(VLOOKUP(B18,[4]B!B$1:AL$51,37,0),VLOOKUP(B18,[4]C!B$1:AL$52,37,0)))","v":0},2,3,{"$f":"IFERROR(VLOOKUP(B18,[4]A!B$1:AP$48,41,0),IFERROR(VLOOKUP(B18,[4]B!B$1:AP$51,41,0),VLOOKUP(B18,[4]C!B$1:AP$52,41,0)))","v":0},4,5,null,1,1,null,34,0,0,26,26,76.470588235294116,3,"A-2",9,10,22]
[18,"15BA071",{"$f":"VLOOKUP(B19,[1]A!B$1:AI$48,34,0)","v":0},{"$f":"VLOOKUP(B19,[1]A!B$1:AJ$48,35,0)","v":0},{"$f":"VLOOKUP(B19,[1]A!B$1:AL$48,37,0)","v":0},{"$f":"VLOOKUP(B19,[1]A!B$1:AM$48,38,0)","v":0},{"$f":"VLOOKUP(B19,[1]A!B$1:AN$48,39,0)","v":0},{"$f":"VLOOKUP(B19,[1]A!B$1:AP$48,41,0)","v":0},0,0,0,0,0,0,{"$f":"IFERROR(VLOOKUP(B19,[3]A!B$1:Y$48,24,0),IFERROR(VLOOKUP(B19,[3]B!B$1:Y$51,24,0),VLOOKUP(B19,[3]C!B$1:W$52,22,0)))","v":8},{"$f":"IFERROR(VLOOKUP(B19,[3]A!B$1:Z$48,25,0),IFERROR(VLOOKUP(B19,[3]B!B$1:Z$51,25,0),VLOOKUP(B19,[3]C!B$1:X$52,23,0)))","v":8},0,{"$f":"IFERROR(VLOOKUP(B19,[3]A!B$1:AA$48,26,0),IFERROR(VLOOKUP(B19,[3]B!B$1:AA$51,26,0),VLOOKUP(B19,[3]C!B$1:Y$52,24,0)))","v":2},{"$f":"IFERROR(VLOOKUP(B19,[3]A!B$1:AB$48,27,0),IFERROR(VLOOKUP(B19,[3]B!B$1:AB$51,27,0),VLOOKUP(B19,[3]C!B$1:Z$52,25,0)))","v":2},0,12,15,{"$f":"IFERROR(VLOOKUP(B19,[4]A!B$1:AL$48,37,0),IFERROR(VLOOKUP(B19,[4]B!B$1:AL$51,37,0),VLOOKUP(B19,[4]C!B$1:AL$52,37,0)))","v":0},2,3,{"$f":"IFERROR(VLOOKUP(B19,[4]A!B$1:AP$48,41,0),IFERROR(VLOOKUP(B19,[4]B!B$1:AP$51,41,0),VLOOKUP(B19,[4]C!B$1:AP$52,41,0)))","v":0},4,5,null,1,1,null,34,0,0,29,29,85.294117647058826,5,"A-2",10,10,25]
[19,"15BA078",{"$f":"VLOOKUP(B20,[1]A!B$1:AI$48,34,0)","v":0},{"$f":"VLOOKUP(B20,[1]A!B$1:AJ$48,35,0)","v":0},{"$f":"VLOOKUP(B20,[1]A!B$1:AL$48,37,0)","v":0},{"$f":"VLOOKUP(B20,[1]A!B$1:AM$48,38,0)","v":0},{"$f":"VLOOKUP(B20,[1]A!B$1:AN$48,39,0)","v":0},{"$f":"VLOOKUP(B20,[1]A!B$1:AP$48,41,0)","v":0},0,0,0,0,0,0,{"$f":"IFERROR(VLOOKUP(B20,[3]A!B$1:Y$48,24,0),IFERROR(VLOOKUP(B20,[3]B!B$1:Y$51,24,0),VLOOKUP(B20,[3]C!B$1:W$52,22,0)))","v":4},{"$f":"IFERROR(VLOOKUP(B20,[3]A!B$1:Z$48,25,0),IFERROR(VLOOKUP(B20,[3]B!B$1:Z$51,25,0),VLOOKUP(B20,[3]C!B$1:X$52,23,0)))","v":8},0,{"$f":"IFERROR(VLOOKUP(B20,[3]A!B$1:AA$48,26,0),IFERROR(VLOOKUP(B20,[3]B!B$1:AA$51,26,0),VLOOKUP(B20,[3]C!B$1:Y$52,24,0)))","v":1},{"$f":"IFERROR(VLOOKUP(B20,[3]A!B$1:AB$48,27,0),IFERROR(VLOOKUP(B20,[3]B!B$1:AB$51,27,0),VLOOKUP(B20,[3]C!B$1:Z$52,25,0)))","v":2},0,12,15,{"$f":"IFERROR(VLOOKUP(B20,[4]A!B$1:AL$48,37,0),IFERROR(VLOOKUP(B20,[4]B!B$1:AL$51,37,0),VLOOKUP(B20,[4]C!B$1:AL$52,37,0)))","v":0},2,3,{"$f":"IFERROR(VLOOKUP(B20,[4]A!B$1:AP$48,41,0),IFERROR(VLOOKUP(B20,[4]B!B$1:AP$51,41,0),VLOOKUP(B20,[4]C!B$1:AP$52,41,0)))","v":0},3,5,null,0,1,null,34,0,0,22,22,64.705882352941174,0,"A-2",9,10,19]
[20,"15BA080",{"$f":"VLOOKUP(B21,[1]A!B$1:AI$48,34,0)","v":0},{"$f":"VLOOKUP(B21,[1]A!B$1:AJ$48,35,0)","v":0},{"$f":"VLOOKUP(B21,[1]A!B$1:AL$48,37,0)","v":0},{"$f":"VLOOKUP(B21,[1]A!B$1:AM$48,38,0)","v":0},{"$f":"VLOOKUP(B21,[1]A!B$1:AN$48,39,0)","v":0},{"$f":"VLOOKUP(B21,[1]A!B$1:AP$48,41,0)","v":0},0,0,0,0,0,0,{"$f":"IFERROR(VLOOKUP(B21,[3]A!B$1:Y$48,24,0),IFERROR(VLOOKUP(B21,[3]B!B$1:Y$51,24,0),VLOOKUP(B21,[3]C!B$1:W$52,22,0)))","v":7},{"$f":"IFERROR(VLOOKUP(B21,[3]A!B$1:Z$48,25,0),IFERROR(VLOOKUP(B21,[3]B!B$1:Z$51,25,0),VLOOKUP(B21,[3]C!B$1:X$52,23,0)))","v":8},0,{"$f":"IFERROR(VLOOKUP(B21,[3]A!B$1:AA$48,26,0),IFERROR(VLOOKUP(B21,[3]B!B$1:AA$51,26,0),VLOOKUP(B21,[3]C!B$1:Y$52,24,0)))","v":2},{"$f":"IFERROR(VLOOKUP(B21,[3]A!B$1:AB$48,27,0),IFERROR(VLOOKUP(B21,[3]B!B$1:AB$51,27,0),VLOOKUP(B21,[3]C!B$1:Z$52,25,0)))","v":2},0,14,15,{"$f":"IFERROR(VLOOKUP(B21,[4]A!B$1:AL$48,37,0),IFERROR(VLOOKUP(B21,[4]B!B$1:AL$51,37,0),VLOOKUP(B21,[4]C!B$1:AL$52,37,0)))","v":0},3,3,{"$f":"IFERROR(VLOOKUP(B21,[4]A!B$1:AP$48,41,0),IFERROR(VLOOKUP(B21,[4]B!B$1:AP$51,41,0),VLOOKUP(B21,[4]C!B$1:AP$52,41,0)))","v":0},3,5,null,1,1,null,34,0,0,30,30,88.235294117647058,5,"A-4",10,10,25]
[21,"15BA083",{"$f":"VLOOKUP(B22,[1]A!B$1:AI$48,34,0)","v":0},{"$f":"VLOOKUP(B22,[1]A!B$1:AJ$48,35,0)","v":0},{"$f":"VLOOKUP(B22,[1]A!B$1:AL$48,37,0)","v":0},{"$f":"VLOOKUP(B22,[1]A!B$1:AM$48,38,0)","v":0},{"$f":"VLOOKUP(B22,[1]A!B$1:AN$48,39,0)","v":0},{"$f":"VLOOKUP(B22,[1]A!B$1:AP$48,41,0)","v":0},0,0,0,0,0,0,{"$f":"IFERROR(VLOOKUP(B22,[3]A!B$1:Y$48,24,0),IFERROR(VLOOKUP(B22,[3]B!B$1:Y$51,24,0),VLOOKUP(B22,[3]C!B$1:W$52,22,0)))","v":8},{"$f":"IFERROR(VLOOKUP(B22,[3]A!B$1:Z$48,25,0),IFERROR(VLOOKUP(B22,[3]B!B$1:Z$51,25,0),VLOOKUP(B22,[3]C!B$1:X$52,23,0)))","v":8},0,{"$f":"IFERROR(VLOOKUP(B22,[3]A!B$1:AA$48,26,0),IFERROR(VLOOKUP(B22,[3]B!B$1:AA$51,26,0),VLOOKUP(B22,[3]C!B$1:Y$52,24,0)))","v":2},{"$f":"IFERROR(VLOOKUP(B22,[3]A!B$1:AB$48,27,0),IFERROR(VLOOKUP(B22,[3]B!B$1:AB$51,27,0),VLOOKUP(B22,[3]C!B$1:Z$52,25,0)))","v":2},0,14,15,{"$f":"IFERROR(VLOOKUP(B22,[4]A!B$1:AL$48,37,0),IFERROR(VLOOKUP(B22,[4]B!B$1:AL$51,37,0),VLOOKUP(B22,[4]C!B$1:AL$52,37,0)))","v":0},3,3,{"$f":"IFERROR(VLOOKUP(B22,[4]A!B$1:AP$48,41,0),IFERROR(VLOOKUP(B22,[4]B!B$1:AP$51,41,0),VLOOKUP(B22,[4]C!B$1:AP$52,41,0)))","v":0},5,5,null,1,1,null,34,0,0,33,33,97.058823529411768,5,"A-4",10,10,25]
[22,"15BA084",{"$f":"VLOOKUP(B23,[1]A!B$1:AI$48,34,0)","v":0},{"$f":"VLOOKUP(B23,[1]A!B$1:AJ$48,35,0)","v":0},{"$f":"VLOOKUP(B23,[1]A!B$1:AL$48,37,0)","v":0},{"$f":"VLOOKUP(B23,[1]A!B$1:AM$48,38,0)","v":0},{"$f":"VLOOKUP(B23,[1]A!B$1:AN$48,39,0)","v":0},{"$f":"VLOOKUP(B23,[1]A!B$1:AP$48,41,0)","v":0},0,0,0,0,0,0,{"$f":"IFERROR(VLOOKUP(B23,[3]A!B$1:Y$48,24,0),IFERROR(VLOOKUP(B23,[3]B!B$1:Y$51,24,0),VLOOKUP(B23,[3]C!B$1:W$52,22,0)))","v":8},{"$f":"IFERROR(VLOOKUP(B23,[3]A!B$1:Z$48,25,0),IFERROR(VLOOKUP(B23,[3]B!B$1:Z$51,25,0),VLOOKUP(B23,[3]C!B$1:X$52,23,0)))","v":8},0,{"$f":"IFERROR(VLOOKUP(B23,[3]A!B$1:AA$48,26,0),IFERROR(VLOOKUP(B23,[3]B!B$1:AA$51,26,0),VLOOKUP(B23,[3]C!B$1:Y$52,24,0)))","v":2},{"$f":"IFERROR(VLOOKUP(B23,[3]A!B$1:AB$48,27,0),IFERROR(VLOOKUP(B23,[3]B!B$1:AB$51,27,0),VLOOKUP(B23,[3]C!B$1:Z$52,25,0)))","v":2},0,12,15,{"$f":"IFERROR(VLOOKUP(B23,[4]A!B$1:AL$48,37,0),IFERROR(VLOOKUP(B23,[4]B!B$1:AL$51,37,0),VLOOKUP(B23,[4]C!B$1:AL$52,37,0)))","v":0},2,3,{"$f":"IFERROR(VLOOKUP(B23,[4]A!B$1:AP$48,41,0),IFERROR(VLOOKUP(B23,[4]B!B$1:AP$51,41,0),VLOOKUP(B23,[4]C!B$1:AP$52,41,0)))","v":0},4,5,null,1,1,null,34,0,0,29,29,85.294117647058826,5,"A-4",9,9,23]
[23,"15BA091",{"$f":"VLOOKUP(B24,[1]A!B$1:AI$48,34,0)","v":0},{"$f":"VLOOKUP(B24,[1]A!B$1:AJ$48,35,0)","v":0},{"$f":"VLOOKUP(B24,[1]A!B$1:AL$48,37,0)","v":0},{"$f":"VLOOKUP(B24,[1]A!B$1:AM$48,38,0)","v":0},{"$f":"VLOOKUP(B24,[1]A!B$1:AN$48,39,0)","v":0},{"$f":"VLOOKUP(B24,[1]A!B$1:AP$48,41,0)","v":0},0,0,0,0,0,0,{"$f":"IFERROR(VLOOKUP(B24,[3]A!B$1:Y$48,24,0),IFERROR(VLOOKUP(B24,[3]B!B$1:Y$51,24,0),VLOOKUP(B24,[3]C!B$1:W$52,22,0)))","v":8},{"$f":"IFERROR(VLOOKUP(B24,[3]A!B$1:Z$48,25,0),IFERROR(VLOOKUP(B24,[3]B!B$1:Z$51,25,0),VLOOKUP(B24,[3]C!B$1:X$52,23,0)))","v":8},0,{"$f":"IFERROR(VLOOKUP(B24,[3]A!B$1:AA$48,26,0),IFERROR(VLOOKUP(B24,[3]B!B$1:AA$51,26,0),VLOOKUP(B24,[3]C!B$1:Y$52,24,0)))","v":2},{"$f":"IFERROR(VLOOKUP(B24,[3]A!B$1:AB$48,27,0),IFERROR(VLOOKUP(B24,[3]B!B$1:AB$51,27,0),VLOOKUP(B24,[3]C!B$1:Z$52,25,0)))","v":2},0,10,15,{"$f":"IFERROR(VLOOKUP(B24,[4]A!B$1:AL$48,37,0),IFERROR(VLOOKUP(B24,[4]B!B$1:AL$51,37,0),VLOOKUP(B24,[4]C!B$1:AL$52,37,0)))","v":0},2,3,{"$f":"IFERROR(VLOOKUP(B24,[4]A!B$1:AP$48,41,0),IFERROR(VLOOKUP(B24,[4]B!B$1:AP$51,41,0),VLOOKUP(B24,[4]C!B$1:AP$52,41,0)))","v":0},4,5,null,1,1,null,34,0,0,27,27,79.411764705882348,3,"A-4",9,10,22]
[24,"15BA095",{"$f":"VLOOKUP(B25,[1]A!B$1:AI$48,34,0)","v":0},{"$f":"VLOOKUP(B25,[1]A!B$1:AJ$48,35,0)","v":0},{"$f":"VLOOKUP(B25,[1]A!B$1:AL$48,37,0)","v":0},{"$f":"VLOOKUP(B25,[1]A!B$1:AM$48,38,0)","v":0},{"$f":"VLOOKUP(B25,[1]A!B$1:AN$48,39,0)","v":0},{"$f":"VLOOKUP(B25,[1]A!B$1:AP$48,41,0)","v":0},0,0,0,0,0,0,{"$f":"IFERROR(VLOOKUP(B25,[3]A!B$1:Y$48,24,0),IFERROR(VLOOKUP(B25,[3]B!B$1:Y$51,24,0),VLOOKUP(B25,[3]C!B$1:W$52,22,0)))","v":0},{"$f":"IFERROR(VLOOKUP(B25,[3]A!B$1:Z$48,25,0),IFERROR(VLOOKUP(B25,[3]B!B$1:Z$51,25,0),VLOOKUP(B25,[3]C!B$1:X$52,23,0)))","v":8},0,{"$f":"IFERROR(VLOOKUP(B25,[3]A!B$1:AA$48,26,0),IFERROR(VLOOKUP(B25,[3]B!B$1:AA$51,26,0),VLOOKUP(B25,[3]C!B$1:Y$52,24,0)))","v":0},{"$f":"IFERROR(VLOOKUP(B25,[3]A!B$1:AB$48,27,0),IFERROR(VLOOKUP(B25,[3]B!B$1:AB$51,27,0),VLOOKUP(B25,[3]C!B$1:Z$52,25,0)))","v":2},0,13,15,{"$f":"IFERROR(VLOOKUP(B25,[4]A!B$1:AL$48,37,0),IFERROR(VLOOKUP(B25,[4]B!B$1:AL$51,37,0),VLOOKUP(B25,[4]C!B$1:AL$52,37,0)))","v":0},1,3,{"$f":"IFERROR(VLOOKUP(B25,[4]A!B$1:AP$48,41,0),IFERROR(VLOOKUP(B25,[4]B!B$1:AP$51,41,0),VLOOKUP(B25,[4]C!B$1:AP$52,41,0)))","v":0},2,5,null,0,1,null,34,0,0,16,16,47.058823529411761,0,"A-4",8,9,17]
[25,"15BA096",{"$f":"VLOOKUP(B26,[1]A!B$1:AI$48,34,0)","v":0},{"$f":"VLOOKUP(B26,[1]A!B$1:AJ$48,35,0)","v":0},{"$f":"VLOOKUP(B26,[1]A!B$1:AL$48,37,0)","v":0},{"$f":"VLOOKUP(B26,[1]A!B$1:AM$48,38,0)","v":0},{"$f":"VLOOKUP(B26,[1]A!B$1:AN$48,39,0)","v":0},{"$f":"VLOOKUP(B26,[1]A!B$1:AP$48,41,0)","v":0},0,0,0,0,0,0,{"$f":"IFERROR(VLOOKUP(B26,[3]A!B$1:Y$48,24,0),IFERROR(VLOOKUP(B26,[3]B!B$1:Y$51,24,0),VLOOKUP(B26,[3]C!B$1:W$52,22,0)))","v":6},{"$f":"IFERROR(VLOOKUP(B26,[3]A!B$1:Z$48,25,0),IFERROR(VLOOKUP(B26,[3]B!B$1:Z$51,25,0),VLOOKUP(B26,[3]C!B$1:X$52,23,0)))","v":8},0,{"$f":"IFERROR(VLOOKUP(B26,[3]A!B$1:AA$48,26,0),IFERROR(VLOOKUP(B26,[3]B!B$1:AA$51,26,0),VLOOKUP(B26,[3]C!B$1:Y$52,24,0)))","v":2},{"$f":"IFERROR(VLOOKUP(B26,[3]A!B$1:AB$48,27,0),IFERROR(VLOOKUP(B26,[3]B!B$1:AB$51,27,0),VLOOKUP(B26,[3]C!B$1:Z$52,25,0)))","v":2},0,13,15,{"$f":"IFERROR(VLOOKUP(B26,[4]A!B$1:AL$48,37,0),IFERROR(VLOOKUP(B26,[4]B!B$1:AL$51,37,0),VLOOKUP(B26,[4]C!B$1:AL$52,37,0)))","v":0},3,3,{"$f":"IFERROR(VLOOKUP(B26,[4]A!B$1:AP$48,41,0),IFERROR(VLOOKUP(B26,[4]B!B$1:AP$51,41,0),VLOOKUP(B26,[4]C!B$1:AP$52,41,0)))","v":0},3,5,null,1,1,null,34,0,0,28,28,82.35294117647058,4,"A-4",9,10,23]
[26,"15BA100",{"$f":"VLOOKUP(B27,[1]A!B$1:AI$48,34,0)","v":0},{"$f":"VLOOKUP(B27,[1]A!B$1:AJ$48,35,0)","v":0},{"$f":"VLOOKUP(B27,[1]A!B$1:AL$48,37,0)","v":0},{"$f":"VLOOKUP(B27,[1]A!B$1:AM$48,38,0)","v":0},{"$f":"VLOOKUP(B27,[1]A!B$1:AN$48,39,0)","v":0},{"$f":"VLOOKUP(B27,[1]A!B$1:AP$48,41,0)","v":0},0,0,0,0,0,0,{"$f":"IFERROR(VLOOKUP(B27,[3]A!B$1:Y$48,24,0),IFERROR(VLOOKUP(B27,[3]B!B$1:Y$51,24,0),VLOOKUP(B27,[3]C!B$1:W$52,22,0)))","v":4},{"$f":"IFERROR(VLOOKUP(B27,[3]A!B$1:Z$48,25,0),IFERROR(VLOOKUP(B27,[3]B!B$1:Z$51,25,0),VLOOKUP(B27,[3]C!B$1:X$52,23,0)))","v":8},0,{"$f":"IFERROR(VLOOKUP(B27,[3]A!B$1:AA$48,26,0),IFERROR(VLOOKUP(B27,[3]B!B$1:AA$51,26,0),VLOOKUP(B27,[3]C!B$1:Y$52,24,0)))","v":1},{"$f":"IFERROR(VLOOKUP(B27,[3]A!B$1:AB$48,27,0),IFERROR(VLOOKUP(B27,[3]B!B$1:AB$51,27,0),VLOOKUP(B27,[3]C!B$1:Z$52,25,0)))","v":2},0,13,15,{"$f":"IFERROR(VLOOKUP(B27,[4]A!B$1:AL$48,37,0),IFERROR(VLOOKUP(B27,[4]B!B$1:AL$51,37,0),VLOOKUP(B27,[4]C!B$1:AL$52,37,0)))","v":0},3,3,{"$f":"IFERROR(VLOOKUP(B27,[4]A!B$1:AP$48,41,0),IFERROR(VLOOKUP(B27,[4]B!B$1:AP$51,41,0),VLOOKUP(B27,[4]C!B$1:AP$52,41,0)))","v":0},3,5,null,1,1,null,34,0,0,25,25,73.529411764705884,2,"A-4",10,9,21]
[27,"15BA105",{"$f":"VLOOKUP(B28,[1]A!B$1:AI$48,34,0)","v":0},{"$f":"VLOOKUP(B28,[1]A!B$1:AJ$48,35,0)","v":0},{"$f":"VLOOKUP(B28,[1]A!B$1:AL$48,37,0)","v":0},{"$f":"VLOOKUP(B28,[1]A!B$1:AM$48,38,0)","v":0},{"$f":"VLOOKUP(B28,[1]A!B$1:AN$48,39,0)","v":0},{"$f":"VLOOKUP(B28,[1]A!B$1:AP$48,41,0)","v":0},0,0,0,0,0,0,{"$f":"IFERROR(VLOOKUP(B28,[3]A!B$1:Y$48,24,0),IFERROR(VLOOKUP(B28,[3]B!B$1:Y$51,24,0),VLOOKUP(B28,[3]C!B$1:W$52,22,0)))","v":5},{"$f":"IFERROR(VLOOKUP(B28,[3]A!B$1:Z$48,25,0),IFERROR(VLOOKUP(B28,[3]B!B$1:Z$51,25,0),VLOOKUP(B28,[3]C!B$1:X$52,23,0)))","v":8},0,{"$f":"IFERROR(VLOOKUP(B28,[3]A!B$1:AA$48,26,0),IFERROR(VLOOKUP(B28,[3]B!B$1:AA$51,26,0),VLOOKUP(B28,[3]C!B$1:Y$52,24,0)))","v":2},{"$f":"IFERROR(VLOOKUP(B28,[3]A!B$1:AB$48,27,0),IFERROR(VLOOKUP(B28,[3]B!B$1:AB$51,27,0),VLOOKUP(B28,[3]C!B$1:Z$52,25,0)))","v":2},0,13,15,{"$f":"IFERROR(VLOOKUP(B28,[4]A!B$1:AL$48,37,0),IFERROR(VLOOKUP(B28,[4]B!B$1:AL$51,37,0),VLOOKUP(B28,[4]C!B$1:AL$52,37,0)))","v":0},2,3,{"$f":"IFERROR(VLOOKUP(B28,[4]A!B$1:AP$48,41,0),IFERROR(VLOOKUP(B28,[4]B!B$1:AP$51,41,0),VLOOKUP(B28,[4]C!B$1:AP$52,41,0)))","v":0},3,5,null,1,1,null,34,0,0,26,26,76.470588235294116,3,"A-4",9,10,22]
[28,"15BA106",{"$f":"VLOOKUP(B29,[1]A!B$1:AI$48,34,0)","v":0},{"$f":"VLOOKUP(B29,[1]A!B$1:AJ$48,35,0)","v":0},{"$f":"VLOOKUP(B29,[1]A!B$1:AL$48,37,0)","v":0},{"$f":"VLOOKUP(B29,[1]A!B$1:AM$48,38,0)","v":0},{"$f":"VLOOKUP(B29,[1]A!B$1:AN$48,39,0)","v":0},{"$f":"VLOOKUP(B29,[1]A!B$1:AP$48,41,0)","v":0},0,0,0,0,0,0,{"$f":"IFERROR(VLOOKUP(B29,[3]A!B$1:Y$48,24,0),IFERROR(VLOOKUP(B29,[3]B!B$1:Y$51,24,0),VLOOKUP(B29,[3]C!B$1:W$52,22,0)))","v":0},{"$f":"IFERROR(VLOOKUP(B29,[3]A!B$1:Z$48,25,0),IFERROR(VLOOKUP(B29,[3]B!B$1:Z$51,25,0),VLOOKUP(B29,[3]C!B$1:X$52,23,0)))","v":8},0,{"$f":"IFERROR(VLOOKUP(B29,[3]A!B$1:AA$48,26,0),IFERROR(VLOOKUP(B29,[3]B!B$1:AA$51,26,0),VLOOKUP(B29,[3]C!B$1:Y$52,24,0)))","v":0},{"$f":"IFERROR(VLOOKUP(B29,[3]A!B$1:AB$48,27,0),IFERROR(VLOOKUP(B29,[3]B!B$1:AB$51,27,0),VLOOKUP(B29,[3]C!B$1:Z$52,25,0)))","v":2},0,12,15,{"$f":"IFERROR(VLOOKUP(B29,[4]A!B$1:AL$48,37,0),IFERROR(VLOOKUP(B29,[4]B!B$1:AL$51,37,0),VLOOKUP(B29,[4]C!B$1:AL$52,37,0)))","v":0},3,3,{"$f":"IFERROR(VLOOKUP(B29,[4]A!B$1:AP$48,41,0),IFERROR(VLOOKUP(B29,[4]B!B$1:AP$51,41,0),VLOOKUP(B29,[4]C!B$1:AP$52,41,0)))","v":0},2,5,null,1,1,null,34,0,0,18,18,52.941176470588239,0,"A-4",9,9,18]
[29,"15BA115",{"$f":"VLOOKUP(B30,[1]A!B$1:AI$48,34,0)","v":0},{"$f":"VLOOKUP(B30,[1]A!B$1:AJ$48,35,0)","v":0},{"$f":"VLOOKUP(B30,[1]A!B$1:AL$48,37,0)","v":0},{"$f":"VLOOKUP(B30,[1]A!B$1:AM$48,38,0)","v":0},{"$f":"VLOOKUP(B30,[1]A!B$1:AN$48,39,0)","v":0},{"$f":"VLOOKUP(B30,[1]A!B$1:AP$48,41,0)","v":0},0,0,0,0,0,0,{"$f":"IFERROR(VLOOKUP(B30,[3]A!B$1:Y$48,24,0),IFERROR(VLOOKUP(B30,[3]B!B$1:Y$51,24,0),VLOOKUP(B30,[3]C!B$1:W$52,22,0)))","v":0},{"$f":"IFERROR(VLOOKUP(B30,[3]A!B$1:Z$48,25,0),IFERROR(VLOOKUP(B30,[3]B!B$1:Z$51,25,0),VLOOKUP(B30,[3]C!B$1:X$52,23,0)))","v":8},0,{"$f":"IFERROR(VLOOKUP(B30,[3]A!B$1:AA$48,26,0),IFERROR(VLOOKUP(B30,[3]B!B$1:AA$51,26,0),VLOOKUP(B30,[3]C!B$1:Y$52,24,0)))","v":0},{"$f":"IFERROR(VLOOKUP(B30,[3]A!B$1:AB$48,27,0),IFERROR(VLOOKUP(B30,[3]B!B$1:AB$51,27,0),VLOOKUP(B30,[3]C!B$1:Z$52,25,0)))","v":2},0,10,15,{"$f":"IFERROR(VLOOKUP(B30,[4]A!B$1:AL$48,37,0),IFERROR(VLOOKUP(B30,[4]B!B$1:AL$51,37,0),VLOOKUP(B30,[4]C!B$1:AL$52,37,0)))","v":0},1,3,{"$f":"IFERROR(VLOOKUP(B30,[4]A!B$1:AP$48,41,0),IFERROR(VLOOKUP(B30,[4]B!B$1:AP$51,41,0),VLOOKUP(B30,[4]C!B$1:AP$52,41,0)))","v":0},2,5,null,0,1,null,34,0,0,13,13,38.235294117647058,0,"A-4",8,8,16]
[30,"15BA116",{"$f":"VLOOKUP(B31,[1]A!B$1:AI$48,34,0)","v":0},{"$f":"VLOOKUP(B31,[1]A!B$1:AJ$48,35,0)","v":0},{"$f":"VLOOKUP(B31,[1]A!B$1:AL$48,37,0)","v":0},{"$f":"VLOOKUP(B31,[1]A!B$1:AM$48,38,0)","v":0},{"$f":"VLOOKUP(B31,[1]A!B$1:AN$48,39,0)","v":0},{"$f":"VLOOKUP(B31,[1]A!B$1:AP$48,41,0)","v":0},0,0,0,0,0,0,{"$f":"IFERROR(VLOOKUP(B31,[3]A!B$1:Y$48,24,0),IFERROR(VLOOKUP(B31,[3]B!B$1:Y$51,24,0),VLOOKUP(B31,[3]C!B$1:W$52,22,0)))","v":7},{"$f":"IFERROR(VLOOKUP(B31,[3]A!B$1:Z$48,25,0),IFERROR(VLOOKUP(B31,[3]B!B$1:Z$51,25,0),VLOOKUP(B31,[3]C!B$1:X$52,23,0)))","v":8},0,{"$f":"IFERROR(VLOOKUP(B31,[3]A!B$1:AA$48,26,0),IFERROR(VLOOKUP(B31,[3]B!B$1:AA$51,26,0),VLOOKUP(B31,[3]C!B$1:Y$52,24,0)))","v":2},{"$f":"IFERROR(VLOOKUP(B31,[3]A!B$1:AB$48,27,0),IFERROR(VLOOKUP(B31,[3]B!B$1:AB$51,27,0),VLOOKUP(B31,[3]C!B$1:Z$52,25,0)))","v":2},0,14,15,{"$f":"IFERROR(VLOOKUP(B31,[4]A!B$1:AL$48,37,0),IFERROR(VLOOKUP(B31,[4]B!B$1:AL$51,37,0),VLOOKUP(B31,[4]C!B$1:AL$52,37,0)))","v":0},3,3,{"$f":"IFERROR(VLOOKUP(B31,[4]A!B$1:AP$48,41,0),IFERROR(VLOOKUP(B31,[4]B!B$1:AP$51,41,0),VLOOKUP(B31,[4]C!B$1:AP$52,41,0)))","v":0},5,5,null,1,1,null,34,0,0,32,32,94.117647058823522,5,"A-5",10,10,25]
[31,"15BA123",{"$f":"VLOOKUP(B32,[1]A!B$1:AI$48,34,0)","v":0},{"$f":"VLOOKUP(B32,[1]A!B$1:AJ$48,35,0)","v":0},{"$f":"VLOOKUP(B32,[1]A!B$1:AL$48,37,0)","v":0},{"$f":"VLOOKUP(B32,[1]A!B$1:AM$48,38,0)","v":0},{"$f":"VLOOKUP(B32,[1]A!B$1:AN$48,39,0)","v":0},{"$f":"VLOOKUP(B32,[1]A!B$1:AP$48,41,0)","v":0},0,0,0,0,0,0,{"$f":"IFERROR(VLOOKUP(B32,[3]A!B$1:Y$48,24,0),IFERROR(VLOOKUP(B32,[3]B!B$1:Y$51,24,0),VLOOKUP(B32,[3]C!B$1:W$52,22,0)))","v":5},{"$f":"IFERROR(VLOOKUP(B32,[3]A!B$1:Z$48,25,0),IFERROR(VLOOKUP(B32,[3]B!B$1:Z$51,25,0),VLOOKUP(B32,[3]C!B$1:X$52,23,0)))","v":8},0,{"$f":"IFERROR(VLOOKUP(B32,[3]A!B$1:AA$48,26,0),IFERROR(VLOOKUP(B32,[3]B!B$1:AA$51,26,0),VLOOKUP(B32,[3]C!B$1:Y$52,24,0)))","v":2},{"$f":"IFERROR(VLOOKUP(B32,[3]A!B$1:AB$48,27,0),IFERROR(VLOOKUP(B32,[3]B!B$1:AB$51,27,0),VLOOKUP(B32,[3]C!B$1:Z$52,25,0)))","v":2},0,14,15,{"$f":"IFERROR(VLOOKUP(B32,[4]A!B$1:AL$48,37,0),IFERROR(VLOOKUP(B32,[4]B!B$1:AL$51,37,0),VLOOKUP(B32,[4]C!B$1:AL$52,37,0)))","v":0},2,3,{"$f":"IFERROR(VLOOKUP(B32,[4]A!B$1:AP$48,41,0),IFERROR(VLOOKUP(B32,[4]B!B$1:AP$51,41,0),VLOOKUP(B32,[4]C!B$1:AP$52,41,0)))","v":0},5,5,null,1,1,null,34,0,0,29,29,85.294117647058826,5,"A-5",9,10,24]
[32,"15BA128",{"$f":"VLOOKUP(B33,[1]A!B$1:AI$48,34,0)","v":0},{"$f":"VLOOKUP(B33,[1]A!B$1:AJ$48,35,0)","v":0},{"$f":"VLOOKUP(B33,[1]A!B$1:AL$48,37,0)","v":0},{"$f":"VLOOKUP(B33,[1]A!B$1:AM$48,38,0)","v":0},{"$f":"VLOOKUP(B33,[1]A!B$1:AN$48,39,0)","v":0},{"$f":"VLOOKUP(B33,[1]A!B$1:AP$48,41,0)","v":0},0,0,0,0,0,0,{"$f":"IFERROR(VLOOKUP(B33,[3]A!B$1:Y$48,24,0),IFERROR(VLOOKUP(B33,[3]B!B$1:Y$51,24,0),VLOOKUP(B33,[3]C!B$1:W$52,22,0)))","v":3},{"$f":"IFERROR(VLOOKUP(B33,[3]A!B$1:Z$48,25,0),IFERROR(VLOOKUP(B33,[3]B!B$1:Z$51,25,0),VLOOKUP(B33,[3]C!B$1:X$52,23,0)))","v":8},0,{"$f":"IFERROR(VLOOKUP(B33,[3]A!B$1:AA$48,26,0),IFERROR(VLOOKUP(B33,[3]B!B$1:AA$51,26,0),VLOOKUP(B33,[3]C!B$1:Y$52,24,0)))","v":1},{"$f":"IFERROR(VLOOKUP(B33,[3]A!B$1:AB$48,27,0),IFERROR(VLOOKUP(B33,[3]B!B$1:AB$51,27,0),VLOOKUP(B33,[3]C!B$1:Z$52,25,0)))","v":2},0,10,15,{"$f":"IFERROR(VLOOKUP(B33,[4]A!B$1:AL$48,37,0),IFERROR(VLOOKUP(B33,[4]B!B$1:AL$51,37,0),VLOOKUP(B33,[4]C!B$1:AL$52,37,0)))","v":0},1,3,{"$f":"IFERROR(VLOOKUP(B33,[4]A!B$1:AP$48,41,0),IFERROR(VLOOKUP(B33,[4]B!B$1:AP$51,41,0),VLOOKUP(B33,[4]C!B$1:AP$52,41,0)))","v":0},2,5,null,0,1,null,34,0,0,17,17,50,0,"A-5",9,8,17]
[33,"15BA133",{"$f":"VLOOKUP(B34,[1]A!B$1:AI$48,34,0)","v":0},{"$f":"VLOOKUP(B34,[1]A!B$1:AJ$48,35,0)","v":0},{"$f":"VLOOKUP(B34,[1]A!B$1:AL$48,37,0)","v":0},{"$f":"VLOOKUP(B34,[1]A!B$1:AM$48,38,0)","v":0},{"$f":"VLOOKUP(B34,[1]A!B$1:AN$48,39,0)","v":0},{"$f":"VLOOKUP(B34,[1]A!B$1:AP$48,41,0)","v":0},0,0,0,0,0,0,{"$f":"IFERROR(VLOOKUP(B34,[3]A!B$1:Y$48,24,0),IFERROR(VLOOKUP(B34,[3]B!B$1:Y$51,24,0),VLOOKUP(B34,[3]C!B$1:W$52,22,0)))","v":4},{"$f":"IFERROR(VLOOKUP(B34,[3]A!B$1:Z$48,25,0),IFERROR(VLOOKUP(B34,[3]B!B$1:Z$51,25,0),VLOOKUP(B34,[3]C!B$1:X$52,23,0)))","v":8},0,{"$f":"IFERROR(VLOOKUP(B34,[3]A!B$1:AA$48,26,0),IFERROR(VLOOKUP(B34,[3]B!B$1:AA$51,26,0),VLOOKUP(B34,[3]C!B$1:Y$52,24,0)))","v":1},{"$f":"IFERROR(VLOOKUP(B34,[3]A!B$1:AB$48,27,0),IFERROR(VLOOKUP(B34,[3]B!B$1:AB$51,27,0),VLOOKUP(B34,[3]C!B$1:Z$52,25,0)))","v":2},0,14,15,{"$f":"IFERROR(VLOOKUP(B34,[4]A!B$1:AL$48,37,0),IFERROR(VLOOKUP(B34,[4]B!B$1:AL$51,37,0),VLOOKUP(B34,[4]C!B$1:AL$52,37,0)))","v":0},3,3,{"$f":"IFERROR(VLOOKUP(B34,[4]A!B$1:AP$48,41,0),IFERROR(VLOOKUP(B34,[4]B!B$1:AP$51,41,0),VLOOKUP(B34,[4]C!B$1:AP$52,41,0)))","v":0},5,5,null,1,1,null,34,0,0,28,28,82.35294117647058,4,"A-5",10,9,23]
[34,"15BA138",{"$f":"VLOOKUP(B35,[1]A!B$1:AI$48,34,0)","v":0},{"$f":"VLOOKUP(B35,[1]A!B$1:AJ$48,35,0)","v":0},{"$f":"VLOOKUP(B35,[1]A!B$1:AL$48,37,0)","v":0},{"$f":"VLOOKUP(B35,[1]A!B$1:AM$48,38,0)","v":0},{"$f":"VLOOKUP(B35,[1]A!B$1:AN$48,39,0)","v":0},{"$f":"VLOOKUP(B35,[1]A!B$1:AP$48,41,0)","v":0},0,0,0,0,0,0,{"$f":"IFERROR(VLOOKUP(B35,[3]A!B$1:Y$48,24,0),IFERROR(VLOOKUP(B35,[3]B!B$1:Y$51,24,0),VLOOKUP(B35,[3]C!B$1:W$52,22,0)))","v":6},{"$f":"IFERROR(VLOOKUP(B35,[3]A!B$1:Z$48,25,0),IFERROR(VLOOKUP(B35,[3]B!B$1:Z$51,25,0),VLOOKUP(B35,[3]C!B$1:X$52,23,0)))","v":8},0,{"$f":"IFERROR(VLOOKUP(B35,[3]A!B$1:AA$48,26,0),IFERROR(VLOOKUP(B35,[3]B!B$1:AA$51,26,0),VLOOKUP(B35,[3]C!B$1:Y$52,24,0)))","v":2},{"$f":"IFERROR(VLOOKUP(B35,[3]A!B$1:AB$48,27,0),IFERROR(VLOOKUP(B35,[3]B!B$1:AB$51,27,0),VLOOKUP(B35,[3]C!B$1:Z$52,25,0)))","v":2},0,13,15,{"$f":"IFERROR(VLOOKUP(B35,[4]A!B$1:AL$48,37,0),IFERROR(VLOOKUP(B35,[4]B!B$1:AL$51,37,0),VLOOKUP(B35,[4]C!B$1:AL$52,37,0)))","v":0},3,3,{"$f":"IFERROR(VLOOKUP(B35,[4]A!B$1:AP$48,41,0),IFERROR(VLOOKUP(B35,[4]B!B$1:AP$51,41,0),VLOOKUP(B35,[4]C!B$1:AP$52,41,0)))","v":0},4,5,null,1,1,null,34,0,0,29,29,85.294117647058826,5,"A-5",10,10,25]
[35,"15BA139",{"$f":"VLOOKUP(B36,[1]A!B$1:AI$48,34,0)","v":0},{"$f":"VLOOKUP(B36,[1]A!B$1:AJ$48,35,0)","v":0},{"$f":"VLOOKUP(B36,[1]A!B$1:AL$48,37,0)","v":0},{"$f":"VLOOKUP(B36,[1]A!B$1:AM$48,38,0)","v":0},{"$f":"VLOOKUP(B36,[1]A!B$1:AN$48,39,0)","v":0},{"$f":"VLOOKUP(B36,[1]A!B$1:AP$48,41,0)","v":0},0,0,0,0,0,0,{"$f":"IFERROR(VLOOKUP(B36,[3]A!B$1:Y$48,24,0),IFERROR(VLOOKUP(B36,[3]B!B$1:Y$51,24,0),VLOOKUP(B36,[3]C!B$1:W$52,22,0)))","v":0},{"$f":"IFERROR(VLOOKUP(B36,[3]A!B$1:Z$48,25,0),IFERROR(VLOOKUP(B36,[3]B!B$1:Z$51,25,0),VLOOKUP(B36,[3]C!B$1:X$52,23,0)))","v":8},0,{"$f":"IFERROR(VLOOKUP(B36,[3]A!B$1:AA$48,26,0),IFERROR(VLOOKUP(B36,[3]B!B$1:AA$51,26,0),VLOOKUP(B36,[3]C!B$1:Y$52,24,0)))","v":0},{"$f":"IFERROR(VLOOKUP(B36,[3]A!B$1:AB$48,27,0),IFERROR(VLOOKUP(B36,[3]B!B$1:AB$51,27,0),VLOOKUP(B36,[3]C!B$1:Z$52,25,0)))","v":2},0,11,15,{"$f":"IFERROR(VLOOKUP(B36,[4]A!B$1:AL$48,37,0),IFERROR(VLOOKUP(B36,[4]B!B$1:AL$51,37,0),VLOOKUP(B36,[4]C!B$1:AL$52,37,0)))","v":0},1,3,{"$f":"IFERROR(VLOOKUP(B36,[4]A!B$1:AP$48,41,0),IFERROR(VLOOKUP(B36,[4]B!B$1:AP$51,41,0),VLOOKUP(B36,[4]C!B$1:AP$52,41,0)))","v":0},3,5,null,0,1,null,34,0,0,15,15,44.117647058823529,0,"A-5",9,9,18]
[36,"15BA143",{"$f":"VLOOKUP(B37,[1]A!B$1:AI$48,34,0)","v":0},{"$f":"VLOOKUP(B37,[1]A!B$1:AJ$48,35,0)","v":0},{"$f":"VLOOKUP(B37,[1]A!B$1:AL$48,37,0)","v":0},{"$f":"VLOOKUP(B37,[1]A!B$1:AM$48,38,0)","v":0},{"$f":"VLOOKUP(B37,[1]A!B$1:AN$48,39,0)","v":0},{"$f":"VLOOKUP(B37,[1]A!B$1:AP$48,41,0)","v":0},0,0,0,0,0,0,{"$f":"IFERROR(VLOOKUP(B37,[3]A!B$1:Y$48,24,0),IFERROR(VLOOKUP(B37,[3]B!B$1:Y$51,24,0),VLOOKUP(B37,[3]C!B$1:W$52,22,0)))","v":8},{"$f":"IFERROR(VLOOKUP(B37,[3]A!B$1:Z$48,25,0),IFERROR(VLOOKUP(B37,[3]B!B$1:Z$51,25,0),VLOOKUP(B37,[3]C!B$1:X$52,23,0)))","v":8},0,{"$f":"IFERROR(VLOOKUP(B37,[3]A!B$1:AA$48,26,0),IFERROR(VLOOKUP(B37,[3]B!B$1:AA$51,26,0),VLOOKUP(B37,[3]C!B$1:Y$52,24,0)))","v":2},{"$f":"IFERROR(VLOOKUP(B37,[3]A!B$1:AB$48,27,0),IFERROR(VLOOKUP(B37,[3]B!B$1:AB$51,27,0),VLOOKUP(B37,[3]C!B$1:Z$52,25,0)))","v":2},0,10,15,{"$f":"IFERROR(VLOOKUP(B37,[4]A!B$1:AL$48,37,0),IFERROR(VLOOKUP(B37,[4]B!B$1:AL$51,37,0),VLOOKUP(B37,[4]C!B$1:AL$52,37,0)))","v":0},1,3,{"$f":"IFERROR(VLOOKUP(B37,[4]A!B$1:AP$48,41,0),IFERROR(VLOOKUP(B37,[4]B!B$1:AP$51,41,0),VLOOKUP(B37,[4]C!B$1:AP$52,41,0)))","v":0},3,5,null,0,1,null,34,0,0,24,24,70.588235294117652,2,"A-5",9,9,20]
[37,"15BA151",{"$f":"VLOOKUP(B38,[1]A!B$1:AI$48,34,0)","v":0},{"$f":"VLOOKUP(B38,[1]A!B$1:AJ$48,35,0)","v":0},{"$f":"VLOOKUP(B38,[1]A!B$1:AL$48,37,0)","v":0},{"$f":"VLOOKUP(B38,[1]A!B$1:AM$48,38,0)","v":0},{"$f":"VLOOKUP(B38,[1]A!B$1:AN$48,39,0)","v":0},{"$f":"VLOOKUP(B38,[1]A!B$1:AP$48,41,0)","v":0},0,0,0,0,0,0,{"$f":"IFERROR(VLOOKUP(B38,[3]A!B$1:Y$48,24,0),IFERROR(VLOOKUP(B38,[3]B!B$1:Y$51,24,0),VLOOKUP(B38,[3]C!B$1:W$52,22,0)))","v":8},{"$f":"IFERROR(VLOOKUP(B38,[3]A!B$1:Z$48,25,0),IFERROR(VLOOKUP(B38,[3]B!B$1:Z$51,25,0),VLOOKUP(B38,[3]C!B$1:X$52,23,0)))","v":8},0,{"$f":"IFERROR(VLOOKUP(B38,[3]A!B$1:AA$48,26,0),IFERROR(VLOOKUP(B38,[3]B!B$1:AA$51,26,0),VLOOKUP(B38,[3]C!B$1:Y$52,24,0)))","v":2},{"$f":"IFERROR(VLOOKUP(B38,[3]A!B$1:AB$48,27,0),IFERROR(VLOOKUP(B38,[3]B!B$1:AB$51,27,0),VLOOKUP(B38,[3]C!B$1:Z$52,25,0)))","v":2},0,14,15,{"$f":"IFERROR(VLOOKUP(B38,[4]A!B$1:AL$48,37,0),IFERROR(VLOOKUP(B38,[4]B!B$1:AL$51,37,0),VLOOKUP(B38,[4]C!B$1:AL$52,37,0)))","v":0},3,3,{"$f":"IFERROR(VLOOKUP(B38,[4]A!B$1:AP$48,41,0),IFERROR(VLOOKUP(B38,[4]B!B$1:AP$51,41,0),VLOOKUP(B38,[4]C!B$1:AP$52,41,0)))","v":0},4,5,null,1,1,null,34,0,0,32,32,94.117647058823522,5,"A-5",10,10,25]
[38,"15BA153",{"$f":"VLOOKUP(B39,[1]A!B$1:AI$48,34,0)","v":0},{"$f":"VLOOKUP(B39,[1]A!B$1:AJ$48,35,0)","v":0},{"$f":"VLOOKUP(B39,[1]A!B$1:AL$48,37,0)","v":0},{"$f":"VLOOKUP(B39,[1]A!B$1:AM$48,38,0)","v":0},{"$f":"VLOOKUP(B39,[1]A!B$1:AN$48,39,0)","v":0},{"$f":"VLOOKUP(B39,[1]A!B$1:AP$48,41,0)","v":0},0,0,0,0,0,0,{"$f":"IFERROR(VLOOKUP(B39,[3]A!B$1:Y$48,24,0),IFERROR(VLOOKUP(B39,[3]B!B$1:Y$51,24,0),VLOOKUP(B39,[3]C!B$1:W$52,22,0)))","v":6},{"$f":"IFERROR(VLOOKUP(B39,[3]A!B$1:Z$48,25,0),IFERROR(VLOOKUP(B39,[3]B!B$1:Z$51,25,0),VLOOKUP(B39,[3]C!B$1:X$52,23,0)))","v":8},0,{"$f":"IFERROR(VLOOKUP(B39,[3]A!B$1:AA$48,26,0),IFERROR(VLOOKUP(B39,[3]B!B$1:AA$51,26,0),VLOOKUP(B39,[3]C!B$1:Y$52,24,0)))","v":2},{"$f":"IFERROR(VLOOKUP(B39,[3]A!B$1:AB$48,27,0),IFERROR(VLOOKUP(B39,[3]B!B$1:AB$51,27,0),VLOOKUP(B39,[3]C!B$1:Z$52,25,0)))","v":2},0,12,15,{"$f":"IFERROR(VLOOKUP(B39,[4]A!B$1:AL$48,37,0),IFERROR(VLOOKUP(B39,[4]B!B$1:AL$51,37,0),VLOOKUP(B39,[4]C!B$1:AL$52,37,0)))","v":0},2,3,{"$f":"IFERROR(VLOOKUP(B39,[4]A!B$1:AP$48,41,0),IFERROR(VLOOKUP(B39,[4]B!B$1:AP$51,41,0),VLOOKUP(B39,[4]C!B$1:AP$52,41,0)))","v":0},3,5,null,1,1,null,34,0,0,26,26,76.470588235294116,3,"A-5",9,10,22]
[39,"15BA009",{"$f":"VLOOKUP(B40,[1]B!B$1:AI$48,34,0)","v":0},{"$f":"VLOOKUP(B40,[1]B!B$1:AJ$48,35,0)","v":0},{"$f":"VLOOKUP(B40,[1]B!B$1:AL$48,37,0)","v":0},{"$f":"VLOOKUP(B40,[1]B!B$1:AM$48,38,0)","v":0},{"$f":"VLOOKUP(B40,[1]B!B$1:AN$48,39,0)","v":0},{"$f":"VLOOKUP(B40,[1]B!B$1:AP$48,41,0)","v":0},0,0,0,0,0,0,{"$f":"IFERROR(VLOOKUP(B40,[3]A!B$1:Y$48,24,0),IFERROR(VLOOKUP(B40,[3]B!B$1:Y$51,24,0),VLOOKUP(B40,[3]C!B$1:W$52,22,0)))","v":0},{"$f":"IFERROR(VLOOKUP(B40,[3]A!B$1:Z$48,25,0),IFERROR(VLOOKUP(B40,[3]B!B$1:Z$51,25,0),VLOOKUP(B40,[3]C!B$1:X$52,23,0)))","v":12},0,{"$f":"IFERROR(VLOOKUP(B40,[3]A!B$1:AA$48,26,0),IFERROR(VLOOKUP(B40,[3]B!B$1:AA$51,26,0),VLOOKUP(B40,[3]C!B$1:Y$52,24,0)))","v":0},{"$f":"IFERROR(VLOOKUP(B40,[3]A!B$1:AB$48,27,0),IFERROR(VLOOKUP(B40,[3]B!B$1:AB$51,27,0),VLOOKUP(B40,[3]C!B$1:Z$52,25,0)))","v":2},0,17,18,{"$f":"IFERROR(VLOOKUP(B40,[4]A!B$1:AL$48,37,0),IFERROR(VLOOKUP(B40,[4]B!B$1:AL$51,37,0),VLOOKUP(B40,[4]C!B$1:AL$52,37,0)))","v":0},3,3,{"$f":"IFERROR(VLOOKUP(B40,[4]A!B$1:AP$48,41,0),IFERROR(VLOOKUP(B40,[4]B!B$1:AP$51,41,0),VLOOKUP(B40,[4]C!B$1:AP$52,41,0)))","v":0},5,5,null,1,1,null,41,0,0,26,26,63.414634146341463,0,"B-6",10,9,19]
[40,"15BA014",{"$f":"VLOOKUP(B41,[1]B!B$1:AI$48,34,0)","v":0},{"$f":"VLOOKUP(B41,[1]B!B$1:AJ$48,35,0)","v":0},{"$f":"VLOOKUP(B41,[1]B!B$1:AL$48,37,0)","v":0},{"$f":"VLOOKUP(B41,[1]B!B$1:AM$48,38,0)","v":0},{"$f":"VLOOKUP(B41,[1]B!B$1:AN$48,39,0)","v":0},{"$f":"VLOOKUP(B41,[1]B!B$1:AP$48,41,0)","v":0},0,0,0,0,0,0,{"$f":"IFERROR(VLOOKUP(B41,[3]A!B$1:Y$48,24,0),IFERROR(VLOOKUP(B41,[3]B!B$1:Y$51,24,0),VLOOKUP(B41,[3]C!B$1:W$52,22,0)))","v":12},{"$f":"IFERROR(VLOOKUP(B41,[3]A!B$1:Z$48,25,0),IFERROR(VLOOKUP(B41,[3]B!B$1:Z$51,25,0),VLOOKUP(B41,[3]C!B$1:X$52,23,0)))","v":12},0,{"$f":"IFERROR(VLOOKUP(B41,[3]A!B$1:AA$48,26,0),IFERROR(VLOOKUP(B41,[3]B!B$1:AA$51,26,0),VLOOKUP(B41,[3]C!B$1:Y$52,24,0)))","v":2},{"$f":"IFERROR(VLOOKUP(B41,[3]A!B$1:AB$48,27,0),IFERROR(VLOOKUP(B41,[3]B!B$1:AB$51,27,0),VLOOKUP(B41,[3]C!B$1:Z$52,25,0)))","v":2},0,17,18,{"$f":"IFERROR(VLOOKUP(B41,[4]A!B$1:AL$48,37,0),IFERROR(VLOOKUP(B41,[4]B!B$1:AL$51,37,0),VLOOKUP(B41,[4]C!B$1:AL$52,37,0)))","v":0},3,3,{"$f":"IFERROR(VLOOKUP(B41,[4]A!B$1:AP$48,41,0),IFERROR(VLOOKUP(B41,[4]B!B$1:AP$51,41,0),VLOOKUP(B41,[4]C!B$1:AP$52,41,0)))","v":0},5,5,null,1,1,null,41,0,0,40,40,97.560975609756099,5,"B-6",10,10,25]
[41,"15BA017",{"$f":"VLOOKUP(B42,[1]B!B$1:AI$48,34,0)","v":0},{"$f":"VLOOKUP(B42,[1]B!B$1:AJ$48,35,0)","v":0},{"$f":"VLOOKUP(B42,[1]B!B$1:AL$48,37,0)","v":0},{"$f":"VLOOKUP(B42,[1]B!B$1:AM$48,38,0)","v":0},{"$f":"VLOOKUP(B42,[1]B!B$1:AN$48,39,0)","v":0},{"$f":"VLOOKUP(B42,[1]B!B$1:AP$48,41,0)","v":0},0,0,0,0,0,0,{"$f":"IFERROR(VLOOKUP(B42,[3]A!B$1:Y$48,24,0),IFERROR(VLOOKUP(B42,[3]B!B$1:Y$51,24,0),VLOOKUP(B42,[3]C!B$1:W$52,22,0)))","v":10},{"$f":"IFERROR(VLOOKUP(B42,[3]A!B$1:Z$48,25,0),IFERROR(VLOOKUP(B42,[3]B!B$1:Z$51,25,0),VLOOKUP(B42,[3]C!B$1:X$52,23,0)))","v":12},0,{"$f":"IFERROR(VLOOKUP(B42,[3]A!B$1:AA$48,26,0),IFERROR(VLOOKUP(B42,[3]B!B$1:AA$51,26,0),VLOOKUP(B42,[3]C!B$1:Y$52,24,0)))","v":2},{"$f":"IFERROR(VLOOKUP(B42,[3]A!B$1:AB$48,27,0),IFERROR(VLOOKUP(B42,[3]B!B$1:AB$51,27,0),VLOOKUP(B42,[3]C!B$1:Z$52,25,0)))","v":2},0,16,18,{"$f":"IFERROR(VLOOKUP(B42,[4]A!B$1:AL$48,37,0),IFERROR(VLOOKUP(B42,[4]B!B$1:AL$51,37,0),VLOOKUP(B42,[4]C!B$1:AL$52,37,0)))","v":0},3,3,{"$f":"IFERROR(VLOOKUP(B42,[4]A!B$1:AP$48,41,0),IFERROR(VLOOKUP(B42,[4]B!B$1:AP$51,41,0),VLOOKUP(B42,[4]C!B$1:AP$52,41,0)))","v":0},4,5,null,1,1,null,41,0,0,36,36,87.804878048780495,5,"B-6",10,9,24]
[42,"15BA021",{"$f":"VLOOKUP(B43,[1]B!B$1:AI$48,34,0)","v":0},{"$f":"VLOOKUP(B43,[1]B!B$1:AJ$48,35,0)","v":0},{"$f":"VLOOKUP(B43,[1]B!B$1:AL$48,37,0)","v":0},{"$f":"VLOOKUP(B43,[1]B!B$1:AM$48,38,0)","v":0},{"$f":"VLOOKUP(B43,[1]B!B$1:AN$48,39,0)","v":0},{"$f":"VLOOKUP(B43,[1]B!B$1:AP$48,41,0)","v":0},0,0,0,0,0,0,{"$f":"IFERROR(VLOOKUP(B43,[3]A!B$1:Y$48,24,0),IFERROR(VLOOKUP(B43,[3]B!B$1:Y$51,24,0),VLOOKUP(B43,[3]C!B$1:W$52,22,0)))","v":2},{"$f":"IFERROR(VLOOKUP(B43,[3]A!B$1:Z$48,25,0),IFERROR(VLOOKUP(B43,[3]B!B$1:Z$51,25,0),VLOOKUP(B43,[3]C!B$1:X$52,23,0)))","v":12},0,{"$f":"IFERROR(VLOOKUP(B43,[3]A!B$1:AA$48,26,0),IFERROR(VLOOKUP(B43,[3]B!B$1:AA$51,26,0),VLOOKUP(B43,[3]C!B$1:Y$52,24,0)))","v":0},{"$f":"IFERROR(VLOOKUP(B43,[3]A!B$1:AB$48,27,0),IFERROR(VLOOKUP(B43,[3]B!B$1:AB$51,27,0),VLOOKUP(B43,[3]C!B$1:Z$52,25,0)))","v":2},0,14,18,{"$f":"IFERROR(VLOOKUP(B43,[4]A!B$1:AL$48,37,0),IFERROR(VLOOKUP(B43,[4]B!B$1:AL$51,37,0),VLOOKUP(B43,[4]C!B$1:AL$52,37,0)))","v":0},2,3,{"$f":"IFERROR(VLOOKUP(B43,[4]A!B$1:AP$48,41,0),IFERROR(VLOOKUP(B43,[4]B!B$1:AP$51,41,0),VLOOKUP(B43,[4]C!B$1:AP$52,41,0)))","v":0},4,5,null,1,1,null,41,0,0,23,23,56.09756097560976,0,"B-6",9,9,18]
[43,"15BA024",{"$f":"VLOOKUP(B44,[1]B!B$1:AI$48,34,0)","v":0},{"$f":"VLOOKUP(B44,[1]B!B$1:AJ$48,35,0)","v":0},{"$f":"VLOOKUP(B44,[1]B!B$1:AL$48,37,0)","v":0},{"$f":"VLOOKUP(B44,[1]B!B$1:AM$48,38,0)","v":0},{"$f":"VLOOKUP(B44,[1]B!B$1:AN$48,39,0)","v":0},{"$f":"VLOOKUP(B44,[1]B!B$1:AP$48,41,0)","v":0},0,0,0,0,0,0,{"$f":"IFERROR(VLOOKUP(B44,[3]A!B$1:Y$48,24,0),IFERROR(VLOOKUP(B44,[3]B!B$1:Y$51,24,0),VLOOKUP(B44,[3]C!B$1:W$52,22,0)))","v":10},{"$f":"IFERROR(VLOOKUP(B44,[3]A!B$1:Z$48,25,0),IFERROR(VLOOKUP(B44,[3]B!B$1:Z$51,25,0),VLOOKUP(B44,[3]C!B$1:X$52,23,0)))","v":12},0,{"$f":"IFERROR(VLOOKUP(B44,[3]A!B$1:AA$48,26,0),IFERROR(VLOOKUP(B44,[3]B!B$1:AA$51,26,0),VLOOKUP(B44,[3]C!B$1:Y$52,24,0)))","v":2},{"$f":"IFERROR(VLOOKUP(B44,[3]A!B$1:AB$48,27,0),IFERROR(VLOOKUP(B44,[3]B!B$1:AB$51,27,0),VLOOKUP(B44,[3]C!B$1:Z$52,25,0)))","v":2},0,17,18,{"$f":"IFERROR(VLOOKUP(B44,[4]A!B$1:AL$48,37,0),IFERROR(VLOOKUP(B44,[4]B!B$1:AL$51,37,0),VLOOKUP(B44,[4]C!B$1:AL$52,37,0)))","v":0},3,3,{"$f":"IFERROR(VLOOKUP(B44,[4]A!B$1:AP$48,41,0),IFERROR(VLOOKUP(B44,[4]B!B$1:AP$51,41,0),VLOOKUP(B44,[4]C!B$1:AP$52,41,0)))","v":0},4,5,null,1,1,null,41,0,0,37,37,90.243902439024396,5,"B-6",10,10,25]
[44,"15BA039",{"$f":"VLOOKUP(B45,[1]B!B$1:AI$48,34,0)","v":0},{"$f":"VLOOKUP(B45,[1]B!B$1:AJ$48,35,0)","v":0},{"$f":"VLOOKUP(B45,[1]B!B$1:AL$48,37,0)","v":0},{"$f":"VLOOKUP(B45,[1]B!B$1:AM$48,38,0)","v":0},{"$f":"VLOOKUP(B45,[1]B!B$1:AN$48,39,0)","v":0},{"$f":"VLOOKUP(B45,[1]B!B$1:AP$48,41,0)","v":0},0,0,0,0,0,0,{"$f":"IFERROR(VLOOKUP(B45,[3]A!B$1:Y$48,24,0),IFERROR(VLOOKUP(B45,[3]B!B$1:Y$51,24,0),VLOOKUP(B45,[3]C!B$1:W$52,22,0)))","v":8},{"$f":"IFERROR(VLOOKUP(B45,[3]A!B$1:Z$48,25,0),IFERROR(VLOOKUP(B45,[3]B!B$1:Z$51,25,0),VLOOKUP(B45,[3]C!B$1:X$52,23,0)))","v":12},0,{"$f":"IFERROR(VLOOKUP(B45,[3]A!B$1:AA$48,26,0),IFERROR(VLOOKUP(B45,[3]B!B$1:AA$51,26,0),VLOOKUP(B45,[3]C!B$1:Y$52,24,0)))","v":2},{"$f":"IFERROR(VLOOKUP(B45,[3]A!B$1:AB$48,27,0),IFERROR(VLOOKUP(B45,[3]B!B$1:AB$51,27,0),VLOOKUP(B45,[3]C!B$1:Z$52,25,0)))","v":2},0,18,18,{"$f":"IFERROR(VLOOKUP(B45,[4]A!B$1:AL$48,37,0),IFERROR(VLOOKUP(B45,[4]B!B$1:AL$51,37,0),VLOOKUP(B45,[4]C!B$1:AL$52,37,0)))","v":0},3,3,{"$f":"IFERROR(VLOOKUP(B45,[4]A!B$1:AP$48,41,0),IFERROR(VLOOKUP(B45,[4]B!B$1:AP$51,41,0),VLOOKUP(B45,[4]C!B$1:AP$52,41,0)))","v":0},5,5,null,1,1,null,41,0,0,37,37,90.243902439024396,5,"B-6",10,10,25]
[45,"15BA055",{"$f":"VLOOKUP(B46,[1]B!B$1:AI$48,34,0)","v":0},{"$f":"VLOOKUP(B46,[1]B!B$1:AJ$48,35,0)","v":0},{"$f":"VLOOKUP(B46,[1]B!B$1:AL$48,37,0)","v":0},{"$f":"VLOOKUP(B46,[1]B!B$1:AM$48,38,0)","v":0},{"$f":"VLOOKUP(B46,[1]B!B$1:AN$48,39,0)","v":0},{"$f":"VLOOKUP(B46,[1]B!B$1:AP$48,41,0)","v":0},0,0,0,0,0,0,{"$f":"IFERROR(VLOOKUP(B46,[3]A!B$1:Y$48,24,0),IFERROR(VLOOKUP(B46,[3]B!B$1:Y$51,24,0),VLOOKUP(B46,[3]C!B$1:W$52,22,0)))","v":12},{"$f":"IFERROR(VLOOKUP(B46,[3]A!B$1:Z$48,25,0),IFERROR(VLOOKUP(B46,[3]B!B$1:Z$51,25,0),VLOOKUP(B46,[3]C!B$1:X$52,23,0)))","v":12},0,{"$f":"IFERROR(VLOOKUP(B46,[3]A!B$1:AA$48,26,0),IFERROR(VLOOKUP(B46,[3]B!B$1:AA$51,26,0),VLOOKUP(B46,[3]C!B$1:Y$52,24,0)))","v":2},{"$f":"IFERROR(VLOOKUP(B46,[3]A!B$1:AB$48,27,0),IFERROR(VLOOKUP(B46,[3]B!B$1:AB$51,27,0),VLOOKUP(B46,[3]C!B$1:Z$52,25,0)))","v":2},0,18,18,{"$f":"IFERROR(VLOOKUP(B46,[4]A!B$1:AL$48,37,0),IFERROR(VLOOKUP(B46,[4]B!B$1:AL$51,37,0),VLOOKUP(B46,[4]C!B$1:AL$52,37,0)))","v":0},3,3,{"$f":"IFERROR(VLOOKUP(B46,[4]A!B$1:AP$48,41,0),IFERROR(VLOOKUP(B46,[4]B!B$1:AP$51,41,0),VLOOKUP(B46,[4]C!B$1:AP$52,41,0)))","v":0},5,5,null,1,1,null,41,0,0,41,41,100,5,"B-6",10,10,25]
[46,"15BA061",{"$f":"VLOOKUP(B47,[1]B!B$1:AI$48,34,0)","v":0},{"$f":"VLOOKUP(B47,[1]B!B$1:AJ$48,35,0)","v":0},{"$f":"VLOOKUP(B47,[1]B!B$1:AL$48,37,0)","v":0},{"$f":"VLOOKUP(B47,[1]B!B$1:AM$48,38,0)","v":0},{"$f":"VLOOKUP(B47,[1]B!B$1:AN$48,39,0)","v":0},{"$f":"VLOOKUP(B47,[1]B!B$1:AP$48,41,0)","v":0},0,0,0,0,0,0,{"$f":"IFERROR(VLOOKUP(B47,[3]A!B$1:Y$48,24,0),IFERROR(VLOOKUP(B47,[3]B!B$1:Y$51,24,0),VLOOKUP(B47,[3]C!B$1:W$52,22,0)))","v":12},{"$f":"IFERROR(VLOOKUP(B47,[3]A!B$1:Z$48,25,0),IFERROR(VLOOKUP(B47,[3]B!B$1:Z$51,25,0),VLOOKUP(B47,[3]C!B$1:X$52,23,0)))","v":12},0,{"$f":"IFERROR(VLOOKUP(B47,[3]A!B$1:AA$48,26,0),IFERROR(VLOOKUP(B47,[3]B!B$1:AA$51,26,0),VLOOKUP(B47,[3]C!B$1:Y$52,24,0)))","v":2},{"$f":"IFERROR(VLOOKUP(B47,[3]A!B$1:AB$48,27,0),IFERROR(VLOOKUP(B47,[3]B!B$1:AB$51,27,0),VLOOKUP(B47,[3]C!B$1:Z$52,25,0)))","v":2},0,18,18,{"$f":"IFERROR(VLOOKUP(B47,[4]A!B$1:AL$48,37,0),IFERROR(VLOOKUP(B47,[4]B!B$1:AL$51,37,0),VLOOKUP(B47,[4]C!B$1:AL$52,37,0)))","v":0},3,3,{"$f":"IFERROR(VLOOKUP(B47,[4]A!B$1:AP$48,41,0),IFERROR(VLOOKUP(B47,[4]B!B$1:AP$51,41,0),VLOOKUP(B47,[4]C!B$1:AP$52,41,0)))","v":0},5,5,null,1,1,null,{"$f":"SUM(D47,G47,J47,M47,P47,S47,V47,Y47,AB47,AE47)","v":41},{"$f":"SUM(E47,H47,K47,N47,Q47,T47,W47,Z47,AC47,AF47)","v":0},{"$f":"FLOOR(IF(AH47<(1/3*(AG47)),AH47,(1/3*(AG47))),1)","v":0},{"$f":"SUM(C47,F47,I47,L47,O47,R47,U47,X47,AA47,AD47)","v":41},{"$f":"IF(SUM(AJ47,AI47)>AG47,AG47,SUM(AJ47,AI47))","v":41},{"$f":"(AK47/AG47)*100","v":100},{"$f":"IF(AL47>=85,5,(IF(AND(AL47>=80,AL47<85),4,(IF(AND(AL47>=75,AL47<80),3,(IF(AND(AL47>=70,AL47<75),2,(IF(AND(AL47>67,AL47<70),1,0)))))))))","v":5},"B-6",10,10,{"$f":"SUM(AM47,AO47,AP47,)","v":25}]
[47,"15BA066",{"$f":"VLOOKUP(B48,[1]B!B$1:AI$48,34,0)","v":0},{"$f":"VLOOKUP(B48,[1]B!B$1:AJ$48,35,0)","v":0},{"$f":"VLOOKUP(B48,[1]B!B$1:AL$48,37,0)","v":0},{"$f":"VLOOKUP(B48,[1]B!B$1:AM$48,38,0)","v":0},{"$f":"VLOOKUP(B48,[1]B!B$1:AN$48,39,0)","v":0},{"$f":"VLOOKUP(B48,[1]B!B$1:AP$48,41,0)","v":0},0,0,0,0,0,0,{"$f":"IFERROR(VLOOKUP(B48,[3]A!B$1:Y$48,24,0),IFERROR(VLOOKUP(B48,[3]B!B$1:Y$51,24,0),VLOOKUP(B48,[3]C!B$1:W$52,22,0)))","v":10},{"$f":"IFERROR(VLOOKUP(B48,[3]A!B$1:Z$48,25,0),IFERROR(VLOOKUP(B48,[3]B!B$1:Z$51,25,0),VLOOKUP(B48,[3]C!B$1:X$52,23,0)))","v":12},0,{"$f":"IFERROR(VLOOKUP(B48,[3]A!B$1:AA$48,26,0),IFERROR(VLOOKUP(B48,[3]B!B$1:AA$51,26,0),VLOOKUP(B48,[3]C!B$1:Y$52,24,0)))","v":2},{"$f":"IFERROR(VLOOKUP(B48,[3]A!B$1:AB$48,27,0),IFERROR(VLOOKUP(B48,[3]B!B$1:AB$51,27,0),VLOOKUP(B48,[3]C!B$1:Z$52,25,0)))","v":2},0,17,18,{"$f":"IFERROR(VLOOKUP(B48,[4]A!B$1:AL$48,37,0),IFERROR(VLOOKUP(B48,[4]B!B$1:AL$51,37,0),VLOOKUP(B48,[4]C!B$1:AL$52,37,0)))","v":0},2,3,{"$f":"IFERROR(VLOOKUP(B48,[4]A!B$1:AP$48,41,0),IFERROR(VLOOKUP(B48,[4]B!B$1:AP$51,41,0),VLOOKUP(B48,[4]C!B$1:AP$52,41,0)))","v":0},5,5,null,1,1,null,41,0,0,37,37,90.243902439024396,5,"B-6",10,9,24]
[48,"15BA074",{"$f":"VLOOKUP(B49,[1]B!B$1:AI$48,34,0)","v":0},{"$f":"VLOOKUP(B49,[1]B!B$1:AJ$48,35,0)","v":0},{"$f":"VLOOKUP(B49,[1]B!B$1:AL$48,37,0)","v":0},{"$f":"VLOOKUP(B49,[1]B!B$1:AM$48,38,0)","v":0},{"$f":"VLOOKUP(B49,[1]B!B$1:AN$48,39,0)","v":0},{"$f":"VLOOKUP(B49,[1]B!B$1:AP$48,41,0)","v":0},0,0,0,0,0,0,{"$f":"IFERROR(VLOOKUP(B49,[3]A!B$1:Y$48,24,0),IFERROR(VLOOKUP(B49,[3]B!B$1:Y$51,24,0),VLOOKUP(B49,[3]C!B$1:W$52,22,0)))","v":12},{"$f":"IFERROR(VLOOKUP(B49,[3]A!B$1:Z$48,25,0),IFERROR(VLOOKUP(B49,[3]B!B$1:Z$51,25,0),VLOOKUP(B49,[3]C!B$1:X$52,23,0)))","v":12},0,{"$f":"IFERROR(VLOOKUP(B49,[3]A!B$1:AA$48,26,0),IFERROR(VLOOKUP(B49,[3]B!B$1:AA$51,26,0),VLOOKUP(B49,[3]C!B$1:Y$52,24,0)))","v":2},{"$f":"IFERROR(VLOOKUP(B49,[3]A!B$1:AB$48,27,0),IFERROR(VLOOKUP(B49,[3]B!B$1:AB$51,27,0),VLOOKUP(B49,[3]C!B$1:Z$52,25,0)))","v":2},0,18,18,{"$f":"IFERROR(VLOOKUP(B49,[4]A!B$1:AL$48,37,0),IFERROR(VLOOKUP(B49,[4]B!B$1:AL$51,37,0),VLOOKUP(B49,[4]C!B$1:AL$52,37,0)))","v":0},2,3,{"$f":"IFERROR(VLOOKUP(B49,[4]A!B$1:AP$48,41,0),IFERROR(VLOOKUP(B49,[4]B!B$1:AP$51,41,0),VLOOKUP(B49,[4]C!B$1:AP$52,41,0)))","v":0},4,5,null,1,1,null,41,0,0,39,39,95.121951219512198,5,"B-6",10,10,25]
[49,"15BA081",{"$f":"VLOOKUP(B50,[1]B!B$1:AI$48,34,0)","v":0},{"$f":"VLOOKUP(B50,[1]B!B$1:AJ$48,35,0)","v":0},{"$f":"VLOOKUP(B50,[1]B!B$1:AL$48,37,0)","v":0},{"$f":"VLOOKUP(B50,[1]B!B$1:AM$48,38,0)","v":0},{"$f":"VLOOKUP(B50,[1]B!B$1:AN$48,39,0)","v":0},{"$f":"VLOOKUP(B50,[1]B!B$1:AP$48,41,0)","v":0},0,0,0,0,0,0,{"$f":"IFERROR(VLOOKUP(B50,[3]A!B$1:Y$48,24,0),IFERROR(VLOOKUP(B50,[3]B!B$1:Y$51,24,0),VLOOKUP(B50,[3]C!B$1:W$52,22,0)))","v":11},{"$f":"IFERROR(VLOOKUP(B50,[3]A!B$1:Z$48,25,0),IFERROR(VLOOKUP(B50,[3]B!B$1:Z$51,25,0),VLOOKUP(B50,[3]C!B$1:X$52,23,0)))","v":12},0,{"$f":"IFERROR(VLOOKUP(B50,[3]A!B$1:AA$48,26,0),IFERROR(VLOOKUP(B50,[3]B!B$1:AA$51,26,0),VLOOKUP(B50,[3]C!B$1:Y$52,24,0)))","v":2},{"$f":"IFERROR(VLOOKUP(B50,[3]A!B$1:AB$48,27,0),IFERROR(VLOOKUP(B50,[3]B!B$1:AB$51,27,0),VLOOKUP(B50,[3]C!B$1:Z$52,25,0)))","v":2},0,16,18,{"$f":"IFERROR(VLOOKUP(B50,[4]A!B$1:AL$48,37,0),IFERROR(VLOOKUP(B50,[4]B!B$1:AL$51,37,0),VLOOKUP(B50,[4]C!B$1:AL$52,37,0)))","v":0},3,3,{"$f":"IFERROR(VLOOKUP(B50,[4]A!B$1:AP$48,41,0),IFERROR(VLOOKUP(B50,[4]B!B$1:AP$51,41,0),VLOOKUP(B50,[4]C!B$1:AP$52,41,0)))","v":0},4,5,null,1,1,null,41,0,0,37,37,90.243902439024396,5,"B-6",10,10,25]
[50,"15BA085",{"$f":"VLOOKUP(B51,[1]B!B$1:AI$48,34,0)","v":0},{"$f":"VLOOKUP(B51,[1]B!B$1:AJ$48,35,0)","v":0},{"$f":"VLOOKUP(B51,[1]B!B$1:AL$48,37,0)","v":0},{"$f":"VLOOKUP(B51,[1]B!B$1:AM$48,38,0)","v":0},{"$f":"VLOOKUP(B51,[1]B!B$1:AN$48,39,0)","v":0},{"$f":"VLOOKUP(B51,[1]B!B$1:AP$48,41,0)","v":0},0,0,0,0,0,0,{"$f":"IFERROR(VLOOKUP(B51,[3]A!B$1:Y$48,24,0),IFERROR(VLOOKUP(B51,[3]B!B$1:Y$51,24,0),VLOOKUP(B51,[3]C!B$1:W$52,22,0)))","v":11},{"$f":"IFERROR(VLOOKUP(B51,[3]A!B$1:Z$48,25,0),IFERROR(VLOOKUP(B51,[3]B!B$1:Z$51,25,0),VLOOKUP(B51,[3]C!B$1:X$52,23,0)))","v":12},0,{"$f":"IFERROR(VLOOKUP(B51,[3]A!B$1:AA$48,26,0),IFERROR(VLOOKUP(B51,[3]B!B$1:AA$51,26,0),VLOOKUP(B51,[3]C!B$1:Y$52,24,0)))","v":2},{"$f":"IFERROR(VLOOKUP(B51,[3]A!B$1:AB$48,27,0),IFERROR(VLOOKUP(B51,[3]B!B$1:AB$51,27,0),VLOOKUP(B51,[3]C!B$1:Z$52,25,0)))","v":2},0,14,18,{"$f":"IFERROR(VLOOKUP(B51,[4]A!B$1:AL$48,37,0),IFERROR(VLOOKUP(B51,[4]B!B$1:AL$51,37,0),VLOOKUP(B51,[4]C!B$1:AL$52,37,0)))","v":0},2,3,{"$f":"IFERROR(VLOOKUP(B51,[4]A!B$1:AP$48,41,0),IFERROR(VLOOKUP(B51,[4]B!B$1:AP$51,41,0),VLOOKUP(B51,[4]C!B$1:AP$52,41,0)))","v":0},4,5,null,1,1,null,41,0,0,34,34,82.926829268292678,4,"B-6",10,9,23]
[51,"15BA089",{"$f":"VLOOKUP(B52,[1]B!B$1:AI$48,34,0)","v":0},{"$f":"VLOOKUP(B52,[1]B!B$1:AJ$48,35,0)","v":0},{"$f":"VLOOKUP(B52,[1]B!B$1:AL$48,37,0)","v":0},{"$f":"VLOOKUP(B52,[1]B!B$1:AM$48,38,0)","v":0},{"$f":"VLOOKUP(B52,[1]B!B$1:AN$48,39,0)","v":0},{"$f":"VLOOKUP(B52,[1]B!B$1:AP$48,41,0)","v":0},0,0,0,0,0,0,{"$f":"IFERROR(VLOOKUP(B52,[3]A!B$1:Y$48,24,0),IFERROR(VLOOKUP(B52,[3]B!B$1:Y$51,24,0),VLOOKUP(B52,[3]C!B$1:W$52,22,0)))","v":2},{"$f":"IFERROR(VLOOKUP(B52,[3]A!B$1:Z$48,25,0),IFERROR(VLOOKUP(B52,[3]B!B$1:Z$51,25,0),VLOOKUP(B52,[3]C!B$1:X$52,23,0)))","v":12},0,{"$f":"IFERROR(VLOOKUP(B52,[3]A!B$1:AA$48,26,0),IFERROR(VLOOKUP(B52,[3]B!B$1:AA$51,26,0),VLOOKUP(B52,[3]C!B$1:Y$52,24,0)))","v":0},{"$f":"IFERROR(VLOOKUP(B52,[3]A!B$1:AB$48,27,0),IFERROR(VLOOKUP(B52,[3]B!B$1:AB$51,27,0),VLOOKUP(B52,[3]C!B$1:Z$52,25,0)))","v":2},0,14,18,{"$f":"IFERROR(VLOOKUP(B52,[4]A!B$1:AL$48,37,0),IFERROR(VLOOKUP(B52,[4]B!B$1:AL$51,37,0),VLOOKUP(B52,[4]C!B$1:AL$52,37,0)))","v":0},2,3,{"$f":"IFERROR(VLOOKUP(B52,[4]A!B$1:AP$48,41,0),IFERROR(VLOOKUP(B52,[4]B!B$1:AP$51,41,0),VLOOKUP(B52,[4]C!B$1:AP$52,41,0)))","v":0},4,5,null,0,1,null,41,0,0,22,22,53.658536585365859,0,"B-7",10,10,20]
[52,"15BA092",{"$f":"VLOOKUP(B53,[1]B!B$1:AI$48,34,0)","v":0},{"$f":"VLOOKUP(B53,[1]B!B$1:AJ$48,35,0)","v":0},{"$f":"VLOOKUP(B53,[1]B!B$1:AL$48,37,0)","v":0},{"$f":"VLOOKUP(B53,[1]B!B$1:AM$48,38,0)","v":0},{"$f":"VLOOKUP(B53,[1]B!B$1:AN$48,39,0)","v":0},{"$f":"VLOOKUP(B53,[1]B!B$1:AP$48,41,0)","v":0},0,0,0,0,0,0,{"$f":"IFERROR(VLOOKUP(B53,[3]A!B$1:Y$48,24,0),IFERROR(VLOOKUP(B53,[3]B!B$1:Y$51,24,0),VLOOKUP(B53,[3]C!B$1:W$52,22,0)))","v":12},{"$f":"IFERROR(VLOOKUP(B53,[3]A!B$1:Z$48,25,0),IFERROR(VLOOKUP(B53,[3]B!B$1:Z$51,25,0),VLOOKUP(B53,[3]C!B$1:X$52,23,0)))","v":12},0,{"$f":"IFERROR(VLOOKUP(B53,[3]A!B$1:AA$48,26,0),IFERROR(VLOOKUP(B53,[3]B!B$1:AA$51,26,0),VLOOKUP(B53,[3]C!B$1:Y$52,24,0)))","v":2},{"$f":"IFERROR(VLOOKUP(B53,[3]A!B$1:AB$48,27,0),IFERROR(VLOOKUP(B53,[3]B!B$1:AB$51,27,0),VLOOKUP(B53,[3]C!B$1:Z$52,25,0)))","v":2},0,17,18,{"$f":"IFERROR(VLOOKUP(B53,[4]A!B$1:AL$48,37,0),IFERROR(VLOOKUP(B53,[4]B!B$1:AL$51,37,0),VLOOKUP(B53,[4]C!B$1:AL$52,37,0)))","v":0},3,3,{"$f":"IFERROR(VLOOKUP(B53,[4]A!B$1:AP$48,41,0),IFERROR(VLOOKUP(B53,[4]B!B$1:AP$51,41,0),VLOOKUP(B53,[4]C!B$1:AP$52,41,0)))","v":0},5,5,null,1,1,null,41,0,0,40,40,97.560975609756099,5,"B-7",10,9,24]
[53,"15BA101",{"$f":"VLOOKUP(B54,[1]B!B$1:AI$48,34,0)","v":0},{"$f":"VLOOKUP(B54,[1]B!B$1:AJ$48,35,0)","v":0},{"$f":"VLOOKUP(B54,[1]B!B$1:AL$48,37,0)","v":0},{"$f":"VLOOKUP(B54,[1]B!B$1:AM$48,38,0)","v":0},{"$f":"VLOOKUP(B54,[1]B!B$1:AN$48,39,0)","v":0},{"$f":"VLOOKUP(B54,[1]B!B$1:AP$48,41,0)","v":0},0,0,0,0,0,0,{"$f":"IFERROR(VLOOKUP(B54,[3]A!B$1:Y$48,24,0),IFERROR(VLOOKUP(B54,[3]B!B$1:Y$51,24,0),VLOOKUP(B54,[3]C!B$1:W$52,22,0)))","v":10},{"$f":"IFERROR(VLOOKUP(B54,[3]A!B$1:Z$48,25,0),IFERROR(VLOOKUP(B54,[3]B!B$1:Z$51,25,0),VLOOKUP(B54,[3]C!B$1:X$52,23,0)))","v":12},0,{"$f":"IFERROR(VLOOKUP(B54,[3]A!B$1:AA$48,26,0),IFERROR(VLOOKUP(B54,[3]B!B$1:AA$51,26,0),VLOOKUP(B54,[3]C!B$1:Y$52,24,0)))","v":2},{"$f":"IFERROR(VLOOKUP(B54,[3]A!B$1:AB$48,27,0),IFERROR(VLOOKUP(B54,[3]B!B$1:AB$51,27,0),VLOOKUP(B54,[3]C!B$1:Z$52,25,0)))","v":2},0,15,18,{"$f":"IFERROR(VLOOKUP(B54,[4]A!B$1:AL$48,37,0),IFERROR(VLOOKUP(B54,[4]B!B$1:AL$51,37,0),VLOOKUP(B54,[4]C!B$1:AL$52,37,0)))","v":0},3,3,{"$f":"IFERROR(VLOOKUP(B54,[4]A!B$1:AP$48,41,0),IFERROR(VLOOKUP(B54,[4]B!B$1:AP$51,41,0),VLOOKUP(B54,[4]C!B$1:AP$52,41,0)))","v":0},5,5,null,1,1,null,41,0,0,36,36,87.804878048780495,5,"B-7",10,10,25]
[54,"15BA111",{"$f":"VLOOKUP(B55,[1]B!B$1:AI$48,34,0)","v":0},{"$f":"VLOOKUP(B55,[1]B!B$1:AJ$48,35,0)","v":0},{"$f":"VLOOKUP(B55,[1]B!B$1:AL$48,37,0)","v":0},{"$f":"VLOOKUP(B55,[1]B!B$1:AM$48,38,0)","v":0},{"$f":"VLOOKUP(B55,[1]B!B$1:AN$48,39,0)","v":0},{"$f":"VLOOKUP(B55,[1]B!B$1:AP$48,41,0)","v":0},0,0,0,0,0,0,{"$f":"IFERROR(VLOOKUP(B55,[3]A!B$1:Y$48,24,0),IFERROR(VLOOKUP(B55,[3]B!B$1:Y$51,24,0),VLOOKUP(B55,[3]C!B$1:W$52,22,0)))","v":11},{"$f":"IFERROR(VLOOKUP(B55,[3]A!B$1:Z$48,25,0),IFERROR(VLOOKUP(B55,[3]B!B$1:Z$51,25,0),VLOOKUP(B55,[3]C!B$1:X$52,23,0)))","v":12},0,{"$f":"IFERROR(VLOOKUP(B55,[3]A!B$1:AA$48,26,0),IFERROR(VLOOKUP(B55,[3]B!B$1:AA$51,26,0),VLOOKUP(B55,[3]C!B$1:Y$52,24,0)))","v":2},{"$f":"IFERROR(VLOOKUP(B55,[3]A!B$1:AB$48,27,0),IFERROR(VLOOKUP(B55,[3]B!B$1:AB$51,27,0),VLOOKUP(B55,[3]C!B$1:Z$52,25,0)))","v":2},0,15,18,{"$f":"IFERROR(VLOOKUP(B55,[4]A!B$1:AL$48,37,0),IFERROR(VLOOKUP(B55,[4]B!B$1:AL$51,37,0),VLOOKUP(B55,[4]C!B$1:AL$52,37,0)))","v":0},3,3,{"$f":"IFERROR(VLOOKUP(B55,[4]A!B$1:AP$48,41,0),IFERROR(VLOOKUP(B55,[4]B!B$1:AP$51,41,0),VLOOKUP(B55,[4]C!B$1:AP$52,41,0)))","v":0},4,5,null,1,1,null,41,0,0,36,36,87.804878048780495,5,"B-7",10,9,24]
[55,"15BA113",{"$f":"VLOOKUP(B56,[1]B!B$1:AI$48,34,0)","v":0},{"$f":"VLOOKUP(B56,[1]B!B$1:AJ$48,35,0)","v":0},{"$f":"VLOOKUP(B56,[1]B!B$1:AL$48,37,0)","v":0},{"$f":"VLOOKUP(B56,[1]B!B$1:AM$48,38,0)","v":0},{"$f":"VLOOKUP(B56,[1]B!B$1:AN$48,39,0)","v":0},{"$f":"VLOOKUP(B56,[1]B!B$1:AP$48,41,0)","v":0},0,0,0,0,0,0,{"$f":"IFERROR(VLOOKUP(B56,[3]A!B$1:Y$48,24,0),IFERROR(VLOOKUP(B56,[3]B!B$1:Y$51,24,0),VLOOKUP(B56,[3]C!B$1:W$52,22,0)))","v":11},{"$f":"IFERROR(VLOOKUP(B56,[3]A!B$1:Z$48,25,0),IFERROR(VLOOKUP(B56,[3]B!B$1:Z$51,25,0),VLOOKUP(B56,[3]C!B$1:X$52,23,0)))","v":12},0,{"$f":"IFERROR(VLOOKUP(B56,[3]A!B$1:AA$48,26,0),IFERROR(VLOOKUP(B56,[3]B!B$1:AA$51,26,0),VLOOKUP(B56,[3]C!B$1:Y$52,24,0)))","v":2},{"$f":"IFERROR(VLOOKUP(B56,[3]A!B$1:AB$48,27,0),IFERROR(VLOOKUP(B56,[3]B!B$1:AB$51,27,0),VLOOKUP(B56,[3]C!B$1:Z$52,25,0)))","v":2},0,14,18,{"$f":"IFERROR(VLOOKUP(B56,[4]A!B$1:AL$48,37,0),IFERROR(VLOOKUP(B56,[4]B!B$1:AL$51,37,0),VLOOKUP(B56,[4]C!B$1:AL$52,37,0)))","v":0},2,3,{"$f":"IFERROR(VLOOKUP(B56,[4]A!B$1:AP$48,41,0),IFERROR(VLOOKUP(B56,[4]B!B$1:AP$51,41,0),VLOOKUP(B56,[4]C!B$1:AP$52,41,0)))","v":0},4,5,null,0,1,null,41,0,0,33,33,80.487804878048792,4,"B-7",10,10,24]
[56,"15BA117",{"$f":"VLOOKUP(B57,[1]B!B$1:AI$48,34,0)","v":0},{"$f":"VLOOKUP(B57,[1]B!B$1:AJ$48,35,0)","v":0},{"$f":"VLOOKUP(B57,[1]B!B$1:AL$48,37,0)","v":0},{"$f":"VLOOKUP(B57,[1]B!B$1:AM$48,38,0)","v":0},{"$f":"VLOOKUP(B57,[1]B!B$1:AN$48,39,0)","v":0},{"$f":"VLOOKUP(B57,[1]B!B$1:AP$48,41,0)","v":0},0,0,0,0,0,0,{"$f":"IFERROR(VLOOKUP(B57,[3]A!B$1:Y$48,24,0),IFERROR(VLOOKUP(B57,[3]B!B$1:Y$51,24,0),VLOOKUP(B57,[3]C!B$1:W$52,22,0)))","v":9},{"$f":"IFERROR(VLOOKUP(B57,[3]A!B$1:Z$48,25,0),IFERROR(VLOOKUP(B57,[3]B!B$1:Z$51,25,0),VLOOKUP(B57,[3]C!B$1:X$52,23,0)))","v":12},0,{"$f":"IFERROR(VLOOKUP(B57,[3]A!B$1:AA$48,26,0),IFERROR(VLOOKUP(B57,[3]B!B$1:AA$51,26,0),VLOOKUP(B57,[3]C!B$1:Y$52,24,0)))","v":1},{"$f":"IFERROR(VLOOKUP(B57,[3]A!B$1:AB$48,27,0),IFERROR(VLOOKUP(B57,[3]B!B$1:AB$51,27,0),VLOOKUP(B57,[3]C!B$1:Z$52,25,0)))","v":2},0,14,18,{"$f":"IFERROR(VLOOKUP(B57,[4]A!B$1:AL$48,37,0),IFERROR(VLOOKUP(B57,[4]B!B$1:AL$51,37,0),VLOOKUP(B57,[4]C!B$1:AL$52,37,0)))","v":0},2,3,{"$f":"IFERROR(VLOOKUP(B57,[4]A!B$1:AP$48,41,0),IFERROR(VLOOKUP(B57,[4]B!B$1:AP$51,41,0),VLOOKUP(B57,[4]C!B$1:AP$52,41,0)))","v":0},4,5,null,0,1,null,41,0,0,30,30,73.170731707317074,2,"B-7",10,10,22]
[57,"15BA127",{"$f":"VLOOKUP(B58,[1]B!B$1:AI$48,34,0)","v":0},{"$f":"VLOOKUP(B58,[1]B!B$1:AJ$48,35,0)","v":0},{"$f":"VLOOKUP(B58,[1]B!B$1:AL$48,37,0)","v":0},{"$f":"VLOOKUP(B58,[1]B!B$1:AM$48,38,0)","v":0},{"$f":"VLOOKUP(B58,[1]B!B$1:AN$48,39,0)","v":0},{"$f":"VLOOKUP(B58,[1]B!B$1:AP$48,41,0)","v":0},0,0,0,0,0,0,{"$f":"IFERROR(VLOOKUP(B58,[3]A!B$1:Y$48,24,0),IFERROR(VLOOKUP(B58,[3]B!B$1:Y$51,24,0),VLOOKUP(B58,[3]C!B$1:W$52,22,0)))","v":8},{"$f":"IFERROR(VLOOKUP(B58,[3]A!B$1:Z$48,25,0),IFERROR(VLOOKUP(B58,[3]B!B$1:Z$51,25,0),VLOOKUP(B58,[3]C!B$1:X$52,23,0)))","v":12},0,{"$f":"IFERROR(VLOOKUP(B58,[3]A!B$1:AA$48,26,0),IFERROR(VLOOKUP(B58,[3]B!B$1:AA$51,26,0),VLOOKUP(B58,[3]C!B$1:Y$52,24,0)))","v":2},{"$f":"IFERROR(VLOOKUP(B58,[3]A!B$1:AB$48,27,0),IFERROR(VLOOKUP(B58,[3]B!B$1:AB$51,27,0),VLOOKUP(B58,[3]C!B$1:Z$52,25,0)))","v":2},0,15,18,{"$f":"IFERROR(VLOOKUP(B58,[4]A!B$1:AL$48,37,0),IFERROR(VLOOKUP(B58,[4]B!B$1:AL$51,37,0),VLOOKUP(B58,[4]C!B$1:AL$52,37,0)))","v":0},3,3,{"$f":"IFERROR(VLOOKUP(B58,[4]A!B$1:AP$48,41,0),IFERROR(VLOOKUP(B58,[4]B!B$1:AP$51,41,0),VLOOKUP(B58,[4]C!B$1:AP$52,41,0)))","v":0},4,5,null,1,1,null,41,0,0,33,33,80.487804878048792,4,"B-7",10,9,23]
[58,"15BA129",{"$f":"VLOOKUP(B59,[1]B!B$1:AI$48,34,0)","v":0},{"$f":"VLOOKUP(B59,[1]B!B$1:AJ$48,35,0)","v":0},{"$f":"VLOOKUP(B59,[1]B!B$1:AL$48,37,0)","v":0},{"$f":"VLOOKUP(B59,[1]B!B$1:AM$48,38,0)","v":0},{"$f":"VLOOKUP(B59,[1]B!B$1:AN$48,39,0)","v":0},{"$f":"VLOOKUP(B59,[1]B!B$1:AP$48,41,0)","v":0},0,0,0,0,0,0,{"$f":"IFERROR(VLOOKUP(B59,[3]A!B$1:Y$48,24,0),IFERROR(VLOOKUP(B59,[3]B!B$1:Y$51,24,0),VLOOKUP(B59,[3]C!B$1:W$52,22,0)))","v":8},{"$f":"IFERROR(VLOOKUP(B59,[3]A!B$1:Z$48,25,0),IFERROR(VLOOKUP(B59,[3]B!B$1:Z$51,25,0),VLOOKUP(B59,[3]C!B$1:X$52,23,0)))","v":12},0,{"$f":"IFERROR(VLOOKUP(B59,[3]A!B$1:AA$48,26,0),IFERROR(VLOOKUP(B59,[3]B!B$1:AA$51,26,0),VLOOKUP(B59,[3]C!B$1:Y$52,24,0)))","v":2},{"$f":"IFERROR(VLOOKUP(B59,[3]A!B$1:AB$48,27,0),IFERROR(VLOOKUP(B59,[3]B!B$1:AB$51,27,0),VLOOKUP(B59,[3]C!B$1:Z$52,25,0)))","v":2},0,13,18,{"$f":"IFERROR(VLOOKUP(B59,[4]A!B$1:AL$48,37,0),IFERROR(VLOOKUP(B59,[4]B!B$1:AL$51,37,0),VLOOKUP(B59,[4]C!B$1:AL$52,37,0)))","v":0},2,3,{"$f":"IFERROR(VLOOKUP(B59,[4]A!B$1:AP$48,41,0),IFERROR(VLOOKUP(B59,[4]B!B$1:AP$51,41,0),VLOOKUP(B59,[4]C!B$1:AP$52,41,0)))","v":0},3,5,null,0,1,null,41,0,0,28,28,68.292682926829272,1,"B-7",10,9,20]
[59,"15BA130",{"$f":"VLOOKUP(B60,[1]B!B$1:AI$48,34,0)","v":0},{"$f":"VLOOKUP(B60,[1]B!B$1:AJ$48,35,0)","v":0},{"$f":"VLOOKUP(B60,[1]B!B$1:AL$48,37,0)","v":0},{"$f":"VLOOKUP(B60,[1]B!B$1:AM$48,38,0)","v":0},{"$f":"VLOOKUP(B60,[1]B!B$1:AN$48,39,0)","v":0},{"$f":"VLOOKUP(B60,[1]B!B$1:AP$48,41,0)","v":0},0,0,0,0,0,0,{"$f":"IFERROR(VLOOKUP(B60,[3]A!B$1:Y$48,24,0),IFERROR(VLOOKUP(B60,[3]B!B$1:Y$51,24,0),VLOOKUP(B60,[3]C!B$1:W$52,22,0)))","v":9},{"$f":"IFERROR(VLOOKUP(B60,[3]A!B$1:Z$48,25,0),IFERROR(VLOOKUP(B60,[3]B!B$1:Z$51,25,0),VLOOKUP(B60,[3]C!B$1:X$52,23,0)))","v":12},0,{"$f":"IFERROR(VLOOKUP(B60,[3]A!B$1:AA$48,26,0),IFERROR(VLOOKUP(B60,[3]B!B$1:AA$51,26,0),VLOOKUP(B60,[3]C!B$1:Y$52,24,0)))","v":2},{"$f":"IFERROR(VLOOKUP(B60,[3]A!B$1:AB$48,27,0),IFERROR(VLOOKUP(B60,[3]B!B$1:AB$51,27,0),VLOOKUP(B60,[3]C!B$1:Z$52,25,0)))","v":2},0,14,18,{"$f":"IFERROR(VLOOKUP(B60,[4]A!B$1:AL$48,37,0),IFERROR(VLOOKUP(B60,[4]B!B$1:AL$51,37,0),VLOOKUP(B60,[4]C!B$1:AL$52,37,0)))","v":0},2,3,{"$f":"IFERROR(VLOOKUP(B60,[4]A!B$1:AP$48,41,0),IFERROR(VLOOKUP(B60,[4]B!B$1:AP$51,41,0),VLOOKUP(B60,[4]C!B$1:AP$52,41,0)))","v":0},4,5,null,0,1,null,41,0,0,31,31,75.609756097560975,3,"B-7",10,9,22]
[60,"15BA149",0,0,0,0,0,0,0,0,0,0,0,0,{"$f":"IFERROR(VLOOKUP(B61,[3]A!B$1:Y$48,24,0),IFERROR(VLOOKUP(B61,[3]B!B$1:Y$51,24,0),VLOOKUP(B61,[3]C!B$1:W$52,22,0)))","v":12},{"$f":"IFERROR(VLOOKUP(B61,[3]A!B$1:Z$48,25,0),IFERROR(VLOOKUP(B61,[3]B!B$1:Z$51,25,0),VLOOKUP(B61,[3]C!B$1:X$52,23,0)))","v":12},0,{"$f":"IFERROR(VLOOKUP(B61,[3]A!B$1:AA$48,26,0),IFERROR(VLOOKUP(B61,[3]B!B$1:AA$51,26,0),VLOOKUP(B61,[3]C!B$1:Y$52,24,0)))","v":2},{"$f":"IFERROR(VLOOKUP(B61,[3]A!B$1:AB$48,27,0),IFERROR(VLOOKUP(B61,[3]B!B$1:AB$51,27,0),VLOOKUP(B61,[3]C!B$1:Z$52,25,0)))","v":2},0,17,18,{"$f":"IFERROR(VLOOKUP(B61,[4]A!B$1:AL$48,37,0),IFERROR(VLOOKUP(B61,[4]B!B$1:AL$51,37,0),VLOOKUP(B61,[4]C!B$1:AL$52,37,0)))","v":0},3,3,{"$f":"IFERROR(VLOOKUP(B61,[4]A!B$1:AP$48,41,0),IFERROR(VLOOKUP(B61,[4]B!B$1:AP$51,41,0),VLOOKUP(B61,[4]C!B$1:AP$52,41,0)))","v":0},5,5,null,1,1,null,41,0,0,40,40,97.560975609756099,5,"B-7",10,10,25]
[61,"15BA005",{"$f":"VLOOKUP(B62,[1]C!B$1:AI$48,34,0)","v":0},{"$f":"VLOOKUP(B62,[1]C!B$1:AJ$48,35,0)","v":0},{"$f":"VLOOKUP(B62,[1]C!B$1:AL$48,37,0)","v":0},{"$f":"VLOOKUP(B62,[1]C!B$1:AM$48,38,0)","v":0},{"$f":"VLOOKUP(B62,[1]C!B$1:AN$48,39,0)","v":0},{"$f":"VLOOKUP(B62,[1]C!B$1:AP$48,41,0)","v":0},0,0,0,0,0,0,{"$f":"IFERROR(VLOOKUP(B62,[3]A!B$1:Y$48,24,0),IFERROR(VLOOKUP(B62,[3]B!B$1:Y$51,24,0),VLOOKUP(B62,[3]C!B$1:W$52,22,0)))","v":10},{"$f":"IFERROR(VLOOKUP(B62,[3]A!B$1:Z$48,25,0),IFERROR(VLOOKUP(B62,[3]B!B$1:Z$51,25,0),VLOOKUP(B62,[3]C!B$1:X$52,23,0)))","v":12},0,{"$f":"IFERROR(VLOOKUP(B62,[3]A!B$1:AA$48,26,0),IFERROR(VLOOKUP(B62,[3]B!B$1:AA$51,26,0),VLOOKUP(B62,[3]C!B$1:Y$52,24,0)))","v":2},{"$f":"IFERROR(VLOOKUP(B62,[3]A!B$1:AB$48,27,0),IFERROR(VLOOKUP(B62,[3]B!B$1:AB$51,27,0),VLOOKUP(B62,[3]C!B$1:Z$52,25,0)))","v":2},0,16,18,{"$f":"IFERROR(VLOOKUP(B62,[4]A!B$1:AL$48,37,0),IFERROR(VLOOKUP(B62,[4]B!B$1:AL$51,37,0),VLOOKUP(B62,[4]C!B$1:AL$52,37,0)))","v":0},2,3,{"$f":"IFERROR(VLOOKUP(B62,[4]A!B$1:AP$48,41,0),IFERROR(VLOOKUP(B62,[4]B!B$1:AP$51,41,0),VLOOKUP(B62,[4]C!B$1:AP$52,41,0)))","v":0},4,5,null,0,1,null,41,0,0,34,34,82.926829268292678,4,"C-14",10,9,23]
[62,"15BA010",{"$f":"VLOOKUP(B63,[1]C!B$1:AI$48,34,0)","v":0},{"$f":"VLOOKUP(B63,[1]C!B$1:AJ$48,35,0)","v":0},{"$f":"VLOOKUP(B63,[1]C!B$1:AL$48,37,0)","v":0},{"$f":"VLOOKUP(B63,[1]C!B$1:AM$48,38,0)","v":0},{"$f":"VLOOKUP(B63,[1]C!B$1:AN$48,39,0)","v":0},{"$f":"VLOOKUP(B63,[1]C!B$1:AP$48,41,0)","v":0},0,0,0,0,0,0,{"$f":"IFERROR(VLOOKUP(B63,[3]A!B$1:Y$48,24,0),IFERROR(VLOOKUP(B63,[3]B!B$1:Y$51,24,0),VLOOKUP(B63,[3]C!B$1:W$52,22,0)))","v":12},{"$f":"IFERROR(VLOOKUP(B63,[3]A!B$1:Z$48,25,0),IFERROR(VLOOKUP(B63,[3]B!B$1:Z$51,25,0),VLOOKUP(B63,[3]C!B$1:X$52,23,0)))","v":12},0,{"$f":"IFERROR(VLOOKUP(B63,[3]A!B$1:AA$48,26,0),IFERROR(VLOOKUP(B63,[3]B!B$1:AA$51,26,0),VLOOKUP(B63,[3]C!B$1:Y$52,24,0)))","v":2},{"$f":"IFERROR(VLOOKUP(B63,[3]A!B$1:AB$48,27,0),IFERROR(VLOOKUP(B63,[3]B!B$1:AB$51,27,0),VLOOKUP(B63,[3]C!B$1:Z$52,25,0)))","v":2},0,18,18,{"$f":"IFERROR(VLOOKUP(B63,[4]A!B$1:AL$48,37,0),IFERROR(VLOOKUP(B63,[4]B!B$1:AL$51,37,0),VLOOKUP(B63,[4]C!B$1:AL$52,37,0)))","v":0},3,3,{"$f":"IFERROR(VLOOKUP(B63,[4]A!B$1:AP$48,41,0),IFERROR(VLOOKUP(B63,[4]B!B$1:AP$51,41,0),VLOOKUP(B63,[4]C!B$1:AP$52,41,0)))","v":0},5,5,null,1,1,null,41,0,0,41,41,100,5,"C-14",10,10,25]
[63,"15BA018",{"$f":"VLOOKUP(B64,[1]C!B$1:AI$48,34,0)","v":0},{"$f":"VLOOKUP(B64,[1]C!B$1:AJ$48,35,0)","v":0},{"$f":"VLOOKUP(B64,[1]C!B$1:AL$48,37,0)","v":0},{"$f":"VLOOKUP(B64,[1]C!B$1:AM$48,38,0)","v":0},{"$f":"VLOOKUP(B64,[1]C!B$1:AN$48,39,0)","v":0},{"$f":"VLOOKUP(B64,[1]C!B$1:AP$48,41,0)","v":0},0,0,0,0,0,0,{"$f":"IFERROR(VLOOKUP(B64,[3]A!B$1:Y$48,24,0),IFERROR(VLOOKUP(B64,[3]B!B$1:Y$51,24,0),VLOOKUP(B64,[3]C!B$1:W$52,22,0)))","v":8},{"$f":"IFERROR(VLOOKUP(B64,[3]A!B$1:Z$48,25,0),IFERROR(VLOOKUP(B64,[3]B!B$1:Z$51,25,0),VLOOKUP(B64,[3]C!B$1:X$52,23,0)))","v":12},0,{"$f":"IFERROR(VLOOKUP(B64,[3]A!B$1:AA$48,26,0),IFERROR(VLOOKUP(B64,[3]B!B$1:AA$51,26,0),VLOOKUP(B64,[3]C!B$1:Y$52,24,0)))","v":0},{"$f":"IFERROR(VLOOKUP(B64,[3]A!B$1:AB$48,27,0),IFERROR(VLOOKUP(B64,[3]B!B$1:AB$51,27,0),VLOOKUP(B64,[3]C!B$1:Z$52,25,0)))","v":2},0,16,18,{"$f":"IFERROR(VLOOKUP(B64,[4]A!B$1:AL$48,37,0),IFERROR(VLOOKUP(B64,[4]B!B$1:AL$51,37,0),VLOOKUP(B64,[4]C!B$1:AL$52,37,0)))","v":0},2,3,{"$f":"IFERROR(VLOOKUP(B64,[4]A!B$1:AP$48,41,0),IFERROR(VLOOKUP(B64,[4]B!B$1:AP$51,41,0),VLOOKUP(B64,[4]C!B$1:AP$52,41,0)))","v":0},4,5,null,1,1,null,41,0,0,31,31,75.609756097560975,3,"C-14",10,9,22]
[64,"15BA020",{"$f":"VLOOKUP(B65,[1]C!B$1:AI$48,34,0)","v":0},{"$f":"VLOOKUP(B65,[1]C!B$1:AJ$48,35,0)","v":0},{"$f":"VLOOKUP(B65,[1]C!B$1:AL$48,37,0)","v":0},{"$f":"VLOOKUP(B65,[1]C!B$1:AM$48,38,0)","v":0},{"$f":"VLOOKUP(B65,[1]C!B$1:AN$48,39,0)","v":0},{"$f":"VLOOKUP(B65,[1]C!B$1:AP$48,41,0)","v":0},0,0,0,0,0,0,{"$f":"IFERROR(VLOOKUP(B65,[3]A!B$1:Y$48,24,0),IFERROR(VLOOKUP(B65,[3]B!B$1:Y$51,24,0),VLOOKUP(B65,[3]C!B$1:W$52,22,0)))","v":6},{"$f":"IFERROR(VLOOKUP(B65,[3]A!B$1:Z$48,25,0),IFERROR(VLOOKUP(B65,[3]B!B$1:Z$51,25,0),VLOOKUP(B65,[3]C!B$1:X$52,23,0)))","v":12},0,{"$f":"IFERROR(VLOOKUP(B65,[3]A!B$1:AA$48,26,0),IFERROR(VLOOKUP(B65,[3]B!B$1:AA$51,26,0),VLOOKUP(B65,[3]C!B$1:Y$52,24,0)))","v":0},{"$f":"IFERROR(VLOOKUP(B65,[3]A!B$1:AB$48,27,0),IFERROR(VLOOKUP(B65,[3]B!B$1:AB$51,27,0),VLOOKUP(B65,[3]C!B$1:Z$52,25,0)))","v":0},0,{"$f":"IFERROR(VLOOKUP(B65,[4]A!B$1:AI$48,34,0),IFERROR(VLOOKUP(B65,[4]B!B$1:AI$51,34,0),VLOOKUP(B65,[4]C!B$1:AI$52,34,0)))","v":0},{"$f":"IFERROR(VLOOKUP(B65,[4]A!B$1:AJ$48,35,0),IFERROR(VLOOKUP(B65,[4]B!B$1:AJ$51,35,0),VLOOKUP(B65,[4]C!B$1:AJ$52,35,0)))","v":0},{"$f":"IFERROR(VLOOKUP(B65,[4]A!B$1:AL$48,37,0),IFERROR(VLOOKUP(B65,[4]B!B$1:AL$51,37,0),VLOOKUP(B65,[4]C!B$1:AL$52,37,0)))","v":0},{"$f":"IFERROR(VLOOKUP(B65,[4]A!B$1:AM$48,38,0),IFERROR(VLOOKUP(B65,[4]B!B$1:AM$51,38,0),VLOOKUP(B65,[4]C!B$1:AM$52,38,0)))","v":0},{"$f":"IFERROR(VLOOKUP(B65,[4]A!B$1:AN$48,39,0),IFERROR(VLOOKUP(B65,[4]B!B$1:AN$51,39,0),VLOOKUP(B65,[4]C!B$1:AN$52,39,0)))","v":0},{"$f":"IFERROR(VLOOKUP(B65,[4]A!B$1:AP$48,41,0),IFERROR(VLOOKUP(B65,[4]B!B$1:AP$51,41,0),VLOOKUP(B65,[4]C!B$1:AP$52,41,0)))","v":0},0,0,null,0,0,null,0,0,0,0,0,0,0]
[65,"15BA025",{"$f":"VLOOKUP(B66,[1]C!B$1:AI$48,34,0)","v":0},{"$f":"VLOOKUP(B66,[1]C!B$1:AJ$48,35,0)","v":0},{"$f":"VLOOKUP(B66,[1]C!B$1:AL$48,37,0)","v":0},{"$f":"VLOOKUP(B66,[1]C!B$1:AM$48,38,0)","v":0},{"$f":"VLOOKUP(B66,[1]C!B$1:AN$48,39,0)","v":0},{"$f":"VLOOKUP(B66,[1]C!B$1:AP$48,41,0)","v":0},0,0,0,0,0,0,{"$f":"IFERROR(VLOOKUP(B66,[3]A!B$1:Y$48,24,0),IFERROR(VLOOKUP(B66,[3]B!B$1:Y$51,24,0),VLOOKUP(B66,[3]C!B$1:W$52,22,0)))","v":7},{"$f":"IFERROR(VLOOKUP(B66,[3]A!B$1:Z$48,25,0),IFERROR(VLOOKUP(B66,[3]B!B$1:Z$51,25,0),VLOOKUP(B66,[3]C!B$1:X$52,23,0)))","v":12},0,{"$f":"IFERROR(VLOOKUP(B66,[3]A!B$1:AA$48,26,0),IFERROR(VLOOKUP(B66,[3]B!B$1:AA$51,26,0),VLOOKUP(B66,[3]C!B$1:Y$52,24,0)))","v":1},{"$f":"IFERROR(VLOOKUP(B66,[3]A!B$1:AB$48,27,0),IFERROR(VLOOKUP(B66,[3]B!B$1:AB$51,27,0),VLOOKUP(B66,[3]C!B$1:Z$52,25,0)))","v":2},0,15,18,{"$f":"IFERROR(VLOOKUP(B66,[4]A!B$1:AL$48,37,0),IFERROR(VLOOKUP(B66,[4]B!B$1:AL$51,37,0),VLOOKUP(B66,[4]C!B$1:AL$52,37,0)))","v":0},2,3,{"$f":"IFERROR(VLOOKUP(B66,[4]A!B$1:AP$48,41,0),IFERROR(VLOOKUP(B66,[4]B!B$1:AP$51,41,0),VLOOKUP(B66,[4]C!B$1:AP$52,41,0)))","v":0},4,5,null,1,1,null,41,0,0,30,30,73.170731707317074,2,"C-14",10,10,22]
[66,"15BA028",{"$f":"VLOOKUP(B67,[1]C!B$1:AI$48,34,0)","v":0},{"$f":"VLOOKUP(B67,[1]C!B$1:AJ$48,35,0)","v":0},{"$f":"VLOOKUP(B67,[1]C!B$1:AL$48,37,0)","v":0},{"$f":"VLOOKUP(B67,[1]C!B$1:AM$48,38,0)","v":0},{"$f":"VLOOKUP(B67,[1]C!B$1:AN$48,39,0)","v":0},{"$f":"VLOOKUP(B67,[1]C!B$1:AP$48,41,0)","v":0},0,0,0,0,0,0,{"$f":"IFERROR(VLOOKUP(B67,[3]A!B$1:Y$48,24,0),IFERROR(VLOOKUP(B67,[3]B!B$1:Y$51,24,0),VLOOKUP(B67,[3]C!B$1:W$52,22,0)))","v":0},{"$f":"IFERROR(VLOOKUP(B67,[3]A!B$1:Z$48,25,0),IFERROR(VLOOKUP(B67,[3]B!B$1:Z$51,25,0),VLOOKUP(B67,[3]C!B$1:X$52,23,0)))","v":0},0,{"$f":"IFERROR(VLOOKUP(B67,[3]A!B$1:AA$48,26,0),IFERROR(VLOOKUP(B67,[3]B!B$1:AA$51,26,0),VLOOKUP(B67,[3]C!B$1:Y$52,24,0)))","v":1},{"$f":"IFERROR(VLOOKUP(B67,[3]A!B$1:AB$48,27,0),IFERROR(VLOOKUP(B67,[3]B!B$1:AB$51,27,0),VLOOKUP(B67,[3]C!B$1:Z$52,25,0)))","v":2},0,{"$f":"IFERROR(VLOOKUP(B67,[4]A!B$1:AI$48,34,0),IFERROR(VLOOKUP(B67,[4]B!B$1:AI$51,34,0),VLOOKUP(B67,[4]C!B$1:AI$52,34,0)))","v":0},{"$f":"IFERROR(VLOOKUP(B67,[4]A!B$1:AJ$48,35,0),IFERROR(VLOOKUP(B67,[4]B!B$1:AJ$51,35,0),VLOOKUP(B67,[4]C!B$1:AJ$52,35,0)))","v":0},{"$f":"IFERROR(VLOOKUP(B67,[4]A!B$1:AL$48,37,0),IFERROR(VLOOKUP(B67,[4]B!B$1:AL$51,37,0),VLOOKUP(B67,[4]C!B$1:AL$52,37,0)))","v":0},2,3,{"$f":"IFERROR(VLOOKUP(B67,[4]A!B$1:AP$48,41,0),IFERROR(VLOOKUP(B67,[4]B!B$1:AP$51,41,0),VLOOKUP(B67,[4]C!B$1:AP$52,41,0)))","v":0},3,5,null,1,1,null,11,0,0,7,7,63.636363636363633,0,"C-14",10,null,10]
[67,"15BA031",{"$f":"VLOOKUP(B68,[1]C!B$1:AI$48,34,0)","v":0},{"$f":"VLOOKUP(B68,[1]C!B$1:AJ$48,35,0)","v":0},{"$f":"VLOOKUP(B68,[1]C!B$1:AL$48,37,0)","v":0},{"$f":"VLOOKUP(B68,[1]C!B$1:AM$48,38,0)","v":0},{"$f":"VLOOKUP(B68,[1]C!B$1:AN$48,39,0)","v":0},{"$f":"VLOOKUP(B68,[1]C!B$1:AP$48,41,0)","v":0},0,0,0,0,0,0,{"$f":"IFERROR(VLOOKUP(B68,[3]A!B$1:Y$48,24,0),IFERROR(VLOOKUP(B68,[3]B!B$1:Y$51,24,0),VLOOKUP(B68,[3]C!B$1:W$52,22,0)))","v":10},{"$f":"IFERROR(VLOOKUP(B68,[3]A!B$1:Z$48,25,0),IFERROR(VLOOKUP(B68,[3]B!B$1:Z$51,25,0),VLOOKUP(B68,[3]C!B$1:X$52,23,0)))","v":12},0,{"$f":"IFERROR(VLOOKUP(B68,[3]A!B$1:AA$48,26,0),IFERROR(VLOOKUP(B68,[3]B!B$1:AA$51,26,0),VLOOKUP(B68,[3]C!B$1:Y$52,24,0)))","v":2},{"$f":"IFERROR(VLOOKUP(B68,[3]A!B$1:AB$48,27,0),IFERROR(VLOOKUP(B68,[3]B!B$1:AB$51,27,0),VLOOKUP(B68,[3]C!B$1:Z$52,25,0)))","v":2},0,15,18,{"$f":"IFERROR(VLOOKUP(B68,[4]A!B$1:AL$48,37,0),IFERROR(VLOOKUP(B68,[4]B!B$1:AL$51,37,0),VLOOKUP(B68,[4]C!B$1:AL$52,37,0)))","v":0},2,3,{"$f":"IFERROR(VLOOKUP(B68,[4]A!B$1:AP$48,41,0),IFERROR(VLOOKUP(B68,[4]B!B$1:AP$51,41,0),VLOOKUP(B68,[4]C!B$1:AP$52,41,0)))","v":0},4,5,null,1,1,null,41,0,0,34,34,82.926829268292678,4,"C-14",10,9,23]
[68,"15BA032",{"$f":"VLOOKUP(B69,[1]C!B$1:AI$48,34,0)","v":0},{"$f":"VLOOKUP(B69,[1]C!B$1:AJ$48,35,0)","v":0},{"$f":"VLOOKUP(B69,[1]C!B$1:AL$48,37,0)","v":0},{"$f":"VLOOKUP(B69,[1]C!B$1:AM$48,38,0)","v":0},{"$f":"VLOOKUP(B69,[1]C!B$1:AN$48,39,0)","v":0},{"$f":"VLOOKUP(B69,[1]C!B$1:AP$48,41,0)","v":0},0,0,0,0,0,0,{"$f":"IFERROR(VLOOKUP(B69,[3]A!B$1:Y$48,24,0),IFERROR(VLOOKUP(B69,[3]B!B$1:Y$51,24,0),VLOOKUP(B69,[3]C!B$1:W$52,22,0)))","v":10},{"$f":"IFERROR(VLOOKUP(B69,[3]A!B$1:Z$48,25,0),IFERROR(VLOOKUP(B69,[3]B!B$1:Z$51,25,0),VLOOKUP(B69,[3]C!B$1:X$52,23,0)))","v":12},0,{"$f":"IFERROR(VLOOKUP(B69,[3]A!B$1:AA$48,26,0),IFERROR(VLOOKUP(B69,[3]B!B$1:AA$51,26,0),VLOOKUP(B69,[3]C!B$1:Y$52,24,0)))","v":2},{"$f":"IFERROR(VLOOKUP(B69,[3]A!B$1:AB$48,27,0),IFERROR(VLOOKUP(B69,[3]B!B$1:AB$51,27,0),VLOOKUP(B69,[3]C!B$1:Z$52,25,0)))","v":2},0,15,18,{"$f":"IFERROR(VLOOKUP(B69,[4]A!B$1:AL$48,37,0),IFERROR(VLOOKUP(B69,[4]B!B$1:AL$51,37,0),VLOOKUP(B69,[4]C!B$1:AL$52,37,0)))","v":0},2,3,{"$f":"IFERROR(VLOOKUP(B69,[4]A!B$1:AP$48,41,0),IFERROR(VLOOKUP(B69,[4]B!B$1:AP$51,41,0),VLOOKUP(B69,[4]C!B$1:AP$52,41,0)))","v":0},4,5,null,1,1,null,41,0,0,34,34,82.926829268292678,4,"C-14",10,9,23]
[69,"15BA034",{"$f":"VLOOKUP(B70,[1]C!B$1:AI$48,34,0)","v":0},{"$f":"VLOOKUP(B70,[1]C!B$1:AJ$48,35,0)","v":0},{"$f":"VLOOKUP(B70,[1]C!B$1:AL$48,37,0)","v":0},{"$f":"VLOOKUP(B70,[1]C!B$1:AM$48,38,0)","v":0},{"$f":"VLOOKUP(B70,[1]C!B$1:AN$48,39,0)","v":0},{"$f":"VLOOKUP(B70,[1]C!B$1:AP$48,41,0)","v":0},0,0,0,0,0,0,{"$f":"IFERROR(VLOOKUP(B70,[3]A!B$1:Y$48,24,0),IFERROR(VLOOKUP(B70,[3]B!B$1:Y$51,24,0),VLOOKUP(B70,[3]C!B$1:W$52,22,0)))","v":12},{"$f":"IFERROR(VLOOKUP(B70,[3]A!B$1:Z$48,25,0),IFERROR(VLOOKUP(B70,[3]B!B$1:Z$51,25,0),VLOOKUP(B70,[3]C!B$1:X$52,23,0)))","v":12},0,{"$f":"IFERROR(VLOOKUP(B70,[3]A!B$1:AA$48,26,0),IFERROR(VLOOKUP(B70,[3]B!B$1:AA$51,26,0),VLOOKUP(B70,[3]C!B$1:Y$52,24,0)))","v":2},{"$f":"IFERROR(VLOOKUP(B70,[3]A!B$1:AB$48,27,0),IFERROR(VLOOKUP(B70,[3]B!B$1:AB$51,27,0),VLOOKUP(B70,[3]C!B$1:Z$52,25,0)))","v":2},0,18,18,{"$f":"IFERROR(VLOOKUP(B70,[4]A!B$1:AL$48,37,0),IFERROR(VLOOKUP(B70,[4]B!B$1:AL$51,37,0),VLOOKUP(B70,[4]C!B$1:AL$52,37,0)))","v":0},2,3,{"$f":"IFERROR(VLOOKUP(B70,[4]A!B$1:AP$48,41,0),IFERROR(VLOOKUP(B70,[4]B!B$1:AP$51,41,0),VLOOKUP(B70,[4]C!B$1:AP$52,41,0)))","v":0},5,5,null,1,1,null,41,0,0,40,40,97.560975609756099,5,"C-14",10,10,25]
[70,"15BA037",{"$f":"VLOOKUP(B71,[1]C!B$1:AI$48,34,0)","v":0},{"$f":"VLOOKUP(B71,[1]C!B$1:AJ$48,35,0)","v":0},{"$f":"VLOOKUP(B71,[1]C!B$1:AL$48,37,0)","v":0},{"$f":"VLOOKUP(B71,[1]C!B$1:AM$48,38,0)","v":0},{"$f":"VLOOKUP(B71,[1]C!B$1:AN$48,39,0)","v":0},{"$f":"VLOOKUP(B71,[1]C!B$1:AP$48,41,0)","v":0},0,0,0,0,0,0,{"$f":"IFERROR(VLOOKUP(B71,[3]A!B$1:Y$48,24,0),IFERROR(VLOOKUP(B71,[3]B!B$1:Y$51,24,0),VLOOKUP(B71,[3]C!B$1:W$52,22,0)))","v":2},{"$f":"IFERROR(VLOOKUP(B71,[3]A!B$1:Z$48,25,0),IFERROR(VLOOKUP(B71,[3]B!B$1:Z$51,25,0),VLOOKUP(B71,[3]C!B$1:X$52,23,0)))","v":12},0,{"$f":"IFERROR(VLOOKUP(B71,[3]A!B$1:AA$48,26,0),IFERROR(VLOOKUP(B71,[3]B!B$1:AA$51,26,0),VLOOKUP(B71,[3]C!B$1:Y$52,24,0)))","v":0},{"$f":"IFERROR(VLOOKUP(B71,[3]A!B$1:AB$48,27,0),IFERROR(VLOOKUP(B71,[3]B!B$1:AB$51,27,0),VLOOKUP(B71,[3]C!B$1:Z$52,25,0)))","v":2},0,15,18,{"$f":"IFERROR(VLOOKUP(B71,[4]A!B$1:AL$48,37,0),IFERROR(VLOOKUP(B71,[4]B!B$1:AL$51,37,0),VLOOKUP(B71,[4]C!B$1:AL$52,37,0)))","v":0},2,3,{"$f":"IFERROR(VLOOKUP(B71,[4]A!B$1:AP$48,41,0),IFERROR(VLOOKUP(B71,[4]B!B$1:AP$51,41,0),VLOOKUP(B71,[4]C!B$1:AP$52,41,0)))","v":0},4,5,null,1,1,null,41,0,0,24,24,58.536585365853654,0,"C-14",10,10,20]
[71,"15BA052",{"$f":"VLOOKUP(B72,[1]C!B$1:AI$48,34,0)","v":0},{"$f":"VLOOKUP(B72,[1]C!B$1:AJ$48,35,0)","v":0},{"$f":"VLOOKUP(B72,[1]C!B$1:AL$48,37,0)","v":0},{"$f":"VLOOKUP(B72,[1]C!B$1:AM$48,38,0)","v":0},{"$f":"VLOOKUP(B72,[1]C!B$1:AN$48,39,0)","v":0},{"$f":"VLOOKUP(B72,[1]C!B$1:AP$48,41,0)","v":0},0,0,0,0,0,0,{"$f":"IFERROR(VLOOKUP(B72,[3]A!B$1:Y$48,24,0),IFERROR(VLOOKUP(B72,[3]B!B$1:Y$51,24,0),VLOOKUP(B72,[3]C!B$1:W$52,22,0)))","v":12},{"$f":"IFERROR(VLOOKUP(B72,[3]A!B$1:Z$48,25,0),IFERROR(VLOOKUP(B72,[3]B!B$1:Z$51,25,0),VLOOKUP(B72,[3]C!B$1:X$52,23,0)))","v":12},0,{"$f":"IFERROR(VLOOKUP(B72,[3]A!B$1:AA$48,26,0),IFERROR(VLOOKUP(B72,[3]B!B$1:AA$51,26,0),VLOOKUP(B72,[3]C!B$1:Y$52,24,0)))","v":2},{"$f":"IFERROR(VLOOKUP(B72,[3]A!B$1:AB$48,27,0),IFERROR(VLOOKUP(B72,[3]B!B$1:AB$51,27,0),VLOOKUP(B72,[3]C!B$1:Z$52,25,0)))","v":2},0,18,18,{"$f":"IFERROR(VLOOKUP(B72,[4]A!B$1:AL$48,37,0),IFERROR(VLOOKUP(B72,[4]B!B$1:AL$51,37,0),VLOOKUP(B72,[4]C!B$1:AL$52,37,0)))","v":0},3,3,{"$f":"IFERROR(VLOOKUP(B72,[4]A!B$1:AP$48,41,0),IFERROR(VLOOKUP(B72,[4]B!B$1:AP$51,41,0),VLOOKUP(B72,[4]C!B$1:AP$52,41,0)))","v":0},5,5,null,1,1,null,41,0,0,41,41,100,5,"C-14",10,10,25]
[72,"15BA063",{"$f":"VLOOKUP(B73,[1]C!B$1:AI$48,34,0)","v":0},{"$f":"VLOOKUP(B73,[1]C!B$1:AJ$48,35,0)","v":0},{"$f":"VLOOKUP(B73,[1]C!B$1:AL$48,37,0)","v":0},{"$f":"VLOOKUP(B73,[1]C!B$1:AM$48,38,0)","v":0},{"$f":"VLOOKUP(B73,[1]C!B$1:AN$48,39,0)","v":0},{"$f":"VLOOKUP(B73,[1]C!B$1:AP$48,41,0)","v":0},0,0,0,0,0,0,{"$f":"IFERROR(VLOOKUP(B73,[3]A!B$1:Y$48,24,0),IFERROR(VLOOKUP(B73,[3]B!B$1:Y$51,24,0),VLOOKUP(B73,[3]C!B$1:W$52,22,0)))","v":12},{"$f":"IFERROR(VLOOKUP(B73,[3]A!B$1:Z$48,25,0),IFERROR(VLOOKUP(B73,[3]B!B$1:Z$51,25,0),VLOOKUP(B73,[3]C!B$1:X$52,23,0)))","v":12},0,{"$f":"IFERROR(VLOOKUP(B73,[3]A!B$1:AA$48,26,0),IFERROR(VLOOKUP(B73,[3]B!B$1:AA$51,26,0),VLOOKUP(B73,[3]C!B$1:Y$52,24,0)))","v":2},{"$f":"IFERROR(VLOOKUP(B73,[3]A!B$1:AB$48,27,0),IFERROR(VLOOKUP(B73,[3]B!B$1:AB$51,27,0),VLOOKUP(B73,[3]C!B$1:Z$52,25,0)))","v":2},0,18,18,{"$f":"IFERROR(VLOOKUP(B73,[4]A!B$1:AL$48,37,0),IFERROR(VLOOKUP(B73,[4]B!B$1:AL$51,37,0),VLOOKUP(B73,[4]C!B$1:AL$52,37,0)))","v":0},3,3,{"$f":"IFERROR(VLOOKUP(B73,[4]A!B$1:AP$48,41,0),IFERROR(VLOOKUP(B73,[4]B!B$1:AP$51,41,0),VLOOKUP(B73,[4]C!B$1:AP$52,41,0)))","v":0},5,5,null,1,1,null,41,0,0,41,41,100,5,"C-14",10,10,25]
[73,"15BA077",{"$f":"VLOOKUP(B74,[1]C!B$1:AI$48,34,0)","v":0},{"$f":"VLOOKUP(B74,[1]C!B$1:AJ$48,35,0)","v":0},{"$f":"VLOOKUP(B74,[1]C!B$1:AL$48,37,0)","v":0},{"$f":"VLOOKUP(B74,[1]C!B$1:AM$48,38,0)","v":0},{"$f":"VLOOKUP(B74,[1]C!B$1:AN$48,39,0)","v":0},{"$f":"VLOOKUP(B74,[1]C!B$1:AP$48,41,0)","v":0},0,0,0,0,0,0,{"$f":"IFERROR(VLOOKUP(B74,[3]A!B$1:Y$48,24,0),IFERROR(VLOOKUP(B74,[3]B!B$1:Y$51,24,0),VLOOKUP(B74,[3]C!B$1:W$52,22,0)))","v":8},{"$f":"IFERROR(VLOOKUP(B74,[3]A!B$1:Z$48,25,0),IFERROR(VLOOKUP(B74,[3]B!B$1:Z$51,25,0),VLOOKUP(B74,[3]C!B$1:X$52,23,0)))","v":12},0,{"$f":"IFERROR(VLOOKUP(B74,[3]A!B$1:AA$48,26,0),IFERROR(VLOOKUP(B74,[3]B!B$1:AA$51,26,0),VLOOKUP(B74,[3]C!B$1:Y$52,24,0)))","v":0},{"$f":"IFERROR(VLOOKUP(B74,[3]A!B$1:AB$48,27,0),IFERROR(VLOOKUP(B74,[3]B!B$1:AB$51,27,0),VLOOKUP(B74,[3]C!B$1:Z$52,25,0)))","v":0},0,15,18,{"$f":"IFERROR(VLOOKUP(B74,[4]A!B$1:AL$48,37,0),IFERROR(VLOOKUP(B74,[4]B!B$1:AL$51,37,0),VLOOKUP(B74,[4]C!B$1:AL$52,37,0)))","v":0},3,3,{"$f":"IFERROR(VLOOKUP(B74,[4]A!B$1:AP$48,41,0),IFERROR(VLOOKUP(B74,[4]B!B$1:AP$51,41,0),VLOOKUP(B74,[4]C!B$1:AP$52,41,0)))","v":0},4,5,null,0,1,null,39,0,0,30,30,76.923076923076934,3,"C-14",9,9,21]
[74,"15BA094",{"$f":"VLOOKUP(B75,[1]C!B$1:AI$48,34,0)","v":0},{"$f":"VLOOKUP(B75,[1]C!B$1:AJ$48,35,0)","v":0},{"$f":"VLOOKUP(B75,[1]C!B$1:AL$48,37,0)","v":0},{"$f":"VLOOKUP(B75,[1]C!B$1:AM$48,38,0)","v":0},{"$f":"VLOOKUP(B75,[1]C!B$1:AN$48,39,0)","v":0},{"$f":"VLOOKUP(B75,[1]C!B$1:AP$48,41,0)","v":0},0,0,0,0,0,0,{"$f":"IFERROR(VLOOKUP(B75,[3]A!B$1:Y$48,24,0),IFERROR(VLOOKUP(B75,[3]B!B$1:Y$51,24,0),VLOOKUP(B75,[3]C!B$1:W$52,22,0)))","v":10},{"$f":"IFERROR(VLOOKUP(B75,[3]A!B$1:Z$48,25,0),IFERROR(VLOOKUP(B75,[3]B!B$1:Z$51,25,0),VLOOKUP(B75,[3]C!B$1:X$52,23,0)))","v":12},0,{"$f":"IFERROR(VLOOKUP(B75,[3]A!B$1:AA$48,26,0),IFERROR(VLOOKUP(B75,[3]B!B$1:AA$51,26,0),VLOOKUP(B75,[3]C!B$1:Y$52,24,0)))","v":2},{"$f":"IFERROR(VLOOKUP(B75,[3]A!B$1:AB$48,27,0),IFERROR(VLOOKUP(B75,[3]B!B$1:AB$51,27,0),VLOOKUP(B75,[3]C!B$1:Z$52,25,0)))","v":2},0,15,18,{"$f":"IFERROR(VLOOKUP(B75,[4]A!B$1:AL$48,37,0),IFERROR(VLOOKUP(B75,[4]B!B$1:AL$51,37,0),VLOOKUP(B75,[4]C!B$1:AL$52,37,0)))","v":0},2,3,{"$f":"IFERROR(VLOOKUP(B75,[4]A!B$1:AP$48,41,0),IFERROR(VLOOKUP(B75,[4]B!B$1:AP$51,41,0),VLOOKUP(B75,[4]C!B$1:AP$52,41,0)))","v":0},4,5,null,1,1,null,41,0,0,34,34,82.926829268292678,4,"C-15",10,9,23]
[75,"15BA097",{"$f":"VLOOKUP(B76,[1]C!B$1:AI$48,34,0)","v":0},{"$f":"VLOOKUP(B76,[1]C!B$1:AJ$48,35,0)","v":0},{"$f":"VLOOKUP(B76,[1]C!B$1:AL$48,37,0)","v":0},{"$f":"VLOOKUP(B76,[1]C!B$1:AM$48,38,0)","v":0},{"$f":"VLOOKUP(B76,[1]C!B$1:AN$48,39,0)","v":0},{"$f":"VLOOKUP(B76,[1]C!B$1:AP$48,41,0)","v":0},0,0,0,0,0,0,{"$f":"IFERROR(VLOOKUP(B76,[3]A!B$1:Y$48,24,0),IFERROR(VLOOKUP(B76,[3]B!B$1:Y$51,24,0),VLOOKUP(B76,[3]C!B$1:W$52,22,0)))","v":12},{"$f":"IFERROR(VLOOKUP(B76,[3]A!B$1:Z$48,25,0),IFERROR(VLOOKUP(B76,[3]B!B$1:Z$51,25,0),VLOOKUP(B76,[3]C!B$1:X$52,23,0)))","v":12},0,{"$f":"IFERROR(VLOOKUP(B76,[3]A!B$1:AA$48,26,0),IFERROR(VLOOKUP(B76,[3]B!B$1:AA$51,26,0),VLOOKUP(B76,[3]C!B$1:Y$52,24,0)))","v":2},{"$f":"IFERROR(VLOOKUP(B76,[3]A!B$1:AB$48,27,0),IFERROR(VLOOKUP(B76,[3]B!B$1:AB$51,27,0),VLOOKUP(B76,[3]C!B$1:Z$52,25,0)))","v":2},0,17,18,{"$f":"IFERROR(VLOOKUP(B76,[4]A!B$1:AL$48,37,0),IFERROR(VLOOKUP(B76,[4]B!B$1:AL$51,37,0),VLOOKUP(B76,[4]C!B$1:AL$52,37,0)))","v":0},2,3,{"$f":"IFERROR(VLOOKUP(B76,[4]A!B$1:AP$48,41,0),IFERROR(VLOOKUP(B76,[4]B!B$1:AP$51,41,0),VLOOKUP(B76,[4]C!B$1:AP$52,41,0)))","v":0},5,5,null,1,1,null,41,0,0,39,39,95.121951219512198,5,"C-15",10,10,25]
[76,"15BA099",{"$f":"VLOOKUP(B77,[1]C!B$1:AI$48,34,0)","v":0},{"$f":"VLOOKUP(B77,[1]C!B$1:AJ$48,35,0)","v":0},{"$f":"VLOOKUP(B77,[1]C!B$1:AL$48,37,0)","v":0},{"$f":"VLOOKUP(B77,[1]C!B$1:AM$48,38,0)","v":0},{"$f":"VLOOKUP(B77,[1]C!B$1:AN$48,39,0)","v":0},{"$f":"VLOOKUP(B77,[1]C!B$1:AP$48,41,0)","v":0},0,0,0,0,0,0,{"$f":"IFERROR(VLOOKUP(B77,[3]A!B$1:Y$48,24,0),IFERROR(VLOOKUP(B77,[3]B!B$1:Y$51,24,0),VLOOKUP(B77,[3]C!B$1:W$52,22,0)))","v":11},{"$f":"IFERROR(VLOOKUP(B77,[3]A!B$1:Z$48,25,0),IFERROR(VLOOKUP(B77,[3]B!B$1:Z$51,25,0),VLOOKUP(B77,[3]C!B$1:X$52,23,0)))","v":12},0,{"$f":"IFERROR(VLOOKUP(B77,[3]A!B$1:AA$48,26,0),IFERROR(VLOOKUP(B77,[3]B!B$1:AA$51,26,0),VLOOKUP(B77,[3]C!B$1:Y$52,24,0)))","v":2},{"$f":"IFERROR(VLOOKUP(B77,[3]A!B$1:AB$48,27,0),IFERROR(VLOOKUP(B77,[3]B!B$1:AB$51,27,0),VLOOKUP(B77,[3]C!B$1:Z$52,25,0)))","v":2},0,17,18,{"$f":"IFERROR(VLOOKUP(B77,[4]A!B$1:AL$48,37,0),IFERROR(VLOOKUP(B77,[4]B!B$1:AL$51,37,0),VLOOKUP(B77,[4]C!B$1:AL$52,37,0)))","v":0},3,3,{"$f":"IFERROR(VLOOKUP(B77,[4]A!B$1:AP$48,41,0),IFERROR(VLOOKUP(B77,[4]B!B$1:AP$51,41,0),VLOOKUP(B77,[4]C!B$1:AP$52,41,0)))","v":0},5,5,null,1,1,null,41,0,0,39,39,95.121951219512198,5,"C-15",10,10,25]
[77,"15BA102",{"$f":"VLOOKUP(B78,[1]C!B$1:AI$48,34,0)","v":0},{"$f":"VLOOKUP(B78,[1]C!B$1:AJ$48,35,0)","v":0},{"$f":"VLOOKUP(B78,[1]C!B$1:AL$48,37,0)","v":0},{"$f":"VLOOKUP(B78,[1]C!B$1:AM$48,38,0)","v":0},{"$f":"VLOOKUP(B78,[1]C!B$1:AN$48,39,0)","v":0},{"$f":"VLOOKUP(B78,[1]C!B$1:AP$48,41,0)","v":0},0,0,0,0,0,0,{"$f":"IFERROR(VLOOKUP(B78,[3]A!B$1:Y$48,24,0),IFERROR(VLOOKUP(B78,[3]B!B$1:Y$51,24,0),VLOOKUP(B78,[3]C!B$1:W$52,22,0)))","v":10},{"$f":"IFERROR(VLOOKUP(B78,[3]A!B$1:Z$48,25,0),IFERROR(VLOOKUP(B78,[3]B!B$1:Z$51,25,0),VLOOKUP(B78,[3]C!B$1:X$52,23,0)))","v":12},0,{"$f":"IFERROR(VLOOKUP(B78,[3]A!B$1:AA$48,26,0),IFERROR(VLOOKUP(B78,[3]B!B$1:AA$51,26,0),VLOOKUP(B78,[3]C!B$1:Y$52,24,0)))","v":2},{"$f":"IFERROR(VLOOKUP(B78,[3]A!B$1:AB$48,27,0),IFERROR(VLOOKUP(B78,[3]B!B$1:AB$51,27,0),VLOOKUP(B78,[3]C!B$1:Z$52,25,0)))","v":2},0,16,18,{"$f":"IFERROR(VLOOKUP(B78,[4]A!B$1:AL$48,37,0),IFERROR(VLOOKUP(B78,[4]B!B$1:AL$51,37,0),VLOOKUP(B78,[4]C!B$1:AL$52,37,0)))","v":0},2,3,{"$f":"IFERROR(VLOOKUP(B78,[4]A!B$1:AP$48,41,0),IFERROR(VLOOKUP(B78,[4]B!B$1:AP$51,41,0),VLOOKUP(B78,[4]C!B$1:AP$52,41,0)))","v":0},4,5,null,0,1,null,41,0,0,34,34,82.926829268292678,4,"C-15",10,9,23]
[78,"15BA104",{"$f":"VLOOKUP(B79,[1]C!B$1:AI$48,34,0)","v":0},{"$f":"VLOOKUP(B79,[1]C!B$1:AJ$48,35,0)","v":0},{"$f":"VLOOKUP(B79,[1]C!B$1:AL$48,37,0)","v":0},{"$f":"VLOOKUP(B79,[1]C!B$1:AM$48,38,0)","v":0},{"$f":"VLOOKUP(B79,[1]C!B$1:AN$48,39,0)","v":0},{"$f":"VLOOKUP(B79,[1]C!B$1:AP$48,41,0)","v":0},0,0,0,0,0,0,{"$f":"IFERROR(VLOOKUP(B79,[3]A!B$1:Y$48,24,0),IFERROR(VLOOKUP(B79,[3]B!B$1:Y$51,24,0),VLOOKUP(B79,[3]C!B$1:W$52,22,0)))","v":3},{"$f":"IFERROR(VLOOKUP(B79,[3]A!B$1:Z$48,25,0),IFERROR(VLOOKUP(B79,[3]B!B$1:Z$51,25,0),VLOOKUP(B79,[3]C!B$1:X$52,23,0)))","v":12},0,{"$f":"IFERROR(VLOOKUP(B79,[3]A!B$1:AA$48,26,0),IFERROR(VLOOKUP(B79,[3]B!B$1:AA$51,26,0),VLOOKUP(B79,[3]C!B$1:Y$52,24,0)))","v":0},{"$f":"IFERROR(VLOOKUP(B79,[3]A!B$1:AB$48,27,0),IFERROR(VLOOKUP(B79,[3]B!B$1:AB$51,27,0),VLOOKUP(B79,[3]C!B$1:Z$52,25,0)))","v":2},0,16,18,{"$f":"IFERROR(VLOOKUP(B79,[4]A!B$1:AL$48,37,0),IFERROR(VLOOKUP(B79,[4]B!B$1:AL$51,37,0),VLOOKUP(B79,[4]C!B$1:AL$52,37,0)))","v":0},2,3,{"$f":"IFERROR(VLOOKUP(B79,[4]A!B$1:AP$48,41,0),IFERROR(VLOOKUP(B79,[4]B!B$1:AP$51,41,0),VLOOKUP(B79,[4]C!B$1:AP$52,41,0)))","v":0},4,5,null,0,1,null,41,0,0,25,25,60.975609756097562,0,"C-15",10,9,19]
[79,"15BA109",{"$f":"VLOOKUP(B80,[1]C!B$1:AI$48,34,0)","v":0},{"$f":"VLOOKUP(B80,[1]C!B$1:AJ$48,35,0)","v":0},{"$f":"VLOOKUP(B80,[1]C!B$1:AL$48,37,0)","v":0},{"$f":"VLOOKUP(B80,[1]C!B$1:AM$48,38,0)","v":0},{"$f":"VLOOKUP(B80,[1]C!B$1:AN$48,39,0)","v":0},{"$f":"VLOOKUP(B80,[1]C!B$1:AP$48,41,0)","v":0},0,0,0,0,0,0,{"$f":"IFERROR(VLOOKUP(B80,[3]A!B$1:Y$48,24,0),IFERROR(VLOOKUP(B80,[3]B!B$1:Y$51,24,0),VLOOKUP(B80,[3]C!B$1:W$52,22,0)))","v":10},{"$f":"IFERROR(VLOOKUP(B80,[3]A!B$1:Z$48,25,0),IFERROR(VLOOKUP(B80,[3]B!B$1:Z$51,25,0),VLOOKUP(B80,[3]C!B$1:X$52,23,0)))","v":12},0,{"$f":"IFERROR(VLOOKUP(B80,[3]A!B$1:AA$48,26,0),IFERROR(VLOOKUP(B80,[3]B!B$1:AA$51,26,0),VLOOKUP(B80,[3]C!B$1:Y$52,24,0)))","v":2},{"$f":"IFERROR(VLOOKUP(B80,[3]A!B$1:AB$48,27,0),IFERROR(VLOOKUP(B80,[3]B!B$1:AB$51,27,0),VLOOKUP(B80,[3]C!B$1:Z$52,25,0)))","v":2},0,17,18,{"$f":"IFERROR(VLOOKUP(B80,[4]A!B$1:AL$48,37,0),IFERROR(VLOOKUP(B80,[4]B!B$1:AL$51,37,0),VLOOKUP(B80,[4]C!B$1:AL$52,37,0)))","v":0},3,3,{"$f":"IFERROR(VLOOKUP(B80,[4]A!B$1:AP$48,41,0),IFERROR(VLOOKUP(B80,[4]B!B$1:AP$51,41,0),VLOOKUP(B80,[4]C!B$1:AP$52,41,0)))","v":0},5,5,null,1,1,null,41,0,0,38,38,92.682926829268297,5,"C-15",10,10,25]
[80,"15BA118",{"$f":"VLOOKUP(B81,[1]C!B$1:AI$48,34,0)","v":0},{"$f":"VLOOKUP(B81,[1]C!B$1:AJ$48,35,0)","v":0},{"$f":"VLOOKUP(B81,[1]C!B$1:AL$48,37,0)","v":0},{"$f":"VLOOKUP(B81,[1]C!B$1:AM$48,38,0)","v":0},{"$f":"VLOOKUP(B81,[1]C!B$1:AN$48,39,0)","v":0},{"$f":"VLOOKUP(B81,[1]C!B$1:AP$48,41,0)","v":0},0,0,0,0,0,0,{"$f":"IFERROR(VLOOKUP(B81,[3]A!B$1:Y$48,24,0),IFERROR(VLOOKUP(B81,[3]B!B$1:Y$51,24,0),VLOOKUP(B81,[3]C!B$1:W$52,22,0)))","v":12},{"$f":"IFERROR(VLOOKUP(B81,[3]A!B$1:Z$48,25,0),IFERROR(VLOOKUP(B81,[3]B!B$1:Z$51,25,0),VLOOKUP(B81,[3]C!B$1:X$52,23,0)))","v":12},0,{"$f":"IFERROR(VLOOKUP(B81,[3]A!B$1:AA$48,26,0),IFERROR(VLOOKUP(B81,[3]B!B$1:AA$51,26,0),VLOOKUP(B81,[3]C!B$1:Y$52,24,0)))","v":2},{"$f":"IFERROR(VLOOKUP(B81,[3]A!B$1:AB$48,27,0),IFERROR(VLOOKUP(B81,[3]B!B$1:AB$51,27,0),VLOOKUP(B81,[3]C!B$1:Z$52,25,0)))","v":2},0,17,18,{"$f":"IFERROR(VLOOKUP(B81,[4]A!B$1:AL$48,37,0),IFERROR(VLOOKUP(B81,[4]B!B$1:AL$51,37,0),VLOOKUP(B81,[4]C!B$1:AL$52,37,0)))","v":0},3,3,{"$f":"IFERROR(VLOOKUP(B81,[4]A!B$1:AP$48,41,0),IFERROR(VLOOKUP(B81,[4]B!B$1:AP$51,41,0),VLOOKUP(B81,[4]C!B$1:AP$52,41,0)))","v":0},5,5,null,1,1,null,{"$f":"SUM(D81,G81,J81,M81,P81,S81,V81,Y81,AB81,AE81)","v":41},{"$f":"SUM(E81,H81,K81,N81,Q81,T81,W81,Z81,AC81,AF81)","v":0},{"$f":"FLOOR(IF(AH81<(1/3*(AG81)),AH81,(1/3*(AG81))),1)","v":0},{"$f":"SUM(C81,F81,I81,L81,O81,R81,U81,X81,AA81,AD81)","v":40},{"$f":"IF(SUM(AJ81,AI81)>AG81,AG81,SUM(AJ81,AI81))","v":40},{"$f":"(AK81/AG81)*100","v":97.560975609756099},{"$f":"IF(AL81>=85,5,(IF(AND(AL81>=80,AL81<85),4,(IF(AND(AL81>=75,AL81<80),3,(IF(AND(AL81>=70,AL81<75),2,(IF(AND(AL81>67,AL81<70),1,0)))))))))","v":5},"C-15",10,10,{"$f":"SUM(AM81,AO81,AP81,)","v":25}]
[81,"15BA121",{"$f":"VLOOKUP(B82,[1]C!B$1:AI$48,34,0)","v":0},{"$f":"VLOOKUP(B82,[1]C!B$1:AJ$48,35,0)","v":0},{"$f":"VLOOKUP(B82,[1]C!B$1:AL$48,37,0)","v":0},{"$f":"VLOOKUP(B82,[1]C!B$1:AM$48,38,0)","v":0},{"$f":"VLOOKUP(B82,[1]C!B$1:AN$48,39,0)","v":0},{"$f":"VLOOKUP(B82,[1]C!B$1:AP$48,41,0)","v":0},0,0,0,0,0,0,{"$f":"IFERROR(VLOOKUP(B82,[3]A!B$1:Y$48,24,0),IFERROR(VLOOKUP(B82,[3]B!B$1:Y$51,24,0),VLOOKUP(B82,[3]C!B$1:W$52,22,0)))","v":2},{"$f":"IFERROR(VLOOKUP(B82,[3]A!B$1:Z$48,25,0),IFERROR(VLOOKUP(B82,[3]B!B$1:Z$51,25,0),VLOOKUP(B82,[3]C!B$1:X$52,23,0)))","v":12},0,{"$f":"IFERROR(VLOOKUP(B82,[3]A!B$1:AA$48,26,0),IFERROR(VLOOKUP(B82,[3]B!B$1:AA$51,26,0),VLOOKUP(B82,[3]C!B$1:Y$52,24,0)))","v":0},{"$f":"IFERROR(VLOOKUP(B82,[3]A!B$1:AB$48,27,0),IFERROR(VLOOKUP(B82,[3]B!B$1:AB$51,27,0),VLOOKUP(B82,[3]C!B$1:Z$52,25,0)))","v":2},0,10,18,{"$f":"IFERROR(VLOOKUP(B82,[4]A!B$1:AL$48,37,0),IFERROR(VLOOKUP(B82,[4]B!B$1:AL$51,37,0),VLOOKUP(B82,[4]C!B$1:AL$52,37,0)))","v":0},1,3,{"$f":"IFERROR(VLOOKUP(B82,[4]A!B$1:AP$48,41,0),IFERROR(VLOOKUP(B82,[4]B!B$1:AP$51,41,0),VLOOKUP(B82,[4]C!B$1:AP$52,41,0)))","v":0},3,5,null,0,1,null,41,0,0,16,16,39.024390243902438,0,"C-15",10,9,19]
[82,"15BA125",{"$f":"VLOOKUP(B83,[1]C!B$1:AI$48,34,0)","v":0},{"$f":"VLOOKUP(B83,[1]C!B$1:AJ$48,35,0)","v":0},{"$f":"VLOOKUP(B83,[1]C!B$1:AL$48,37,0)","v":0},{"$f":"VLOOKUP(B83,[1]C!B$1:AM$48,38,0)","v":0},{"$f":"VLOOKUP(B83,[1]C!B$1:AN$48,39,0)","v":0},{"$f":"VLOOKUP(B83,[1]C!B$1:AP$48,41,0)","v":0},0,0,0,0,0,0,{"$f":"IFERROR(VLOOKUP(B83,[3]A!B$1:Y$48,24,0),IFERROR(VLOOKUP(B83,[3]B!B$1:Y$51,24,0),VLOOKUP(B83,[3]C!B$1:W$52,22,0)))","v":10},{"$f":"IFERROR(VLOOKUP(B83,[3]A!B$1:Z$48,25,0),IFERROR(VLOOKUP(B83,[3]B!B$1:Z$51,25,0),VLOOKUP(B83,[3]C!B$1:X$52,23,0)))","v":12},0,{"$f":"IFERROR(VLOOKUP(B83,[3]A!B$1:AA$48,26,0),IFERROR(VLOOKUP(B83,[3]B!B$1:AA$51,26,0),VLOOKUP(B83,[3]C!B$1:Y$52,24,0)))","v":2},{"$f":"IFERROR(VLOOKUP(B83,[3]A!B$1:AB$48,27,0),IFERROR(VLOOKUP(B83,[3]B!B$1:AB$51,27,0),VLOOKUP(B83,[3]C!B$1:Z$52,25,0)))","v":2},0,16,18,{"$f":"IFERROR(VLOOKUP(B83,[4]A!B$1:AL$48,37,0),IFERROR(VLOOKUP(B83,[4]B!B$1:AL$51,37,0),VLOOKUP(B83,[4]C!B$1:AL$52,37,0)))","v":0},2,3,{"$f":"IFERROR(VLOOKUP(B83,[4]A!B$1:AP$48,41,0),IFERROR(VLOOKUP(B83,[4]B!B$1:AP$51,41,0),VLOOKUP(B83,[4]C!B$1:AP$52,41,0)))","v":0},4,5,null,1,1,null,41,0,0,35,35,85.365853658536579,5,"C-15",10,9,24]
[83,"15BA145",{"$f":"VLOOKUP(B84,[1]C!B$1:AI$48,34,0)","v":0},{"$f":"VLOOKUP(B84,[1]C!B$1:AJ$48,35,0)","v":0},{"$f":"VLOOKUP(B84,[1]C!B$1:AL$48,37,0)","v":0},{"$f":"VLOOKUP(B84,[1]C!B$1:AM$48,38,0)","v":0},{"$f":"VLOOKUP(B84,[1]C!B$1:AN$48,39,0)","v":0},{"$f":"VLOOKUP(B84,[1]C!B$1:AP$48,41,0)","v":0},0,0,0,0,0,0,{"$f":"IFERROR(VLOOKUP(B84,[3]A!B$1:Y$48,24,0),IFERROR(VLOOKUP(B84,[3]B!B$1:Y$51,24,0),VLOOKUP(B84,[3]C!B$1:W$52,22,0)))","v":10},{"$f":"IFERROR(VLOOKUP(B84,[3]A!B$1:Z$48,25,0),IFERROR(VLOOKUP(B84,[3]B!B$1:Z$51,25,0),VLOOKUP(B84,[3]C!B$1:X$52,23,0)))","v":12},0,{"$f":"IFERROR(VLOOKUP(B84,[3]A!B$1:AA$48,26,0),IFERROR(VLOOKUP(B84,[3]B!B$1:AA$51,26,0),VLOOKUP(B84,[3]C!B$1:Y$52,24,0)))","v":2},{"$f":"IFERROR(VLOOKUP(B84,[3]A!B$1:AB$48,27,0),IFERROR(VLOOKUP(B84,[3]B!B$1:AB$51,27,0),VLOOKUP(B84,[3]C!B$1:Z$52,25,0)))","v":2},0,16,18,{"$f":"IFERROR(VLOOKUP(B84,[4]A!B$1:AL$48,37,0),IFERROR(VLOOKUP(B84,[4]B!B$1:AL$51,37,0),VLOOKUP(B84,[4]C!B$1:AL$52,37,0)))","v":0},3,3,{"$f":"IFERROR(VLOOKUP(B84,[4]A!B$1:AP$48,41,0),IFERROR(VLOOKUP(B84,[4]B!B$1:AP$51,41,0),VLOOKUP(B84,[4]C!B$1:AP$52,41,0)))","v":0},4,5,null,1,1,null,41,0,0,36,36,87.804878048780495,5,"C-15",10,10,25]
[84,"15BA147",{"$f":"VLOOKUP(B85,[1]C!B$1:AI$48,34,0)","v":0},{"$f":"VLOOKUP(B85,[1]C!B$1:AJ$48,35,0)","v":0},{"$f":"VLOOKUP(B85,[1]C!B$1:AL$48,37,0)","v":0},{"$f":"VLOOKUP(B85,[1]C!B$1:AM$48,38,0)","v":0},{"$f":"VLOOKUP(B85,[1]C!B$1:AN$48,39,0)","v":0},{"$f":"VLOOKUP(B85,[1]C!B$1:AP$48,41,0)","v":0},0,0,0,0,0,0,{"$f":"IFERROR(VLOOKUP(B85,[3]A!B$1:Y$48,24,0),IFERROR(VLOOKUP(B85,[3]B!B$1:Y$51,24,0),VLOOKUP(B85,[3]C!B$1:W$52,22,0)))","v":2},{"$f":"IFERROR(VLOOKUP(B85,[3]A!B$1:Z$48,25,0),IFERROR(VLOOKUP(B85,[3]B!B$1:Z$51,25,0),VLOOKUP(B85,[3]C!B$1:X$52,23,0)))","v":12},0,{"$f":"IFERROR(VLOOKUP(B85,[3]A!B$1:AA$48,26,0),IFERROR(VLOOKUP(B85,[3]B!B$1:AA$51,26,0),VLOOKUP(B85,[3]C!B$1:Y$52,24,0)))","v":0},{"$f":"IFERROR(VLOOKUP(B85,[3]A!B$1:AB$48,27,0),IFERROR(VLOOKUP(B85,[3]B!B$1:AB$51,27,0),VLOOKUP(B85,[3]C!B$1:Z$52,25,0)))","v":2},0,{"$f":"IFERROR(VLOOKUP(B85,[4]A!B$1:AI$48,34,0),IFERROR(VLOOKUP(B85,[4]B!B$1:AI$51,34,0),VLOOKUP(B85,[4]C!B$1:AI$52,34,0)))","v":0},{"$f":"IFERROR(VLOOKUP(B85,[4]A!B$1:AJ$48,35,0),IFERROR(VLOOKUP(B85,[4]B!B$1:AJ$51,35,0),VLOOKUP(B85,[4]C!B$1:AJ$52,35,0)))","v":0},{"$f":"IFERROR(VLOOKUP(B85,[4]A!B$1:AL$48,37,0),IFERROR(VLOOKUP(B85,[4]B!B$1:AL$51,37,0),VLOOKUP(B85,[4]C!B$1:AL$52,37,0)))","v":0},{"$f":"IFERROR(VLOOKUP(B85,[4]A!B$1:AM$48,38,0),IFERROR(VLOOKUP(B85,[4]B!B$1:AM$51,38,0),VLOOKUP(B85,[4]C!B$1:AM$52,38,0)))","v":0},3,{"$f":"IFERROR(VLOOKUP(B85,[4]A!B$1:AP$48,41,0),IFERROR(VLOOKUP(B85,[4]B!B$1:AP$51,41,0),VLOOKUP(B85,[4]C!B$1:AP$52,41,0)))","v":0},1,5,null,1,1,null,23,0,0,4,4,17.391304347826086,0,"C-15",0,0,0]
[85,"15BA152",0,0,0,0,0,0,0,0,0,0,0,0,{"$f":"IFERROR(VLOOKUP(B86,[3]A!B$1:Y$48,24,0),IFERROR(VLOOKUP(B86,[3]B!B$1:Y$51,24,0),VLOOKUP(B86,[3]C!B$1:W$52,22,0)))","v":12},{"$f":"IFERROR(VLOOKUP(B86,[3]A!B$1:Z$48,25,0),IFERROR(VLOOKUP(B86,[3]B!B$1:Z$51,25,0),VLOOKUP(B86,[3]C!B$1:X$52,23,0)))","v":12},0,{"$f":"IFERROR(VLOOKUP(B86,[3]A!B$1:AA$48,26,0),IFERROR(VLOOKUP(B86,[3]B!B$1:AA$51,26,0),VLOOKUP(B86,[3]C!B$1:Y$52,24,0)))","v":2},{"$f":"IFERROR(VLOOKUP(B86,[3]A!B$1:AB$48,27,0),IFERROR(VLOOKUP(B86,[3]B!B$1:AB$51,27,0),VLOOKUP(B86,[3]C!B$1:Z$52,25,0)))","v":2},0,17,10,{"$f":"IFERROR(VLOOKUP(B86,[4]A!B$1:AL$48,37,0),IFERROR(VLOOKUP(B86,[4]B!B$1:AL$51,37,0),VLOOKUP(B86,[4]C!B$1:AL$52,37,0)))","v":0},3,3,{"$f":"IFERROR(VLOOKUP(B86,[4]A!B$1:AP$48,41,0),IFERROR(VLOOKUP(B86,[4]B!B$1:AP$51,41,0),VLOOKUP(B86,[4]C!B$1:AP$52,41,0)))","v":0},5,5,null,1,1,null,33,0,0,40,33,100,5,"C-15",10,10,25]

{"sheet":"Generic Calculus","index":5,"n_rows":32,"n_cols":43,"rows_kept":32,"cut":false,"hidden":false,"merged":[]}
["Sr. No.","Roll No.","July  Th ClassesAttended","July  Th Classes Held","July Final Calculated Benefits ","July  Tut ClassesAttended","July  Tut Classes Held","July Tut Final Calculated Benefits ","Aug  Th ClassesAttended","Aug  Th Classes Held","Aug Final Calculated Benefits ","Aug  Tut ClassesAttended","Aug  Tut Classes Held","Aug Tut Final Calculated Benefits ","Sep  Th ClassesAttended","Sep  Th Classes Held","Sep Final Calculated Benefits ","Sep  Tut ClassesAttended","Sep  Tut Classes Held","Sep Tut Final Calculated Benefits ","Oct  Th ClassesAttended","Oct  Th Classes Held","Oct Final Calculated Benefits ","Oct  Tut ClassesAttended","Oct  Tut Classes Held","Oct Tut Final Calculated Benefits ","nOV  Th ClassesAttended","Nov  Th Classes Held","Nov Final Calculated Benefits ","Nov  Tut ClassesAttended","Nov  Tut Classes Held","Nov Tut Final Calculated Benefits ","Total Classes Held in Semester","Total Benefits initially given in the semester","Final Benefits given to the student","Total Classes Attended by the student","Total classes attended + attendance benefits","Attendance Percentage","Attendance Marks","Tut Group"," Assignment (tutorial test) marks out of 10","Assignment (class test) marks out of 10","Final Marks Out of 25"]
[1,"15BA002",{"$f":"VLOOKUP(B2,[1]A!B$1:AQ$48,42,0)","v":0},{"$f":"VLOOKUP(B2,[1]A!B$1:AR$48,43,0)","v":0},{"$f":"VLOOKUP(B2,[1]A!B$1:AT$48,45,0)","v":0},{"$f":"VLOOKUP(B2,[1]A!B$1:AU$48,46,0)","v":0},{"$f":"VLOOKUP(B2,[1]A!B$1:AV$48,47,0)","v":0},{"$f":"VLOOKUP(B2,[1]A!B$1:AX$48,49,0)","v":0},0,0,0,0,0,0,{"$f":"IFERROR(VLOOKUP(B2,[6]A!B$1:AQ$48,42,0),IFERROR(VLOOKUP(B2,[6]B!B$1:AQ$51,42,0),VLOOKUP(B2,[6]C!B$1:AQ$52,42,0)))","v":16},{"$f":"IFERROR(VLOOKUP(B2,[6]A!B$1:AR$48,43,0),IFERROR(VLOOKUP(B2,[6]B!B$1:AR$51,43,0),VLOOKUP(B2,[6]C!B$1:AR$52,43,0)))","v":16},{"$f":"IFERROR(VLOOKUP(B2,[6]A!B$1:AT$48,45,0),IFERROR(VLOOKUP(B2,[6]B!B$1:AT$51,45,0),VLOOKUP(B2,[6]C!B$1:AT$52,45,0)))","v":0},{"$f":"IFERROR(VLOOKUP(B2,[6]A!B$1:AU$48,46,0),IFERROR(VLOOKUP(B2,[6]B!B$1:AU$51,46,0),VLOOKUP(B2,[6]C!B$1:AU$52,46,0)))","v":2},{"$f":"IFERROR(VLOOKUP(B2,[6]A!B$1:AV$48,47,0),IFERROR(VLOOKUP(B2,[6]B!B$1:AV$51,47,0),VLOOKUP(B2,[6]C!B$1:AV$52,47,0)))","v":2},{"$f":"IFERROR(VLOOKUP(B2,[6]A!B$1:AX$48,49,0),IFERROR(VLOOKUP(B2,[6]B!B$1:AX$51,49,0),VLOOKUP(B2,[6]C!B$1:AX$52,49,0)))","v":0},{"$f":"IFERROR(VLOOKUP(B2,[4]A!B$1:AQ$48,42,0),IFERROR(VLOOKUP(B2,[4]B!B$1:AQ$51,42,0),VLOOKUP(B2,[4]C!B$1:AQ$52,42,0)))","v":22},34,{"$f":"IFERROR(VLOOKUP(B2,[4]A!B$1:AT$48,45,0),IFERROR(VLOOKUP(B2,[4]B!B$1:AR$51,43,0),VLOOKUP(B2,[4]C!B$1:AR$52,43,0)))","v":0},{"$f":"IFERROR(VLOOKUP(B2,[4]A!B$1:AU$48,46,0),IFERROR(VLOOKUP(B2,[4]B!B$1:AU$51,46,0),VLOOKUP(B2,[4]C!B$1:AU$52,46,0)))","v":2},{"$f":"IFERROR(VLOOKUP(B2,[4]A!B$1:AV$48,47,0),IFERROR(VLOOKUP(B2,[4]B!B$1:AV$51,47,0),VLOOKUP(B2,[4]C!B$1:AV$52,47,0)))","v":3},{"$f":"IFERROR(VLOOKUP(B2,[4]A!B$1:AX$48,49,0),IFERROR(VLOOKUP(B2,[4]B!B$1:AX$51,49,0),VLOOKUP(B2,[4]C!B$1:AX$52,49,0)))","v":0},13,18,null,1,1,null,{"$f":"SUM(D2,G2,J2,M2,P2,S2,V2,Y2,AB2,AE2)","v":74},{"$f":"SUM(E2,H2,K2,N2,Q2,T2,W2,Z2,AC2,AF2)","v":0},{"$f":"FLOOR(IF(AH2<(1/3*(AG2)),AH2,(1/3*(AG2))),1)","v":0},{"$f":"SUM(C2,F2,I2,L2,O2,R2,U2,X2,AA2,AD2)","v":56},{"$f":"IF(SUM(AJ2,AI2)>AG2,AG2,SUM(AJ2,AI2))","v":56},{"$f":"(AK2/AG2)*100","v":75.675675675675677},{"$f":"IF(AL2>=85,5,(IF(AND(AL2>=80,AL2<85),4,(IF(AND(AL2>=75,AL2<80),3,(IF(AND(AL2>=70,AL2<75),2,(IF(AND(AL2>67,AL2<70),1,0)))))))))","v":3},"A-3",{"$f":"IFERROR(VLOOKUP(B2,[5]A!B$1:AK$48,36,0),IFERROR(VLOOKUP(B2,[5]B!B$1:AI$51,34,0),VLOOKUP(B2,[5]C!B$1:AG$52,32,0)))","v":9},8,{"$f":"SUM(AM2,AO2,AP2)","v":20}]
[2,"15BA007",{"$f":"VLOOKUP(B3,[1]A!B$1:AQ$48,42,0)","v":0},{"$f":"VLOOKUP(B3,[1]A!B$1:AR$48,43,0)","v":0},{"$f":"VLOOKUP(B3,[1]A!B$1:AT$48,45,0)","v":0},{"$f":"VLOOKUP(B3,[1]A!B$1:AU$48,46,0)","v":0},{"$f":"VLOOKUP(B3,[1]A!B$1:AV$48,47,0)","v":0},{"$f":"VLOOKUP(B3,[1]A!B$1:AX$48,49,0)","v":0},0,0,0,0,0,0,{"$f":"IFERROR(VLOOKUP(B3,[6]A!B$1:AQ$48,42,0),IFERROR(VLOOKUP(B3,[6]B!B$1:AQ$51,42,0),VLOOKUP(B3,[6]C!B$1:AQ$52,42,0)))","v":14},{"$f":"IFERROR(VLOOKUP(B3,[6]A!B$1:AR$48,43,0),IFERROR(VLOOKUP(B3,[6]B!B$1:AR$51,43,0),VLOOKUP(B3,[6]C!B$1:AR$52,43,0)))","v":16},{"$f":"IFERROR(VLOOKUP(B3,[6]A!B$1:AT$48,45,0),IFERROR(VLOOKUP(B3,[6]B!B$1:AT$51,45,0),VLOOKUP(B3,[6]C!B$1:AT$52,45,0)))","v":0},{"$f":"IFERROR(VLOOKUP(B3,[6]A!B$1:AU$48,46,0),IFERROR(VLOOKUP(B3,[6]B!B$1:AU$51,46,0),VLOOKUP(B3,[6]C!B$1:AU$52,46,0)))","v":2},{"$f":"IFERROR(VLOOKUP(B3,[6]A!B$1:AV$48,47,0),IFERROR(VLOOKUP(B3,[6]B!B$1:AV$51,47,0),VLOOKUP(B3,[6]C!B$1:AV$52,47,0)))","v":2},{"$f":"IFERROR(VLOOKUP(B3,[6]A!B$1:AX$48,49,0),IFERROR(VLOOKUP(B3,[6]B!B$1:AX$51,49,0),VLOOKUP(B3,[6]C!B$1:AX$52,49,0)))","v":0},31,34,{"$f":"IFERROR(VLOOKUP(B3,[4]A!B$1:AT$48,45,0),IFERROR(VLOOKUP(B3,[4]B!B$1:AR$51,43,0),VLOOKUP(B3,[4]C!B$1:AR$52,43,0)))","v":0},{"$f":"IFERROR(VLOOKUP(B3,[4]A!B$1:AU$48,46,0),IFERROR(VLOOKUP(B3,[4]B!B$1:AU$51,46,0),VLOOKUP(B3,[4]C!B$1:AU$52,46,0)))","v":2},{"$f":"IFERROR(VLOOKUP(B3,[4]A!B$1:AV$48,47,0),IFERROR(VLOOKUP(B3,[4]B!B$1:AV$51,47,0),VLOOKUP(B3,[4]C!B$1:AV$52,47,0)))","v":3},{"$f":"IFERROR(VLOOKUP(B3,[4]A!B$1:AX$48,49,0),IFERROR(VLOOKUP(B3,[4]B!B$1:AX$51,49,0),VLOOKUP(B3,[4]C!B$1:AX$52,49,0)))","v":0},15,18,null,1,1,null,74,0,0,65,65,87.837837837837839,5,"A-3",{"$f":"IFERROR(VLOOKUP(B3,[5]A!B$1:AK$48,36,0),IFERROR(VLOOKUP(B3,[5]B!B$1:AI$51,34,0),VLOOKUP(B3,[5]C!B$1:AG$52,32,0)))","v":10},10,25]
[3,"15BA026",{"$f":"VLOOKUP(B4,[1]A!B$1:AQ$48,42,0)","v":0},{"$f":"VLOOKUP(B4,[1]A!B$1:AR$48,43,0)","v":0},{"$f":"VLOOKUP(B4,[1]A!B$1:AT$48,45,0)","v":0},{"$f":"VLOOKUP(B4,[1]A!B$1:AU$48,46,0)","v":0},{"$f":"VLOOKUP(B4,[1]A!B$1:AV$48,47,0)","v":0},{"$f":"VLOOKUP(B4,[1]A!B$1:AX$48,49,0)","v":0},0,0,0,0,0,0,{"$f":"IFERROR(VLOOKUP(B4,[6]A!B$1:AQ$48,42,0),IFERROR(VLOOKUP(B4,[6]B!B$1:AQ$51,42,0),VLOOKUP(B4,[6]C!B$1:AQ$52,42,0)))","v":16},{"$f":"IFERROR(VLOOKUP(B4,[6]A!B$1:AR$48,43,0),IFERROR(VLOOKUP(B4,[6]B!B$1:AR$51,43,0),VLOOKUP(B4,[6]C!B$1:AR$52,43,0)))","v":16},{"$f":"IFERROR(VLOOKUP(B4,[6]A!B$1:AT$48,45,0),IFERROR(VLOOKUP(B4,[6]B!B$1:AT$51,45,0),VLOOKUP(B4,[6]C!B$1:AT$52,45,0)))","v":0},{"$f":"IFERROR(VLOOKUP(B4,[6]A!B$1:AU$48,46,0),IFERROR(VLOOKUP(B4,[6]B!B$1:AU$51,46,0),VLOOKUP(B4,[6]C!B$1:AU$52,46,0)))","v":2},{"$f":"IFERROR(VLOOKUP(B4,[6]A!B$1:AV$48,47,0),IFERROR(VLOOKUP(B4,[6]B!B$1:AV$51,47,0),VLOOKUP(B4,[6]C!B$1:AV$52,47,0)))","v":2},{"$f":"IFERROR(VLOOKUP(B4,[6]A!B$1:AX$48,49,0),IFERROR(VLOOKUP(B4,[6]B!B$1:AX$51,49,0),VLOOKUP(B4,[6]C!B$1:AX$52,49,0)))","v":0},25,34,{"$f":"IFERROR(VLOOKUP(B4,[4]A!B$1:AT$48,45,0),IFERROR(VLOOKUP(B4,[4]B!B$1:AR$51,43,0),VLOOKUP(B4,[4]C!B$1:AR$52,43,0)))","v":0},{"$f":"IFERROR(VLOOKUP(B4,[4]A!B$1:AU$48,46,0),IFERROR(VLOOKUP(B4,[4]B!B$1:AU$51,46,0),VLOOKUP(B4,[4]C!B$1:AU$52,46,0)))","v":2},{"$f":"IFERROR(VLOOKUP(B4,[4]A!B$1:AV$48,47,0),IFERROR(VLOOKUP(B4,[4]B!B$1:AV$51,47,0),VLOOKUP(B4,[4]C!B$1:AV$52,47,0)))","v":3},{"$f":"IFERROR(VLOOKUP(B4,[4]A!B$1:AX$48,49,0),IFERROR(VLOOKUP(B4,[4]B!B$1:AX$51,49,0),VLOOKUP(B4,[4]C!B$1:AX$52,49,0)))","v":0},13,18,null,1,1,null,74,0,0,59,59,79.729729729729726,3,"A-3",{"$f":"IFERROR(VLOOKUP(B4,[5]A!B$1:AK$48,36,0),IFERROR(VLOOKUP(B4,[5]B!B$1:AI$51,34,0),VLOOKUP(B4,[5]C!B$1:AG$52,32,0)))","v":10},10,23]
[4,"15BA035",{"$f":"VLOOKUP(B5,[1]A!B$1:AQ$48,42,0)","v":0},{"$f":"VLOOKUP(B5,[1]A!B$1:AR$48,43,0)","v":0},{"$f":"VLOOKUP(B5,[1]A!B$1:AT$48,45,0)","v":0},{"$f":"VLOOKUP(B5,[1]A!B$1:AU$48,46,0)","v":0},{"$f":"VLOOKUP(B5,[1]A!B$1:AV$48,47,0)","v":0},{"$f":"VLOOKUP(B5,[1]A!B$1:AX$48,49,0)","v":0},0,0,0,0,0,0,{"$f":"IFERROR(VLOOKUP(B5,[6]A!B$1:AQ$48,42,0),IFERROR(VLOOKUP(B5,[6]B!B$1:AQ$51,42,0),VLOOKUP(B5,[6]C!B$1:AQ$52,42,0)))","v":16},{"$f":"IFERROR(VLOOKUP(B5,[6]A!B$1:AR$48,43,0),IFERROR(VLOOKUP(B5,[6]B!B$1:AR$51,43,0),VLOOKUP(B5,[6]C!B$1:AR$52,43,0)))","v":16},{"$f":"IFERROR(VLOOKUP(B5,[6]A!B$1:AT$48,45,0),IFERROR(VLOOKUP(B5,[6]B!B$1:AT$51,45,0),VLOOKUP(B5,[6]C!B$1:AT$52,45,0)))","v":0},{"$f":"IFERROR(VLOOKUP(B5,[6]A!B$1:AU$48,46,0),IFERROR(VLOOKUP(B5,[6]B!B$1:AU$51,46,0),VLOOKUP(B5,[6]C!B$1:AU$52,46,0)))","v":2},{"$f":"IFERROR(VLOOKUP(B5,[6]A!B$1:AV$48,47,0),IFERROR(VLOOKUP(B5,[6]B!B$1:AV$51,47,0),VLOOKUP(B5,[6]C!B$1:AV$52,47,0)))","v":2},{"$f":"IFERROR(VLOOKUP(B5,[6]A!B$1:AX$48,49,0),IFERROR(VLOOKUP(B5,[6]B!B$1:AX$51,49,0),VLOOKUP(B5,[6]C!B$1:AX$52,49,0)))","v":0},25,34,{"$f":"IFERROR(VLOOKUP(B5,[4]A!B$1:AT$48,45,0),IFERROR(VLOOKUP(B5,[4]B!B$1:AR$51,43,0),VLOOKUP(B5,[4]C!B$1:AR$52,43,0)))","v":0},{"$f":"IFERROR(VLOOKUP(B5,[4]A!B$1:AU$48,46,0),IFERROR(VLOOKUP(B5,[4]B!B$1:AU$51,46,0),VLOOKUP(B5,[4]C!B$1:AU$52,46,0)))","v":1},{"$f":"IFERROR(VLOOKUP(B5,[4]A!B$1:AV$48,47,0),IFERROR(VLOOKUP(B5,[4]B!B$1:AV$51,47,0),VLOOKUP(B5,[4]C!B$1:AV$52,47,0)))","v":3},{"$f":"IFERROR(VLOOKUP(B5,[4]A!B$1:AX$48,49,0),IFERROR(VLOOKUP(B5,[4]B!B$1:AX$51,49,0),VLOOKUP(B5,[4]C!B$1:AX$52,49,0)))","v":0},12,18,null,1,1,null,74,0,0,57,57,77.027027027027032,3,"A-3",{"$f":"IFERROR(VLOOKUP(B5,[5]A!B$1:AK$48,36,0),IFERROR(VLOOKUP(B5,[5]B!B$1:AI$51,34,0),VLOOKUP(B5,[5]C!B$1:AG$52,32,0)))","v":10},9,22]
[5,"15BA048",{"$f":"VLOOKUP(B6,[1]A!B$1:AQ$48,42,0)","v":0},{"$f":"VLOOKUP(B6,[1]A!B$1:AR$48,43,0)","v":0},{"$f":"VLOOKUP(B6,[1]A!B$1:AT$48,45,0)","v":0},{"$f":"VLOOKUP(B6,[1]A!B$1:AU$48,46,0)","v":0},{"$f":"VLOOKUP(B6,[1]A!B$1:AV$48,47,0)","v":0},{"$f":"VLOOKUP(B6,[1]A!B$1:AX$48,49,0)","v":0},0,0,0,0,0,0,{"$f":"IFERROR(VLOOKUP(B6,[6]A!B$1:AQ$48,42,0),IFERROR(VLOOKUP(B6,[6]B!B$1:AQ$51,42,0),VLOOKUP(B6,[6]C!B$1:AQ$52,42,0)))","v":16},{"$f":"IFERROR(VLOOKUP(B6,[6]A!B$1:AR$48,43,0),IFERROR(VLOOKUP(B6,[6]B!B$1:AR$51,43,0),VLOOKUP(B6,[6]C!B$1:AR$52,43,0)))","v":16},{"$f":"IFERROR(VLOOKUP(B6,[6]A!B$1:AT$48,45,0),IFERROR(VLOOKUP(B6,[6]B!B$1:AT$51,45,0),VLOOKUP(B6,[6]C!B$1:AT$52,45,0)))","v":0},{"$f":"IFERROR(VLOOKUP(B6,[6]A!B$1:AU$48,46,0),IFERROR(VLOOKUP(B6,[6]B!B$1:AU$51,46,0),VLOOKUP(B6,[6]C!B$1:AU$52,46,0)))","v":2},{"$f":"IFERROR(VLOOKUP(B6,[6]A!B$1:AV$48,47,0),IFERROR(VLOOKUP(B6,[6]B!B$1:AV$51,47,0),VLOOKUP(B6,[6]C!B$1:AV$52,47,0)))","v":2},{"$f":"IFERROR(VLOOKUP(B6,[6]A!B$1:AX$48,49,0),IFERROR(VLOOKUP(B6,[6]B!B$1:AX$51,49,0),VLOOKUP(B6,[6]C!B$1:AX$52,49,0)))","v":0},31,34,{"$f":"IFERROR(VLOOKUP(B6,[4]A!B$1:AT$48,45,0),IFERROR(VLOOKUP(B6,[4]B!B$1:AR$51,43,0),VLOOKUP(B6,[4]C!B$1:AR$52,43,0)))","v":0},{"$f":"IFERROR(VLOOKUP(B6,[4]A!B$1:AU$48,46,0),IFERROR(VLOOKUP(B6,[4]B!B$1:AU$51,46,0),VLOOKUP(B6,[4]C!B$1:AU$52,46,0)))","v":1},{"$f":"IFERROR(VLOOKUP(B6,[4]A!B$1:AV$48,47,0),IFERROR(VLOOKUP(B6,[4]B!B$1:AV$51,47,0),VLOOKUP(B6,[4]C!B$1:AV$52,47,0)))","v":3},{"$f":"IFERROR(VLOOKUP(B6,[4]A!B$1:AX$48,49,0),IFERROR(VLOOKUP(B6,[4]B!B$1:AX$51,49,0),VLOOKUP(B6,[4]C!B$1:AX$52,49,0)))","v":0},12,18,null,1,1,null,74,0,0,63,63,85.13513513513513,5,"A-3",{"$f":"IFERROR(VLOOKUP(B6,[5]A!B$1:AK$48,36,0),IFERROR(VLOOKUP(B6,[5]B!B$1:AI$51,34,0),VLOOKUP(B6,[5]C!B$1:AG$52,32,0)))","v":10},10,25]
[6,"15BA110",{"$f":"VLOOKUP(B7,[1]A!B$1:AQ$48,42,0)","v":0},{"$f":"VLOOKUP(B7,[1]A!B$1:AR$48,43,0)","v":0},{"$f":"VLOOKUP(B7,[1]A!B$1:AT$48,45,0)","v":0},{"$f":"VLOOKUP(B7,[1]A!B$1:AU$48,46,0)","v":0},{"$f":"VLOOKUP(B7,[1]A!B$1:AV$48,47,0)","v":0},{"$f":"VLOOKUP(B7,[1]A!B$1:AX$48,49,0)","v":0},0,0,0,0,0,0,{"$f":"IFERROR(VLOOKUP(B7,[6]A!B$1:AQ$48,42,0),IFERROR(VLOOKUP(B7,[6]B!B$1:AQ$51,42,0),VLOOKUP(B7,[6]C!B$1:AQ$52,42,0)))","v":14},{"$f":"IFERROR(VLOOKUP(B7,[6]A!B$1:AR$48,43,0),IFERROR(VLOOKUP(B7,[6]B!B$1:AR$51,43,0),VLOOKUP(B7,[6]C!B$1:AR$52,43,0)))","v":16},{"$f":"IFERROR(VLOOKUP(B7,[6]A!B$1:AT$48,45,0),IFERROR(VLOOKUP(B7,[6]B!B$1:AT$51,45,0),VLOOKUP(B7,[6]C!B$1:AT$52,45,0)))","v":0},{"$f":"IFERROR(VLOOKUP(B7,[6]A!B$1:AU$48,46,0),IFERROR(VLOOKUP(B7,[6]B!B$1:AU$51,46,0),VLOOKUP(B7,[6]C!B$1:AU$52,46,0)))","v":2},{"$f":"IFERROR(VLOOKUP(B7,[6]A!B$1:AV$48,47,0),IFERROR(VLOOKUP(B7,[6]B!B$1:AV$51,47,0),VLOOKUP(B7,[6]C!B$1:AV$52,47,0)))","v":2},{"$f":"IFERROR(VLOOKUP(B7,[6]A!B$1:AX$48,49,0),IFERROR(VLOOKUP(B7,[6]B!B$1:AX$51,49,0),VLOOKUP(B7,[6]C!B$1:AX$52,49,0)))","v":0},14,34,{"$f":"IFERROR(VLOOKUP(B7,[4]A!B$1:AT$48,45,0),IFERROR(VLOOKUP(B7,[4]B!B$1:AR$51,43,0),VLOOKUP(B7,[4]C!B$1:AR$52,43,0)))","v":0},{"$f":"IFERROR(VLOOKUP(B7,[4]A!B$1:AU$48,46,0),IFERROR(VLOOKUP(B7,[4]B!B$1:AU$51,46,0),VLOOKUP(B7,[4]C!B$1:AU$52,46,0)))","v":1},{"$f":"IFERROR(VLOOKUP(B7,[4]A!B$1:AV$48,47,0),IFERROR(VLOOKUP(B7,[4]B!B$1:AV$51,47,0),VLOOKUP(B7,[4]C!B$1:AV$52,47,0)))","v":3},{"$f":"IFERROR(VLOOKUP(B7,[4]A!B$1:AX$48,49,0),IFERROR(VLOOKUP(B7,[4]B!B$1:AX$51,49,0),VLOOKUP(B7,[4]C!B$1:AX$52,49,0)))","v":0},11,18,null,0,1,null,74,0,0,42,42,56.756756756756758,0,"A-3",{"$f":"IFERROR(VLOOKUP(B7,[5]A!B$1:AK$48,36,0),IFERROR(VLOOKUP(B7,[5]B!B$1:AI$51,34,0),VLOOKUP(B7,[5]C!B$1:AG$52,32,0)))","v":9},4,13]
[7,"15BA112",{"$f":"VLOOKUP(B8,[1]A!B$1:AQ$48,42,0)","v":0},{"$f":"VLOOKUP(B8,[1]A!B$1:AR$48,43,0)","v":0},{"$f":"VLOOKUP(B8,[1]A!B$1:AT$48,45,0)","v":0},{"$f":"VLOOKUP(B8,[1]A!B$1:AU$48,46,0)","v":0},{"$f":"VLOOKUP(B8,[1]A!B$1:AV$48,47,0)","v":0},{"$f":"VLOOKUP(B8,[1]A!B$1:AX$48,49,0)","v":0},0,0,0,0,0,0,{"$f":"IFERROR(VLOOKUP(B8,[6]A!B$1:AQ$48,42,0),IFERROR(VLOOKUP(B8,[6]B!B$1:AQ$51,42,0),VLOOKUP(B8,[6]C!B$1:AQ$52,42,0)))","v":16},{"$f":"IFERROR(VLOOKUP(B8,[6]A!B$1:AR$48,43,0),IFERROR(VLOOKUP(B8,[6]B!B$1:AR$51,43,0),VLOOKUP(B8,[6]C!B$1:AR$52,43,0)))","v":16},{"$f":"IFERROR(VLOOKUP(B8,[6]A!B$1:AT$48,45,0),IFERROR(VLOOKUP(B8,[6]B!B$1:AT$51,45,0),VLOOKUP(B8,[6]C!B$1:AT$52,45,0)))","v":0},{"$f":"IFERROR(VLOOKUP(B8,[6]A!B$1:AU$48,46,0),IFERROR(VLOOKUP(B8,[6]B!B$1:AU$51,46,0),VLOOKUP(B8,[6]C!B$1:AU$52,46,0)))","v":2},{"$f":"IFERROR(VLOOKUP(B8,[6]A!B$1:AV$48,47,0),IFERROR(VLOOKUP(B8,[6]B!B$1:AV$51,47,0),VLOOKUP(B8,[6]C!B$1:AV$52,47,0)))","v":2},{"$f":"IFERROR(VLOOKUP(B8,[6]A!B$1:AX$48,49,0),IFERROR(VLOOKUP(B8,[6]B!B$1:AX$51,49,0),VLOOKUP(B8,[6]C!B$1:AX$52,49,0)))","v":0},25,34,{"$f":"IFERROR(VLOOKUP(B8,[4]A!B$1:AT$48,45,0),IFERROR(VLOOKUP(B8,[4]B!B$1:AR$51,43,0),VLOOKUP(B8,[4]C!B$1:AR$52,43,0)))","v":0},{"$f":"IFERROR(VLOOKUP(B8,[4]A!B$1:AU$48,46,0),IFERROR(VLOOKUP(B8,[4]B!B$1:AU$51,46,0),VLOOKUP(B8,[4]C!B$1:AU$52,46,0)))","v":1},{"$f":"IFERROR(VLOOKUP(B8,[4]A!B$1:AV$48,47,0),IFERROR(VLOOKUP(B8,[4]B!B$1:AV$51,47,0),VLOOKUP(B8,[4]C!B$1:AV$52,47,0)))","v":3},{"$f":"IFERROR(VLOOKUP(B8,[4]A!B$1:AX$48,49,0),IFERROR(VLOOKUP(B8,[4]B!B$1:AX$51,49,0),VLOOKUP(B8,[4]C!B$1:AX$52,49,0)))","v":0},11,18,null,0,1,null,74,0,0,55,55,74.324324324324323,2,"A-3",{"$f":"IFERROR(VLOOKUP(B8,[5]A!B$1:AK$48,36,0),IFERROR(VLOOKUP(B8,[5]B!B$1:AI$51,34,0),VLOOKUP(B8,[5]C!B$1:AG$52,32,0)))","v":10},9,21]
[8,"15BA119",{"$f":"VLOOKUP(B9,[1]A!B$1:AQ$48,42,0)","v":0},{"$f":"VLOOKUP(B9,[1]A!B$1:AR$48,43,0)","v":0},{"$f":"VLOOKUP(B9,[1]A!B$1:AT$48,45,0)","v":0},{"$f":"VLOOKUP(B9,[1]A!B$1:AU$48,46,0)","v":0},{"$f":"VLOOKUP(B9,[1]A!B$1:AV$48,47,0)","v":0},{"$f":"VLOOKUP(B9,[1]A!B$1:AX$48,49,0)","v":0},0,0,0,0,0,0,{"$f":"IFERROR(VLOOKUP(B9,[6]A!B$1:AQ$48,42,0),IFERROR(VLOOKUP(B9,[6]B!B$1:AQ$51,42,0),VLOOKUP(B9,[6]C!B$1:AQ$52,42,0)))","v":0},{"$f":"IFERROR(VLOOKUP(B9,[6]A!B$1:AR$48,43,0),IFERROR(VLOOKUP(B9,[6]B!B$1:AR$51,43,0),VLOOKUP(B9,[6]C!B$1:AR$52,43,0)))","v":0},{"$f":"IFERROR(VLOOKUP(B9,[6]A!B$1:AT$48,45,0),IFERROR(VLOOKUP(B9,[6]B!B$1:AT$51,45,0),VLOOKUP(B9,[6]C!B$1:AT$52,45,0)))","v":0},{"$f":"IFERROR(VLOOKUP(B9,[6]A!B$1:AU$48,46,0),IFERROR(VLOOKUP(B9,[6]B!B$1:AU$51,46,0),VLOOKUP(B9,[6]C!B$1:AU$52,46,0)))","v":0},{"$f":"IFERROR(VLOOKUP(B9,[6]A!B$1:AV$48,47,0),IFERROR(VLOOKUP(B9,[6]B!B$1:AV$51,47,0),VLOOKUP(B9,[6]C!B$1:AV$52,47,0)))","v":0},{"$f":"IFERROR(VLOOKUP(B9,[6]A!B$1:AX$48,49,0),IFERROR(VLOOKUP(B9,[6]B!B$1:AX$51,49,0),VLOOKUP(B9,[6]C!B$1:AX$52,49,0)))","v":0},19,34,{"$f":"IFERROR(VLOOKUP(B9,[4]A!B$1:AT$48,45,0),IFERROR(VLOOKUP(B9,[4]B!B$1:AR$51,43,0),VLOOKUP(B9,[4]C!B$1:AR$52,43,0)))","v":0},{"$f":"IFERROR(VLOOKUP(B9,[4]A!B$1:AU$48,46,0),IFERROR(VLOOKUP(B9,[4]B!B$1:AU$51,46,0),VLOOKUP(B9,[4]C!B$1:AU$52,46,0)))","v":1},{"$f":"IFERROR(VLOOKUP(B9,[4]A!B$1:AV$48,47,0),IFERROR(VLOOKUP(B9,[4]B!B$1:AV$51,47,0),VLOOKUP(B9,[4]C!B$1:AV$52,47,0)))","v":3},{"$f":"IFERROR(VLOOKUP(B9,[4]A!B$1:AX$48,49,0),IFERROR(VLOOKUP(B9,[4]B!B$1:AX$51,49,0),VLOOKUP(B9,[4]C!B$1:AX$52,49,0)))","v":0},11,18,3,1,1,null,56,3,3,32,35,62.5,0,"A-3",{"$f":"IFERROR(VLOOKUP(B9,[5]A!B$1:AK$48,36,0),IFERROR(VLOOKUP(B9,[5]B!B$1:AI$51,34,0),VLOOKUP(B9,[5]C!B$1:AG$52,32,0)))","v":10},8,18]
[9,"15BA126",{"$f":"VLOOKUP(B10,[1]A!B$1:AQ$48,42,0)","v":0},{"$f":"VLOOKUP(B10,[1]A!B$1:AR$48,43,0)","v":0},{"$f":"VLOOKUP(B10,[1]A!B$1:AT$48,45,0)","v":0},{"$f":"VLOOKUP(B10,[1]A!B$1:AU$48,46,0)","v":0},{"$f":"VLOOKUP(B10,[1]A!B$1:AV$48,47,0)","v":0},{"$f":"VLOOKUP(B10,[1]A!B$1:AX$48,49,0)","v":0},0,0,0,0,0,0,{"$f":"IFERROR(VLOOKUP(B10,[6]A!B$1:AQ$48,42,0),IFERROR(VLOOKUP(B10,[6]B!B$1:AQ$51,42,0),VLOOKUP(B10,[6]C!B$1:AQ$52,42,0)))","v":6},{"$f":"IFERROR(VLOOKUP(B10,[6]A!B$1:AR$48,43,0),IFERROR(VLOOKUP(B10,[6]B!B$1:AR$51,43,0),VLOOKUP(B10,[6]C!B$1:AR$52,43,0)))","v":16},{"$f":"IFERROR(VLOOKUP(B10,[6]A!B$1:AT$48,45,0),IFERROR(VLOOKUP(B10,[6]B!B$1:AT$51,45,0),VLOOKUP(B10,[6]C!B$1:AT$52,45,0)))","v":0},{"$f":"IFERROR(VLOOKUP(B10,[6]A!B$1:AU$48,46,0),IFERROR(VLOOKUP(B10,[6]B!B$1:AU$51,46,0),VLOOKUP(B10,[6]C!B$1:AU$52,46,0)))","v":1},{"$f":"IFERROR(VLOOKUP(B10,[6]A!B$1:AV$48,47,0),IFERROR(VLOOKUP(B10,[6]B!B$1:AV$51,47,0),VLOOKUP(B10,[6]C!B$1:AV$52,47,0)))","v":2},{"$f":"IFERROR(VLOOKUP(B10,[6]A!B$1:AX$48,49,0),IFERROR(VLOOKUP(B10,[6]B!B$1:AX$51,49,0),VLOOKUP(B10,[6]C!B$1:AX$52,49,0)))","v":0},12,34,{"$f":"IFERROR(VLOOKUP(B10,[4]A!B$1:AT$48,45,0),IFERROR(VLOOKUP(B10,[4]B!B$1:AR$51,43,0),VLOOKUP(B10,[4]C!B$1:AR$52,43,0)))","v":0},{"$f":"IFERROR(VLOOKUP(B10,[4]A!B$1:AU$48,46,0),IFERROR(VLOOKUP(B10,[4]B!B$1:AU$51,46,0),VLOOKUP(B10,[4]C!B$1:AU$52,46,0)))","v":0},{"$f":"IFERROR(VLOOKUP(B10,[4]A!B$1:AV$48,47,0),IFERROR(VLOOKUP(B10,[4]B!B$1:AV$51,47,0),VLOOKUP(B10,[4]C!B$1:AV$52,47,0)))","v":3},{"$f":"IFERROR(VLOOKUP(B10,[4]A!B$1:AX$48,49,0),IFERROR(VLOOKUP(B10,[4]B!B$1:AX$51,49,0),VLOOKUP(B10,[4]C!B$1:AX$52,49,0)))","v":0},7,18,null,0,1,null,74,0,0,26,26,35.135135135135137,0,"A-3",{"$f":"IFERROR(VLOOKUP(B10,[5]A!B$1:AK$48,36,0),IFERROR(VLOOKUP(B10,[5]B!B$1:AI$51,34,0),VLOOKUP(B10,[5]C!B$1:AG$52,32,0)))","v":10},8,18]
[10,"15BA012",{"$f":"VLOOKUP(B11,[1]B!B$1:AQ$48,42,0)","v":0},{"$f":"VLOOKUP(B11,[1]B!B$1:AR$48,43,0)","v":0},{"$f":"VLOOKUP(B11,[1]B!B$1:AT$48,45,0)","v":0},{"$f":"VLOOKUP(B11,[1]B!B$1:AU$48,46,0)","v":0},{"$f":"VLOOKUP(B11,[1]B!B$1:AV$48,47,0)","v":0},{"$f":"VLOOKUP(B11,[1]B!B$1:AX$48,49,0)","v":0},0,0,0,0,0,0,{"$f":"IFERROR(VLOOKUP(B11,[6]A!B$1:AQ$48,42,0),IFERROR(VLOOKUP(B11,[6]B!B$1:AQ$51,42,0),VLOOKUP(B11,[6]C!B$1:AQ$52,42,0)))","v":6},{"$f":"IFERROR(VLOOKUP(B11,[6]A!B$1:AR$48,43,0),IFERROR(VLOOKUP(B11,[6]B!B$1:AR$51,43,0),VLOOKUP(B11,[6]C!B$1:AR$52,43,0)))","v":16},{"$f":"IFERROR(VLOOKUP(B11,[6]A!B$1:AT$48,45,0),IFERROR(VLOOKUP(B11,[6]B!B$1:AT$51,45,0),VLOOKUP(B11,[6]C!B$1:AT$52,45,0)))","v":0},{"$f":"IFERROR(VLOOKUP(B11,[6]A!B$1:AU$48,46,0),IFERROR(VLOOKUP(B11,[6]B!B$1:AU$51,46,0),VLOOKUP(B11,[6]C!B$1:AU$52,46,0)))","v":1},{"$f":"IFERROR(VLOOKUP(B11,[6]A!B$1:AV$48,47,0),IFERROR(VLOOKUP(B11,[6]B!B$1:AV$51,47,0),VLOOKUP(B11,[6]C!B$1:AV$52,47,0)))","v":2},{"$f":"IFERROR(VLOOKUP(B11,[6]A!B$1:AX$48,49,0),IFERROR(VLOOKUP(B11,[6]B!B$1:AX$51,49,0),VLOOKUP(B11,[6]C!B$1:AX$52,49,0)))","v":0},14,34,{"$f":"IFERROR(VLOOKUP(B11,[4]A!B$1:AT$48,45,0),IFERROR(VLOOKUP(B11,[4]B!B$1:AR$51,43,0),VLOOKUP(B11,[4]C!B$1:AR$52,43,0)))","v":22},{"$f":"IFERROR(VLOOKUP(B11,[4]A!B$1:AU$48,46,0),IFERROR(VLOOKUP(B11,[4]B!B$1:AU$51,46,0),VLOOKUP(B11,[4]C!B$1:AU$52,46,0)))","v":0},{"$f":"IFERROR(VLOOKUP(B11,[4]A!B$1:AV$48,47,0),IFERROR(VLOOKUP(B11,[4]B!B$1:AV$51,47,0),VLOOKUP(B11,[4]C!B$1:AV$52,47,0)))","v":3},{"$f":"IFERROR(VLOOKUP(B11,[4]A!B$1:AX$48,49,0),IFERROR(VLOOKUP(B11,[4]B!B$1:AX$51,49,0),VLOOKUP(B11,[4]C!B$1:AX$52,49,0)))","v":0},7,18,null,0,1,null,74,22,22,28,50,67.567567567567565,1,"B-10",{"$f":"IFERROR(VLOOKUP(B11,[5]A!B$1:AK$48,36,0),IFERROR(VLOOKUP(B11,[5]B!B$1:AI$51,34,0),VLOOKUP(B11,[5]C!B$1:AG$52,32,0)))","v":10},7,18]
[11,"15BA050",{"$f":"VLOOKUP(B12,[1]B!B$1:AQ$48,42,0)","v":0},{"$f":"VLOOKUP(B12,[1]B!B$1:AR$48,43,0)","v":0},{"$f":"VLOOKUP(B12,[1]B!B$1:AT$48,45,0)","v":0},{"$f":"VLOOKUP(B12,[1]B!B$1:AU$48,46,0)","v":0},{"$f":"VLOOKUP(B12,[1]B!B$1:AV$48,47,0)","v":0},{"$f":"VLOOKUP(B12,[1]B!B$1:AX$48,49,0)","v":0},0,0,0,0,0,0,{"$f":"IFERROR(VLOOKUP(B12,[6]A!B$1:AQ$48,42,0),IFERROR(VLOOKUP(B12,[6]B!B$1:AQ$51,42,0),VLOOKUP(B12,[6]C!B$1:AQ$52,42,0)))","v":0},{"$f":"IFERROR(VLOOKUP(B12,[6]A!B$1:AR$48,43,0),IFERROR(VLOOKUP(B12,[6]B!B$1:AR$51,43,0),VLOOKUP(B12,[6]C!B$1:AR$52,43,0)))","v":16},{"$f":"IFERROR(VLOOKUP(B12,[6]A!B$1:AT$48,45,0),IFERROR(VLOOKUP(B12,[6]B!B$1:AT$51,45,0),VLOOKUP(B12,[6]C!B$1:AT$52,45,0)))","v":0},{"$f":"IFERROR(VLOOKUP(B12,[6]A!B$1:AU$48,46,0),IFERROR(VLOOKUP(B12,[6]B!B$1:AU$51,46,0),VLOOKUP(B12,[6]C!B$1:AU$52,46,0)))","v":0},{"$f":"IFERROR(VLOOKUP(B12,[6]A!B$1:AV$48,47,0),IFERROR(VLOOKUP(B12,[6]B!B$1:AV$51,47,0),VLOOKUP(B12,[6]C!B$1:AV$52,47,0)))","v":2},{"$f":"IFERROR(VLOOKUP(B12,[6]A!B$1:AX$48,49,0),IFERROR(VLOOKUP(B12,[6]B!B$1:AX$51,49,0),VLOOKUP(B12,[6]C!B$1:AX$52,49,0)))","v":0},{"$f":"IFERROR(VLOOKUP(B12,[4]A!B$1:AQ$48,42,0),IFERROR(VLOOKUP(B12,[4]B!B$1:AQ$51,42,0),VLOOKUP(B12,[4]C!B$1:AQ$52,42,0)))","v":0},34,{"$f":"IFERROR(VLOOKUP(B12,[4]A!B$1:AT$48,45,0),IFERROR(VLOOKUP(B12,[4]B!B$1:AR$51,43,0),VLOOKUP(B12,[4]C!B$1:AR$52,43,0)))","v":22},{"$f":"IFERROR(VLOOKUP(B12,[4]A!B$1:AU$48,46,0),IFERROR(VLOOKUP(B12,[4]B!B$1:AU$51,46,0),VLOOKUP(B12,[4]C!B$1:AU$52,46,0)))","v":0},{"$f":"IFERROR(VLOOKUP(B12,[4]A!B$1:AV$48,47,0),IFERROR(VLOOKUP(B12,[4]B!B$1:AV$51,47,0),VLOOKUP(B12,[4]C!B$1:AV$52,47,0)))","v":3},{"$f":"IFERROR(VLOOKUP(B12,[4]A!B$1:AX$48,49,0),IFERROR(VLOOKUP(B12,[4]B!B$1:AX$51,49,0),VLOOKUP(B12,[4]C!B$1:AX$52,49,0)))","v":0},0,18,null,0,1,null,74,22,22,0,22,29.72972972972973,0,"B-10",{"$f":"IFERROR(VLOOKUP(B12,[5]A!B$1:AK$48,36,0),IFERROR(VLOOKUP(B12,[5]B!B$1:AI$51,34,0),VLOOKUP(B12,[5]C!B$1:AG$52,32,0)))","v":0},0,0]
[12,"15BA051",{"$f":"VLOOKUP(B13,[1]B!B$1:AQ$48,42,0)","v":0},{"$f":"VLOOKUP(B13,[1]B!B$1:AR$48,43,0)","v":0},{"$f":"VLOOKUP(B13,[1]B!B$1:AT$48,45,0)","v":0},{"$f":"VLOOKUP(B13,[1]B!B$1:AU$48,46,0)","v":0},{"$f":"VLOOKUP(B13,[1]B!B$1:AV$48,47,0)","v":0},{"$f":"VLOOKUP(B13,[1]B!B$1:AX$48,49,0)","v":0},0,0,0,0,0,0,{"$f":"IFERROR(VLOOKUP(B13,[6]A!B$1:AQ$48,42,0),IFERROR(VLOOKUP(B13,[6]B!B$1:AQ$51,42,0),VLOOKUP(B13,[6]C!B$1:AQ$52,42,0)))","v":8},{"$f":"IFERROR(VLOOKUP(B13,[6]A!B$1:AR$48,43,0),IFERROR(VLOOKUP(B13,[6]B!B$1:AR$51,43,0),VLOOKUP(B13,[6]C!B$1:AR$52,43,0)))","v":16},{"$f":"IFERROR(VLOOKUP(B13,[6]A!B$1:AT$48,45,0),IFERROR(VLOOKUP(B13,[6]B!B$1:AT$51,45,0),VLOOKUP(B13,[6]C!B$1:AT$52,45,0)))","v":0},{"$f":"IFERROR(VLOOKUP(B13,[6]A!B$1:AU$48,46,0),IFERROR(VLOOKUP(B13,[6]B!B$1:AU$51,46,0),VLOOKUP(B13,[6]C!B$1:AU$52,46,0)))","v":1},{"$f":"IFERROR(VLOOKUP(B13,[6]A!B$1:AV$48,47,0),IFERROR(VLOOKUP(B13,[6]B!B$1:AV$51,47,0),VLOOKUP(B13,[6]C!B$1:AV$52,47,0)))","v":2},{"$f":"IFERROR(VLOOKUP(B13,[6]A!B$1:AX$48,49,0),IFERROR(VLOOKUP(B13,[6]B!B$1:AX$51,49,0),VLOOKUP(B13,[6]C!B$1:AX$52,49,0)))","v":0},25,34,{"$f":"IFERROR(VLOOKUP(B13,[4]A!B$1:AT$48,45,0),IFERROR(VLOOKUP(B13,[4]B!B$1:AR$51,43,0),VLOOKUP(B13,[4]C!B$1:AR$52,43,0)))","v":22},{"$f":"IFERROR(VLOOKUP(B13,[4]A!B$1:AU$48,46,0),IFERROR(VLOOKUP(B13,[4]B!B$1:AU$51,46,0),VLOOKUP(B13,[4]C!B$1:AU$52,46,0)))","v":0},{"$f":"IFERROR(VLOOKUP(B13,[4]A!B$1:AV$48,47,0),IFERROR(VLOOKUP(B13,[4]B!B$1:AV$51,47,0),VLOOKUP(B13,[4]C!B$1:AV$52,47,0)))","v":3},{"$f":"IFERROR(VLOOKUP(B13,[4]A!B$1:AX$48,49,0),IFERROR(VLOOKUP(B13,[4]B!B$1:AX$51,49,0),VLOOKUP(B13,[4]C!B$1:AX$52,49,0)))","v":0},9,18,null,0,1,null,74,22,22,43,65,87.837837837837839,5,"B-10",{"$f":"IFERROR(VLOOKUP(B13,[5]A!B$1:AK$48,36,0),IFERROR(VLOOKUP(B13,[5]B!B$1:AI$51,34,0),VLOOKUP(B13,[5]C!B$1:AG$52,32,0)))","v":10},10,25]
[13,"15BA054",{"$f":"VLOOKUP(B14,[1]B!B$1:AQ$48,42,0)","v":0},{"$f":"VLOOKUP(B14,[1]B!B$1:AR$48,43,0)","v":0},{"$f":"VLOOKUP(B14,[1]B!B$1:AT$48,45,0)","v":0},{"$f":"VLOOKUP(B14,[1]B!B$1:AU$48,46,0)","v":0},{"$f":"VLOOKUP(B14,[1]B!B$1:AV$48,47,0)","v":0},{"$f":"VLOOKUP(B14,[1]B!B$1:AX$48,49,0)","v":0},0,0,0,0,0,0,{"$f":"IFERROR(VLOOKUP(B14,[6]A!B$1:AQ$48,42,0),IFERROR(VLOOKUP(B14,[6]B!B$1:AQ$51,42,0),VLOOKUP(B14,[6]C!B$1:AQ$52,42,0)))","v":14},{"$f":"IFERROR(VLOOKUP(B14,[6]A!B$1:AR$48,43,0),IFERROR(VLOOKUP(B14,[6]B!B$1:AR$51,43,0),VLOOKUP(B14,[6]C!B$1:AR$52,43,0)))","v":16},{"$f":"IFERROR(VLOOKUP(B14,[6]A!B$1:AT$48,45,0),IFERROR(VLOOKUP(B14,[6]B!B$1:AT$51,45,0),VLOOKUP(B14,[6]C!B$1:AT$52,45,0)))","v":0},{"$f":"IFERROR(VLOOKUP(B14,[6]A!B$1:AU$48,46,0),IFERROR(VLOOKUP(B14,[6]B!B$1:AU$51,46,0),VLOOKUP(B14,[6]C!B$1:AU$52,46,0)))","v":2},{"$f":"IFERROR(VLOOKUP(B14,[6]A!B$1:AV$48,47,0),IFERROR(VLOOKUP(B14,[6]B!B$1:AV$51,47,0),VLOOKUP(B14,[6]C!B$1:AV$52,47,0)))","v":2},{"$f":"IFERROR(VLOOKUP(B14,[6]A!B$1:AX$48,49,0),IFERROR(VLOOKUP(B14,[6]B!B$1:AX$51,49,0),VLOOKUP(B14,[6]C!B$1:AX$52,49,0)))","v":0},{"$f":"IFERROR(VLOOKUP(B14,[4]A!B$1:AQ$48,42,0),IFERROR(VLOOKUP(B14,[4]B!B$1:AQ$51,42,0),VLOOKUP(B14,[4]C!B$1:AQ$52,42,0)))","v":22},34,{"$f":"IFERROR(VLOOKUP(B14,[4]A!B$1:AT$48,45,0),IFERROR(VLOOKUP(B14,[4]B!B$1:AR$51,43,0),VLOOKUP(B14,[4]C!B$1:AR$52,43,0)))","v":22},{"$f":"IFERROR(VLOOKUP(B14,[4]A!B$1:AU$48,46,0),IFERROR(VLOOKUP(B14,[4]B!B$1:AU$51,46,0),VLOOKUP(B14,[4]C!B$1:AU$52,46,0)))","v":1},{"$f":"IFERROR(VLOOKUP(B14,[4]A!B$1:AV$48,47,0),IFERROR(VLOOKUP(B14,[4]B!B$1:AV$51,47,0),VLOOKUP(B14,[4]C!B$1:AV$52,47,0)))","v":3},{"$f":"IFERROR(VLOOKUP(B14,[4]A!B$1:AX$48,49,0),IFERROR(VLOOKUP(B14,[4]B!B$1:AX$51,49,0),VLOOKUP(B14,[4]C!B$1:AX$52,49,0)))","v":0},13,18,null,1,1,null,74,22,22,53,74,100,5,"B-10",{"$f":"IFERROR(VLOOKUP(B14,[5]A!B$1:AK$48,36,0),IFERROR(VLOOKUP(B14,[5]B!B$1:AI$51,34,0),VLOOKUP(B14,[5]C!B$1:AG$52,32,0)))","v":10},10,25]
[14,"15BA072",{"$f":"VLOOKUP(B15,[1]B!B$1:AQ$48,42,0)","v":0},{"$f":"VLOOKUP(B15,[1]B!B$1:AR$48,43,0)","v":0},{"$f":"VLOOKUP(B15,[1]B!B$1:AT$48,45,0)","v":0},{"$f":"VLOOKUP(B15,[1]B!B$1:AU$48,46,0)","v":0},{"$f":"VLOOKUP(B15,[1]B!B$1:AV$48,47,0)","v":0},{"$f":"VLOOKUP(B15,[1]B!B$1:AX$48,49,0)","v":0},0,0,0,0,0,0,{"$f":"IFERROR(VLOOKUP(B15,[6]A!B$1:AQ$48,42,0),IFERROR(VLOOKUP(B15,[6]B!B$1:AQ$51,42,0),VLOOKUP(B15,[6]C!B$1:AQ$52,42,0)))","v":14},{"$f":"IFERROR(VLOOKUP(B15,[6]A!B$1:AR$48,43,0),IFERROR(VLOOKUP(B15,[6]B!B$1:AR$51,43,0),VLOOKUP(B15,[6]C!B$1:AR$52,43,0)))","v":16},{"$f":"IFERROR(VLOOKUP(B15,[6]A!B$1:AT$48,45,0),IFERROR(VLOOKUP(B15,[6]B!B$1:AT$51,45,0),VLOOKUP(B15,[6]C!B$1:AT$52,45,0)))","v":0},{"$f":"IFERROR(VLOOKUP(B15,[6]A!B$1:AU$48,46,0),IFERROR(VLOOKUP(B15,[6]B!B$1:AU$51,46,0),VLOOKUP(B15,[6]C!B$1:AU$52,46,0)))","v":2},{"$f":"IFERROR(VLOOKUP(B15,[6]A!B$1:AV$48,47,0),IFERROR(VLOOKUP(B15,[6]B!B$1:AV$51,47,0),VLOOKUP(B15,[6]C!B$1:AV$52,47,0)))","v":2},{"$f":"IFERROR(VLOOKUP(B15,[6]A!B$1:AX$48,49,0),IFERROR(VLOOKUP(B15,[6]B!B$1:AX$51,49,0),VLOOKUP(B15,[6]C!B$1:AX$52,49,0)))","v":0},31,34,{"$f":"IFERROR(VLOOKUP(B15,[4]A!B$1:AT$48,45,0),IFERROR(VLOOKUP(B15,[4]B!B$1:AR$51,43,0),VLOOKUP(B15,[4]C!B$1:AR$52,43,0)))","v":22},{"$f":"IFERROR(VLOOKUP(B15,[4]A!B$1:AU$48,46,0),IFERROR(VLOOKUP(B15,[4]B!B$1:AU$51,46,0),VLOOKUP(B15,[4]C!B$1:AU$52,46,0)))","v":3},{"$f":"IFERROR(VLOOKUP(B15,[4]A!B$1:AV$48,47,0),IFERROR(VLOOKUP(B15,[4]B!B$1:AV$51,47,0),VLOOKUP(B15,[4]C!B$1:AV$52,47,0)))","v":3},{"$f":"IFERROR(VLOOKUP(B15,[4]A!B$1:AX$48,49,0),IFERROR(VLOOKUP(B15,[4]B!B$1:AX$51,49,0),VLOOKUP(B15,[4]C!B$1:AX$52,49,0)))","v":0},12,18,null,1,1,null,{"$f":"SUM(D15,G15,J15,M15,P15,S15,V15,Y15,AB15,AE15)","v":74},{"$f":"SUM(E15,H15,K15,N15,Q15,T15,W15,Z15,AC15,AF15)","v":22},{"$f":"FLOOR(IF(AH15<(1/3*(AG15)),AH15,(1/3*(AG15))),1)","v":22},{"$f":"SUM(C15,F15,I15,L15,O15,R15,U15,X15,AA15,AD15)","v":63},{"$f":"IF(SUM(AJ15,AI15)>AG15,AG15,SUM(AJ15,AI15))","v":74},{"$f":"(AK15/AG15)*100","v":100},{"$f":"IF(AL15>=85,5,(IF(AND(AL15>=80,AL15<85),4,(IF(AND(AL15>=75,AL15<80),3,(IF(AND(AL15>=70,AL15<75),2,(IF(AND(AL15>67,AL15<70),1,0)))))))))","v":5},"B-10",{"$f":"IFERROR(VLOOKUP(B15,[5]A!B$1:AK$48,36,0),IFERROR(VLOOKUP(B15,[5]B!B$1:AI$51,34,0),VLOOKUP(B15,[5]C!B$1:AG$52,32,0)))","v":10},10,{"$f":"SUM(AM15,AO15,AP15)","v":25}]
[15,"15BA086",{"$f":"VLOOKUP(B16,[1]B!B$1:AQ$48,42,0)","v":0},{"$f":"VLOOKUP(B16,[1]B!B$1:AR$48,43,0)","v":0},{"$f":"VLOOKUP(B16,[1]B!B$1:AT$48,45,0)","v":0},{"$f":"VLOOKUP(B16,[1]B!B$1:AU$48,46,0)","v":0},{"$f":"VLOOKUP(B16,[1]B!B$1:AV$48,47,0)","v":0},{"$f":"VLOOKUP(B16,[1]B!B$1:AX$48,49,0)","v":0},0,0,0,0,0,0,{"$f":"IFERROR(VLOOKUP(B16,[6]A!B$1:AQ$48,42,0),IFERROR(VLOOKUP(B16,[6]B!B$1:AQ$51,42,0),VLOOKUP(B16,[6]C!B$1:AQ$52,42,0)))","v":16},{"$f":"IFERROR(VLOOKUP(B16,[6]A!B$1:AR$48,43,0),IFERROR(VLOOKUP(B16,[6]B!B$1:AR$51,43,0),VLOOKUP(B16,[6]C!B$1:AR$52,43,0)))","v":16},{"$f":"IFERROR(VLOOKUP(B16,[6]A!B$1:AT$48,45,0),IFERROR(VLOOKUP(B16,[6]B!B$1:AT$51,45,0),VLOOKUP(B16,[6]C!B$1:AT$52,45,0)))","v":0},{"$f":"IFERROR(VLOOKUP(B16,[6]A!B$1:AU$48,46,0),IFERROR(VLOOKUP(B16,[6]B!B$1:AU$51,46,0),VLOOKUP(B16,[6]C!B$1:AU$52,46,0)))","v":2},{"$f":"IFERROR(VLOOKUP(B16,[6]A!B$1:AV$48,47,0),IFERROR(VLOOKUP(B16,[6]B!B$1:AV$51,47,0),VLOOKUP(B16,[6]C!B$1:AV$52,47,0)))","v":2},{"$f":"IFERROR(VLOOKUP(B16,[6]A!B$1:AX$48,49,0),IFERROR(VLOOKUP(B16,[6]B!B$1:AX$51,49,0),VLOOKUP(B16,[6]C!B$1:AX$52,49,0)))","v":0},{"$f":"IFERROR(VLOOKUP(B16,[4]A!B$1:AQ$48,42,0),IFERROR(VLOOKUP(B16,[4]B!B$1:AQ$51,42,0),VLOOKUP(B16,[4]C!B$1:AQ$52,42,0)))","v":22},34,{"$f":"IFERROR(VLOOKUP(B16,[4]A!B$1:AT$48,45,0),IFERROR(VLOOKUP(B16,[4]B!B$1:AR$51,43,0),VLOOKUP(B16,[4]C!B$1:AR$52,43,0)))","v":22},{"$f":"IFERROR(VLOOKUP(B16,[4]A!B$1:AU$48,46,0),IFERROR(VLOOKUP(B16,[4]B!B$1:AU$51,46,0),VLOOKUP(B16,[4]C!B$1:AU$52,46,0)))","v":0},{"$f":"IFERROR(VLOOKUP(B16,[4]A!B$1:AV$48,47,0),IFERROR(VLOOKUP(B16,[4]B!B$1:AV$51,47,0),VLOOKUP(B16,[4]C!B$1:AV$52,47,0)))","v":3},{"$f":"IFERROR(VLOOKUP(B16,[4]A!B$1:AX$48,49,0),IFERROR(VLOOKUP(B16,[4]B!B$1:AX$51,49,0),VLOOKUP(B16,[4]C!B$1:AX$52,49,0)))","v":0},12,18,null,1,1,null,74,22,22,53,74,100,5,"B-10",{"$f":"IFERROR(VLOOKUP(B16,[5]A!B$1:AK$48,36,0),IFERROR(VLOOKUP(B16,[5]B!B$1:AI$51,34,0),VLOOKUP(B16,[5]C!B$1:AG$52,32,0)))","v":10},10,25]
[16,"15BA088",{"$f":"VLOOKUP(B17,[1]B!B$1:AQ$48,42,0)","v":0},{"$f":"VLOOKUP(B17,[1]B!B$1:AR$48,43,0)","v":0},{"$f":"VLOOKUP(B17,[1]B!B$1:AT$48,45,0)","v":0},{"$f":"VLOOKUP(B17,[1]B!B$1:AU$48,46,0)","v":0},{"$f":"VLOOKUP(B17,[1]B!B$1:AV$48,47,0)","v":0},{"$f":"VLOOKUP(B17,[1]B!B$1:AX$48,49,0)","v":0},0,0,0,0,0,0,{"$f":"IFERROR(VLOOKUP(B17,[6]A!B$1:AQ$48,42,0),IFERROR(VLOOKUP(B17,[6]B!B$1:AQ$51,42,0),VLOOKUP(B17,[6]C!B$1:AQ$52,42,0)))","v":0},{"$f":"IFERROR(VLOOKUP(B17,[6]A!B$1:AR$48,43,0),IFERROR(VLOOKUP(B17,[6]B!B$1:AR$51,43,0),VLOOKUP(B17,[6]C!B$1:AR$52,43,0)))","v":16},{"$f":"IFERROR(VLOOKUP(B17,[6]A!B$1:AT$48,45,0),IFERROR(VLOOKUP(B17,[6]B!B$1:AT$51,45,0),VLOOKUP(B17,[6]C!B$1:AT$52,45,0)))","v":0},{"$f":"IFERROR(VLOOKUP(B17,[6]A!B$1:AU$48,46,0),IFERROR(VLOOKUP(B17,[6]B!B$1:AU$51,46,0),VLOOKUP(B17,[6]C!B$1:AU$52,46,0)))","v":0},{"$f":"IFERROR(VLOOKUP(B17,[6]A!B$1:AV$48,47,0),IFERROR(VLOOKUP(B17,[6]B!B$1:AV$51,47,0),VLOOKUP(B17,[6]C!B$1:AV$52,47,0)))","v":2},{"$f":"IFERROR(VLOOKUP(B17,[6]A!B$1:AX$48,49,0),IFERROR(VLOOKUP(B17,[6]B!B$1:AX$51,49,0),VLOOKUP(B17,[6]C!B$1:AX$52,49,0)))","v":0},{"$f":"IFERROR(VLOOKUP(B17,[4]A!B$1:AQ$48,42,0),IFERROR(VLOOKUP(B17,[4]B!B$1:AQ$51,42,0),VLOOKUP(B17,[4]C!B$1:AQ$52,42,0)))","v":0},34,{"$f":"IFERROR(VLOOKUP(B17,[4]A!B$1:AT$48,45,0),IFERROR(VLOOKUP(B17,[4]B!B$1:AR$51,43,0),VLOOKUP(B17,[4]C!B$1:AR$52,43,0)))","v":22},{"$f":"IFERROR(VLOOKUP(B17,[4]A!B$1:AU$48,46,0),IFERROR(VLOOKUP(B17,[4]B!B$1:AU$51,46,0),VLOOKUP(B17,[4]C!B$1:AU$52,46,0)))","v":0},{"$f":"IFERROR(VLOOKUP(B17,[4]A!B$1:AV$48,47,0),IFERROR(VLOOKUP(B17,[4]B!B$1:AV$51,47,0),VLOOKUP(B17,[4]C!B$1:AV$52,47,0)))","v":3},{"$f":"IFERROR(VLOOKUP(B17,[4]A!B$1:AX$48,49,0),IFERROR(VLOOKUP(B17,[4]B!B$1:AX$51,49,0),VLOOKUP(B17,[4]C!B$1:AX$52,49,0)))","v":0},0,18,null,0,1,null,74,22,22,0,22,29.72972972972973,0,"B-10",{"$f":"IFERROR(VLOOKUP(B17,[5]A!B$1:AK$48,36,0),IFERROR(VLOOKUP(B17,[5]B!B$1:AI$51,34,0),VLOOKUP(B17,[5]C!B$1:AG$52,32,0)))","v":0},0,0]
[17,"15BA098",{"$f":"VLOOKUP(B18,[1]B!B$1:AQ$48,42,0)","v":0},{"$f":"VLOOKUP(B18,[1]B!B$1:AR$48,43,0)","v":0},{"$f":"VLOOKUP(B18,[1]B!B$1:AT$48,45,0)","v":0},{"$f":"VLOOKUP(B18,[1]B!B$1:AU$48,46,0)","v":0},{"$f":"VLOOKUP(B18,[1]B!B$1:AV$48,47,0)","v":0},{"$f":"VLOOKUP(B18,[1]B!B$1:AX$48,49,0)","v":0},0,0,0,0,0,0,{"$f":"IFERROR(VLOOKUP(B18,[6]A!B$1:AQ$48,42,0),IFERROR(VLOOKUP(B18,[6]B!B$1:AQ$51,42,0),VLOOKUP(B18,[6]C!B$1:AQ$52,42,0)))","v":16},{"$f":"IFERROR(VLOOKUP(B18,[6]A!B$1:AR$48,43,0),IFERROR(VLOOKUP(B18,[6]B!B$1:AR$51,43,0),VLOOKUP(B18,[6]C!B$1:AR$52,43,0)))","v":16},{"$f":"IFERROR(VLOOKUP(B18,[6]A!B$1:AT$48,45,0),IFERROR(VLOOKUP(B18,[6]B!B$1:AT$51,45,0),VLOOKUP(B18,[6]C!B$1:AT$52,45,0)))","v":0},{"$f":"IFERROR(VLOOKUP(B18,[6]A!B$1:AU$48,46,0),IFERROR(VLOOKUP(B18,[6]B!B$1:AU$51,46,0),VLOOKUP(B18,[6]C!B$1:AU$52,46,0)))","v":2},{"$f":"IFERROR(VLOOKUP(B18,[6]A!B$1:AV$48,47,0),IFERROR(VLOOKUP(B18,[6]B!B$1:AV$51,47,0),VLOOKUP(B18,[6]C!B$1:AV$52,47,0)))","v":2},{"$f":"IFERROR(VLOOKUP(B18,[6]A!B$1:AX$48,49,0),IFERROR(VLOOKUP(B18,[6]B!B$1:AX$51,49,0),VLOOKUP(B18,[6]C!B$1:AX$52,49,0)))","v":0},25,34,{"$f":"IFERROR(VLOOKUP(B18,[4]A!B$1:AT$48,45,0),IFERROR(VLOOKUP(B18,[4]B!B$1:AR$51,43,0),VLOOKUP(B18,[4]C!B$1:AR$52,43,0)))","v":22},{"$f":"IFERROR(VLOOKUP(B18,[4]A!B$1:AU$48,46,0),IFERROR(VLOOKUP(B18,[4]B!B$1:AU$51,46,0),VLOOKUP(B18,[4]C!B$1:AU$52,46,0)))","v":2},{"$f":"IFERROR(VLOOKUP(B18,[4]A!B$1:AV$48,47,0),IFERROR(VLOOKUP(B18,[4]B!B$1:AV$51,47,0),VLOOKUP(B18,[4]C!B$1:AV$52,47,0)))","v":3},{"$f":"IFERROR(VLOOKUP(B18,[4]A!B$1:AX$48,49,0),IFERROR(VLOOKUP(B18,[4]B!B$1:AX$51,49,0),VLOOKUP(B18,[4]C!B$1:AX$52,49,0)))","v":0},11,18,null,1,1,null,74,22,22,57,74,100,5,"B-10",{"$f":"IFERROR(VLOOKUP(B18,[5]A!B$1:AK$48,36,0),IFERROR(VLOOKUP(B18,[5]B!B$1:AI$51,34,0),VLOOKUP(B18,[5]C!B$1:AG$52,32,0)))","v":10},10,25]
[18,"15BA124",{"$f":"VLOOKUP(B19,[1]B!B$1:AQ$48,42,0)","v":0},{"$f":"VLOOKUP(B19,[1]B!B$1:AR$48,43,0)","v":0},{"$f":"VLOOKUP(B19,[1]B!B$1:AT$48,45,0)","v":0},{"$f":"VLOOKUP(B19,[1]B!B$1:AU$48,46,0)","v":0},{"$f":"VLOOKUP(B19,[1]B!B$1:AV$48,47,0)","v":0},{"$f":"VLOOKUP(B19,[1]B!B$1:AX$48,49,0)","v":0},0,0,0,0,0,0,{"$f":"IFERROR(VLOOKUP(B19,[6]A!B$1:AQ$48,42,0),IFERROR(VLOOKUP(B19,[6]B!B$1:AQ$51,42,0),VLOOKUP(B19,[6]C!B$1:AQ$52,42,0)))","v":14},{"$f":"IFERROR(VLOOKUP(B19,[6]A!B$1:AR$48,43,0),IFERROR(VLOOKUP(B19,[6]B!B$1:AR$51,43,0),VLOOKUP(B19,[6]C!B$1:AR$52,43,0)))","v":16},{"$f":"IFERROR(VLOOKUP(B19,[6]A!B$1:AT$48,45,0),IFERROR(VLOOKUP(B19,[6]B!B$1:AT$51,45,0),VLOOKUP(B19,[6]C!B$1:AT$52,45,0)))","v":0},{"$f":"IFERROR(VLOOKUP(B19,[6]A!B$1:AU$48,46,0),IFERROR(VLOOKUP(B19,[6]B!B$1:AU$51,46,0),VLOOKUP(B19,[6]C!B$1:AU$52,46,0)))","v":2},{"$f":"IFERROR(VLOOKUP(B19,[6]A!B$1:AV$48,47,0),IFERROR(VLOOKUP(B19,[6]B!B$1:AV$51,47,0),VLOOKUP(B19,[6]C!B$1:AV$52,47,0)))","v":2},{"$f":"IFERROR(VLOOKUP(B19,[6]A!B$1:AX$48,49,0),IFERROR(VLOOKUP(B19,[6]B!B$1:AX$51,49,0),VLOOKUP(B19,[6]C!B$1:AX$52,49,0)))","v":0},28,34,{"$f":"IFERROR(VLOOKUP(B19,[4]A!B$1:AT$48,45,0),IFERROR(VLOOKUP(B19,[4]B!B$1:AR$51,43,0),VLOOKUP(B19,[4]C!B$1:AR$52,43,0)))","v":22},{"$f":"IFERROR(VLOOKUP(B19,[4]A!B$1:AU$48,46,0),IFERROR(VLOOKUP(B19,[4]B!B$1:AU$51,46,0),VLOOKUP(B19,[4]C!B$1:AU$52,46,0)))","v":1},{"$f":"IFERROR(VLOOKUP(B19,[4]A!B$1:AV$48,47,0),IFERROR(VLOOKUP(B19,[4]B!B$1:AV$51,47,0),VLOOKUP(B19,[4]C!B$1:AV$52,47,0)))","v":3},{"$f":"IFERROR(VLOOKUP(B19,[4]A!B$1:AX$48,49,0),IFERROR(VLOOKUP(B19,[4]B!B$1:AX$51,49,0),VLOOKUP(B19,[4]C!B$1:AX$52,49,0)))","v":0},18,18,null,1,1,null,74,22,22,64,74,100,5,"B-10",{"$f":"IFERROR(VLOOKUP(B19,[5]A!B$1:AK$48,36,0),IFERROR(VLOOKUP(B19,[5]B!B$1:AI$51,34,0),VLOOKUP(B19,[5]C!B$1:AG$52,32,0)))","v":10},10,25]
[19,"15BA045",{"$f":"VLOOKUP(B20,[1]C!B$1:AQ$48,42,0)","v":0},{"$f":"VLOOKUP(B20,[1]C!B$1:AR$48,43,0)","v":0},{"$f":"VLOOKUP(B20,[1]C!B$1:AT$48,45,0)","v":0},{"$f":"VLOOKUP(B20,[1]C!B$1:AU$48,46,0)","v":0},{"$f":"VLOOKUP(B20,[1]C!B$1:AV$48,47,0)","v":0},{"$f":"VLOOKUP(B20,[1]C!B$1:AX$48,49,0)","v":0},0,0,0,0,0,0,{"$f":"IFERROR(VLOOKUP(B20,[6]A!B$1:AQ$48,42,0),IFERROR(VLOOKUP(B20,[6]B!B$1:AQ$51,42,0),VLOOKUP(B20,[6]C!B$1:AQ$52,42,0)))","v":16},{"$f":"IFERROR(VLOOKUP(B20,[6]A!B$1:AR$48,43,0),IFERROR(VLOOKUP(B20,[6]B!B$1:AR$51,43,0),VLOOKUP(B20,[6]C!B$1:AR$52,43,0)))","v":16},{"$f":"IFERROR(VLOOKUP(B20,[6]A!B$1:AT$48,45,0),IFERROR(VLOOKUP(B20,[6]B!B$1:AT$51,45,0),VLOOKUP(B20,[6]C!B$1:AT$52,45,0)))","v":0},{"$f":"IFERROR(VLOOKUP(B20,[6]A!B$1:AU$48,46,0),IFERROR(VLOOKUP(B20,[6]B!B$1:AU$51,46,0),VLOOKUP(B20,[6]C!B$1:AU$52,46,0)))","v":2},{"$f":"IFERROR(VLOOKUP(B20,[6]A!B$1:AV$48,47,0),IFERROR(VLOOKUP(B20,[6]B!B$1:AV$51,47,0),VLOOKUP(B20,[6]C!B$1:AV$52,47,0)))","v":3},{"$f":"IFERROR(VLOOKUP(B20,[6]A!B$1:AX$48,49,0),IFERROR(VLOOKUP(B20,[6]B!B$1:AX$51,49,0),VLOOKUP(B20,[6]C!B$1:AX$52,49,0)))","v":0},31,34,{"$f":"IFERROR(VLOOKUP(B20,[4]A!B$1:AT$48,45,0),IFERROR(VLOOKUP(B20,[4]B!B$1:AR$51,43,0),VLOOKUP(B20,[4]C!B$1:AR$52,43,0)))","v":22},{"$f":"IFERROR(VLOOKUP(B20,[4]A!B$1:AU$48,46,0),IFERROR(VLOOKUP(B20,[4]B!B$1:AU$51,46,0),VLOOKUP(B20,[4]C!B$1:AU$52,46,0)))","v":2},{"$f":"IFERROR(VLOOKUP(B20,[4]A!B$1:AV$48,47,0),IFERROR(VLOOKUP(B20,[4]B!B$1:AV$51,47,0),VLOOKUP(B20,[4]C!B$1:AV$52,47,0)))","v":3},{"$f":"IFERROR(VLOOKUP(B20,[4]A!B$1:AX$48,49,0),IFERROR(VLOOKUP(B20,[4]B!B$1:AX$51,49,0),VLOOKUP(B20,[4]C!B$1:AX$52,49,0)))","v":0},15,18,3,1,1,null,75,25,25,67,75,100,5,"C-11",{"$f":"IFERROR(VLOOKUP(B20,[5]A!B$1:AK$48,36,0),IFERROR(VLOOKUP(B20,[5]B!B$1:AI$51,34,0),VLOOKUP(B20,[5]C!B$1:AG$52,32,0)))","v":10},10,25]
[20,"15BA046",{"$f":"VLOOKUP(B21,[1]C!B$1:AQ$48,42,0)","v":0},{"$f":"VLOOKUP(B21,[1]C!B$1:AR$48,43,0)","v":0},{"$f":"VLOOKUP(B21,[1]C!B$1:AT$48,45,0)","v":0},{"$f":"VLOOKUP(B21,[1]C!B$1:AU$48,46,0)","v":0},{"$f":"VLOOKUP(B21,[1]C!B$1:AV$48,47,0)","v":0},{"$f":"VLOOKUP(B21,[1]C!B$1:AX$48,49,0)","v":0},0,0,0,0,0,0,{"$f":"IFERROR(VLOOKUP(B21,[6]A!B$1:AQ$48,42,0),IFERROR(VLOOKUP(B21,[6]B!B$1:AQ$51,42,0),VLOOKUP(B21,[6]C!B$1:AQ$52,42,0)))","v":16},{"$f":"IFERROR(VLOOKUP(B21,[6]A!B$1:AR$48,43,0),IFERROR(VLOOKUP(B21,[6]B!B$1:AR$51,43,0),VLOOKUP(B21,[6]C!B$1:AR$52,43,0)))","v":16},{"$f":"IFERROR(VLOOKUP(B21,[6]A!B$1:AT$48,45,0),IFERROR(VLOOKUP(B21,[6]B!B$1:AT$51,45,0),VLOOKUP(B21,[6]C!B$1:AT$52,45,0)))","v":0},{"$f":"IFERROR(VLOOKUP(B21,[6]A!B$1:AU$48,46,0),IFERROR(VLOOKUP(B21,[6]B!B$1:AU$51,46,0),VLOOKUP(B21,[6]C!B$1:AU$52,46,0)))","v":3},{"$f":"IFERROR(VLOOKUP(B21,[6]A!B$1:AV$48,47,0),IFERROR(VLOOKUP(B21,[6]B!B$1:AV$51,47,0),VLOOKUP(B21,[6]C!B$1:AV$52,47,0)))","v":3},{"$f":"IFERROR(VLOOKUP(B21,[6]A!B$1:AX$48,49,0),IFERROR(VLOOKUP(B21,[6]B!B$1:AX$51,49,0),VLOOKUP(B21,[6]C!B$1:AX$52,49,0)))","v":0},34,34,{"$f":"IFERROR(VLOOKUP(B21,[4]A!B$1:AT$48,45,0),IFERROR(VLOOKUP(B21,[4]B!B$1:AR$51,43,0),VLOOKUP(B21,[4]C!B$1:AR$52,43,0)))","v":22},{"$f":"IFERROR(VLOOKUP(B21,[4]A!B$1:AU$48,46,0),IFERROR(VLOOKUP(B21,[4]B!B$1:AU$51,46,0),VLOOKUP(B21,[4]C!B$1:AU$52,46,0)))","v":1},{"$f":"IFERROR(VLOOKUP(B21,[4]A!B$1:AV$48,47,0),IFERROR(VLOOKUP(B21,[4]B!B$1:AV$51,47,0),VLOOKUP(B21,[4]C!B$1:AV$52,47,0)))","v":3},{"$f":"IFERROR(VLOOKUP(B21,[4]A!B$1:AX$48,49,0),IFERROR(VLOOKUP(B21,[4]B!B$1:AX$51,49,0),VLOOKUP(B21,[4]C!B$1:AX$52,49,0)))","v":0},11,18,null,1,1,null,75,22,22,66,75,100,5,"C-11",{"$f":"IFERROR(VLOOKUP(B21,[5]A!B$1:AK$48,36,0),IFERROR(VLOOKUP(B21,[5]B!B$1:AI$51,34,0),VLOOKUP(B21,[5]C!B$1:AG$52,32,0)))","v":10},10,25]
[21,"15BA076",{"$f":"VLOOKUP(B22,[1]C!B$1:AQ$48,42,0)","v":0},{"$f":"VLOOKUP(B22,[1]C!B$1:AR$48,43,0)","v":0},{"$f":"VLOOKUP(B22,[1]C!B$1:AT$48,45,0)","v":0},{"$f":"VLOOKUP(B22,[1]C!B$1:AU$48,46,0)","v":0},{"$f":"VLOOKUP(B22,[1]C!B$1:AV$48,47,0)","v":0},{"$f":"VLOOKUP(B22,[1]C!B$1:AX$48,49,0)","v":0},0,0,0,0,0,0,{"$f":"IFERROR(VLOOKUP(B22,[6]A!B$1:AQ$48,42,0),IFERROR(VLOOKUP(B22,[6]B!B$1:AQ$51,42,0),VLOOKUP(B22,[6]C!B$1:AQ$52,42,0)))","v":16},{"$f":"IFERROR(VLOOKUP(B22,[6]A!B$1:AR$48,43,0),IFERROR(VLOOKUP(B22,[6]B!B$1:AR$51,43,0),VLOOKUP(B22,[6]C!B$1:AR$52,43,0)))","v":16},{"$f":"IFERROR(VLOOKUP(B22,[6]A!B$1:AT$48,45,0),IFERROR(VLOOKUP(B22,[6]B!B$1:AT$51,45,0),VLOOKUP(B22,[6]C!B$1:AT$52,45,0)))","v":0},{"$f":"IFERROR(VLOOKUP(B22,[6]A!B$1:AU$48,46,0),IFERROR(VLOOKUP(B22,[6]B!B$1:AU$51,46,0),VLOOKUP(B22,[6]C!B$1:AU$52,46,0)))","v":3},{"$f":"IFERROR(VLOOKUP(B22,[6]A!B$1:AV$48,47,0),IFERROR(VLOOKUP(B22,[6]B!B$1:AV$51,47,0),VLOOKUP(B22,[6]C!B$1:AV$52,47,0)))","v":3},{"$f":"IFERROR(VLOOKUP(B22,[6]A!B$1:AX$48,49,0),IFERROR(VLOOKUP(B22,[6]B!B$1:AX$51,49,0),VLOOKUP(B22,[6]C!B$1:AX$52,49,0)))","v":0},34,34,{"$f":"IFERROR(VLOOKUP(B22,[4]A!B$1:AT$48,45,0),IFERROR(VLOOKUP(B22,[4]B!B$1:AR$51,43,0),VLOOKUP(B22,[4]C!B$1:AR$52,43,0)))","v":22},{"$f":"IFERROR(VLOOKUP(B22,[4]A!B$1:AU$48,46,0),IFERROR(VLOOKUP(B22,[4]B!B$1:AU$51,46,0),VLOOKUP(B22,[4]C!B$1:AU$52,46,0)))","v":3},{"$f":"IFERROR(VLOOKUP(B22,[4]A!B$1:AV$48,47,0),IFERROR(VLOOKUP(B22,[4]B!B$1:AV$51,47,0),VLOOKUP(B22,[4]C!B$1:AV$52,47,0)))","v":3},{"$f":"IFERROR(VLOOKUP(B22,[4]A!B$1:AX$48,49,0),IFERROR(VLOOKUP(B22,[4]B!B$1:AX$51,49,0),VLOOKUP(B22,[4]C!B$1:AX$52,49,0)))","v":0},15,18,null,1,1,null,75,22,22,72,75,100,5,"C-11",{"$f":"IFERROR(VLOOKUP(B22,[5]A!B$1:AK$48,36,0),IFERROR(VLOOKUP(B22,[5]B!B$1:AI$51,34,0),VLOOKUP(B22,[5]C!B$1:AG$52,32,0)))","v":10},10,25]
[22,"15BA079",{"$f":"VLOOKUP(B23,[1]C!B$1:AQ$48,42,0)","v":0},{"$f":"VLOOKUP(B23,[1]C!B$1:AR$48,43,0)","v":0},{"$f":"VLOOKUP(B23,[1]C!B$1:AT$48,45,0)","v":0},{"$f":"VLOOKUP(B23,[1]C!B$1:AU$48,46,0)","v":0},{"$f":"VLOOKUP(B23,[1]C!B$1:AV$48,47,0)","v":0},{"$f":"VLOOKUP(B23,[1]C!B$1:AX$48,49,0)","v":0},0,0,0,0,0,0,{"$f":"IFERROR(VLOOKUP(B23,[6]A!B$1:AQ$48,42,0),IFERROR(VLOOKUP(B23,[6]B!B$1:AQ$51,42,0),VLOOKUP(B23,[6]C!B$1:AQ$52,42,0)))","v":8},{"$f":"IFERROR(VLOOKUP(B23,[6]A!B$1:AR$48,43,0),IFERROR(VLOOKUP(B23,[6]B!B$1:AR$51,43,0),VLOOKUP(B23,[6]C!B$1:AR$52,43,0)))","v":16},{"$f":"IFERROR(VLOOKUP(B23,[6]A!B$1:AT$48,45,0),IFERROR(VLOOKUP(B23,[6]B!B$1:AT$51,45,0),VLOOKUP(B23,[6]C!B$1:AT$52,45,0)))","v":0},{"$f":"IFERROR(VLOOKUP(B23,[6]A!B$1:AU$48,46,0),IFERROR(VLOOKUP(B23,[6]B!B$1:AU$51,46,0),VLOOKUP(B23,[6]C!B$1:AU$52,46,0)))","v":1},{"$f":"IFERROR(VLOOKUP(B23,[6]A!B$1:AV$48,47,0),IFERROR(VLOOKUP(B23,[6]B!B$1:AV$51,47,0),VLOOKUP(B23,[6]C!B$1:AV$52,47,0)))","v":3},{"$f":"IFERROR(VLOOKUP(B23,[6]A!B$1:AX$48,49,0),IFERROR(VLOOKUP(B23,[6]B!B$1:AX$51,49,0),VLOOKUP(B23,[6]C!B$1:AX$52,49,0)))","v":0},22,34,{"$f":"IFERROR(VLOOKUP(B23,[4]A!B$1:AT$48,45,0),IFERROR(VLOOKUP(B23,[4]B!B$1:AR$51,43,0),VLOOKUP(B23,[4]C!B$1:AR$52,43,0)))","v":22},{"$f":"IFERROR(VLOOKUP(B23,[4]A!B$1:AU$48,46,0),IFERROR(VLOOKUP(B23,[4]B!B$1:AU$51,46,0),VLOOKUP(B23,[4]C!B$1:AU$52,46,0)))","v":1},{"$f":"IFERROR(VLOOKUP(B23,[4]A!B$1:AV$48,47,0),IFERROR(VLOOKUP(B23,[4]B!B$1:AV$51,47,0),VLOOKUP(B23,[4]C!B$1:AV$52,47,0)))","v":3},{"$f":"IFERROR(VLOOKUP(B23,[4]A!B$1:AX$48,49,0),IFERROR(VLOOKUP(B23,[4]B!B$1:AX$51,49,0),VLOOKUP(B23,[4]C!B$1:AX$52,49,0)))","v":0},18,18,3,1,1,null,75,25,25,51,75,100,5,"C-11",{"$f":"IFERROR(VLOOKUP(B23,[5]A!B$1:AK$48,36,0),IFERROR(VLOOKUP(B23,[5]B!B$1:AI$51,34,0),VLOOKUP(B23,[5]C!B$1:AG$52,32,0)))","v":10},10,25]
[23,"15BA087",{"$f":"VLOOKUP(B24,[1]C!B$1:AQ$48,42,0)","v":0},{"$f":"VLOOKUP(B24,[1]C!B$1:AR$48,43,0)","v":0},{"$f":"VLOOKUP(B24,[1]C!B$1:AT$48,45,0)","v":0},{"$f":"VLOOKUP(B24,[1]C!B$1:AU$48,46,0)","v":0},{"$f":"VLOOKUP(B24,[1]C!B$1:AV$48,47,0)","v":0},{"$f":"VLOOKUP(B24,[1]C!B$1:AX$48,49,0)","v":0},0,0,0,0,0,0,{"$f":"IFERROR(VLOOKUP(B24,[6]A!B$1:AQ$48,42,0),IFERROR(VLOOKUP(B24,[6]B!B$1:AQ$51,42,0),VLOOKUP(B24,[6]C!B$1:AQ$52,42,0)))","v":14},{"$f":"IFERROR(VLOOKUP(B24,[6]A!B$1:AR$48,43,0),IFERROR(VLOOKUP(B24,[6]B!B$1:AR$51,43,0),VLOOKUP(B24,[6]C!B$1:AR$52,43,0)))","v":16},{"$f":"IFERROR(VLOOKUP(B24,[6]A!B$1:AT$48,45,0),IFERROR(VLOOKUP(B24,[6]B!B$1:AT$51,45,0),VLOOKUP(B24,[6]C!B$1:AT$52,45,0)))","v":0},{"$f":"IFERROR(VLOOKUP(B24,[6]A!B$1:AU$48,46,0),IFERROR(VLOOKUP(B24,[6]B!B$1:AU$51,46,0),VLOOKUP(B24,[6]C!B$1:AU$52,46,0)))","v":2},{"$f":"IFERROR(VLOOKUP(B24,[6]A!B$1:AV$48,47,0),IFERROR(VLOOKUP(B24,[6]B!B$1:AV$51,47,0),VLOOKUP(B24,[6]C!B$1:AV$52,47,0)))","v":3},{"$f":"IFERROR(VLOOKUP(B24,[6]A!B$1:AX$48,49,0),IFERROR(VLOOKUP(B24,[6]B!B$1:AX$51,49,0),VLOOKUP(B24,[6]C!B$1:AX$52,49,0)))","v":0},25,34,{"$f":"IFERROR(VLOOKUP(B24,[4]A!B$1:AT$48,45,0),IFERROR(VLOOKUP(B24,[4]B!B$1:AR$51,43,0),VLOOKUP(B24,[4]C!B$1:AR$52,43,0)))","v":22},{"$f":"IFERROR(VLOOKUP(B24,[4]A!B$1:AU$48,46,0),IFERROR(VLOOKUP(B24,[4]B!B$1:AU$51,46,0),VLOOKUP(B24,[4]C!B$1:AU$52,46,0)))","v":2},{"$f":"IFERROR(VLOOKUP(B24,[4]A!B$1:AV$48,47,0),IFERROR(VLOOKUP(B24,[4]B!B$1:AV$51,47,0),VLOOKUP(B24,[4]C!B$1:AV$52,47,0)))","v":3},{"$f":"IFERROR(VLOOKUP(B24,[4]A!B$1:AX$48,49,0),IFERROR(VLOOKUP(B24,[4]B!B$1:AX$51,49,0),VLOOKUP(B24,[4]C!B$1:AX$52,49,0)))","v":0},13,18,null,1,1,null,75,22,22,57,75,100,5,"C-11",{"$f":"IFERROR(VLOOKUP(B24,[5]A!B$1:AK$48,36,0),IFERROR(VLOOKUP(B24,[5]B!B$1:AI$51,34,0),VLOOKUP(B24,[5]C!B$1:AG$52,32,0)))","v":9},9,23]
[24,"15BA114",{"$f":"VLOOKUP(B25,[1]C!B$1:AQ$48,42,0)","v":0},{"$f":"VLOOKUP(B25,[1]C!B$1:AR$48,43,0)","v":0},{"$f":"VLOOKUP(B25,[1]C!B$1:AT$48,45,0)","v":0},{"$f":"VLOOKUP(B25,[1]C!B$1:AU$48,46,0)","v":0},{"$f":"VLOOKUP(B25,[1]C!B$1:AV$48,47,0)","v":0},{"$f":"VLOOKUP(B25,[1]C!B$1:AX$48,49,0)","v":0},0,0,0,0,0,0,{"$f":"IFERROR(VLOOKUP(B25,[6]A!B$1:AQ$48,42,0),IFERROR(VLOOKUP(B25,[6]B!B$1:AQ$51,42,0),VLOOKUP(B25,[6]C!B$1:AQ$52,42,0)))","v":16},{"$f":"IFERROR(VLOOKUP(B25,[6]A!B$1:AR$48,43,0),IFERROR(VLOOKUP(B25,[6]B!B$1:AR$51,43,0),VLOOKUP(B25,[6]C!B$1:AR$52,43,0)))","v":16},{"$f":"IFERROR(VLOOKUP(B25,[6]A!B$1:AT$48,45,0),IFERROR(VLOOKUP(B25,[6]B!B$1:AT$51,45,0),VLOOKUP(B25,[6]C!B$1:AT$52,45,0)))","v":0},{"$f":"IFERROR(VLOOKUP(B25,[6]A!B$1:AU$48,46,0),IFERROR(VLOOKUP(B25,[6]B!B$1:AU$51,46,0),VLOOKUP(B25,[6]C!B$1:AU$52,46,0)))","v":3},{"$f":"IFERROR(VLOOKUP(B25,[6]A!B$1:AV$48,47,0),IFERROR(VLOOKUP(B25,[6]B!B$1:AV$51,47,0),VLOOKUP(B25,[6]C!B$1:AV$52,47,0)))","v":3},{"$f":"IFERROR(VLOOKUP(B25,[6]A!B$1:AX$48,49,0),IFERROR(VLOOKUP(B25,[6]B!B$1:AX$51,49,0),VLOOKUP(B25,[6]C!B$1:AX$52,49,0)))","v":0},22,34,{"$f":"IFERROR(VLOOKUP(B25,[4]A!B$1:AT$48,45,0),IFERROR(VLOOKUP(B25,[4]B!B$1:AR$51,43,0),VLOOKUP(B25,[4]C!B$1:AR$52,43,0)))","v":22},{"$f":"IFERROR(VLOOKUP(B25,[4]A!B$1:AU$48,46,0),IFERROR(VLOOKUP(B25,[4]B!B$1:AU$51,46,0),VLOOKUP(B25,[4]C!B$1:AU$52,46,0)))","v":3},{"$f":"IFERROR(VLOOKUP(B25,[4]A!B$1:AV$48,47,0),IFERROR(VLOOKUP(B25,[4]B!B$1:AV$51,47,0),VLOOKUP(B25,[4]C!B$1:AV$52,47,0)))","v":3},{"$f":"IFERROR(VLOOKUP(B25,[4]A!B$1:AX$48,49,0),IFERROR(VLOOKUP(B25,[4]B!B$1:AX$51,49,0),VLOOKUP(B25,[4]C!B$1:AX$52,49,0)))","v":0},11,18,null,1,1,null,{"$f":"SUM(D25,G25,J25,M25,P25,S25,V25,Y25,AB25,AE25)","v":75},{"$f":"SUM(E25,H25,K25,N25,Q25,T25,W25,Z25,AC25,AF25)","v":22},{"$f":"FLOOR(IF(AH25<(1/3*(AG25)),AH25,(1/3*(AG25))),1)","v":22},{"$f":"SUM(C25,F25,I25,L25,O25,R25,U25,X25,AA25,AD25)","v":56},{"$f":"IF(SUM(AJ25,AI25)>AG25,AG25,SUM(AJ25,AI25))","v":75},{"$f":"(AK25/AG25)*100","v":100},{"$f":"IF(AL25>=85,5,(IF(AND(AL25>=80,AL25<85),4,(IF(AND(AL25>=75,AL25<80),3,(IF(AND(AL25>=70,AL25<75),2,(IF(AND(AL25>67,AL25<70),1,0)))))))))","v":5},"C-11",{"$f":"IFERROR(VLOOKUP(B25,[5]A!B$1:AK$48,36,0),IFERROR(VLOOKUP(B25,[5]B!B$1:AI$51,34,0),VLOOKUP(B25,[5]C!B$1:AG$52,32,0)))","v":10},10,{"$f":"SUM(AM25,AO25,AP25)","v":25}]
[25,"15BA122",{"$f":"VLOOKUP(B26,[1]C!B$1:AQ$48,42,0)","v":0},{"$f":"VLOOKUP(B26,[1]C!B$1:AR$48,43,0)","v":0},{"$f":"VLOOKUP(B26,[1]C!B$1:AT$48,45,0)","v":0},{"$f":"VLOOKUP(B26,[1]C!B$1:AU$48,46,0)","v":0},{"$f":"VLOOKUP(B26,[1]C!B$1:AV$48,47,0)","v":0},{"$f":"VLOOKUP(B26,[1]C!B$1:AX$48,49,0)","v":0},0,0,0,0,0,0,{"$f":"IFERROR(VLOOKUP(B26,[6]A!B$1:AQ$48,42,0),IFERROR(VLOOKUP(B26,[6]B!B$1:AQ$51,42,0),VLOOKUP(B26,[6]C!B$1:AQ$52,42,0)))","v":16},{"$f":"IFERROR(VLOOKUP(B26,[6]A!B$1:AR$48,43,0),IFERROR(VLOOKUP(B26,[6]B!B$1:AR$51,43,0),VLOOKUP(B26,[6]C!B$1:AR$52,43,0)))","v":16},{"$f":"IFERROR(VLOOKUP(B26,[6]A!B$1:AT$48,45,0),IFERROR(VLOOKUP(B26,[6]B!B$1:AT$51,45,0),VLOOKUP(B26,[6]C!B$1:AT$52,45,0)))","v":0},{"$f":"IFERROR(VLOOKUP(B26,[6]A!B$1:AU$48,46,0),IFERROR(VLOOKUP(B26,[6]B!B$1:AU$51,46,0),VLOOKUP(B26,[6]C!B$1:AU$52,46,0)))","v":3},{"$f":"IFERROR(VLOOKUP(B26,[6]A!B$1:AV$48,47,0),IFERROR(VLOOKUP(B26,[6]B!B$1:AV$51,47,0),VLOOKUP(B26,[6]C!B$1:AV$52,47,0)))","v":3},{"$f":"IFERROR(VLOOKUP(B26,[6]A!B$1:AX$48,49,0),IFERROR(VLOOKUP(B26,[6]B!B$1:AX$51,49,0),VLOOKUP(B26,[6]C!B$1:AX$52,49,0)))","v":0},31,34,{"$f":"IFERROR(VLOOKUP(B26,[4]A!B$1:AT$48,45,0),IFERROR(VLOOKUP(B26,[4]B!B$1:AR$51,43,0),VLOOKUP(B26,[4]C!B$1:AR$52,43,0)))","v":22},{"$f":"IFERROR(VLOOKUP(B26,[4]A!B$1:AU$48,46,0),IFERROR(VLOOKUP(B26,[4]B!B$1:AU$51,46,0),VLOOKUP(B26,[4]C!B$1:AU$52,46,0)))","v":2},{"$f":"IFERROR(VLOOKUP(B26,[4]A!B$1:AV$48,47,0),IFERROR(VLOOKUP(B26,[4]B!B$1:AV$51,47,0),VLOOKUP(B26,[4]C!B$1:AV$52,47,0)))","v":3},{"$f":"IFERROR(VLOOKUP(B26,[4]A!B$1:AX$48,49,0),IFERROR(VLOOKUP(B26,[4]B!B$1:AX$51,49,0),VLOOKUP(B26,[4]C!B$1:AX$52,49,0)))","v":0},12,18,null,1,1,null,75,22,22,65,75,100,5,"C-11",{"$f":"IFERROR(VLOOKUP(B26,[5]A!B$1:AK$48,36,0),IFERROR(VLOOKUP(B26,[5]B!B$1:AI$51,34,0),VLOOKUP(B26,[5]C!B$1:AG$52,32,0)))","v":10},9,24]
[26,"15BA132",{"$f":"VLOOKUP(B27,[1]C!B$1:AQ$48,42,0)","v":0},{"$f":"VLOOKUP(B27,[1]C!B$1:AR$48,43,0)","v":0},{"$f":"VLOOKUP(B27,[1]C!B$1:AT$48,45,0)","v":0},{"$f":"VLOOKUP(B27,[1]C!B$1:AU$48,46,0)","v":0},{"$f":"VLOOKUP(B27,[1]C!B$1:AV$48,47,0)","v":0},{"$f":"VLOOKUP(B27,[1]C!B$1:AX$48,49,0)","v":0},0,0,0,0,0,0,{"$f":"IFERROR(VLOOKUP(B27,[6]A!B$1:AQ$48,42,0),IFERROR(VLOOKUP(B27,[6]B!B$1:AQ$51,42,0),VLOOKUP(B27,[6]C!B$1:AQ$52,42,0)))","v":16},{"$f":"IFERROR(VLOOKUP(B27,[6]A!B$1:AR$48,43,0),IFERROR(VLOOKUP(B27,[6]B!B$1:AR$51,43,0),VLOOKUP(B27,[6]C!B$1:AR$52,43,0)))","v":16},{"$f":"IFERROR(VLOOKUP(B27,[6]A!B$1:AT$48,45,0),IFERROR(VLOOKUP(B27,[6]B!B$1:AT$51,45,0),VLOOKUP(B27,[6]C!B$1:AT$52,45,0)))","v":0},{"$f":"IFERROR(VLOOKUP(B27,[6]A!B$1:AU$48,46,0),IFERROR(VLOOKUP(B27,[6]B!B$1:AU$51,46,0),VLOOKUP(B27,[6]C!B$1:AU$52,46,0)))","v":3},{"$f":"IFERROR(VLOOKUP(B27,[6]A!B$1:AV$48,47,0),IFERROR(VLOOKUP(B27,[6]B!B$1:AV$51,47,0),VLOOKUP(B27,[6]C!B$1:AV$52,47,0)))","v":3},{"$f":"IFERROR(VLOOKUP(B27,[6]A!B$1:AX$48,49,0),IFERROR(VLOOKUP(B27,[6]B!B$1:AX$51,49,0),VLOOKUP(B27,[6]C!B$1:AX$52,49,0)))","v":0},31,34,{"$f":"IFERROR(VLOOKUP(B27,[4]A!B$1:AT$48,45,0),IFERROR(VLOOKUP(B27,[4]B!B$1:AR$51,43,0),VLOOKUP(B27,[4]C!B$1:AR$52,43,0)))","v":22},{"$f":"IFERROR(VLOOKUP(B27,[4]A!B$1:AU$48,46,0),IFERROR(VLOOKUP(B27,[4]B!B$1:AU$51,46,0),VLOOKUP(B27,[4]C!B$1:AU$52,46,0)))","v":2},{"$f":"IFERROR(VLOOKUP(B27,[4]A!B$1:AV$48,47,0),IFERROR(VLOOKUP(B27,[4]B!B$1:AV$51,47,0),VLOOKUP(B27,[4]C!B$1:AV$52,47,0)))","v":3},{"$f":"IFERROR(VLOOKUP(B27,[4]A!B$1:AX$48,49,0),IFERROR(VLOOKUP(B27,[4]B!B$1:AX$51,49,0),VLOOKUP(B27,[4]C!B$1:AX$52,49,0)))","v":0},17,18,null,1,1,null,75,22,22,70,75,100,5,"C-11",{"$f":"IFERROR(VLOOKUP(B27,[5]A!B$1:AK$48,36,0),IFERROR(VLOOKUP(B27,[5]B!B$1:AI$51,34,0),VLOOKUP(B27,[5]C!B$1:AG$52,32,0)))","v":10},10,25]
[27,"15BA136",{"$f":"VLOOKUP(B28,[1]C!B$1:AQ$48,42,0)","v":0},{"$f":"VLOOKUP(B28,[1]C!B$1:AR$48,43,0)","v":0},{"$f":"VLOOKUP(B28,[1]C!B$1:AT$48,45,0)","v":0},{"$f":"VLOOKUP(B28,[1]C!B$1:AU$48,46,0)","v":0},{"$f":"VLOOKUP(B28,[1]C!B$1:AV$48,47,0)","v":0},{"$f":"VLOOKUP(B28,[1]C!B$1:AX$48,49,0)","v":0},0,0,0,0,0,0,{"$f":"IFERROR(VLOOKUP(B28,[6]A!B$1:AQ$48,42,0),IFERROR(VLOOKUP(B28,[6]B!B$1:AQ$51,42,0),VLOOKUP(B28,[6]C!B$1:AQ$52,42,0)))","v":14},{"$f":"IFERROR(VLOOKUP(B28,[6]A!B$1:AR$48,43,0),IFERROR(VLOOKUP(B28,[6]B!B$1:AR$51,43,0),VLOOKUP(B28,[6]C!B$1:AR$52,43,0)))","v":16},{"$f":"IFERROR(VLOOKUP(B28,[6]A!B$1:AT$48,45,0),IFERROR(VLOOKUP(B28,[6]B!B$1:AT$51,45,0),VLOOKUP(B28,[6]C!B$1:AT$52,45,0)))","v":0},{"$f":"IFERROR(VLOOKUP(B28,[6]A!B$1:AU$48,46,0),IFERROR(VLOOKUP(B28,[6]B!B$1:AU$51,46,0),VLOOKUP(B28,[6]C!B$1:AU$52,46,0)))","v":2},{"$f":"IFERROR(VLOOKUP(B28,[6]A!B$1:AV$48,47,0),IFERROR(VLOOKUP(B28,[6]B!B$1:AV$51,47,0),VLOOKUP(B28,[6]C!B$1:AV$52,47,0)))","v":3},{"$f":"IFERROR(VLOOKUP(B28,[6]A!B$1:AX$48,49,0),IFERROR(VLOOKUP(B28,[6]B!B$1:AX$51,49,0),VLOOKUP(B28,[6]C!B$1:AX$52,49,0)))","v":0},28,34,{"$f":"IFERROR(VLOOKUP(B28,[4]A!B$1:AT$48,45,0),IFERROR(VLOOKUP(B28,[4]B!B$1:AR$51,43,0),VLOOKUP(B28,[4]C!B$1:AR$52,43,0)))","v":22},{"$f":"IFERROR(VLOOKUP(B28,[4]A!B$1:AU$48,46,0),IFERROR(VLOOKUP(B28,[4]B!B$1:AU$51,46,0),VLOOKUP(B28,[4]C!B$1:AU$52,46,0)))","v":2},{"$f":"IFERROR(VLOOKUP(B28,[4]A!B$1:AV$48,47,0),IFERROR(VLOOKUP(B28,[4]B!B$1:AV$51,47,0),VLOOKUP(B28,[4]C!B$1:AV$52,47,0)))","v":3},{"$f":"IFERROR(VLOOKUP(B28,[4]A!B$1:AX$48,49,0),IFERROR(VLOOKUP(B28,[4]B!B$1:AX$51,49,0),VLOOKUP(B28,[4]C!B$1:AX$52,49,0)))","v":0},13,18,null,1,1,null,75,22,22,60,75,100,5,"C-11",{"$f":"IFERROR(VLOOKUP(B28,[5]A!B$1:AK$48,36,0),IFERROR(VLOOKUP(B28,[5]B!B$1:AI$51,34,0),VLOOKUP(B28,[5]C!B$1:AG$52,32,0)))","v":10},8,23]
[28,"15BA137",{"$f":"VLOOKUP(B29,[1]C!B$1:AQ$48,42,0)","v":0},{"$f":"VLOOKUP(B29,[1]C!B$1:AR$48,43,0)","v":0},{"$f":"VLOOKUP(B29,[1]C!B$1:AT$48,45,0)","v":0},{"$f":"VLOOKUP(B29,[1]C!B$1:AU$48,46,0)","v":0},{"$f":"VLOOKUP(B29,[1]C!B$1:AV$48,47,0)","v":0},{"$f":"VLOOKUP(B29,[1]C!B$1:AX$48,49,0)","v":0},0,0,0,0,0,0,{"$f":"IFERROR(VLOOKUP(B29,[6]A!B$1:AQ$48,42,0),IFERROR(VLOOKUP(B29,[6]B!B$1:AQ$51,42,0),VLOOKUP(B29,[6]C!B$1:AQ$52,42,0)))","v":14},{"$f":"IFERROR(VLOOKUP(B29,[6]A!B$1:AR$48,43,0),IFERROR(VLOOKUP(B29,[6]B!B$1:AR$51,43,0),VLOOKUP(B29,[6]C!B$1:AR$52,43,0)))","v":16},{"$f":"IFERROR(VLOOKUP(B29,[6]A!B$1:AT$48,45,0),IFERROR(VLOOKUP(B29,[6]B!B$1:AT$51,45,0),VLOOKUP(B29,[6]C!B$1:AT$52,45,0)))","v":0},{"$f":"IFERROR(VLOOKUP(B29,[6]A!B$1:AU$48,46,0),IFERROR(VLOOKUP(B29,[6]B!B$1:AU$51,46,0),VLOOKUP(B29,[6]C!B$1:AU$52,46,0)))","v":2},{"$f":"IFERROR(VLOOKUP(B29,[6]A!B$1:AV$48,47,0),IFERROR(VLOOKUP(B29,[6]B!B$1:AV$51,47,0),VLOOKUP(B29,[6]C!B$1:AV$52,47,0)))","v":3},{"$f":"IFERROR(VLOOKUP(B29,[6]A!B$1:AX$48,49,0),IFERROR(VLOOKUP(B29,[6]B!B$1:AX$51,49,0),VLOOKUP(B29,[6]C!B$1:AX$52,49,0)))","v":0},31,34,{"$f":"IFERROR(VLOOKUP(B29,[4]A!B$1:AT$48,45,0),IFERROR(VLOOKUP(B29,[4]B!B$1:AR$51,43,0),VLOOKUP(B29,[4]C!B$1:AR$52,43,0)))","v":22},{"$f":"IFERROR(VLOOKUP(B29,[4]A!B$1:AU$48,46,0),IFERROR(VLOOKUP(B29,[4]B!B$1:AU$51,46,0),VLOOKUP(B29,[4]C!B$1:AU$52,46,0)))","v":3},{"$f":"IFERROR(VLOOKUP(B29,[4]A!B$1:AV$48,47,0),IFERROR(VLOOKUP(B29,[4]B!B$1:AV$51,47,0),VLOOKUP(B29,[4]C!B$1:AV$52,47,0)))","v":3},{"$f":"IFERROR(VLOOKUP(B29,[4]A!B$1:AX$48,49,0),IFERROR(VLOOKUP(B29,[4]B!B$1:AX$51,49,0),VLOOKUP(B29,[4]C!B$1:AX$52,49,0)))","v":0},17,18,null,1,1,null,75,22,22,68,75,100,5,"C-11",{"$f":"IFERROR(VLOOKUP(B29,[5]A!B$1:AK$48,36,0),IFERROR(VLOOKUP(B29,[5]B!B$1:AI$51,34,0),VLOOKUP(B29,[5]C!B$1:AG$52,32,0)))","v":10},9,24]
[29,"15BA142",{"$f":"VLOOKUP(B30,[1]C!B$1:AQ$48,42,0)","v":0},{"$f":"VLOOKUP(B30,[1]C!B$1:AR$48,43,0)","v":0},{"$f":"VLOOKUP(B30,[1]C!B$1:AT$48,45,0)","v":0},{"$f":"VLOOKUP(B30,[1]C!B$1:AU$48,46,0)","v":0},{"$f":"VLOOKUP(B30,[1]C!B$1:AV$48,47,0)","v":0},{"$f":"VLOOKUP(B30,[1]C!B$1:AX$48,49,0)","v":0},0,0,0,0,0,0,{"$f":"IFERROR(VLOOKUP(B30,[6]A!B$1:AQ$48,42,0),IFERROR(VLOOKUP(B30,[6]B!B$1:AQ$51,42,0),VLOOKUP(B30,[6]C!B$1:AQ$52,42,0)))","v":14},{"$f":"IFERROR(VLOOKUP(B30,[6]A!B$1:AR$48,43,0),IFERROR(VLOOKUP(B30,[6]B!B$1:AR$51,43,0),VLOOKUP(B30,[6]C!B$1:AR$52,43,0)))","v":16},{"$f":"IFERROR(VLOOKUP(B30,[6]A!B$1:AT$48,45,0),IFERROR(VLOOKUP(B30,[6]B!B$1:AT$51,45,0),VLOOKUP(B30,[6]C!B$1:AT$52,45,0)))","v":0},{"$f":"IFERROR(VLOOKUP(B30,[6]A!B$1:AU$48,46,0),IFERROR(VLOOKUP(B30,[6]B!B$1:AU$51,46,0),VLOOKUP(B30,[6]C!B$1:AU$52,46,0)))","v":2},{"$f":"IFERROR(VLOOKUP(B30,[6]A!B$1:AV$48,47,0),IFERROR(VLOOKUP(B30,[6]B!B$1:AV$51,47,0),VLOOKUP(B30,[6]C!B$1:AV$52,47,0)))","v":3},{"$f":"IFERROR(VLOOKUP(B30,[6]A!B$1:AX$48,49,0),IFERROR(VLOOKUP(B30,[6]B!B$1:AX$51,49,0),VLOOKUP(B30,[6]C!B$1:AX$52,49,0)))","v":0},31,34,{"$f":"IFERROR(VLOOKUP(B30,[4]A!B$1:AT$48,45,0),IFERROR(VLOOKUP(B30,[4]B!B$1:AR$51,43,0),VLOOKUP(B30,[4]C!B$1:AR$52,43,0)))","v":22},{"$f":"IFERROR(VLOOKUP(B30,[4]A!B$1:AU$48,46,0),IFERROR(VLOOKUP(B30,[4]B!B$1:AU$51,46,0),VLOOKUP(B30,[4]C!B$1:AU$52,46,0)))","v":3},{"$f":"IFERROR(VLOOKUP(B30,[4]A!B$1:AV$48,47,0),IFERROR(VLOOKUP(B30,[4]B!B$1:AV$51,47,0),VLOOKUP(B30,[4]C!B$1:AV$52,47,0)))","v":3},{"$f":"IFERROR(VLOOKUP(B30,[4]A!B$1:AX$48,49,0),IFERROR(VLOOKUP(B30,[4]B!B$1:AX$51,49,0),VLOOKUP(B30,[4]C!B$1:AX$52,49,0)))","v":0},12,18,null,1,1,null,75,22,22,63,75,100,5,"C-11",{"$f":"IFERROR(VLOOKUP(B30,[5]A!B$1:AK$48,36,0),IFERROR(VLOOKUP(B30,[5]B!B$1:AI$51,34,0),VLOOKUP(B30,[5]C!B$1:AG$52,32,0)))","v":10},9,24]
[30,"15BA154",0,0,0,0,0,0,0,0,0,0,0,0,{"$f":"IFERROR(VLOOKUP(B31,[6]A!B$1:AQ$48,42,0),IFERROR(VLOOKUP(B31,[6]B!B$1:AQ$51,42,0),VLOOKUP(B31,[6]C!B$1:AQ$52,42,0)))","v":14},{"$f":"IFERROR(VLOOKUP(B31,[6]A!B$1:AR$48,43,0),IFERROR(VLOOKUP(B31,[6]B!B$1:AR$51,43,0),VLOOKUP(B31,[6]C!B$1:AR$52,43,0)))","v":16},{"$f":"IFERROR(VLOOKUP(B31,[6]A!B$1:AT$48,45,0),IFERROR(VLOOKUP(B31,[6]B!B$1:AT$51,45,0),VLOOKUP(B31,[6]C!B$1:AT$52,45,0)))","v":0},{"$f":"IFERROR(VLOOKUP(B31,[6]A!B$1:AU$48,46,0),IFERROR(VLOOKUP(B31,[6]B!B$1:AU$51,46,0),VLOOKUP(B31,[6]C!B$1:AU$52,46,0)))","v":2},{"$f":"IFERROR(VLOOKUP(B31,[6]A!B$1:AV$48,47,0),IFERROR(VLOOKUP(B31,[6]B!B$1:AV$51,47,0),VLOOKUP(B31,[6]C!B$1:AV$52,47,0)))","v":3},{"$f":"IFERROR(VLOOKUP(B31,[6]A!B$1:AX$48,49,0),IFERROR(VLOOKUP(B31,[6]B!B$1:AX$51,49,0),VLOOKUP(B31,[6]C!B$1:AX$52,49,0)))","v":0},14,34,{"$f":"IFERROR(VLOOKUP(B31,[4]A!B$1:AT$48,45,0),IFERROR(VLOOKUP(B31,[4]B!B$1:AR$51,43,0),VLOOKUP(B31,[4]C!B$1:AR$52,43,0)))","v":22},{"$f":"IFERROR(VLOOKUP(B31,[4]A!B$1:AU$48,46,0),IFERROR(VLOOKUP(B31,[4]B!B$1:AU$51,46,0),VLOOKUP(B31,[4]C!B$1:AU$52,46,0)))","v":1},{"$f":"IFERROR(VLOOKUP(B31,[4]A!B$1:AV$48,47,0),IFERROR(VLOOKUP(B31,[4]B!B$1:AV$51,47,0),VLOOKUP(B31,[4]C!B$1:AV$52,47,0)))","v":3},{"$f":"IFERROR(VLOOKUP(B31,[4]A!B$1:AX$48,49,0),IFERROR(VLOOKUP(B31,[4]B!B$1:AX$51,49,0),VLOOKUP(B31,[4]C!B$1:AX$52,49,0)))","v":0},1,18,null,0,1,null,75,22,22,32,54,72,2,"C-11",{"$f":"IFERROR(VLOOKUP(B31,[5]A!B$1:AK$48,36,0),IFERROR(VLOOKUP(B31,[5]B!B$1:AI$51,34,0),VLOOKUP(B31,[5]C!B$1:AG$52,32,0)))","v":10},7,19]
[31,"15BA157",0,0,0,0,0,0,0,0,0,0,0,0,{"$f":"IFERROR(VLOOKUP(B32,[6]A!B$1:AQ$48,42,0),IFERROR(VLOOKUP(B32,[6]B!B$1:AQ$51,42,0),VLOOKUP(B32,[6]C!B$1:AQ$52,42,0)))","v":14},{"$f":"IFERROR(VLOOKUP(B32,[6]A!B$1:AR$48,43,0),IFERROR(VLOOKUP(B32,[6]B!B$1:AR$51,43,0),VLOOKUP(B32,[6]C!B$1:AR$52,43,0)))","v":16},{"$f":"IFERROR(VLOOKUP(B32,[6]A!B$1:AT$48,45,0),IFERROR(VLOOKUP(B32,[6]B!B$1:AT$51,45,0),VLOOKUP(B32,[6]C!B$1:AT$52,45,0)))","v":0},{"$f":"IFERROR(VLOOKUP(B32,[6]A!B$1:AU$48,46,0),IFERROR(VLOOKUP(B32,[6]B!B$1:AU$51,46,0),VLOOKUP(B32,[6]C!B$1:AU$52,46,0)))","v":2},{"$f":"IFERROR(VLOOKUP(B32,[6]A!B$1:AV$48,47,0),IFERROR(VLOOKUP(B32,[6]B!B$1:AV$51,47,0),VLOOKUP(B32,[6]C!B$1:AV$52,47,0)))","v":3},{"$f":"IFERROR(VLOOKUP(B32,[6]A!B$1:AX$48,49,0),IFERROR(VLOOKUP(B32,[6]B!B$1:AX$51,49,0),VLOOKUP(B32,[6]C!B$1:AX$52,49,0)))","v":0},25,34,{"$f":"IFERROR(VLOOKUP(B32,[4]A!B$1:AT$48,45,0),IFERROR(VLOOKUP(B32,[4]B!B$1:AR$51,43,0),VLOOKUP(B32,[4]C!B$1:AR$52,43,0)))","v":22},{"$f":"IFERROR(VLOOKUP(B32,[4]A!B$1:AU$48,46,0),IFERROR(VLOOKUP(B32,[4]B!B$1:AU$51,46,0),VLOOKUP(B32,[4]C!B$1:AU$52,46,0)))","v":1},{"$f":"IFERROR(VLOOKUP(B32,[4]A!B$1:AV$48,47,0),IFERROR(VLOOKUP(B32,[4]B!B$1:AV$51,47,0),VLOOKUP(B32,[4]C!B$1:AV$52,47,0)))","v":3},{"$f":"IFERROR(VLOOKUP(B32,[4]A!B$1:AX$48,49,0),IFERROR(VLOOKUP(B32,[4]B!B$1:AX$51,49,0),VLOOKUP(B32,[4]C!B$1:AX$52,49,0)))","v":0},18,18,3,1,1,null,75,25,25,61,75,100,5,"C-11",{"$f":"IFERROR(VLOOKUP(B32,[5]A!B$1:AK$48,36,0),IFERROR(VLOOKUP(B32,[5]B!B$1:AI$51,34,0),VLOOKUP(B32,[5]C!B$1:AG$52,32,0)))","v":10},9,24]

{"sheet":"Politics of Globalisation","index":6,"n_rows":33,"n_cols":43,"rows_kept":33,"cut":false,"hidden":false,"merged":[]}
["Sr. No.","Roll No.","July  Th ClassesAttended","July  Th Classes Held","July Final Calculated Benefits ","July  Tut ClassesAttended","July  Tut Classes Held","July Tut Final Calculated Benefits ","Aug  Th ClassesAttended","Aug  Th Classes Held","Aug Final Calculated Benefits ","Aug  Tut ClassesAttended","Aug  Tut Classes Held","Aug Tut Final Calculated Benefits ","Sep  Th ClassesAttended","Sep  Th Classes Held","Sep Final Calculated Benefits ","Sep  Tut ClassesAttended","Sep  Tut Classes Held","Sep Tut Final Calculated Benefits ","Oct  Th ClassesAttended","Oct  Th Classes Held","Oct Final Calculated Benefits ","Oct  Tut ClassesAttended","Oct  Tut Classes Held","Oct Tut Final Calculated Benefits ","nOV  Th ClassesAttended","Nov  Th Classes Held","Nov Final Calculated Benefits ","Nov  Tut ClassesAttended","Nov  Tut Classes Held","Nov Tut Final Calculated Benefits ","Total Classes Held in Semester","Total Benefits initially given in the semester","Final Benefits given to the student","Total Classes Attended by the student","Total classes attended + attendance benefits","Attendance Percentage","Attendance Marks","Tut Group"," Assignment (tutorial test) marks out of 10","Assignment (class test) marks out of 10","Final Marks Out of 25"]
[1,"15BA004",{"$f":"VLOOKUP(B2,[1]B!B$1:AY$48,50,0)","v":0},{"$f":"VLOOKUP(B2,[1]B!B$1:AZ$48,51,0)","v":0},{"$f":"VLOOKUP(B2,[1]B!B$1:BB$48,53,0)","v":0},{"$f":"VLOOKUP(B2,[1]B!B$1:BC$48,54,0)","v":0},{"$f":"VLOOKUP(B2,[1]B!B$1:BD$48,55,0)","v":0},{"$f":"VLOOKUP(B2,[1]B!B$1:BF$48,57,0)","v":0},0,0,0,0,0,0,{"$f":"IFERROR(VLOOKUP(B2,[6]A!B$1:AY$48,50,0),IFERROR(VLOOKUP(B2,[6]B!B$1:AY$51,50,0),VLOOKUP(B2,[6]C!B$1:AY$52,50,0)))","v":2},{"$f":"IFERROR(VLOOKUP(B2,[6]A!B$1:AZ$48,51,0),IFERROR(VLOOKUP(B2,[6]B!B$1:AZ$51,51,0),VLOOKUP(B2,[6]C!B$1:AZ$52,51,0)))","v":5},{"$f":"IFERROR(VLOOKUP(B2,[6]A!B$1:BB$48,53,0),IFERROR(VLOOKUP(B2,[6]B!B$1:BB$51,53,0),VLOOKUP(B2,[6]C!B$1:BB$52,53,0)))","v":0},{"$f":"IFERROR(VLOOKUP(B2,[6]A!B$1:BC$48,54,0),IFERROR(VLOOKUP(B2,[6]B!B$1:BC$51,54,0),VLOOKUP(B2,[6]C!B$1:BC$52,54,0)))","v":0},{"$f":"IFERROR(VLOOKUP(B2,[6]A!B$1:BD$48,55,0),IFERROR(VLOOKUP(B2,[6]B!B$1:BD$51,55,0),VLOOKUP(B2,[6]C!B$1:BD$52,55,0)))","v":2},{"$f":"IFERROR(VLOOKUP(B2,[6]A!B$1:BF$48,57,0),IFERROR(VLOOKUP(B2,[6]B!B$1:BF$51,57,0),VLOOKUP(B2,[6]C!B$1:BF$52,57,0)))","v":0},10,16,6,1,1,1,4,4,null,null,null,null,{"$f":"SUM(D2,G2,J2,M2,P2,S2,V2,Y2,AB2,AE2)","v":28},{"$f":"SUM(E2,H2,K2,N2,Q2,T2,W2,Z2,AC2,AF2)","v":7},{"$f":"FLOOR(IF(AH2<(1/3*(AG2)),AH2,(1/3*(AG2))),1)","v":7},{"$f":"SUM(C2,F2,I2,L2,O2,R2,U2,X2,AA2,AD2)","v":17},{"$f":"IF(SUM(AJ2,AI2)>AG2,AG2,SUM(AJ2,AI2))","v":24},{"$f":"(AK2/AG2)*100","v":85.714285714285708},{"$f":"IF(AL2>=85,5,(IF(AND(AL2>=80,AL2<85),4,(IF(AND(AL2>=75,AL2<80),3,(IF(AND(AL2>=70,AL2<75),2,(IF(AND(AL2>67,AL2<70),1,0)))))))))","v":5},"B-8",10,9,{"$f":"SUM(AM2,AO2,AP2)","v":24}]
[2,"15BA008",{"$f":"VLOOKUP(B3,[1]B!B$1:AY$48,50,0)","v":0},{"$f":"VLOOKUP(B3,[1]B!B$1:AZ$48,51,0)","v":0},{"$f":"VLOOKUP(B3,[1]B!B$1:BB$48,53,0)","v":0},{"$f":"VLOOKUP(B3,[1]B!B$1:BC$48,54,0)","v":0},{"$f":"VLOOKUP(B3,[1]B!B$1:BD$48,55,0)","v":0},{"$f":"VLOOKUP(B3,[1]B!B$1:BF$48,57,0)","v":0},0,0,0,0,0,0,{"$f":"IFERROR(VLOOKUP(B3,[6]A!B$1:AY$48,50,0),IFERROR(VLOOKUP(B3,[6]B!B$1:AY$51,50,0),VLOOKUP(B3,[6]C!B$1:AY$52,50,0)))","v":2},{"$f":"IFERROR(VLOOKUP(B3,[6]A!B$1:AZ$48,51,0),IFERROR(VLOOKUP(B3,[6]B!B$1:AZ$51,51,0),VLOOKUP(B3,[6]C!B$1:AZ$52,51,0)))","v":5},{"$f":"IFERROR(VLOOKUP(B3,[6]A!B$1:BB$48,53,0),IFERROR(VLOOKUP(B3,[6]B!B$1:BB$51,53,0),VLOOKUP(B3,[6]C!B$1:BB$52,53,0)))","v":0},{"$f":"IFERROR(VLOOKUP(B3,[6]A!B$1:BC$48,54,0),IFERROR(VLOOKUP(B3,[6]B!B$1:BC$51,54,0),VLOOKUP(B3,[6]C!B$1:BC$52,54,0)))","v":0},{"$f":"IFERROR(VLOOKUP(B3,[6]A!B$1:BD$48,55,0),IFERROR(VLOOKUP(B3,[6]B!B$1:BD$51,55,0),VLOOKUP(B3,[6]C!B$1:BD$52,55,0)))","v":0},{"$f":"IFERROR(VLOOKUP(B3,[6]A!B$1:BF$48,57,0),IFERROR(VLOOKUP(B3,[6]B!B$1:BF$51,57,0),VLOOKUP(B3,[6]C!B$1:BF$52,57,0)))","v":0},11,16,{"$f":"IFERROR(VLOOKUP(B3,[4]A!B$1:BB$48,53,0),IFERROR(VLOOKUP(B3,[4]B!B$1:BB$51,53,0),VLOOKUP(B3,[4]C!B$1:BB$52,53,0)))","v":0},1,1,{"$f":"IFERROR(VLOOKUP(B3,[4]A!B$1:BF$48,57,0),IFERROR(VLOOKUP(B3,[4]B!B$1:BF$51,57,0),VLOOKUP(B3,[4]C!B$1:BF$52,57,0)))","v":0},4,4,null,null,null,null,26,0,0,18,18,69.230769230769226,1,"B-8",10,9,20]
[3,"15BA016",{"$f":"VLOOKUP(B4,[1]B!B$1:AY$48,50,0)","v":0},{"$f":"VLOOKUP(B4,[1]B!B$1:AZ$48,51,0)","v":0},{"$f":"VLOOKUP(B4,[1]B!B$1:BB$48,53,0)","v":0},{"$f":"VLOOKUP(B4,[1]B!B$1:BC$48,54,0)","v":0},{"$f":"VLOOKUP(B4,[1]B!B$1:BD$48,55,0)","v":0},{"$f":"VLOOKUP(B4,[1]B!B$1:BF$48,57,0)","v":0},0,0,0,0,0,0,{"$f":"IFERROR(VLOOKUP(B4,[6]A!B$1:AY$48,50,0),IFERROR(VLOOKUP(B4,[6]B!B$1:AY$51,50,0),VLOOKUP(B4,[6]C!B$1:AY$52,50,0)))","v":0},{"$f":"IFERROR(VLOOKUP(B4,[6]A!B$1:AZ$48,51,0),IFERROR(VLOOKUP(B4,[6]B!B$1:AZ$51,51,0),VLOOKUP(B4,[6]C!B$1:AZ$52,51,0)))","v":5},{"$f":"IFERROR(VLOOKUP(B4,[6]A!B$1:BB$48,53,0),IFERROR(VLOOKUP(B4,[6]B!B$1:BB$51,53,0),VLOOKUP(B4,[6]C!B$1:BB$52,53,0)))","v":0},{"$f":"IFERROR(VLOOKUP(B4,[6]A!B$1:BC$48,54,0),IFERROR(VLOOKUP(B4,[6]B!B$1:BC$51,54,0),VLOOKUP(B4,[6]C!B$1:BC$52,54,0)))","v":0},{"$f":"IFERROR(VLOOKUP(B4,[6]A!B$1:BD$48,55,0),IFERROR(VLOOKUP(B4,[6]B!B$1:BD$51,55,0),VLOOKUP(B4,[6]C!B$1:BD$52,55,0)))","v":2},{"$f":"IFERROR(VLOOKUP(B4,[6]A!B$1:BF$48,57,0),IFERROR(VLOOKUP(B4,[6]B!B$1:BF$51,57,0),VLOOKUP(B4,[6]C!B$1:BF$52,57,0)))","v":0},{"$f":"IFERROR(VLOOKUP(B4,[4]A!B$1:AY$48,50,0),IFERROR(VLOOKUP(B4,[4]B!B$1:AY$51,50,0),VLOOKUP(B4,[4]C!B$1:AY$52,50,0)))","v":0},16,5,1,1,{"$f":"IFERROR(VLOOKUP(B4,[4]A!B$1:BF$48,57,0),IFERROR(VLOOKUP(B4,[4]B!B$1:BF$51,57,0),VLOOKUP(B4,[4]C!B$1:BF$52,57,0)))","v":0},4,4,null,null,null,null,28,5,5,5,10,35.714285714285715,0,"B-8",7,8,15]
[4,"15BA030",{"$f":"VLOOKUP(B5,[1]B!B$1:AY$48,50,0)","v":0},{"$f":"VLOOKUP(B5,[1]B!B$1:AZ$48,51,0)","v":0},{"$f":"VLOOKUP(B5,[1]B!B$1:BB$48,53,0)","v":0},{"$f":"VLOOKUP(B5,[1]B!B$1:BC$48,54,0)","v":0},{"$f":"VLOOKUP(B5,[1]B!B$1:BD$48,55,0)","v":0},{"$f":"VLOOKUP(B5,[1]B!B$1:BF$48,57,0)","v":0},0,0,0,0,0,0,{"$f":"IFERROR(VLOOKUP(B5,[6]A!B$1:AY$48,50,0),IFERROR(VLOOKUP(B5,[6]B!B$1:AY$51,50,0),VLOOKUP(B5,[6]C!B$1:AY$52,50,0)))","v":0},{"$f":"IFERROR(VLOOKUP(B5,[6]A!B$1:AZ$48,51,0),IFERROR(VLOOKUP(B5,[6]B!B$1:AZ$51,51,0),VLOOKUP(B5,[6]C!B$1:AZ$52,51,0)))","v":5},{"$f":"IFERROR(VLOOKUP(B5,[6]A!B$1:BB$48,53,0),IFERROR(VLOOKUP(B5,[6]B!B$1:BB$51,53,0),VLOOKUP(B5,[6]C!B$1:BB$52,53,0)))","v":0},{"$f":"IFERROR(VLOOKUP(B5,[6]A!B$1:BC$48,54,0),IFERROR(VLOOKUP(B5,[6]B!B$1:BC$51,54,0),VLOOKUP(B5,[6]C!B$1:BC$52,54,0)))","v":0},{"$f":"IFERROR(VLOOKUP(B5,[6]A!B$1:BD$48,55,0),IFERROR(VLOOKUP(B5,[6]B!B$1:BD$51,55,0),VLOOKUP(B5,[6]C!B$1:BD$52,55,0)))","v":0},{"$f":"IFERROR(VLOOKUP(B5,[6]A!B$1:BF$48,57,0),IFERROR(VLOOKUP(B5,[6]B!B$1:BF$51,57,0),VLOOKUP(B5,[6]C!B$1:BF$52,57,0)))","v":0},{"$f":"IFERROR(VLOOKUP(B5,[4]A!B$1:AY$48,50,0),IFERROR(VLOOKUP(B5,[4]B!B$1:AY$51,50,0),VLOOKUP(B5,[4]C!B$1:AY$52,50,0)))","v":0},{"$f":"IFERROR(VLOOKUP(B5,[4]A!B$1:AZ$48,51,0),IFERROR(VLOOKUP(B5,[4]B!B$1:AZ$51,51,0),VLOOKUP(B5,[4]C!B$1:AZ$52,51,0)))","v":0},{"$f":"IFERROR(VLOOKUP(B5,[4]A!B$1:BB$48,53,0),IFERROR(VLOOKUP(B5,[4]B!B$1:BB$51,53,0),VLOOKUP(B5,[4]C!B$1:BB$52,53,0)))","v":0},{"$f":"IFERROR(VLOOKUP(B5,[4]A!B$1:BC$48,54,0),IFERROR(VLOOKUP(B5,[4]B!B$1:BC$51,54,0),VLOOKUP(B5,[4]C!B$1:BC$52,54,0)))","v":0},{"$f":"IFERROR(VLOOKUP(B5,[4]A!B$1:BD$48,55,0),IFERROR(VLOOKUP(B5,[4]B!B$1:BD$51,55,0),VLOOKUP(B5,[4]C!B$1:BD$52,55,0)))","v":0},{"$f":"IFERROR(VLOOKUP(B5,[4]A!B$1:BF$48,57,0),IFERROR(VLOOKUP(B5,[4]B!B$1:BF$51,57,0),VLOOKUP(B5,[4]C!B$1:BF$52,57,0)))","v":0},null,null,null,null,null,null,5,0,0,0,0,0,0,null,null,null,0]
[5,"15BA036",{"$f":"VLOOKUP(B6,[1]B!B$1:AY$48,50,0)","v":0},{"$f":"VLOOKUP(B6,[1]B!B$1:AZ$48,51,0)","v":0},{"$f":"VLOOKUP(B6,[1]B!B$1:BB$48,53,0)","v":0},{"$f":"VLOOKUP(B6,[1]B!B$1:BC$48,54,0)","v":0},{"$f":"VLOOKUP(B6,[1]B!B$1:BD$48,55,0)","v":0},{"$f":"VLOOKUP(B6,[1]B!B$1:BF$48,57,0)","v":0},0,0,0,0,0,0,{"$f":"IFERROR(VLOOKUP(B6,[6]A!B$1:AY$48,50,0),IFERROR(VLOOKUP(B6,[6]B!B$1:AY$51,50,0),VLOOKUP(B6,[6]C!B$1:AY$52,50,0)))","v":0},{"$f":"IFERROR(VLOOKUP(B6,[6]A!B$1:AZ$48,51,0),IFERROR(VLOOKUP(B6,[6]B!B$1:AZ$51,51,0),VLOOKUP(B6,[6]C!B$1:AZ$52,51,0)))","v":5},{"$f":"IFERROR(VLOOKUP(B6,[6]A!B$1:BB$48,53,0),IFERROR(VLOOKUP(B6,[6]B!B$1:BB$51,53,0),VLOOKUP(B6,[6]C!B$1:BB$52,53,0)))","v":0},{"$f":"IFERROR(VLOOKUP(B6,[6]A!B$1:BC$48,54,0),IFERROR(VLOOKUP(B6,[6]B!B$1:BC$51,54,0),VLOOKUP(B6,[6]C!B$1:BC$52,54,0)))","v":0},{"$f":"IFERROR(VLOOKUP(B6,[6]A!B$1:BD$48,55,0),IFERROR(VLOOKUP(B6,[6]B!B$1:BD$51,55,0),VLOOKUP(B6,[6]C!B$1:BD$52,55,0)))","v":2},{"$f":"IFERROR(VLOOKUP(B6,[6]A!B$1:BF$48,57,0),IFERROR(VLOOKUP(B6,[6]B!B$1:BF$51,57,0),VLOOKUP(B6,[6]C!B$1:BF$52,57,0)))","v":0},14,16,{"$f":"IFERROR(VLOOKUP(B6,[4]A!B$1:BB$48,53,0),IFERROR(VLOOKUP(B6,[4]B!B$1:BB$51,53,0),VLOOKUP(B6,[4]C!B$1:BB$52,53,0)))","v":0},1,1,{"$f":"IFERROR(VLOOKUP(B6,[4]A!B$1:BF$48,57,0),IFERROR(VLOOKUP(B6,[4]B!B$1:BF$51,57,0),VLOOKUP(B6,[4]C!B$1:BF$52,57,0)))","v":0},4,4,null,null,null,null,28,0,0,19,19,67.857142857142861,1,"B-8",8,9,18]
[6,"15BA040",{"$f":"VLOOKUP(B7,[1]B!B$1:AY$48,50,0)","v":0},{"$f":"VLOOKUP(B7,[1]B!B$1:AZ$48,51,0)","v":0},{"$f":"VLOOKUP(B7,[1]B!B$1:BB$48,53,0)","v":0},{"$f":"VLOOKUP(B7,[1]B!B$1:BC$48,54,0)","v":0},{"$f":"VLOOKUP(B7,[1]B!B$1:BD$48,55,0)","v":0},{"$f":"VLOOKUP(B7,[1]B!B$1:BF$48,57,0)","v":0},0,0,0,0,0,0,{"$f":"IFERROR(VLOOKUP(B7,[6]A!B$1:AY$48,50,0),IFERROR(VLOOKUP(B7,[6]B!B$1:AY$51,50,0),VLOOKUP(B7,[6]C!B$1:AY$52,50,0)))","v":0},{"$f":"IFERROR(VLOOKUP(B7,[6]A!B$1:AZ$48,51,0),IFERROR(VLOOKUP(B7,[6]B!B$1:AZ$51,51,0),VLOOKUP(B7,[6]C!B$1:AZ$52,51,0)))","v":5},{"$f":"IFERROR(VLOOKUP(B7,[6]A!B$1:BB$48,53,0),IFERROR(VLOOKUP(B7,[6]B!B$1:BB$51,53,0),VLOOKUP(B7,[6]C!B$1:BB$52,53,0)))","v":0},{"$f":"IFERROR(VLOOKUP(B7,[6]A!B$1:BC$48,54,0),IFERROR(VLOOKUP(B7,[6]B!B$1:BC$51,54,0),VLOOKUP(B7,[6]C!B$1:BC$52,54,0)))","v":0},{"$f":"IFERROR(VLOOKUP(B7,[6]A!B$1:BD$48,55,0),IFERROR(VLOOKUP(B7,[6]B!B$1:BD$51,55,0),VLOOKUP(B7,[6]C!B$1:BD$52,55,0)))","v":2},{"$f":"IFERROR(VLOOKUP(B7,[6]A!B$1:BF$48,57,0),IFERROR(VLOOKUP(B7,[6]B!B$1:BF$51,57,0),VLOOKUP(B7,[6]C!B$1:BF$52,57,0)))","v":0},6,16,{"$f":"IFERROR(VLOOKUP(B7,[4]A!B$1:BB$48,53,0),IFERROR(VLOOKUP(B7,[4]B!B$1:BB$51,53,0),VLOOKUP(B7,[4]C!B$1:BB$52,53,0)))","v":0},{"$f":"IFERROR(VLOOKUP(B7,[4]A!B$1:BC$48,54,0),IFERROR(VLOOKUP(B7,[4]B!B$1:BC$51,54,0),VLOOKUP(B7,[4]C!B$1:BC$52,54,0)))","v":0},{"$f":"IFERROR(VLOOKUP(B7,[4]A!B$1:BD$48,55,0),IFERROR(VLOOKUP(B7,[4]B!B$1:BD$51,55,0),VLOOKUP(B7,[4]C!B$1:BD$52,55,0)))","v":0},{"$f":"IFERROR(VLOOKUP(B7,[4]A!B$1:BF$48,57,0),IFERROR(VLOOKUP(B7,[4]B!B$1:BF$51,57,0),VLOOKUP(B7,[4]C!B$1:BF$52,57,0)))","v":0},4,4,null,null,null,null,27,0,0,10,10,37.037037037037038,0,null,0,7,7]
[7,"15BA057",{"$f":"VLOOKUP(B8,[1]B!B$1:AY$48,50,0)","v":0},{"$f":"VLOOKUP(B8,[1]B!B$1:AZ$48,51,0)","v":0},{"$f":"VLOOKUP(B8,[1]B!B$1:BB$48,53,0)","v":0},{"$f":"VLOOKUP(B8,[1]B!B$1:BC$48,54,0)","v":0},{"$f":"VLOOKUP(B8,[1]B!B$1:BD$48,55,0)","v":0},{"$f":"VLOOKUP(B8,[1]B!B$1:BF$48,57,0)","v":0},0,0,0,0,0,0,{"$f":"IFERROR(VLOOKUP(B8,[6]A!B$1:AY$48,50,0),IFERROR(VLOOKUP(B8,[6]B!B$1:AY$51,50,0),VLOOKUP(B8,[6]C!B$1:AY$52,50,0)))","v":3},{"$f":"IFERROR(VLOOKUP(B8,[6]A!B$1:AZ$48,51,0),IFERROR(VLOOKUP(B8,[6]B!B$1:AZ$51,51,0),VLOOKUP(B8,[6]C!B$1:AZ$52,51,0)))","v":5},{"$f":"IFERROR(VLOOKUP(B8,[6]A!B$1:BB$48,53,0),IFERROR(VLOOKUP(B8,[6]B!B$1:BB$51,53,0),VLOOKUP(B8,[6]C!B$1:BB$52,53,0)))","v":0},{"$f":"IFERROR(VLOOKUP(B8,[6]A!B$1:BC$48,54,0),IFERROR(VLOOKUP(B8,[6]B!B$1:BC$51,54,0),VLOOKUP(B8,[6]C!B$1:BC$52,54,0)))","v":0},{"$f":"IFERROR(VLOOKUP(B8,[6]A!B$1:BD$48,55,0),IFERROR(VLOOKUP(B8,[6]B!B$1:BD$51,55,0),VLOOKUP(B8,[6]C!B$1:BD$52,55,0)))","v":2},{"$f":"IFERROR(VLOOKUP(B8,[6]A!B$1:BF$48,57,0),IFERROR(VLOOKUP(B8,[6]B!B$1:BF$51,57,0),VLOOKUP(B8,[6]C!B$1:BF$52,57,0)))","v":0},12,16,{"$f":"IFERROR(VLOOKUP(B8,[4]A!B$1:BB$48,53,0),IFERROR(VLOOKUP(B8,[4]B!B$1:BB$51,53,0),VLOOKUP(B8,[4]C!B$1:BB$52,53,0)))","v":0},1,1,{"$f":"IFERROR(VLOOKUP(B8,[4]A!B$1:BF$48,57,0),IFERROR(VLOOKUP(B8,[4]B!B$1:BF$51,57,0),VLOOKUP(B8,[4]C!B$1:BF$52,57,0)))","v":0},4,4,null,null,null,null,28,0,0,20,20,71.428571428571431,2,"B-8",10,9,21]
[8,"15BA075",{"$f":"VLOOKUP(B9,[1]B!B$1:AY$48,50,0)","v":0},{"$f":"VLOOKUP(B9,[1]B!B$1:AZ$48,51,0)","v":0},{"$f":"VLOOKUP(B9,[1]B!B$1:BB$48,53,0)","v":0},{"$f":"VLOOKUP(B9,[1]B!B$1:BC$48,54,0)","v":0},{"$f":"VLOOKUP(B9,[1]B!B$1:BD$48,55,0)","v":0},{"$f":"VLOOKUP(B9,[1]B!B$1:BF$48,57,0)","v":0},0,0,0,0,0,0,{"$f":"IFERROR(VLOOKUP(B9,[6]A!B$1:AY$48,50,0),IFERROR(VLOOKUP(B9,[6]B!B$1:AY$51,50,0),VLOOKUP(B9,[6]C!B$1:AY$52,50,0)))","v":3},{"$f":"IFERROR(VLOOKUP(B9,[6]A!B$1:AZ$48,51,0),IFERROR(VLOOKUP(B9,[6]B!B$1:AZ$51,51,0),VLOOKUP(B9,[6]C!B$1:AZ$52,51,0)))","v":5},{"$f":"IFERROR(VLOOKUP(B9,[6]A!B$1:BB$48,53,0),IFERROR(VLOOKUP(B9,[6]B!B$1:BB$51,53,0),VLOOKUP(B9,[6]C!B$1:BB$52,53,0)))","v":0},{"$f":"IFERROR(VLOOKUP(B9,[6]A!B$1:BC$48,54,0),IFERROR(VLOOKUP(B9,[6]B!B$1:BC$51,54,0),VLOOKUP(B9,[6]C!B$1:BC$52,54,0)))","v":2},{"$f":"IFERROR(VLOOKUP(B9,[6]A!B$1:BD$48,55,0),IFERROR(VLOOKUP(B9,[6]B!B$1:BD$51,55,0),VLOOKUP(B9,[6]C!B$1:BD$52,55,0)))","v":2},{"$f":"IFERROR(VLOOKUP(B9,[6]A!B$1:BF$48,57,0),IFERROR(VLOOKUP(B9,[6]B!B$1:BF$51,57,0),VLOOKUP(B9,[6]C!B$1:BF$52,57,0)))","v":0},14,16,{"$f":"IFERROR(VLOOKUP(B9,[4]A!B$1:BB$48,53,0),IFERROR(VLOOKUP(B9,[4]B!B$1:BB$51,53,0),VLOOKUP(B9,[4]C!B$1:BB$52,53,0)))","v":0},1,1,{"$f":"IFERROR(VLOOKUP(B9,[4]A!B$1:BF$48,57,0),IFERROR(VLOOKUP(B9,[4]B!B$1:BF$51,57,0),VLOOKUP(B9,[4]C!B$1:BF$52,57,0)))","v":0},4,4,null,null,null,null,{"$f":"SUM(D9,G9,J9,M9,P9,S9,V9,Y9,AB9,AE9)","v":28},{"$f":"SUM(E9,H9,K9,N9,Q9,T9,W9,Z9,AC9,AF9)","v":0},{"$f":"FLOOR(IF(AH9<(1/3*(AG9)),AH9,(1/3*(AG9))),1)","v":0},{"$f":"SUM(C9,F9,I9,L9,O9,R9,U9,X9,AA9,AD9)","v":24},{"$f":"IF(SUM(AJ9,AI9)>AG9,AG9,SUM(AJ9,AI9))","v":24},{"$f":"(AK9/AG9)*100","v":85.714285714285708},{"$f":"IF(AL9>=85,5,(IF(AND(AL9>=80,AL9<85),4,(IF(AND(AL9>=75,AL9<80),3,(IF(AND(AL9>=70,AL9<75),2,(IF(AND(AL9>67,AL9<70),1,0)))))))))","v":5},"B-8",10,9,{"$f":"SUM(AM9,AO9,AP9)","v":24}]
[9,"15BA090",{"$f":"VLOOKUP(B10,[1]B!B$1:AY$48,50,0)","v":0},{"$f":"VLOOKUP(B10,[1]B!B$1:AZ$48,51,0)","v":0},{"$f":"VLOOKUP(B10,[1]B!B$1:BB$48,53,0)","v":0},{"$f":"VLOOKUP(B10,[1]B!B$1:BC$48,54,0)","v":0},{"$f":"VLOOKUP(B10,[1]B!B$1:BD$48,55,0)","v":0},{"$f":"VLOOKUP(B10,[1]B!B$1:BF$48,57,0)","v":0},0,0,0,0,0,0,{"$f":"IFERROR(VLOOKUP(B10,[6]A!B$1:AY$48,50,0),IFERROR(VLOOKUP(B10,[6]B!B$1:AY$51,50,0),VLOOKUP(B10,[6]C!B$1:AY$52,50,0)))","v":3},{"$f":"IFERROR(VLOOKUP(B10,[6]A!B$1:AZ$48,51,0),IFERROR(VLOOKUP(B10,[6]B!B$1:AZ$51,51,0),VLOOKUP(B10,[6]C!B$1:AZ$52,51,0)))","v":5},{"$f":"IFERROR(VLOOKUP(B10,[6]A!B$1:BB$48,53,0),IFERROR(VLOOKUP(B10,[6]B!B$1:BB$51,53,0),VLOOKUP(B10,[6]C!B$1:BB$52,53,0)))","v":0},{"$f":"IFERROR(VLOOKUP(B10,[6]A!B$1:BC$48,54,0),IFERROR(VLOOKUP(B10,[6]B!B$1:BC$51,54,0),VLOOKUP(B10,[6]C!B$1:BC$52,54,0)))","v":2},{"$f":"IFERROR(VLOOKUP(B10,[6]A!B$1:BD$48,55,0),IFERROR(VLOOKUP(B10,[6]B!B$1:BD$51,55,0),VLOOKUP(B10,[6]C!B$1:BD$52,55,0)))","v":2},{"$f":"IFERROR(VLOOKUP(B10,[6]A!B$1:BF$48,57,0),IFERROR(VLOOKUP(B10,[6]B!B$1:BF$51,57,0),VLOOKUP(B10,[6]C!B$1:BF$52,57,0)))","v":0},15,16,{"$f":"IFERROR(VLOOKUP(B10,[4]A!B$1:BB$48,53,0),IFERROR(VLOOKUP(B10,[4]B!B$1:BB$51,53,0),VLOOKUP(B10,[4]C!B$1:BB$52,53,0)))","v":0},1,1,{"$f":"IFERROR(VLOOKUP(B10,[4]A!B$1:BF$48,57,0),IFERROR(VLOOKUP(B10,[4]B!B$1:BF$51,57,0),VLOOKUP(B10,[4]C!B$1:BF$52,57,0)))","v":0},4,4,null,null,null,null,28,0,0,25,25,89.285714285714292,5,"B-8",10,9,24]
[10,"15BA107",{"$f":"VLOOKUP(B11,[1]B!B$1:AY$48,50,0)","v":0},{"$f":"VLOOKUP(B11,[1]B!B$1:AZ$48,51,0)","v":0},{"$f":"VLOOKUP(B11,[1]B!B$1:BB$48,53,0)","v":0},{"$f":"VLOOKUP(B11,[1]B!B$1:BC$48,54,0)","v":0},{"$f":"VLOOKUP(B11,[1]B!B$1:BD$48,55,0)","v":0},{"$f":"VLOOKUP(B11,[1]B!B$1:BF$48,57,0)","v":0},0,0,0,0,0,0,{"$f":"IFERROR(VLOOKUP(B11,[6]A!B$1:AY$48,50,0),IFERROR(VLOOKUP(B11,[6]B!B$1:AY$51,50,0),VLOOKUP(B11,[6]C!B$1:AY$52,50,0)))","v":0},{"$f":"IFERROR(VLOOKUP(B11,[6]A!B$1:AZ$48,51,0),IFERROR(VLOOKUP(B11,[6]B!B$1:AZ$51,51,0),VLOOKUP(B11,[6]C!B$1:AZ$52,51,0)))","v":0},{"$f":"IFERROR(VLOOKUP(B11,[6]A!B$1:BB$48,53,0),IFERROR(VLOOKUP(B11,[6]B!B$1:BB$51,53,0),VLOOKUP(B11,[6]C!B$1:BB$52,53,0)))","v":0},{"$f":"IFERROR(VLOOKUP(B11,[6]A!B$1:BC$48,54,0),IFERROR(VLOOKUP(B11,[6]B!B$1:BC$51,54,0),VLOOKUP(B11,[6]C!B$1:BC$52,54,0)))","v":0},{"$f":"IFERROR(VLOOKUP(B11,[6]A!B$1:BD$48,55,0),IFERROR(VLOOKUP(B11,[6]B!B$1:BD$51,55,0),VLOOKUP(B11,[6]C!B$1:BD$52,55,0)))","v":0},{"$f":"IFERROR(VLOOKUP(B11,[6]A!B$1:BF$48,57,0),IFERROR(VLOOKUP(B11,[6]B!B$1:BF$51,57,0),VLOOKUP(B11,[6]C!B$1:BF$52,57,0)))","v":0},3,16,5,2,3,1,4,4,null,null,null,null,23,6,6,9,15,65.217391304347828,0,"B-9",8,9,17]
[11,"15BA108",{"$f":"VLOOKUP(B12,[1]B!B$1:AY$48,50,0)","v":0},{"$f":"VLOOKUP(B12,[1]B!B$1:AZ$48,51,0)","v":0},{"$f":"VLOOKUP(B12,[1]B!B$1:BB$48,53,0)","v":0},{"$f":"VLOOKUP(B12,[1]B!B$1:BC$48,54,0)","v":0},{"$f":"VLOOKUP(B12,[1]B!B$1:BD$48,55,0)","v":0},{"$f":"VLOOKUP(B12,[1]B!B$1:BF$48,57,0)","v":0},0,0,0,0,0,0,{"$f":"IFERROR(VLOOKUP(B12,[6]A!B$1:AY$48,50,0),IFERROR(VLOOKUP(B12,[6]B!B$1:AY$51,50,0),VLOOKUP(B12,[6]C!B$1:AY$52,50,0)))","v":1},{"$f":"IFERROR(VLOOKUP(B12,[6]A!B$1:AZ$48,51,0),IFERROR(VLOOKUP(B12,[6]B!B$1:AZ$51,51,0),VLOOKUP(B12,[6]C!B$1:AZ$52,51,0)))","v":5},{"$f":"IFERROR(VLOOKUP(B12,[6]A!B$1:BB$48,53,0),IFERROR(VLOOKUP(B12,[6]B!B$1:BB$51,53,0),VLOOKUP(B12,[6]C!B$1:BB$52,53,0)))","v":0},{"$f":"IFERROR(VLOOKUP(B12,[6]A!B$1:BC$48,54,0),IFERROR(VLOOKUP(B12,[6]B!B$1:BC$51,54,0),VLOOKUP(B12,[6]C!B$1:BC$52,54,0)))","v":0},{"$f":"IFERROR(VLOOKUP(B12,[6]A!B$1:BD$48,55,0),IFERROR(VLOOKUP(B12,[6]B!B$1:BD$51,55,0),VLOOKUP(B12,[6]C!B$1:BD$52,55,0)))","v":0},{"$f":"IFERROR(VLOOKUP(B12,[6]A!B$1:BF$48,57,0),IFERROR(VLOOKUP(B12,[6]B!B$1:BF$51,57,0),VLOOKUP(B12,[6]C!B$1:BF$52,57,0)))","v":0},15,16,{"$f":"IFERROR(VLOOKUP(B12,[4]A!B$1:BB$48,53,0),IFERROR(VLOOKUP(B12,[4]B!B$1:BB$51,53,0),VLOOKUP(B12,[4]C!B$1:BB$52,53,0)))","v":0},1,1,{"$f":"IFERROR(VLOOKUP(B12,[4]A!B$1:BF$48,57,0),IFERROR(VLOOKUP(B12,[4]B!B$1:BF$51,57,0),VLOOKUP(B12,[4]C!B$1:BF$52,57,0)))","v":0},4,4,null,null,null,null,26,0,0,21,21,80.769230769230774,4,"B-8",10,10,24]
[12,"15BA120",{"$f":"VLOOKUP(B13,[1]B!B$1:AY$48,50,0)","v":0},{"$f":"VLOOKUP(B13,[1]B!B$1:AZ$48,51,0)","v":0},{"$f":"VLOOKUP(B13,[1]B!B$1:BB$48,53,0)","v":0},{"$f":"VLOOKUP(B13,[1]B!B$1:BC$48,54,0)","v":0},{"$f":"VLOOKUP(B13,[1]B!B$1:BD$48,55,0)","v":0},{"$f":"VLOOKUP(B13,[1]B!B$1:BF$48,57,0)","v":0},0,0,0,0,0,0,{"$f":"IFERROR(VLOOKUP(B13,[6]A!B$1:AY$48,50,0),IFERROR(VLOOKUP(B13,[6]B!B$1:AY$51,50,0),VLOOKUP(B13,[6]C!B$1:AY$52,50,0)))","v":0},{"$f":"IFERROR(VLOOKUP(B13,[6]A!B$1:AZ$48,51,0),IFERROR(VLOOKUP(B13,[6]B!B$1:AZ$51,51,0),VLOOKUP(B13,[6]C!B$1:AZ$52,51,0)))","v":5},{"$f":"IFERROR(VLOOKUP(B13,[6]A!B$1:BB$48,53,0),IFERROR(VLOOKUP(B13,[6]B!B$1:BB$51,53,0),VLOOKUP(B13,[6]C!B$1:BB$52,53,0)))","v":0},{"$f":"IFERROR(VLOOKUP(B13,[6]A!B$1:BC$48,54,0),IFERROR(VLOOKUP(B13,[6]B!B$1:BC$51,54,0),VLOOKUP(B13,[6]C!B$1:BC$52,54,0)))","v":0},{"$f":"IFERROR(VLOOKUP(B13,[6]A!B$1:BD$48,55,0),IFERROR(VLOOKUP(B13,[6]B!B$1:BD$51,55,0),VLOOKUP(B13,[6]C!B$1:BD$52,55,0)))","v":0},{"$f":"IFERROR(VLOOKUP(B13,[6]A!B$1:BF$48,57,0),IFERROR(VLOOKUP(B13,[6]B!B$1:BF$51,57,0),VLOOKUP(B13,[6]C!B$1:BF$52,57,0)))","v":0},0,16,5,1,1,{"$f":"IFERROR(VLOOKUP(B13,[4]A!B$1:BF$48,57,0),IFERROR(VLOOKUP(B13,[4]B!B$1:BF$51,57,0),VLOOKUP(B13,[4]C!B$1:BF$52,57,0)))","v":0},4,4,null,null,null,null,26,5,5,5,10,38.461538461538467,0,"B-8",8,7,15]
[13,"15BA134",{"$f":"VLOOKUP(B14,[1]B!B$1:AY$48,50,0)","v":0},{"$f":"VLOOKUP(B14,[1]B!B$1:AZ$48,51,0)","v":0},{"$f":"VLOOKUP(B14,[1]B!B$1:BB$48,53,0)","v":0},{"$f":"VLOOKUP(B14,[1]B!B$1:BC$48,54,0)","v":0},{"$f":"VLOOKUP(B14,[1]B!B$1:BD$48,55,0)","v":0},{"$f":"VLOOKUP(B14,[1]B!B$1:BF$48,57,0)","v":0},0,0,0,0,0,0,{"$f":"IFERROR(VLOOKUP(B14,[6]A!B$1:AY$48,50,0),IFERROR(VLOOKUP(B14,[6]B!B$1:AY$51,50,0),VLOOKUP(B14,[6]C!B$1:AY$52,50,0)))","v":0},{"$f":"IFERROR(VLOOKUP(B14,[6]A!B$1:AZ$48,51,0),IFERROR(VLOOKUP(B14,[6]B!B$1:AZ$51,51,0),VLOOKUP(B14,[6]C!B$1:AZ$52,51,0)))","v":5},{"$f":"IFERROR(VLOOKUP(B14,[6]A!B$1:BB$48,53,0),IFERROR(VLOOKUP(B14,[6]B!B$1:BB$51,53,0),VLOOKUP(B14,[6]C!B$1:BB$52,53,0)))","v":0},{"$f":"IFERROR(VLOOKUP(B14,[6]A!B$1:BC$48,54,0),IFERROR(VLOOKUP(B14,[6]B!B$1:BC$51,54,0),VLOOKUP(B14,[6]C!B$1:BC$52,54,0)))","v":0},{"$f":"IFERROR(VLOOKUP(B14,[6]A!B$1:BD$48,55,0),IFERROR(VLOOKUP(B14,[6]B!B$1:BD$51,55,0),VLOOKUP(B14,[6]C!B$1:BD$52,55,0)))","v":1},{"$f":"IFERROR(VLOOKUP(B14,[6]A!B$1:BF$48,57,0),IFERROR(VLOOKUP(B14,[6]B!B$1:BF$51,57,0),VLOOKUP(B14,[6]C!B$1:BF$52,57,0)))","v":0},16,16,{"$f":"IFERROR(VLOOKUP(B14,[4]A!B$1:BB$48,53,0),IFERROR(VLOOKUP(B14,[4]B!B$1:BB$51,53,0),VLOOKUP(B14,[4]C!B$1:BB$52,53,0)))","v":0},3,3,{"$f":"IFERROR(VLOOKUP(B14,[4]A!B$1:BF$48,57,0),IFERROR(VLOOKUP(B14,[4]B!B$1:BF$51,57,0),VLOOKUP(B14,[4]C!B$1:BF$52,57,0)))","v":0},4,4,null,null,null,null,29,0,0,23,23,79.310344827586206,3,"B-9",8,8,19]
[14,"15BA135",{"$f":"VLOOKUP(B15,[1]B!B$1:AY$48,50,0)","v":0},{"$f":"VLOOKUP(B15,[1]B!B$1:AZ$48,51,0)","v":0},{"$f":"VLOOKUP(B15,[1]B!B$1:BB$48,53,0)","v":0},{"$f":"VLOOKUP(B15,[1]B!B$1:BC$48,54,0)","v":0},{"$f":"VLOOKUP(B15,[1]B!B$1:BD$48,55,0)","v":0},{"$f":"VLOOKUP(B15,[1]B!B$1:BF$48,57,0)","v":0},0,0,0,0,0,0,{"$f":"IFERROR(VLOOKUP(B15,[6]A!B$1:AY$48,50,0),IFERROR(VLOOKUP(B15,[6]B!B$1:AY$51,50,0),VLOOKUP(B15,[6]C!B$1:AY$52,50,0)))","v":0},{"$f":"IFERROR(VLOOKUP(B15,[6]A!B$1:AZ$48,51,0),IFERROR(VLOOKUP(B15,[6]B!B$1:AZ$51,51,0),VLOOKUP(B15,[6]C!B$1:AZ$52,51,0)))","v":5},{"$f":"IFERROR(VLOOKUP(B15,[6]A!B$1:BB$48,53,0),IFERROR(VLOOKUP(B15,[6]B!B$1:BB$51,53,0),VLOOKUP(B15,[6]C!B$1:BB$52,53,0)))","v":0},{"$f":"IFERROR(VLOOKUP(B15,[6]A!B$1:BC$48,54,0),IFERROR(VLOOKUP(B15,[6]B!B$1:BC$51,54,0),VLOOKUP(B15,[6]C!B$1:BC$52,54,0)))","v":0},{"$f":"IFERROR(VLOOKUP(B15,[6]A!B$1:BD$48,55,0),IFERROR(VLOOKUP(B15,[6]B!B$1:BD$51,55,0),VLOOKUP(B15,[6]C!B$1:BD$52,55,0)))","v":1},{"$f":"IFERROR(VLOOKUP(B15,[6]A!B$1:BF$48,57,0),IFERROR(VLOOKUP(B15,[6]B!B$1:BF$51,57,0),VLOOKUP(B15,[6]C!B$1:BF$52,57,0)))","v":0},10,16,2,3,3,{"$f":"IFERROR(VLOOKUP(B15,[4]A!B$1:BF$48,57,0),IFERROR(VLOOKUP(B15,[4]B!B$1:BF$51,57,0),VLOOKUP(B15,[4]C!B$1:BF$52,57,0)))","v":0},4,4,null,null,null,null,29,2,2,17,19,65.517241379310349,0,"B-9",10,9,19]
[15,"15BA140",{"$f":"VLOOKUP(B16,[1]B!B$1:AY$48,50,0)","v":0},{"$f":"VLOOKUP(B16,[1]B!B$1:AZ$48,51,0)","v":0},{"$f":"VLOOKUP(B16,[1]B!B$1:BB$48,53,0)","v":0},{"$f":"VLOOKUP(B16,[1]B!B$1:BC$48,54,0)","v":0},{"$f":"VLOOKUP(B16,[1]B!B$1:BD$48,55,0)","v":0},{"$f":"VLOOKUP(B16,[1]B!B$1:BF$48,57,0)","v":0},0,0,0,0,0,0,{"$f":"IFERROR(VLOOKUP(B16,[6]A!B$1:AY$48,50,0),IFERROR(VLOOKUP(B16,[6]B!B$1:AY$51,50,0),VLOOKUP(B16,[6]C!B$1:AY$52,50,0)))","v":1},{"$f":"IFERROR(VLOOKUP(B16,[6]A!B$1:AZ$48,51,0),IFERROR(VLOOKUP(B16,[6]B!B$1:AZ$51,51,0),VLOOKUP(B16,[6]C!B$1:AZ$52,51,0)))","v":5},{"$f":"IFERROR(VLOOKUP(B16,[6]A!B$1:BB$48,53,0),IFERROR(VLOOKUP(B16,[6]B!B$1:BB$51,53,0),VLOOKUP(B16,[6]C!B$1:BB$52,53,0)))","v":0},{"$f":"IFERROR(VLOOKUP(B16,[6]A!B$1:BC$48,54,0),IFERROR(VLOOKUP(B16,[6]B!B$1:BC$51,54,0),VLOOKUP(B16,[6]C!B$1:BC$52,54,0)))","v":0},{"$f":"IFERROR(VLOOKUP(B16,[6]A!B$1:BD$48,55,0),IFERROR(VLOOKUP(B16,[6]B!B$1:BD$51,55,0),VLOOKUP(B16,[6]C!B$1:BD$52,55,0)))","v":0},{"$f":"IFERROR(VLOOKUP(B16,[6]A!B$1:BF$48,57,0),IFERROR(VLOOKUP(B16,[6]B!B$1:BF$51,57,0),VLOOKUP(B16,[6]C!B$1:BF$52,57,0)))","v":0},12,16,{"$f":"IFERROR(VLOOKUP(B16,[4]A!B$1:BB$48,53,0),IFERROR(VLOOKUP(B16,[4]B!B$1:BB$51,53,0),VLOOKUP(B16,[4]C!B$1:BB$52,53,0)))","v":0},3,3,{"$f":"IFERROR(VLOOKUP(B16,[4]A!B$1:BF$48,57,0),IFERROR(VLOOKUP(B16,[4]B!B$1:BF$51,57,0),VLOOKUP(B16,[4]C!B$1:BF$52,57,0)))","v":0},4,4,null,null,null,null,28,0,0,20,20,71.428571428571431,2,"B-9",9,8,19]
[16,"15BA141",{"$f":"VLOOKUP(B17,[1]B!B$1:AY$48,50,0)","v":0},{"$f":"VLOOKUP(B17,[1]B!B$1:AZ$48,51,0)","v":0},{"$f":"VLOOKUP(B17,[1]B!B$1:BB$48,53,0)","v":0},{"$f":"VLOOKUP(B17,[1]B!B$1:BC$48,54,0)","v":0},{"$f":"VLOOKUP(B17,[1]B!B$1:BD$48,55,0)","v":0},{"$f":"VLOOKUP(B17,[1]B!B$1:BF$48,57,0)","v":0},0,0,0,0,0,0,{"$f":"IFERROR(VLOOKUP(B17,[6]A!B$1:AY$48,50,0),IFERROR(VLOOKUP(B17,[6]B!B$1:AY$51,50,0),VLOOKUP(B17,[6]C!B$1:AY$52,50,0)))","v":3},{"$f":"IFERROR(VLOOKUP(B17,[6]A!B$1:AZ$48,51,0),IFERROR(VLOOKUP(B17,[6]B!B$1:AZ$51,51,0),VLOOKUP(B17,[6]C!B$1:AZ$52,51,0)))","v":5},{"$f":"IFERROR(VLOOKUP(B17,[6]A!B$1:BB$48,53,0),IFERROR(VLOOKUP(B17,[6]B!B$1:BB$51,53,0),VLOOKUP(B17,[6]C!B$1:BB$52,53,0)))","v":0},{"$f":"IFERROR(VLOOKUP(B17,[6]A!B$1:BC$48,54,0),IFERROR(VLOOKUP(B17,[6]B!B$1:BC$51,54,0),VLOOKUP(B17,[6]C!B$1:BC$52,54,0)))","v":1},{"$f":"IFERROR(VLOOKUP(B17,[6]A!B$1:BD$48,55,0),IFERROR(VLOOKUP(B17,[6]B!B$1:BD$51,55,0),VLOOKUP(B17,[6]C!B$1:BD$52,55,0)))","v":1},{"$f":"IFERROR(VLOOKUP(B17,[6]A!B$1:BF$48,57,0),IFERROR(VLOOKUP(B17,[6]B!B$1:BF$51,57,0),VLOOKUP(B17,[6]C!B$1:BF$52,57,0)))","v":0},14,16,{"$f":"IFERROR(VLOOKUP(B17,[4]A!B$1:BB$48,53,0),IFERROR(VLOOKUP(B17,[4]B!B$1:BB$51,53,0),VLOOKUP(B17,[4]C!B$1:BB$52,53,0)))","v":0},3,3,{"$f":"IFERROR(VLOOKUP(B17,[4]A!B$1:BF$48,57,0),IFERROR(VLOOKUP(B17,[4]B!B$1:BF$51,57,0),VLOOKUP(B17,[4]C!B$1:BF$52,57,0)))","v":0},4,4,null,null,null,null,29,0,0,25,25,86.206896551724128,5,"B-9",9,9,23]
[17,"15BA150",0,0,0,0,0,0,0,0,0,0,0,0,{"$f":"IFERROR(VLOOKUP(B18,[6]A!B$1:AY$48,50,0),IFERROR(VLOOKUP(B18,[6]B!B$1:AY$51,50,0),VLOOKUP(B18,[6]C!B$1:AY$52,50,0)))","v":2},{"$f":"IFERROR(VLOOKUP(B18,[6]A!B$1:AZ$48,51,0),IFERROR(VLOOKUP(B18,[6]B!B$1:AZ$51,51,0),VLOOKUP(B18,[6]C!B$1:AZ$52,51,0)))","v":5},{"$f":"IFERROR(VLOOKUP(B18,[6]A!B$1:BB$48,53,0),IFERROR(VLOOKUP(B18,[6]B!B$1:BB$51,53,0),VLOOKUP(B18,[6]C!B$1:BB$52,53,0)))","v":0},{"$f":"IFERROR(VLOOKUP(B18,[6]A!B$1:BC$48,54,0),IFERROR(VLOOKUP(B18,[6]B!B$1:BC$51,54,0),VLOOKUP(B18,[6]C!B$1:BC$52,54,0)))","v":0},{"$f":"IFERROR(VLOOKUP(B18,[6]A!B$1:BD$48,55,0),IFERROR(VLOOKUP(B18,[6]B!B$1:BD$51,55,0),VLOOKUP(B18,[6]C!B$1:BD$52,55,0)))","v":0},{"$f":"IFERROR(VLOOKUP(B18,[6]A!B$1:BF$48,57,0),IFERROR(VLOOKUP(B18,[6]B!B$1:BF$51,57,0),VLOOKUP(B18,[6]C!B$1:BF$52,57,0)))","v":0},12,16,{"$f":"IFERROR(VLOOKUP(B18,[4]A!B$1:BB$48,53,0),IFERROR(VLOOKUP(B18,[4]B!B$1:BB$51,53,0),VLOOKUP(B18,[4]C!B$1:BB$52,53,0)))","v":0},3,3,{"$f":"IFERROR(VLOOKUP(B18,[4]A!B$1:BF$48,57,0),IFERROR(VLOOKUP(B18,[4]B!B$1:BF$51,57,0),VLOOKUP(B18,[4]C!B$1:BF$52,57,0)))","v":0},4,4,null,null,null,null,28,0,0,21,21,75,3,"C-13",10,9,22]
[18,"15BA155",0,0,0,0,0,0,0,0,0,0,0,0,{"$f":"IFERROR(VLOOKUP(B19,[6]A!B$1:AY$48,50,0),IFERROR(VLOOKUP(B19,[6]B!B$1:AY$51,50,0),VLOOKUP(B19,[6]C!B$1:AY$52,50,0)))","v":3},{"$f":"IFERROR(VLOOKUP(B19,[6]A!B$1:AZ$48,51,0),IFERROR(VLOOKUP(B19,[6]B!B$1:AZ$51,51,0),VLOOKUP(B19,[6]C!B$1:AZ$52,51,0)))","v":5},{"$f":"IFERROR(VLOOKUP(B19,[6]A!B$1:BB$48,53,0),IFERROR(VLOOKUP(B19,[6]B!B$1:BB$51,53,0),VLOOKUP(B19,[6]C!B$1:BB$52,53,0)))","v":0},{"$f":"IFERROR(VLOOKUP(B19,[6]A!B$1:BC$48,54,0),IFERROR(VLOOKUP(B19,[6]B!B$1:BC$51,54,0),VLOOKUP(B19,[6]C!B$1:BC$52,54,0)))","v":0},{"$f":"IFERROR(VLOOKUP(B19,[6]A!B$1:BD$48,55,0),IFERROR(VLOOKUP(B19,[6]B!B$1:BD$51,55,0),VLOOKUP(B19,[6]C!B$1:BD$52,55,0)))","v":0},{"$f":"IFERROR(VLOOKUP(B19,[6]A!B$1:BF$48,57,0),IFERROR(VLOOKUP(B19,[6]B!B$1:BF$51,57,0),VLOOKUP(B19,[6]C!B$1:BF$52,57,0)))","v":0},15,16,{"$f":"IFERROR(VLOOKUP(B19,[4]A!B$1:BB$48,53,0),IFERROR(VLOOKUP(B19,[4]B!B$1:BB$51,53,0),VLOOKUP(B19,[4]C!B$1:BB$52,53,0)))","v":0},1,1,{"$f":"IFERROR(VLOOKUP(B19,[4]A!B$1:BF$48,57,0),IFERROR(VLOOKUP(B19,[4]B!B$1:BF$51,57,0),VLOOKUP(B19,[4]C!B$1:BF$52,57,0)))","v":0},4,4,null,null,null,null,26,0,0,23,23,88.461538461538453,5,"B-8",10,8,23]
[19,"15BA013",{"$f":"VLOOKUP(B20,[1]C!B$1:AY$48,50,0)","v":0},{"$f":"VLOOKUP(B20,[1]C!B$1:AZ$48,51,0)","v":0},{"$f":"VLOOKUP(B20,[1]C!B$1:BB$48,53,0)","v":0},{"$f":"VLOOKUP(B20,[1]C!B$1:BC$48,54,0)","v":0},{"$f":"VLOOKUP(B20,[1]C!B$1:BD$48,55,0)","v":0},{"$f":"VLOOKUP(B20,[1]C!B$1:BF$48,57,0)","v":0},0,0,0,0,0,0,{"$f":"IFERROR(VLOOKUP(B20,[6]A!B$1:AY$48,50,0),IFERROR(VLOOKUP(B20,[6]B!B$1:AY$51,50,0),VLOOKUP(B20,[6]C!B$1:AY$52,50,0)))","v":1},{"$f":"IFERROR(VLOOKUP(B20,[6]A!B$1:AZ$48,51,0),IFERROR(VLOOKUP(B20,[6]B!B$1:AZ$51,51,0),VLOOKUP(B20,[6]C!B$1:AZ$52,51,0)))","v":5},{"$f":"IFERROR(VLOOKUP(B20,[6]A!B$1:BB$48,53,0),IFERROR(VLOOKUP(B20,[6]B!B$1:BB$51,53,0),VLOOKUP(B20,[6]C!B$1:BB$52,53,0)))","v":0},{"$f":"IFERROR(VLOOKUP(B20,[6]A!B$1:BC$48,54,0),IFERROR(VLOOKUP(B20,[6]B!B$1:BC$51,54,0),VLOOKUP(B20,[6]C!B$1:BC$52,54,0)))","v":0},{"$f":"IFERROR(VLOOKUP(B20,[6]A!B$1:BD$48,55,0),IFERROR(VLOOKUP(B20,[6]B!B$1:BD$51,55,0),VLOOKUP(B20,[6]C!B$1:BD$52,55,0)))","v":0},{"$f":"IFERROR(VLOOKUP(B20,[6]A!B$1:BF$48,57,0),IFERROR(VLOOKUP(B20,[6]B!B$1:BF$51,57,0),VLOOKUP(B20,[6]C!B$1:BF$52,57,0)))","v":0},10,16,{"$f":"IFERROR(VLOOKUP(B20,[4]A!B$1:BB$48,53,0),IFERROR(VLOOKUP(B20,[4]B!B$1:BB$51,53,0),VLOOKUP(B20,[4]C!B$1:BB$52,53,0)))","v":0},2,2,{"$f":"IFERROR(VLOOKUP(B20,[4]A!B$1:BF$48,57,0),IFERROR(VLOOKUP(B20,[4]B!B$1:BF$51,57,0),VLOOKUP(B20,[4]C!B$1:BF$52,57,0)))","v":0},4,4,null,null,null,null,27,0,0,17,17,62.962962962962962,0,"C-12",9,9,18]
[20,"15BA020",{"$f":"VLOOKUP(B21,[1]C!B$1:AY$48,50,0)","v":0},{"$f":"VLOOKUP(B21,[1]C!B$1:AZ$48,51,0)","v":0},{"$f":"VLOOKUP(B21,[1]C!B$1:BB$48,53,0)","v":0},{"$f":"VLOOKUP(B21,[1]C!B$1:BC$48,54,0)","v":0},{"$f":"VLOOKUP(B21,[1]C!B$1:BD$48,55,0)","v":0},{"$f":"VLOOKUP(B21,[1]C!B$1:BF$48,57,0)","v":0},0,0,0,0,0,0,{"$f":"IFERROR(VLOOKUP(B21,[6]A!B$1:AY$48,50,0),IFERROR(VLOOKUP(B21,[6]B!B$1:AY$51,50,0),VLOOKUP(B21,[6]C!B$1:AY$52,50,0)))","v":3},{"$f":"IFERROR(VLOOKUP(B21,[6]A!B$1:AZ$48,51,0),IFERROR(VLOOKUP(B21,[6]B!B$1:AZ$51,51,0),VLOOKUP(B21,[6]C!B$1:AZ$52,51,0)))","v":5},{"$f":"IFERROR(VLOOKUP(B21,[6]A!B$1:BB$48,53,0),IFERROR(VLOOKUP(B21,[6]B!B$1:BB$51,53,0),VLOOKUP(B21,[6]C!B$1:BB$52,53,0)))","v":0},{"$f":"IFERROR(VLOOKUP(B21,[6]A!B$1:BC$48,54,0),IFERROR(VLOOKUP(B21,[6]B!B$1:BC$51,54,0),VLOOKUP(B21,[6]C!B$1:BC$52,54,0)))","v":0},{"$f":"IFERROR(VLOOKUP(B21,[6]A!B$1:BD$48,55,0),IFERROR(VLOOKUP(B21,[6]B!B$1:BD$51,55,0),VLOOKUP(B21,[6]C!B$1:BD$52,55,0)))","v":0},{"$f":"IFERROR(VLOOKUP(B21,[6]A!B$1:BF$48,57,0),IFERROR(VLOOKUP(B21,[6]B!B$1:BF$51,57,0),VLOOKUP(B21,[6]C!B$1:BF$52,57,0)))","v":0},14,16,{"$f":"IFERROR(VLOOKUP(B21,[4]A!B$1:BB$48,53,0),IFERROR(VLOOKUP(B21,[4]B!B$1:BB$51,53,0),VLOOKUP(B21,[4]C!B$1:BB$52,53,0)))","v":0},2,2,{"$f":"IFERROR(VLOOKUP(B21,[4]A!B$1:BF$48,57,0),IFERROR(VLOOKUP(B21,[4]B!B$1:BF$51,57,0),VLOOKUP(B21,[4]C!B$1:BF$52,57,0)))","v":0},4,4,null,null,null,null,27,0,0,23,23,85.18518518518519,5,"C-12",8,8,21]
[21,"15BA056",{"$f":"VLOOKUP(B22,[1]C!B$1:AY$48,50,0)","v":0},{"$f":"VLOOKUP(B22,[1]C!B$1:AZ$48,51,0)","v":0},{"$f":"VLOOKUP(B22,[1]C!B$1:BB$48,53,0)","v":0},{"$f":"VLOOKUP(B22,[1]C!B$1:BC$48,54,0)","v":0},{"$f":"VLOOKUP(B22,[1]C!B$1:BD$48,55,0)","v":0},{"$f":"VLOOKUP(B22,[1]C!B$1:BF$48,57,0)","v":0},0,0,0,0,0,0,{"$f":"IFERROR(VLOOKUP(B22,[6]A!B$1:AY$48,50,0),IFERROR(VLOOKUP(B22,[6]B!B$1:AY$51,50,0),VLOOKUP(B22,[6]C!B$1:AY$52,50,0)))","v":3},{"$f":"IFERROR(VLOOKUP(B22,[6]A!B$1:AZ$48,51,0),IFERROR(VLOOKUP(B22,[6]B!B$1:AZ$51,51,0),VLOOKUP(B22,[6]C!B$1:AZ$52,51,0)))","v":5},{"$f":"IFERROR(VLOOKUP(B22,[6]A!B$1:BB$48,53,0),IFERROR(VLOOKUP(B22,[6]B!B$1:BB$51,53,0),VLOOKUP(B22,[6]C!B$1:BB$52,53,0)))","v":0},{"$f":"IFERROR(VLOOKUP(B22,[6]A!B$1:BC$48,54,0),IFERROR(VLOOKUP(B22,[6]B!B$1:BC$51,54,0),VLOOKUP(B22,[6]C!B$1:BC$52,54,0)))","v":0},{"$f":"IFERROR(VLOOKUP(B22,[6]A!B$1:BD$48,55,0),IFERROR(VLOOKUP(B22,[6]B!B$1:BD$51,55,0),VLOOKUP(B22,[6]C!B$1:BD$52,55,0)))","v":0},{"$f":"IFERROR(VLOOKUP(B22,[6]A!B$1:BF$48,57,0),IFERROR(VLOOKUP(B22,[6]B!B$1:BF$51,57,0),VLOOKUP(B22,[6]C!B$1:BF$52,57,0)))","v":0},14,16,{"$f":"IFERROR(VLOOKUP(B22,[4]A!B$1:BB$48,53,0),IFERROR(VLOOKUP(B22,[4]B!B$1:BB$51,53,0),VLOOKUP(B22,[4]C!B$1:BB$52,53,0)))","v":0},2,2,{"$f":"IFERROR(VLOOKUP(B22,[4]A!B$1:BF$48,57,0),IFERROR(VLOOKUP(B22,[4]B!B$1:BF$51,57,0),VLOOKUP(B22,[4]C!B$1:BF$52,57,0)))","v":0},4,4,null,null,null,null,27,0,0,23,23,85.18518518518519,5,"C-12",9,9,23]
[22,"15BA058",{"$f":"VLOOKUP(B23,[1]C!B$1:AY$48,50,0)","v":0},{"$f":"VLOOKUP(B23,[1]C!B$1:AZ$48,51,0)","v":0},{"$f":"VLOOKUP(B23,[1]C!B$1:BB$48,53,0)","v":0},{"$f":"VLOOKUP(B23,[1]C!B$1:BC$48,54,0)","v":0},{"$f":"VLOOKUP(B23,[1]C!B$1:BD$48,55,0)","v":0},{"$f":"VLOOKUP(B23,[1]C!B$1:BF$48,57,0)","v":0},0,0,0,0,0,0,{"$f":"IFERROR(VLOOKUP(B23,[6]A!B$1:AY$48,50,0),IFERROR(VLOOKUP(B23,[6]B!B$1:AY$51,50,0),VLOOKUP(B23,[6]C!B$1:AY$52,50,0)))","v":1},{"$f":"IFERROR(VLOOKUP(B23,[6]A!B$1:AZ$48,51,0),IFERROR(VLOOKUP(B23,[6]B!B$1:AZ$51,51,0),VLOOKUP(B23,[6]C!B$1:AZ$52,51,0)))","v":5},{"$f":"IFERROR(VLOOKUP(B23,[6]A!B$1:BB$48,53,0),IFERROR(VLOOKUP(B23,[6]B!B$1:BB$51,53,0),VLOOKUP(B23,[6]C!B$1:BB$52,53,0)))","v":0},{"$f":"IFERROR(VLOOKUP(B23,[6]A!B$1:BC$48,54,0),IFERROR(VLOOKUP(B23,[6]B!B$1:BC$51,54,0),VLOOKUP(B23,[6]C!B$1:BC$52,54,0)))","v":0},{"$f":"IFERROR(VLOOKUP(B23,[6]A!B$1:BD$48,55,0),IFERROR(VLOOKUP(B23,[6]B!B$1:BD$51,55,0),VLOOKUP(B23,[6]C!B$1:BD$52,55,0)))","v":0},{"$f":"IFERROR(VLOOKUP(B23,[6]A!B$1:BF$48,57,0),IFERROR(VLOOKUP(B23,[6]B!B$1:BF$51,57,0),VLOOKUP(B23,[6]C!B$1:BF$52,57,0)))","v":0},6,16,{"$f":"IFERROR(VLOOKUP(B23,[4]A!B$1:BB$48,53,0),IFERROR(VLOOKUP(B23,[4]B!B$1:BB$51,53,0),VLOOKUP(B23,[4]C!B$1:BB$52,53,0)))","v":0},1,2,{"$f":"IFERROR(VLOOKUP(B23,[4]A!B$1:BF$48,57,0),IFERROR(VLOOKUP(B23,[4]B!B$1:BF$51,57,0),VLOOKUP(B23,[4]C!B$1:BF$52,57,0)))","v":0},2,4,null,null,null,null,27,0,0,10,10,37.037037037037038,0,"C-12",7,6,13]
[23,"15BA059",{"$f":"VLOOKUP(B24,[1]C!B$1:AY$48,50,0)","v":0},{"$f":"VLOOKUP(B24,[1]C!B$1:AZ$48,51,0)","v":0},{"$f":"VLOOKUP(B24,[1]C!B$1:BB$48,53,0)","v":0},{"$f":"VLOOKUP(B24,[1]C!B$1:BC$48,54,0)","v":0},{"$f":"VLOOKUP(B24,[1]C!B$1:BD$48,55,0)","v":0},{"$f":"VLOOKUP(B24,[1]C!B$1:BF$48,57,0)","v":0},0,0,0,0,0,0,{"$f":"IFERROR(VLOOKUP(B24,[6]A!B$1:AY$48,50,0),IFERROR(VLOOKUP(B24,[6]B!B$1:AY$51,50,0),VLOOKUP(B24,[6]C!B$1:AY$52,50,0)))","v":0},{"$f":"IFERROR(VLOOKUP(B24,[6]A!B$1:AZ$48,51,0),IFERROR(VLOOKUP(B24,[6]B!B$1:AZ$51,51,0),VLOOKUP(B24,[6]C!B$1:AZ$52,51,0)))","v":5},{"$f":"IFERROR(VLOOKUP(B24,[6]A!B$1:BB$48,53,0),IFERROR(VLOOKUP(B24,[6]B!B$1:BB$51,53,0),VLOOKUP(B24,[6]C!B$1:BB$52,53,0)))","v":0},{"$f":"IFERROR(VLOOKUP(B24,[6]A!B$1:BC$48,54,0),IFERROR(VLOOKUP(B24,[6]B!B$1:BC$51,54,0),VLOOKUP(B24,[6]C!B$1:BC$52,54,0)))","v":0},{"$f":"IFERROR(VLOOKUP(B24,[6]A!B$1:BD$48,55,0),IFERROR(VLOOKUP(B24,[6]B!B$1:BD$51,55,0),VLOOKUP(B24,[6]C!B$1:BD$52,55,0)))","v":0},{"$f":"IFERROR(VLOOKUP(B24,[6]A!B$1:BF$48,57,0),IFERROR(VLOOKUP(B24,[6]B!B$1:BF$51,57,0),VLOOKUP(B24,[6]C!B$1:BF$52,57,0)))","v":0},12,16,{"$f":"IFERROR(VLOOKUP(B24,[4]A!B$1:BB$48,53,0),IFERROR(VLOOKUP(B24,[4]B!B$1:BB$51,53,0),VLOOKUP(B24,[4]C!B$1:BB$52,53,0)))","v":0},2,2,{"$f":"IFERROR(VLOOKUP(B24,[4]A!B$1:BF$48,57,0),IFERROR(VLOOKUP(B24,[4]B!B$1:BF$51,57,0),VLOOKUP(B24,[4]C!B$1:BF$52,57,0)))","v":0},0,4,null,null,null,null,27,0,0,14,14,51.851851851851848,0,"C-12",9,0,9]
[24,"15BA069",{"$f":"VLOOKUP(B25,[1]C!B$1:AY$48,50,0)","v":0},{"$f":"VLOOKUP(B25,[1]C!B$1:AZ$48,51,0)","v":0},{"$f":"VLOOKUP(B25,[1]C!B$1:BB$48,53,0)","v":0},{"$f":"VLOOKUP(B25,[1]C!B$1:BC$48,54,0)","v":0},{"$f":"VLOOKUP(B25,[1]C!B$1:BD$48,55,0)","v":0},{"$f":"VLOOKUP(B25,[1]C!B$1:BF$48,57,0)","v":0},0,0,0,0,0,0,{"$f":"IFERROR(VLOOKUP(B25,[6]A!B$1:AY$48,50,0),IFERROR(VLOOKUP(B25,[6]B!B$1:AY$51,50,0),VLOOKUP(B25,[6]C!B$1:AY$52,50,0)))","v":0},{"$f":"IFERROR(VLOOKUP(B25,[6]A!B$1:AZ$48,51,0),IFERROR(VLOOKUP(B25,[6]B!B$1:AZ$51,51,0),VLOOKUP(B25,[6]C!B$1:AZ$52,51,0)))","v":5},{"$f":"IFERROR(VLOOKUP(B25,[6]A!B$1:BB$48,53,0),IFERROR(VLOOKUP(B25,[6]B!B$1:BB$51,53,0),VLOOKUP(B25,[6]C!B$1:BB$52,53,0)))","v":0},{"$f":"IFERROR(VLOOKUP(B25,[6]A!B$1:BC$48,54,0),IFERROR(VLOOKUP(B25,[6]B!B$1:BC$51,54,0),VLOOKUP(B25,[6]C!B$1:BC$52,54,0)))","v":0},{"$f":"IFERROR(VLOOKUP(B25,[6]A!B$1:BD$48,55,0),IFERROR(VLOOKUP(B25,[6]B!B$1:BD$51,55,0),VLOOKUP(B25,[6]C!B$1:BD$52,55,0)))","v":0},{"$f":"IFERROR(VLOOKUP(B25,[6]A!B$1:BF$48,57,0),IFERROR(VLOOKUP(B25,[6]B!B$1:BF$51,57,0),VLOOKUP(B25,[6]C!B$1:BF$52,57,0)))","v":0},4,16,{"$f":"IFERROR(VLOOKUP(B25,[4]A!B$1:BB$48,53,0),IFERROR(VLOOKUP(B25,[4]B!B$1:BB$51,53,0),VLOOKUP(B25,[4]C!B$1:BB$52,53,0)))","v":0},1,2,{"$f":"IFERROR(VLOOKUP(B25,[4]A!B$1:BF$48,57,0),IFERROR(VLOOKUP(B25,[4]B!B$1:BF$51,57,0),VLOOKUP(B25,[4]C!B$1:BF$52,57,0)))","v":0},0,4,null,null,null,null,27,0,0,5,5,18.518518518518519,0,"C-12",7,0,7]
[25,"15BA073",{"$f":"VLOOKUP(B26,[1]C!B$1:AY$48,50,0)","v":0},{"$f":"VLOOKUP(B26,[1]C!B$1:AZ$48,51,0)","v":0},{"$f":"VLOOKUP(B26,[1]C!B$1:BB$48,53,0)","v":0},{"$f":"VLOOKUP(B26,[1]C!B$1:BC$48,54,0)","v":0},{"$f":"VLOOKUP(B26,[1]C!B$1:BD$48,55,0)","v":0},{"$f":"VLOOKUP(B26,[1]C!B$1:BF$48,57,0)","v":0},0,0,0,0,0,0,{"$f":"IFERROR(VLOOKUP(B26,[6]A!B$1:AY$48,50,0),IFERROR(VLOOKUP(B26,[6]B!B$1:AY$51,50,0),VLOOKUP(B26,[6]C!B$1:AY$52,50,0)))","v":3},{"$f":"IFERROR(VLOOKUP(B26,[6]A!B$1:AZ$48,51,0),IFERROR(VLOOKUP(B26,[6]B!B$1:AZ$51,51,0),VLOOKUP(B26,[6]C!B$1:AZ$52,51,0)))","v":5},{"$f":"IFERROR(VLOOKUP(B26,[6]A!B$1:BB$48,53,0),IFERROR(VLOOKUP(B26,[6]B!B$1:BB$51,53,0),VLOOKUP(B26,[6]C!B$1:BB$52,53,0)))","v":0},{"$f":"IFERROR(VLOOKUP(B26,[6]A!B$1:BC$48,54,0),IFERROR(VLOOKUP(B26,[6]B!B$1:BC$51,54,0),VLOOKUP(B26,[6]C!B$1:BC$52,54,0)))","v":1},{"$f":"IFERROR(VLOOKUP(B26,[6]A!B$1:BD$48,55,0),IFERROR(VLOOKUP(B26,[6]B!B$1:BD$51,55,0),VLOOKUP(B26,[6]C!B$1:BD$52,55,0)))","v":1},{"$f":"IFERROR(VLOOKUP(B26,[6]A!B$1:BF$48,57,0),IFERROR(VLOOKUP(B26,[6]B!B$1:BF$51,57,0),VLOOKUP(B26,[6]C!B$1:BF$52,57,0)))","v":0},16,16,{"$f":"IFERROR(VLOOKUP(B26,[4]A!B$1:BB$48,53,0),IFERROR(VLOOKUP(B26,[4]B!B$1:BB$51,53,0),VLOOKUP(B26,[4]C!B$1:BB$52,53,0)))","v":0},3,3,{"$f":"IFERROR(VLOOKUP(B26,[4]A!B$1:BF$48,57,0),IFERROR(VLOOKUP(B26,[4]B!B$1:BF$51,57,0),VLOOKUP(B26,[4]C!B$1:BF$52,57,0)))","v":0},4,4,null,null,null,null,29,0,0,27,27,93.103448275862064,5,"C-13",8,9,22]
[26,"15BA082",{"$f":"VLOOKUP(B27,[1]C!B$1:AY$48,50,0)","v":0},{"$f":"VLOOKUP(B27,[1]C!B$1:AZ$48,51,0)","v":0},{"$f":"VLOOKUP(B27,[1]C!B$1:BB$48,53,0)","v":0},{"$f":"VLOOKUP(B27,[1]C!B$1:BC$48,54,0)","v":0},{"$f":"VLOOKUP(B27,[1]C!B$1:BD$48,55,0)","v":0},{"$f":"VLOOKUP(B27,[1]C!B$1:BF$48,57,0)","v":0},0,0,0,0,0,0,{"$f":"IFERROR(VLOOKUP(B27,[6]A!B$1:AY$48,50,0),IFERROR(VLOOKUP(B27,[6]B!B$1:AY$51,50,0),VLOOKUP(B27,[6]C!B$1:AY$52,50,0)))","v":3},{"$f":"IFERROR(VLOOKUP(B27,[6]A!B$1:AZ$48,51,0),IFERROR(VLOOKUP(B27,[6]B!B$1:AZ$51,51,0),VLOOKUP(B27,[6]C!B$1:AZ$52,51,0)))","v":5},{"$f":"IFERROR(VLOOKUP(B27,[6]A!B$1:BB$48,53,0),IFERROR(VLOOKUP(B27,[6]B!B$1:BB$51,53,0),VLOOKUP(B27,[6]C!B$1:BB$52,53,0)))","v":0},{"$f":"IFERROR(VLOOKUP(B27,[6]A!B$1:BC$48,54,0),IFERROR(VLOOKUP(B27,[6]B!B$1:BC$51,54,0),VLOOKUP(B27,[6]C!B$1:BC$52,54,0)))","v":0},{"$f":"IFERROR(VLOOKUP(B27,[6]A!B$1:BD$48,55,0),IFERROR(VLOOKUP(B27,[6]B!B$1:BD$51,55,0),VLOOKUP(B27,[6]C!B$1:BD$52,55,0)))","v":0},{"$f":"IFERROR(VLOOKUP(B27,[6]A!B$1:BF$48,57,0),IFERROR(VLOOKUP(B27,[6]B!B$1:BF$51,57,0),VLOOKUP(B27,[6]C!B$1:BF$52,57,0)))","v":0},14,16,{"$f":"IFERROR(VLOOKUP(B27,[4]A!B$1:BB$48,53,0),IFERROR(VLOOKUP(B27,[4]B!B$1:BB$51,53,0),VLOOKUP(B27,[4]C!B$1:BB$52,53,0)))","v":0},3,3,{"$f":"IFERROR(VLOOKUP(B27,[4]A!B$1:BF$48,57,0),IFERROR(VLOOKUP(B27,[4]B!B$1:BF$51,57,0),VLOOKUP(B27,[4]C!B$1:BF$52,57,0)))","v":0},4,4,null,null,null,null,28,0,0,24,24,85.714285714285708,5,"C-13",10,10,25]
[27,"15BA103",{"$f":"VLOOKUP(B28,[1]C!B$1:AY$48,50,0)","v":0},{"$f":"VLOOKUP(B28,[1]C!B$1:AZ$48,51,0)","v":0},{"$f":"VLOOKUP(B28,[1]C!B$1:BB$48,53,0)","v":0},{"$f":"VLOOKUP(B28,[1]C!B$1:BC$48,54,0)","v":0},{"$f":"VLOOKUP(B28,[1]C!B$1:BD$48,55,0)","v":0},{"$f":"VLOOKUP(B28,[1]C!B$1:BF$48,57,0)","v":0},0,0,0,0,0,0,{"$f":"IFERROR(VLOOKUP(B28,[6]A!B$1:AY$48,50,0),IFERROR(VLOOKUP(B28,[6]B!B$1:AY$51,50,0),VLOOKUP(B28,[6]C!B$1:AY$52,50,0)))","v":3},{"$f":"IFERROR(VLOOKUP(B28,[6]A!B$1:AZ$48,51,0),IFERROR(VLOOKUP(B28,[6]B!B$1:AZ$51,51,0),VLOOKUP(B28,[6]C!B$1:AZ$52,51,0)))","v":5},{"$f":"IFERROR(VLOOKUP(B28,[6]A!B$1:BB$48,53,0),IFERROR(VLOOKUP(B28,[6]B!B$1:BB$51,53,0),VLOOKUP(B28,[6]C!B$1:BB$52,53,0)))","v":0},{"$f":"IFERROR(VLOOKUP(B28,[6]A!B$1:BC$48,54,0),IFERROR(VLOOKUP(B28,[6]B!B$1:BC$51,54,0),VLOOKUP(B28,[6]C!B$1:BC$52,54,0)))","v":1},{"$f":"IFERROR(VLOOKUP(B28,[6]A!B$1:BD$48,55,0),IFERROR(VLOOKUP(B28,[6]B!B$1:BD$51,55,0),VLOOKUP(B28,[6]C!B$1:BD$52,55,0)))","v":1},{"$f":"IFERROR(VLOOKUP(B28,[6]A!B$1:BF$48,57,0),IFERROR(VLOOKUP(B28,[6]B!B$1:BF$51,57,0),VLOOKUP(B28,[6]C!B$1:BF$52,57,0)))","v":0},12,16,{"$f":"IFERROR(VLOOKUP(B28,[4]A!B$1:BB$48,53,0),IFERROR(VLOOKUP(B28,[4]B!B$1:BB$51,53,0),VLOOKUP(B28,[4]C!B$1:BB$52,53,0)))","v":0},2,3,{"$f":"IFERROR(VLOOKUP(B28,[4]A!B$1:BF$48,57,0),IFERROR(VLOOKUP(B28,[4]B!B$1:BF$51,57,0),VLOOKUP(B28,[4]C!B$1:BF$52,57,0)))","v":0},4,4,null,null,null,null,29,0,0,22,22,75.862068965517238,3,"C-13",8,8,19]
[28,"15BA131",{"$f":"VLOOKUP(B29,[1]C!B$1:AY$48,50,0)","v":0},{"$f":"VLOOKUP(B29,[1]C!B$1:AZ$48,51,0)","v":0},{"$f":"VLOOKUP(B29,[1]C!B$1:BB$48,53,0)","v":0},{"$f":"VLOOKUP(B29,[1]C!B$1:BC$48,54,0)","v":0},{"$f":"VLOOKUP(B29,[1]C!B$1:BD$48,55,0)","v":0},{"$f":"VLOOKUP(B29,[1]C!B$1:BF$48,57,0)","v":0},0,0,0,0,0,0,{"$f":"IFERROR(VLOOKUP(B29,[6]A!B$1:AY$48,50,0),IFERROR(VLOOKUP(B29,[6]B!B$1:AY$51,50,0),VLOOKUP(B29,[6]C!B$1:AY$52,50,0)))","v":1},{"$f":"IFERROR(VLOOKUP(B29,[6]A!B$1:AZ$48,51,0),IFERROR(VLOOKUP(B29,[6]B!B$1:AZ$51,51,0),VLOOKUP(B29,[6]C!B$1:AZ$52,51,0)))","v":5},{"$f":"IFERROR(VLOOKUP(B29,[6]A!B$1:BB$48,53,0),IFERROR(VLOOKUP(B29,[6]B!B$1:BB$51,53,0),VLOOKUP(B29,[6]C!B$1:BB$52,53,0)))","v":0},{"$f":"IFERROR(VLOOKUP(B29,[6]A!B$1:BC$48,54,0),IFERROR(VLOOKUP(B29,[6]B!B$1:BC$51,54,0),VLOOKUP(B29,[6]C!B$1:BC$52,54,0)))","v":1},{"$f":"IFERROR(VLOOKUP(B29,[6]A!B$1:BD$48,55,0),IFERROR(VLOOKUP(B29,[6]B!B$1:BD$51,55,0),VLOOKUP(B29,[6]C!B$1:BD$52,55,0)))","v":1},{"$f":"IFERROR(VLOOKUP(B29,[6]A!B$1:BF$48,57,0),IFERROR(VLOOKUP(B29,[6]B!B$1:BF$51,57,0),VLOOKUP(B29,[6]C!B$1:BF$52,57,0)))","v":0},0,16,{"$f":"IFERROR(VLOOKUP(B29,[4]A!B$1:BB$48,53,0),IFERROR(VLOOKUP(B29,[4]B!B$1:BB$51,53,0),VLOOKUP(B29,[4]C!B$1:BB$52,53,0)))","v":0},1,3,{"$f":"IFERROR(VLOOKUP(B29,[4]A!B$1:BF$48,57,0),IFERROR(VLOOKUP(B29,[4]B!B$1:BF$51,57,0),VLOOKUP(B29,[4]C!B$1:BF$52,57,0)))","v":0},4,4,null,null,null,null,{"$f":"SUM(D29,G29,J29,M29,P29,S29,V29,Y29,AB29,AE29)","v":29},{"$f":"SUM(E29,H29,K29,N29,Q29,T29,W29,Z29,AC29,AF29)","v":0},{"$f":"FLOOR(IF(AH29<(1/3*(AG29)),AH29,(1/3*(AG29))),1)","v":0},{"$f":"SUM(C29,F29,I29,L29,O29,R29,U29,X29,AA29,AD29)","v":7},{"$f":"IF(SUM(AJ29,AI29)>AG29,AG29,SUM(AJ29,AI29))","v":7},{"$f":"(AK29/AG29)*100","v":24.137931034482758},{"$f":"IF(AL29>=85,5,(IF(AND(AL29>=80,AL29<85),4,(IF(AND(AL29>=75,AL29<80),3,(IF(AND(AL29>=70,AL29<75),2,(IF(AND(AL29>67,AL29<70),1,0)))))))))","v":0},"C-13",0,7,{"$f":"SUM(AM29,AO29,AP29)","v":7}]
[29,"15BA146",{"$f":"VLOOKUP(B30,[1]C!B$1:AY$48,50,0)","v":0},{"$f":"VLOOKUP(B30,[1]C!B$1:AZ$48,51,0)","v":0},{"$f":"VLOOKUP(B30,[1]C!B$1:BB$48,53,0)","v":0},{"$f":"VLOOKUP(B30,[1]C!B$1:BC$48,54,0)","v":0},{"$f":"VLOOKUP(B30,[1]C!B$1:BD$48,55,0)","v":0},{"$f":"VLOOKUP(B30,[1]C!B$1:BF$48,57,0)","v":0},0,0,0,0,0,0,{"$f":"IFERROR(VLOOKUP(B30,[6]A!B$1:AY$48,50,0),IFERROR(VLOOKUP(B30,[6]B!B$1:AY$51,50,0),VLOOKUP(B30,[6]C!B$1:AY$52,50,0)))","v":3},{"$f":"IFERROR(VLOOKUP(B30,[6]A!B$1:AZ$48,51,0),IFERROR(VLOOKUP(B30,[6]B!B$1:AZ$51,51,0),VLOOKUP(B30,[6]C!B$1:AZ$52,51,0)))","v":5},{"$f":"IFERROR(VLOOKUP(B30,[6]A!B$1:BB$48,53,0),IFERROR(VLOOKUP(B30,[6]B!B$1:BB$51,53,0),VLOOKUP(B30,[6]C!B$1:BB$52,53,0)))","v":0},{"$f":"IFERROR(VLOOKUP(B30,[6]A!B$1:BC$48,54,0),IFERROR(VLOOKUP(B30,[6]B!B$1:BC$51,54,0),VLOOKUP(B30,[6]C!B$1:BC$52,54,0)))","v":1},{"$f":"IFERROR(VLOOKUP(B30,[6]A!B$1:BD$48,55,0),IFERROR(VLOOKUP(B30,[6]B!B$1:BD$51,55,0),VLOOKUP(B30,[6]C!B$1:BD$52,55,0)))","v":1},{"$f":"IFERROR(VLOOKUP(B30,[6]A!B$1:BF$48,57,0),IFERROR(VLOOKUP(B30,[6]B!B$1:BF$51,57,0),VLOOKUP(B30,[6]C!B$1:BF$52,57,0)))","v":0},12,16,{"$f":"IFERROR(VLOOKUP(B30,[4]A!B$1:BB$48,53,0),IFERROR(VLOOKUP(B30,[4]B!B$1:BB$51,53,0),VLOOKUP(B30,[4]C!B$1:BB$52,53,0)))","v":0},3,3,{"$f":"IFERROR(VLOOKUP(B30,[4]A!B$1:BF$48,57,0),IFERROR(VLOOKUP(B30,[4]B!B$1:BF$51,57,0),VLOOKUP(B30,[4]C!B$1:BF$52,57,0)))","v":0},4,4,null,null,null,null,29,0,0,23,23,79.310344827586206,3,"C-13",8,8,19]
[30,"15BA148",{"$f":"VLOOKUP(B31,[1]C!B$1:AY$48,50,0)","v":0},{"$f":"VLOOKUP(B31,[1]C!B$1:AZ$48,51,0)","v":0},{"$f":"VLOOKUP(B31,[1]C!B$1:BB$48,53,0)","v":0},{"$f":"VLOOKUP(B31,[1]C!B$1:BC$48,54,0)","v":0},{"$f":"VLOOKUP(B31,[1]C!B$1:BD$48,55,0)","v":0},{"$f":"VLOOKUP(B31,[1]C!B$1:BF$48,57,0)","v":0},0,0,0,0,0,0,{"$f":"IFERROR(VLOOKUP(B31,[6]A!B$1:AY$48,50,0),IFERROR(VLOOKUP(B31,[6]B!B$1:AY$51,50,0),VLOOKUP(B31,[6]C!B$1:AY$52,50,0)))","v":0},{"$f":"IFERROR(VLOOKUP(B31,[6]A!B$1:AZ$48,51,0),IFERROR(VLOOKUP(B31,[6]B!B$1:AZ$51,51,0),VLOOKUP(B31,[6]C!B$1:AZ$52,51,0)))","v":5},{"$f":"IFERROR(VLOOKUP(B31,[6]A!B$1:BB$48,53,0),IFERROR(VLOOKUP(B31,[6]B!B$1:BB$51,53,0),VLOOKUP(B31,[6]C!B$1:BB$52,53,0)))","v":0},{"$f":"IFERROR(VLOOKUP(B31,[6]A!B$1:BC$48,54,0),IFERROR(VLOOKUP(B31,[6]B!B$1:BC$51,54,0),VLOOKUP(B31,[6]C!B$1:BC$52,54,0)))","v":1},{"$f":"IFERROR(VLOOKUP(B31,[6]A!B$1:BD$48,55,0),IFERROR(VLOOKUP(B31,[6]B!B$1:BD$51,55,0),VLOOKUP(B31,[6]C!B$1:BD$52,55,0)))","v":1},{"$f":"IFERROR(VLOOKUP(B31,[6]A!B$1:BF$48,57,0),IFERROR(VLOOKUP(B31,[6]B!B$1:BF$51,57,0),VLOOKUP(B31,[6]C!B$1:BF$52,57,0)))","v":0},10,16,{"$f":"IFERROR(VLOOKUP(B31,[4]A!B$1:BB$48,53,0),IFERROR(VLOOKUP(B31,[4]B!B$1:BB$51,53,0),VLOOKUP(B31,[4]C!B$1:BB$52,53,0)))","v":0},3,3,{"$f":"IFERROR(VLOOKUP(B31,[4]A!B$1:BF$48,57,0),IFERROR(VLOOKUP(B31,[4]B!B$1:BF$51,57,0),VLOOKUP(B31,[4]C!B$1:BF$52,57,0)))","v":0},4,4,null,null,null,null,29,0,0,18,18,62.068965517241381,0,"C-13",9,9,18]
[31,"15BA150",{"$f":"VLOOKUP(B32,[1]C!B$1:AY$48,50,0)","v":0},{"$f":"VLOOKUP(B32,[1]C!B$1:AZ$48,51,0)","v":0},{"$f":"VLOOKUP(B32,[1]C!B$1:BB$48,53,0)","v":0},{"$f":"VLOOKUP(B32,[1]C!B$1:BC$48,54,0)","v":0},{"$f":"VLOOKUP(B32,[1]C!B$1:BD$48,55,0)","v":0},{"$f":"VLOOKUP(B32,[1]C!B$1:BF$48,57,0)","v":0},0,0,0,0,0,0,{"$f":"IFERROR(VLOOKUP(B32,[6]A!B$1:AY$48,50,0),IFERROR(VLOOKUP(B32,[6]B!B$1:AY$51,50,0),VLOOKUP(B32,[6]C!B$1:AY$52,50,0)))","v":2},{"$f":"IFERROR(VLOOKUP(B32,[6]A!B$1:AZ$48,51,0),IFERROR(VLOOKUP(B32,[6]B!B$1:AZ$51,51,0),VLOOKUP(B32,[6]C!B$1:AZ$52,51,0)))","v":5},{"$f":"IFERROR(VLOOKUP(B32,[6]A!B$1:BB$48,53,0),IFERROR(VLOOKUP(B32,[6]B!B$1:BB$51,53,0),VLOOKUP(B32,[6]C!B$1:BB$52,53,0)))","v":0},{"$f":"IFERROR(VLOOKUP(B32,[6]A!B$1:BC$48,54,0),IFERROR(VLOOKUP(B32,[6]B!B$1:BC$51,54,0),VLOOKUP(B32,[6]C!B$1:BC$52,54,0)))","v":0},{"$f":"IFERROR(VLOOKUP(B32,[6]A!B$1:BD$48,55,0),IFERROR(VLOOKUP(B32,[6]B!B$1:BD$51,55,0),VLOOKUP(B32,[6]C!B$1:BD$52,55,0)))","v":0},{"$f":"IFERROR(VLOOKUP(B32,[6]A!B$1:BF$48,57,0),IFERROR(VLOOKUP(B32,[6]B!B$1:BF$51,57,0),VLOOKUP(B32,[6]C!B$1:BF$52,57,0)))","v":0},{"$f":"IFERROR(VLOOKUP(B32,[4]A!B$1:AY$48,50,0),IFERROR(VLOOKUP(B32,[4]B!B$1:AY$51,50,0),VLOOKUP(B32,[4]C!B$1:AY$52,50,0)))","v":0},{"$f":"IFERROR(VLOOKUP(B32,[4]A!B$1:AZ$48,51,0),IFERROR(VLOOKUP(B32,[4]B!B$1:AZ$51,51,0),VLOOKUP(B32,[4]C!B$1:AZ$52,51,0)))","v":0},{"$f":"IFERROR(VLOOKUP(B32,[4]A!B$1:BB$48,53,0),IFERROR(VLOOKUP(B32,[4]B!B$1:BB$51,53,0),VLOOKUP(B32,[4]C!B$1:BB$52,53,0)))","v":0},{"$f":"IFERROR(VLOOKUP(B32,[4]A!B$1:BC$48,54,0),IFERROR(VLOOKUP(B32,[4]B!B$1:BC$51,54,0),VLOOKUP(B32,[4]C!B$1:BC$52,54,0)))","v":0},{"$f":"IFERROR(VLOOKUP(B32,[4]A!B$1:BD$48,55,0),IFERROR(VLOOKUP(B32,[4]B!B$1:BD$51,55,0),VLOOKUP(B32,[4]C!B$1:BD$52,55,0)))","v":0},{"$f":"IFERROR(VLOOKUP(B32,[4]A!B$1:BF$48,57,0),IFERROR(VLOOKUP(B32,[4]B!B$1:BF$51,57,0),VLOOKUP(B32,[4]C!B$1:BF$52,57,0)))","v":0},null,null,null,null,null,null,5,0,0,2,2,40,0,null,null,null,0]
[32,"15BA158",0,0,0,0,0,0,0,0,0,0,0,0,{"$f":"IFERROR(VLOOKUP(B33,[6]A!B$1:AY$48,50,0),IFERROR(VLOOKUP(B33,[6]B!B$1:AY$51,50,0),VLOOKUP(B33,[6]C!B$1:AY$52,50,0)))","v":3},{"$f":"IFERROR(VLOOKUP(B33,[6]A!B$1:AZ$48,51,0),IFERROR(VLOOKUP(B33,[6]B!B$1:AZ$51,51,0),VLOOKUP(B33,[6]C!B$1:AZ$52,51,0)))","v":3},{"$f":"IFERROR(VLOOKUP(B33,[6]A!B$1:BB$48,53,0),IFERROR(VLOOKUP(B33,[6]B!B$1:BB$51,53,0),VLOOKUP(B33,[6]C!B$1:BB$52,53,0)))","v":0},{"$f":"IFERROR(VLOOKUP(B33,[6]A!B$1:BC$48,54,0),IFERROR(VLOOKUP(B33,[6]B!B$1:BC$51,54,0),VLOOKUP(B33,[6]C!B$1:BC$52,54,0)))","v":0},{"$f":"IFERROR(VLOOKUP(B33,[6]A!B$1:BD$48,55,0),IFERROR(VLOOKUP(B33,[6]B!B$1:BD$51,55,0),VLOOKUP(B33,[6]C!B$1:BD$52,55,0)))","v":0},{"$f":"IFERROR(VLOOKUP(B33,[6]A!B$1:BF$48,57,0),IFERROR(VLOOKUP(B33,[6]B!B$1:BF$51,57,0),VLOOKUP(B33,[6]C!B$1:BF$52,57,0)))","v":0},16,16,{"$f":"IFERROR(VLOOKUP(B33,[4]A!B$1:BB$48,53,0),IFERROR(VLOOKUP(B33,[4]B!B$1:BB$51,53,0),VLOOKUP(B33,[4]C!B$1:BB$52,53,0)))","v":0},2,3,{"$f":"IFERROR(VLOOKUP(B33,[4]A!B$1:BF$48,57,0),IFERROR(VLOOKUP(B33,[4]B!B$1:BF$51,57,0),VLOOKUP(B33,[4]C!B$1:BF$52,57,0)))","v":0},4,4,null,null,null,null,26,0,0,25,25,96.15384615384616,5,"C-13",9,10,24]